{"text_format":"1","workbook":"xlsx","n_sheets":4,"sheets":["参加費","データ","data","集計シート"],"not_rendered":{"charts":0,"images":0,"macros":1,"external_links":0,"defined_names":5,"comments":0,"pivot_tables":0},"unopened":[],"bounds":{"document_bytes":16777216,"sheet_cells":100000,"rows_first":2000,"rows_last":500,"rows_between":2000,"halvings":0,"cell_chars":16384,"cell_head_chars":4096},"cells_cut":0,"cells_raw":0,"read":"whole","date_system":"1900"}

{"sheet":"参加費","index":0,"n_rows":35,"n_cols":6,"rows_kept":35,"cut":false,"hidden":false,"merged":[[2,1,2,4],[16,1,16,2],[30,0,30,2],[8,1,8,2],[9,1,9,2],[10,1,10,2],[14,1,14,2],[15,1,15,2],[17,1,17,2],[11,1,11,2],[20,1,20,2],[21,1,21,2],[22,1,22,2],[23,1,23,2],[26,1,26,2]]}
["参加費計算・希望審判　　　"]
[]
["大会名","第７９回国民スポーツ大会　北海道代表選手選考会"]
["申込団体・個人名","地区",null,"名"]
["代表者氏名・連絡先","氏名",null,"連絡先"]
["希望審判　１人目","氏名",null,"希望審判"]
["希望審判　２人目","氏名",null,"希望審判"]
[]
["中学生","人数",null,"単価","合計金額"]
["１種目　出場",null,null,2000,{"$f":"B10*D10","v":0}]
["２種目　出場",null,null,3000,{"$f":"B11*D11","v":0}]
["参加負担金・障害補償",{"$f":"SUM(B10:B11)","v":0},null,2500,0]
["　　　　　　　　　　中学生　参加費　合計",null,null,null,{"$f":"SUM(E10:E12)","v":0}]
[]
["高校生","人数",null,"単価","合計金額"]
["１種目　出場",null,null,2000,{"$f":"B16*D16","v":0}]
["２種目　出場",null,null,3000,{"$f":"B17*D17","v":0}]
["参加負担金・障害補償",{"$f":"SUM(B16:B17)","v":0},null,2500,0]
["　　　　　　　　　　高校生　参加費　合計",null,null,null,{"$f":"SUM(E16:E18)","v":0}]
[]
["一般","人数",null,"単価","合計金額"]
["１種目　出場",null,null,3000,{"$f":"B22*D22","v":0}]
["２種目　出場",null,null,4500,{"$f":"B23*D23","v":0}]
["参加負担金・障害補償",{"$f":"SUM(B22:B23)","v":0},null,2500,0]
["　　　　　　　　　大学・一般　参加費　合計",null,null,null,{"$f":"SUM(E22:E24)","v":0}]
[]
["アスリートビブス",{"$f":"B12+B18+B24","v":0},null,400,{"$f":"B27*D27","v":0}]
["プログラム購入数","必要部数",null,1000,{"$f":"C28*D28","v":0}]
[]
[]
["参加費　振込金額",null,null,null,{"$f":"E13+E19+E25+E28+E27","v":0},"円"]
[]
[null,null,"振込先"]
[null,null,"空知信用金庫　白石支店　普通　0000402206"]
[null,null,"（口座名）北海道陸上競技協会（ﾎｯｶｲﾄﾞｳﾘｸｼﾞｮｳｷｮｳｷﾞｷｮｳｶｲ）"]

{"sheet":"データ","index":1,"n_rows":1,"n_cols":21,"rows_kept":1,"cut":false,"hidden":true,"merged":[]}
["競技名（男子）","競技名","競技コード","種目区分","競技名（女子）","競技名","競技コード","種目区分",null,"所属地","コード",null,"種別","コード",null,"男子\n競技コード","集計シート用競技名","男子リレー\n競技コード","集計シート用\n男子リレー競技名","女子リレー\n競技コード","集計シート用\n女子リレー競技名"]

{"sheet":"data","index":2,"n_rows":259,"n_cols":54,"rows_kept":259,"cut":false,"hidden":true,"merged":[[0,9,0,10],[0,8,1,8],[0,14,1,14],[0,15,1,15],[0,26,1,26],[0,17,1,17],[0,16,1,16],[0,19,1,19],[0,22,1,22],[0,0,1,0],[0,1,1,1],[0,2,0,3],[0,4,0,5],[0,6,0,7],[0,39,1,39],[0,44,1,44],[0,11,1,11],[0,12,1,12],[0,13,1,13],[0,31,1,31],[0,24,1,24],[0,23,1,23],[0,27,1,27],[0,25,1,25],[0,20,1,20],[0,21,1,21],[0,18,1,18],[0,32,1,32],[0,38,1,38],[0,36,1,36],[0,28,1,28],[0,29,1,29],[0,30,1,30],[0,35,1,35],[0,37,1,37],[0,33,1,33],[0,34,1,34],[0,53,1,53],[0,52,1,52],[0,48,1,48],[0,51,1,51],[0,50,1,50],[0,46,1,46],[0,47,1,47],[0,43,1,43],[0,40,1,40],[0,49,1,49],[0,42,1,42],[0,45,1,45],[0,41,1,41]]}
["番号","ﾅﾝﾊﾞｰ","競技者氏名",null,"競技者正式名",null,"競技者名略",null,"競技者名英字","ﾌﾘｶﾞﾅ",null,"性別","学年","生年","月日","陸連コード","所属コード","所属名","所属正式名","所属名英字","所属カナ","個人所属地","国籍","種目コード１","種目１","記　録","競技会","ﾁｰﾑ","OP","種目コード２","種目２","記　録","競技会","ﾁｰﾑ","OP","種目コード３","種目３","記　録","競技会","ﾁｰﾑ","OP","種目コード４","種目４","記　録","競技会","ﾁｰﾑ","OP","種目コード５","種目５","記　録","競技会","ﾁｰﾑ","OP","氏名"]
[null,null,"姓","名","姓","名","姓","名",null,"ｾｲ","ﾒｲ"]
[{"$f":"#REF!","v":{"$error":"#REF!"}},{"$f":" IF(#REF!=\"\", \"\",#REF!)","v":{"$error":"#REF!"}},{"$f":" IF(#REF!=\"\", \"\",#REF!)","v":{"$error":"#REF!"}},{"$f":" IF(#REF!=\"\", \"\",#REF!)","v":{"$error":"#REF!"}},{"$f":"IF(C3=\"\", \"\", C3)","v":{"$error":"#REF!"}},{"$f":"IF(D3=\"\", \"\", D3)","v":{"$error":"#REF!"}},{"$f":"IF(C3=\"\", \"\", C3)","v":{"$error":"#REF!"}},{"$f":"IF(D3=\"\", \"\", D3)","v":{"$error":"#REF!"}},{"$f":" IF(#REF!=\"\", \"\",#REF!)","v":{"$error":"#REF!"}},{"$f":" IF(#REF!=\"\", \"\",#REF!)","v":{"$error":"#REF!"}},{"$f":" IF(#REF!=\"\", \"\",#REF!)","v":{"$error":"#REF!"}},{"$f":" IF(#REF!=\"\", \"\",#REF!)","v":{"$error":"#REF!"}},{"$f":" IF(#REF!=\"\", \"\",#REF!)","v":{"$error":"#REF!"}},{"$f":" IF(#REF!=\"\", \"\",#REF!)","v":{"$error":"#REF!"}},{"$f":" IF(#REF!=\"\", \"\",#REF!)","v":{"$error":"#REF!"}},{"$f":" IF(#REF!=\"\", \"\",#REF!)","v":{"$error":"#REF!"}},{"$f":"IF(A3=\"\",\"\",#REF!)","v":{"$error":"#REF!"}},{"$f":" IF(Q3=\"\", \"\",#REF!)","v":{"$error":"#REF!"}},{"$f":" IF(Q3=\"\", \"\",#REF!)","v":{"$error":"#REF!"}},{"$f":" IF(Q3=\"\", \"\",#REF!)","v":{"$error":"#REF!"}},{"$f":" IF(Q3=\"\", \"\",#REF!)","v":{"$error":"#REF!"}},{"$f":" IF(#REF!=\"\", \"\",#REF!)","v":{"$error":"#REF!"}},{"$f":" IF(#REF!=\"\", \"\",#REF!)","v":{"$error":"#REF!"}},{"$f":"IF(Y3=\"\", \"\", IF($L3=\"男\", VLOOKUP(Y3, データ!$B$2:$C$101, 2, FALSE), IF($L3=\"女\", VLOOKUP(Y3, データ!$F$2:$H$101, 2, FALSE), \"\")))","v":{"$error":"#REF!"}},{"$f":"IF(A3=\"\",\"\", IF(#REF!=\"\", \"\",#REF!))","v":{"$error":"#REF!"}},{"$f":" IF(#REF!=\"\", \"\",#REF!)","v":{"$error":"#REF!"}},{"$f":" IF(#REF!=\"\", \"\",#REF!)","v":{"$error":"#REF!"}},{"$f":" IF(#REF!=\"\", \"\",#REF!)","v":{"$error":"#REF!"}},{"$f":" IF(#REF!=\"\", \"\",#REF!)","v":{"$error":"#REF!"}},{"$f":"IF(AE3=\"\", \"\", IF($L3=\"男\", VLOOKUP(AE3, データ!$B$2:$C$101, 2, FALSE), IF($L3=\"女\", VLOOKUP(AE3, データ!$F$2:$H$101, 2, FALSE), \"\")))","v":{"$error":"#REF!"}},{"$f":"IF(A3=\"\",\"\", IF(#REF!=\"\", \"\",#REF!))","v":{"$error":"#REF!"}},{"$f":" IF(#REF!=\"\", \"\",#REF!)","v":{"$error":"#REF!"}},{"$f":" IF(#REF!=\"\", \"\",#REF!)","v":{"$error":"#REF!"}},{"$f":" IF(#REF!=\"\", \"\",#REF!)","v":{"$error":"#REF!"}},{"$f":" IF(#REF!=\"\", \"\",#REF!)","v":{"$error":"#REF!"}},{"$f":"IF(AK3=\"\", \"\", IF($L3=\"男\", VLOOKUP(AK3, データ!$B$2:$C$101, 2, FALSE), IF($L3=\"女\", VLOOKUP(AK3, データ!$F$2:$H$101, 2, FALSE), \"\")))","v":{"$error":"#REF!"}},{"$f":"IF(A3=\"\",\"\", IF(#REF!=\"\", \"\",#REF!))","v":{"$error":"#REF!"}},{"$f":" IF(#REF!=\"\", \"\",#REF!)","v":{"$error":"#REF!"}},{"$f":" IF(#REF!=\"\", \"\",#REF!)","v":{"$error":"#REF!"}},{"$f":" IF(#REF!=\"\", \"\",#REF!)","v":{"$error":"#REF!"}},{"$f":" IF(#REF!=\"\", \"\",#REF!)","v":{"$error":"#REF!"}},{"$f":"IF(AQ3=\"\", \"\", IF($L3=\"男\", VLOOKUP(AQ3, データ!$B$2:$C$101, 2, FALSE), IF($L3=\"女\", VLOOKUP(AQ3, データ!$F$2:$H$101, 2, FALSE), \"\")))","v":{"$error":"#REF!"}},{"$f":"IF(A3=\"\",\"\", IF(#REF!=\"\", \"\",#REF!))","v":{"$error":"#REF!"}},{"$f":" IF(#REF!=\"\", \"\",#REF!)","v":{"$error":"#REF!"}},{"$f":" IF(#REF!=\"\", \"\",#REF!)","v":{"$error":"#REF!"}},{"$f":" IF(#REF!=\"\", \"\",#REF!)","v":{"$error":"#REF!"}},{"$f":" IF(#REF!=\"\", \"\",#REF!)","v":{"$error":"#REF!"}},{"$f":"IF(AW3=\"\", \"\", IF($L3=\"男\", VLOOKUP(AW3, データ!$B$2:$C$101, 2, FALSE), IF($L3=\"女\", VLOOKUP(AW3, データ!$F$2:$H$101, 2, FALSE), \"\")))","v":{"$error":"#REF!"}},{"$f":"IF(A3=\"\",\"\", IF(#REF!=\"\", \"\",#REF!))","v":{"$error":"#REF!"}},{"$f":" IF(#REF!=\"\", \"\",#REF!)","v":{"$error":"#REF!"}},{"$f":" IF(#REF!=\"\", \"\",#REF!)","v":{"$error":"#REF!"}},{"$f":" IF(#REF!=\"\", \"\",#REF!)","v":{"$error":"#REF!"}},{"$f":" IF(#REF!=\"\", \"\",#REF!)","v":{"$error":"#REF!"}},{"$f":"IF(A3=\"\",\"\",IF(LEN(C3)+LEN(D3)=2,C3&\"　　　\"&D3,IF(LEN(C3)+LEN(D3)=3,C3&\"　　\"&D3,IF(LEN(C3)+LEN(D3)=4,C3&\"　\"&D3,IF(LEN(C3)+LEN(D3)>4,C3&D3,\"\")))))","v":{"$error":"#REF!"}}]
[{"$f":"#REF!","v":{"$error":"#REF!"}},{"$f":" IF(#REF!=\"\", \"\",#REF!)","v":{"$error":"#REF!"}},{"$f":" IF(#REF!=\"\", \"\",#REF!)","v":{"$error":"#REF!"}},{"$f":" IF(#REF!=\"\", \"\",#REF!)","v":{"$error":"#REF!"}},{"$f":"IF(C4=\"\", \"\", C4)","v":{"$error":"#REF!"}},{"$f":"IF(D4=\"\", \"\", D4)","v":{"$error":"#REF!"}},{"$f":"IF(C4=\"\", \"\", C4)","v":{"$error":"#REF!"}},{"$f":"IF(D4=\"\", \"\", D4)","v":{"$error":"#REF!"}},{"$f":" IF(#REF!=\"\", \"\",#REF!)","v":{"$error":"#REF!"}},{"$f":" IF(#REF!=\"\", \"\",#REF!)","v":{"$error":"#REF!"}},{"$f":" IF(#REF!=\"\", \"\",#REF!)","v":{"$error":"#REF!"}},{"$f":" IF(#REF!=\"\", \"\",#REF!)","v":{"$error":"#REF!"}},{"$f":" IF(#REF!=\"\", \"\",#REF!)","v":{"$error":"#REF!"}},{"$f":" IF(#REF!=\"\", \"\",#REF!)","v":{"$error":"#REF!"}},{"$f":" IF(#REF!=\"\", \"\",#REF!)","v":{"$error":"#REF!"}},{"$f":" IF(#REF!=\"\", \"\",#REF!)","v":{"$error":"#REF!"}},{"$f":"IF(A4=\"\",\"\",#REF!)","v":{"$error":"#REF!"}},{"$f":" IF(Q4=\"\", \"\",#REF!)","v":{"$error":"#REF!"}},{"$f":" IF(Q4=\"\", \"\",#REF!)","v":{"$error":"#REF!"}},{"$f":" IF(Q4=\"\", \"\",#REF!)","v":{"$error":"#REF!"}},{"$f":" IF(Q4=\"\", \"\",#REF!)","v":{"$error":"#REF!"}},{"$f":" IF(#REF!=\"\", \"\",#REF!)","v":{"$error":"#REF!"}},{"$f":" IF(#REF!=\"\", \"\",#REF!)","v":{"$error":"#REF!"}},{"$f":"IF(Y4=\"\", \"\", IF($L4=\"男\", VLOOKUP(Y4, データ!$B$2:$C$101, 2, FALSE), IF($L4=\"女\", VLOOKUP(Y4, データ!$F$2:$H$101, 2, FALSE), \"\")))","v":{"$error":"#REF!"}},{"$f":"IF(A4=\"\",\"\", IF(#REF!=\"\", \"\",#REF!))","v":{"$error":"#REF!"}},{"$f":" IF(#REF!=\"\", \"\",#REF!)","v":{"$error":"#REF!"}},{"$f":" IF(#REF!=\"\", \"\",#REF!)","v":{"$error":"#REF!"}},{"$f":" IF(#REF!=\"\", \"\",#REF!)","v":{"$error":"#REF!"}},{"$f":" IF(#REF!=\"\", \"\",#REF!)","v":{"$error":"#REF!"}},{"$f":"IF(AE4=\"\", \"\", IF($L4=\"男\", VLOOKUP(AE4, データ!$B$2:$C$101, 2, FALSE), IF($L4=\"女\", VLOOKUP(AE4, データ!$F$2:$H$101, 2, FALSE), \"\")))","v":{"$error":"#REF!"}},{"$f":"IF(A4=\"\",\"\", IF(#REF!=\"\", \"\",#REF!))","v":{"$error":"#REF!"}},{"$f":" IF(#REF!=\"\", \"\",#REF!)","v":{"$error":"#REF!"}},{"$f":" IF(#REF!=\"\", \"\",#REF!)","v":{"$error":"#REF!"}},{"$f":" IF(#REF!=\"\", \"\",#REF!)","v":{"$error":"#REF!"}},{"$f":" IF(#REF!=\"\", \"\",#REF!)","v":{"$error":"#REF!"}},{"$f":"IF(AK4=\"\", \"\", IF($L4=\"男\", VLOOKUP(AK4, データ!$B$2:$C$101, 2, FALSE), IF($L4=\"女\", VLOOKUP(AK4, データ!$F$2:$H$101, 2, FALSE), \"\")))","v":{"$error":"#REF!"}},{"$f":"IF(A4=\"\",\"\", IF(#REF!=\"\", \"\",#REF!))","v":{"$error":"#REF!"}},{"$f":" IF(#REF!=\"\", \"\",#REF!)","v":{"$error":"#REF!"}},{"$f":" IF(#REF!=\"\", \"\",#REF!)","v":{"$error":"#REF!"}},{"$f":" IF(#REF!=\"\", \"\",#REF!)","v":{"$error":"#REF!"}},{"$f":" IF(#REF!=\"\", \"\",#REF!)","v":{"$error":"#REF!"}},{"$f":"IF(AQ4=\"\", \"\", IF($L4=\"男\", VLOOKUP(AQ4, データ!$B$2:$C$101, 2, FALSE), IF($L4=\"女\", VLOOKUP(AQ4, データ!$F$2:$H$101, 2, FALSE), \"\")))","v":{"$error":"#REF!"}},{"$f":"IF(A4=\"\",\"\", IF(#REF!=\"\", \"\",#REF!))","v":{"$error":"#REF!"}},{"$f":" IF(#REF!=\"\", \"\",#REF!)","v":{"$error":"#REF!"}},{"$f":" IF(#REF!=\"\", \"\",#REF!)","v":{"$error":"#REF!"}},{"$f":" IF(#REF!=\"\", \"\",#REF!)","v":{"$error":"#REF!"}},{"$f":" IF(#REF!=\"\", \"\",#REF!)","v":{"$error":"#REF!"}},{"$f":"IF(AW4=\"\", \"\", IF($L4=\"男\", VLOOKUP(AW4, データ!$B$2:$C$101, 2, FALSE), IF($L4=\"女\", VLOOKUP(AW4, データ!$F$2:$H$101, 2, FALSE), \"\")))","v":{"$error":"#REF!"}},{"$f":"IF(A4=\"\",\"\", IF(#REF!=\"\", \"\",#REF!))","v":{"$error":"#REF!"}},{"$f":" IF(#REF!=\"\", \"\",#REF!)","v":{"$error":"#REF!"}},{"$f":" IF(#REF!=\"\", \"\",#REF!)","v":{"$error":"#REF!"}},{"$f":" IF(#REF!=\"\", \"\",#REF!)","v":{"$error":"#REF!"}},{"$f":" IF(#REF!=\"\", \"\",#REF!)","v":{"$error":"#REF!"}},{"$f":"IF(A4=\"\",\"\",IF(LEN(C4)+LEN(D4)=2,C4&\"　　　\"&D4,IF(LEN(C4)+LEN(D4)=3,C4&\"　　\"&D4,IF(LEN(C4)+LEN(D4)=4,C4&\"　\"&D4,IF(LEN(C4)+LEN(D4)>4,C4&D4,\"\")))))","v":{"$error":"#REF!"}}]
[{"$f":"#REF!","v":{"$error":"#REF!"}},{"$f":" IF(#REF!=\"\", \"\",#REF!)","v":{"$error":"#REF!"}},{"$f":" IF(#REF!=\"\", \"\",#REF!)","v":{"$error":"#REF!"}},{"$f":" IF(#REF!=\"\", \"\",#REF!)","v":{"$error":"#REF!"}},{"$error":"#REF!"},{"$error":"#REF!"},{"$error":"#REF!"},{"$error":"#REF!"},{"$f":" IF(#REF!=\"\", \"\",#REF!)","v":{"$error":"#REF!"}},{"$f":" IF(#REF!=\"\", \"\",#REF!)","v":{"$error":"#REF!"}},{"$f":" IF(#REF!=\"\", \"\",#REF!)","v":{"$error":"#REF!"}},{"$f":" IF(#REF!=\"\", \"\",#REF!)","v":{"$error":"#REF!"}},{"$f":" IF(#REF!=\"\", \"\",#REF!)","v":{"$error":"#REF!"}},{"$f":" IF(#REF!=\"\", \"\",#REF!)","v":{"$error":"#REF!"}},{"$f":" IF(#REF!=\"\", \"\",#REF!)","v":{"$error":"#REF!"}},{"$f":" IF(#REF!=\"\", \"\",#REF!)","v":{"$error":"#REF!"}},{"$f":"IF(A5=\"\",\"\",#REF!)","v":{"$error":"#REF!"}},{"$f":" IF(Q5=\"\", \"\",#REF!)","v":{"$error":"#REF!"}},{"$f":" IF(Q5=\"\", \"\",#REF!)","v":{"$error":"#REF!"}},{"$f":" IF(Q5=\"\", \"\",#REF!)","v":{"$error":"#REF!"}},{"$f":" IF(Q5=\"\", \"\",#REF!)","v":{"$error":"#REF!"}},{"$f":" IF(#REF!=\"\", \"\",#REF!)","v":{"$error":"#REF!"}},{"$f":" IF(#REF!=\"\", \"\",#REF!)","v":{"$error":"#REF!"}},{"$f":"IF(Y5=\"\", \"\", IF($L5=\"男\", VLOOKUP(Y5, データ!$B$2:$C$101, 2, FALSE), IF($L5=\"女\", VLOOKUP(Y5, データ!$F$2:$H$101, 2, FALSE), \"\")))","v":{"$error":"#REF!"}},{"$f":"IF(A5=\"\",\"\", IF(#REF!=\"\", \"\",#REF!))","v":{"$error":"#REF!"}},{"$f":" IF(#REF!=\"\", \"\",#REF!)","v":{"$error":"#REF!"}},{"$f":" IF(#REF!=\"\", \"\",#REF!)","v":{"$error":"#REF!"}},{"$f":" IF(#REF!=\"\", \"\",#REF!)","v":{"$error":"#REF!"}},{"$f":" IF(#REF!=\"\", \"\",#REF!)","v":{"$error":"#REF!"}},{"$f":"IF(AE5=\"\", \"\", IF($L5=\"男\", VLOOKUP(AE5, データ!$B$2:$C$101, 2, FALSE), IF($L5=\"女\", VLOOKUP(AE5, データ!$F$2:$H$101, 2, FALSE), \"\")))","v":{"$error":"#REF!"}},{"$f":"IF(A5=\"\",\"\", IF(#REF!=\"\", \"\",#REF!))","v":{"$error":"#REF!"}},{"$f":" IF(#REF!=\"\", \"\",#REF!)","v":{"$error":"#REF!"}},{"$f":" IF(#REF!=\"\", \"\",#REF!)","v":{"$error":"#REF!"}},{"$f":" IF(#REF!=\"\", \"\",#REF!)","v":{"$error":"#REF!"}},{"$f":" IF(#REF!=\"\", \"\",#REF!)","v":{"$error":"#REF!"}},{"$f":"IF(AK5=\"\", \"\", IF($L5=\"男\", VLOOKUP(AK5, データ!$B$2:$C$101, 2, FALSE), IF($L5=\"女\", VLOOKUP(AK5, データ!$F$2:$H$101, 2, FALSE), \"\")))","v":{"$error":"#REF!"}},{"$f":"IF(A5=\"\",\"\", IF(#REF!=\"\", \"\",#REF!))","v":{"$error":"#REF!"}},{"$f":" IF(#REF!=\"\", \"\",#REF!)","v":{"$error":"#REF!"}},{"$f":" IF(#REF!=\"\", \"\",#REF!)","v":{"$error":"#REF!"}},{"$f":" IF(#REF!=\"\", \"\",#REF!)","v":{"$error":"#REF!"}},{"$f":" IF(#REF!=\"\", \"\",#REF!)","v":{"$error":"#REF!"}},{"$f":"IF(AQ5=\"\", \"\", IF($L5=\"男\", VLOOKUP(AQ5, データ!$B$2:$C$101, 2, FALSE), IF($L5=\"女\", VLOOKUP(AQ5, データ!$F$2:$H$101, 2, FALSE), \"\")))","v":{"$error":"#REF!"}},{"$f":"IF(A5=\"\",\"\", IF(#REF!=\"\", \"\",#REF!))","v":{"$error":"#REF!"}},{"$f":" IF(#REF!=\"\", \"\",#REF!)","v":{"$error":"#REF!"}},{"$f":" IF(#REF!=\"\", \"\",#REF!)","v":{"$error":"#REF!"}},{"$f":" IF(#REF!=\"\", \"\",#REF!)","v":{"$error":"#REF!"}},{"$f":" IF(#REF!=\"\", \"\",#REF!)","v":{"$error":"#REF!"}},{"$f":"IF(AW5=\"\", \"\", IF($L5=\"男\", VLOOKUP(AW5, データ!$B$2:$C$101, 2, FALSE), IF($L5=\"女\", VLOOKUP(AW5, データ!$F$2:$H$101, 2, FALSE), \"\")))","v":{"$error":"#REF!"}},{"$f":"IF(A5=\"\",\"\", IF(#REF!=\"\", \"\",#REF!))","v":{"$error":"#REF!"}},{"$f":" IF(#REF!=\"\", \"\",#REF!)","v":{"$error":"#REF!"}},{"$f":" IF(#REF!=\"\", \"\",#REF!)","v":{"$error":"#REF!"}},{"$f":" IF(#REF!=\"\", \"\",#REF!)","v":{"$error":"#REF!"}},{"$f":" IF(#REF!=\"\", \"\",#REF!)","v":{"$error":"#REF!"}},{"$error":"#REF!"}]
[{"$f":"#REF!","v":{"$error":"#REF!"}},{"$f":" IF(#REF!=\"\", \"\",#REF!)","v":{"$error":"#REF!"}},{"$f":" IF(#REF!=\"\", \"\",#REF!)","v":{"$error":"#REF!"}},{"$f":" IF(#REF!=\"\", \"\",#REF!)","v":{"$error":"#REF!"}},{"$error":"#REF!"},{"$error":"#REF!"},{"$error":"#REF!"},{"$error":"#REF!"},{"$f":" IF(#REF!=\"\", \"\",#REF!)","v":{"$error":"#REF!"}},{"$f":" IF(#REF!=\"\", \"\",#REF!)","v":{"$error":"#REF!"}},{"$f":" IF(#REF!=\"\", \"\",#REF!)","v":{"$error":"#REF!"}},{"$f":" IF(#REF!=\"\", \"\",#REF!)","v":{"$error":"#REF!"}},{"$f":" IF(#REF!=\"\", \"\",#REF!)","v":{"$error":"#REF!"}},{"$f":" IF(#REF!=\"\", \"\",#REF!)","v":{"$error":"#REF!"}},{"$f":" IF(#REF!=\"\", \"\",#REF!)","v":{"$error":"#REF!"}},{"$f":" IF(#REF!=\"\", \"\",#REF!)","v":{"$error":"#REF!"}},{"$f":"IF(A6=\"\",\"\",#REF!)","v":{"$error":"#REF!"}},{"$f":" IF(Q6=\"\", \"\",#REF!)","v":{"$error":"#REF!"}},{"$f":" IF(Q6=\"\", \"\",#REF!)","v":{"$error":"#REF!"}},{"$f":" IF(Q6=\"\", \"\",#REF!)","v":{"$error":"#REF!"}},{"$f":" IF(Q6=\"\", \"\",#REF!)","v":{"$error":"#REF!"}},{"$f":" IF(#REF!=\"\", \"\",#REF!)","v":{"$error":"#REF!"}},{"$f":" IF(#REF!=\"\", \"\",#REF!)","v":{"$error":"#REF!"}},{"$f":"IF(Y6=\"\", \"\", IF($L6=\"男\", VLOOKUP(Y6, データ!$B$2:$C$101, 2, FALSE), IF($L6=\"女\", VLOOKUP(Y6, データ!$F$2:$H$101, 2, FALSE), \"\")))","v":{"$error":"#REF!"}},{"$f":"IF(A6=\"\",\"\", IF(#REF!=\"\", \"\",#REF!))","v":{"$error":"#REF!"}},{"$f":" IF(#REF!=\"\", \"\",#REF!)","v":{"$error":"#REF!"}},{"$f":" IF(#REF!=\"\", \"\",#REF!)","v":{"$error":"#REF!"}},{"$f":" IF(#REF!=\"\", \"\",#REF!)","v":{"$error":"#REF!"}},{"$f":" IF(#REF!=\"\", \"\",#REF!)","v":{"$error":"#REF!"}},{"$f":"IF(AE6=\"\", \"\", IF($L6=\"男\", VLOOKUP(AE6, データ!$B$2:$C$101, 2, FALSE), IF($L6=\"女\", VLOOKUP(AE6, データ!$F$2:$H$101, 2, FALSE), \"\")))","v":{"$error":"#REF!"}},{"$f":"IF(A6=\"\",\"\", IF(#REF!=\"\", \"\",#REF!))","v":{"$error":"#REF!"}},{"$f":" IF(#REF!=\"\", \"\",#REF!)","v":{"$error":"#REF!"}},{"$f":" IF(#REF!=\"\", \"\",#REF!)","v":{"$error":"#REF!"}},{"$f":" IF(#REF!=\"\", \"\",#REF!)","v":{"$error":"#REF!"}},{"$f":" IF(#REF!=\"\", \"\",#REF!)","v":{"$error":"#REF!"}},{"$f":"IF(AK6=\"\", \"\", IF($L6=\"男\", VLOOKUP(AK6, データ!$B$2:$C$101, 2, FALSE), IF($L6=\"女\", VLOOKUP(AK6, データ!$F$2:$H$101, 2, FALSE), \"\")))","v":{"$error":"#REF!"}},{"$f":"IF(A6=\"\",\"\", IF(#REF!=\"\", \"\",#REF!))","v":{"$error":"#REF!"}},{"$f":" IF(#REF!=\"\", \"\",#REF!)","v":{"$error":"#REF!"}},{"$f":" IF(#REF!=\"\", \"\",#REF!)","v":{"$error":"#REF!"}},{"$f":" IF(#REF!=\"\", \"\",#REF!)","v":{"$error":"#REF!"}},{"$f":" IF(#REF!=\"\", \"\",#REF!)","v":{"$error":"#REF!"}},{"$f":"IF(AQ6=\"\", \"\", IF($L6=\"男\", VLOOKUP(AQ6, データ!$B$2:$C$101, 2, FALSE), IF($L6=\"女\", VLOOKUP(AQ6, データ!$F$2:$H$101, 2, FALSE), \"\")))","v":{"$error":"#REF!"}},{"$f":"IF(A6=\"\",\"\", IF(#REF!=\"\", \"\",#REF!))","v":{"$error":"#REF!"}},{"$f":" IF(#REF!=\"\", \"\",#REF!)","v":{"$error":"#REF!"}},{"$f":" IF(#REF!=\"\", \"\",#REF!)","v":{"$error":"#REF!"}},{"$f":" IF(#REF!=\"\", \"\",#REF!)","v":{"$error":"#REF!"}},{"$f":" IF(#REF!=\"\", \"\",#REF!)","v":{"$error":"#REF!"}},{"$f":"IF(AW6=\"\", \"\", IF($L6=\"男\", VLOOKUP(AW6, データ!$B$2:$C$101, 2, FALSE), IF($L6=\"女\", VLOOKUP(AW6, データ!$F$2:$H$101, 2, FALSE), \"\")))","v":{"$error":"#REF!"}},{"$f":"IF(A6=\"\",\"\", IF(#REF!=\"\", \"\",#REF!))","v":{"$error":"#REF!"}},{"$f":" IF(#REF!=\"\", \"\",#REF!)","v":{"$error":"#REF!"}},{"$f":" IF(#REF!=\"\", \"\",#REF!)","v":{"$error":"#REF!"}},{"$f":" IF(#REF!=\"\", \"\",#REF!)","v":{"$error":"#REF!"}},{"$f":" IF(#REF!=\"\", \"\",#REF!)","v":{"$error":"#REF!"}},{"$error":"#REF!"}]
[{"$f":"#REF!","v":{"$error":"#REF!"}},{"$f":" IF(#REF!=\"\", \"\",#REF!)","v":{"$error":"#REF!"}},{"$f":" IF(#REF!=\"\", \"\",#REF!)","v":{"$error":"#REF!"}},{"$f":" IF(#REF!=\"\", \"\",#REF!)","v":{"$error":"#REF!"}},{"$error":"#REF!"},{"$error":"#REF!"},{"$error":"#REF!"},{"$error":"#REF!"},{"$f":" IF(#REF!=\"\", \"\",#REF!)","v":{"$error":"#REF!"}},{"$f":" IF(#REF!=\"\", \"\",#REF!)","v":{"$error":"#REF!"}},{"$f":" IF(#REF!=\"\", \"\",#REF!)","v":{"$error":"#REF!"}},{"$f":" IF(#REF!=\"\", \"\",#REF!)","v":{"$error":"#REF!"}},{"$f":" IF(#REF!=\"\", \"\",#REF!)","v":{"$error":"#REF!"}},{"$f":" IF(#REF!=\"\", \"\",#REF!)","v":{"$error":"#REF!"}},{"$f":" IF(#REF!=\"\", \"\",#REF!)","v":{"$error":"#REF!"}},{"$f":" IF(#REF!=\"\", \"\",#REF!)","v":{"$error":"#REF!"}},{"$f":"IF(A7=\"\",\"\",#REF!)","v":{"$error":"#REF!"}},{"$f":" IF(Q7=\"\", \"\",#REF!)","v":{"$error":"#REF!"}},{"$f":" IF(Q7=\"\", \"\",#REF!)","v":{"$error":"#REF!"}},{"$f":" IF(Q7=\"\", \"\",#REF!)","v":{"$error":"#REF!"}},{"$f":" IF(Q7=\"\", \"\",#REF!)","v":{"$error":"#REF!"}},{"$f":" IF(#REF!=\"\", \"\",#REF!)","v":{"$error":"#REF!"}},{"$f":" IF(#REF!=\"\", \"\",#REF!)","v":{"$error":"#REF!"}},{"$f":"IF(Y7=\"\", \"\", IF($L7=\"男\", VLOOKUP(Y7, データ!$B$2:$C$101, 2, FALSE), IF($L7=\"女\", VLOOKUP(Y7, データ!$F$2:$H$101, 2, FALSE), \"\")))","v":{"$error":"#REF!"}},{"$f":"IF(A7=\"\",\"\", IF(#REF!=\"\", \"\",#REF!))","v":{"$error":"#REF!"}},{"$f":" IF(#REF!=\"\", \"\",#REF!)","v":{"$error":"#REF!"}},{"$f":" IF(#REF!=\"\", \"\",#REF!)","v":{"$error":"#REF!"}},{"$f":" IF(#REF!=\"\", \"\",#REF!)","v":{"$error":"#REF!"}},{"$f":" IF(#REF!=\"\", \"\",#REF!)","v":{"$error":"#REF!"}},{"$f":"IF(AE7=\"\", \"\", IF($L7=\"男\", VLOOKUP(AE7, データ!$B$2:$C$101, 2, FALSE), IF($L7=\"女\", VLOOKUP(AE7, データ!$F$2:$H$101, 2, FALSE), \"\")))","v":{"$error":"#REF!"}},{"$f":"IF(A7=\"\",\"\", IF(#REF!=\"\", \"\",#REF!))","v":{"$error":"#REF!"}},{"$f":" IF(#REF!=\"\", \"\",#REF!)","v":{"$error":"#REF!"}},{"$f":" IF(#REF!=\"\", \"\",#REF!)","v":{"$error":"#REF!"}},{"$f":" IF(#REF!=\"\", \"\",#REF!)","v":{"$error":"#REF!"}},{"$f":" IF(#REF!=\"\", \"\",#REF!)","v":{"$error":"#REF!"}},{"$f":"IF(AK7=\"\", \"\", IF($L7=\"男\", VLOOKUP(AK7, データ!$B$2:$C$101, 2, FALSE), IF($L7=\"女\", VLOOKUP(AK7, データ!$F$2:$H$101, 2, FALSE), \"\")))","v":{"$error":"#REF!"}},{"$f":"IF(A7=\"\",\"\", IF(#REF!=\"\", \"\",#REF!))","v":{"$error":"#REF!"}},{"$f":" IF(#REF!=\"\", \"\",#REF!)","v":{"$error":"#REF!"}},{"$f":" IF(#REF!=\"\", \"\",#REF!)","v":{"$error":"#REF!"}},{"$f":" IF(#REF!=\"\", \"\",#REF!)","v":{"$error":"#REF!"}},{"$f":" IF(#REF!=\"\", \"\",#REF!)","v":{"$error":"#REF!"}},{"$f":"IF(AQ7=\"\", \"\", IF($L7=\"男\", VLOOKUP(AQ7, データ!$B$2:$C$101, 2, FALSE), IF($L7=\"女\", VLOOKUP(AQ7, データ!$F$2:$H$101, 2, FALSE), \"\")))","v":{"$error":"#REF!"}},{"$f":"IF(A7=\"\",\"\", IF(#REF!=\"\", \"\",#REF!))","v":{"$error":"#REF!"}},{"$f":" IF(#REF!=\"\", \"\",#REF!)","v":{"$error":"#REF!"}},{"$f":" IF(#REF!=\"\", \"\",#REF!)","v":{"$error":"#REF!"}},{"$f":" IF(#REF!=\"\", \"\",#REF!)","v":{"$error":"#REF!"}},{"$f":" IF(#REF!=\"\", \"\",#REF!)","v":{"$error":"#REF!"}},{"$f":"IF(AW7=\"\", \"\", IF($L7=\"男\", VLOOKUP(AW7, データ!$B$2:$C$101, 2, FALSE), IF($L7=\"女\", VLOOKUP(AW7, データ!$F$2:$H$101, 2, FALSE), \"\")))","v":{"$error":"#REF!"}},{"$f":"IF(A7=\"\",\"\", IF(#REF!=\"\", \"\",#REF!))","v":{"$error":"#REF!"}},{"$f":" IF(#REF!=\"\", \"\",#REF!)","v":{"$error":"#REF!"}},{"$f":" IF(#REF!=\"\", \"\",#REF!)","v":{"$error":"#REF!"}},{"$f":" IF(#REF!=\"\", \"\",#REF!)","v":{"$error":"#REF!"}},{"$f":" IF(#REF!=\"\", \"\",#REF!)","v":{"$error":"#REF!"}},{"$error":"#REF!"}]
[{"$f":"#REF!","v":{"$error":"#REF!"}},{"$f":" IF(#REF!=\"\", \"\",#REF!)","v":{"$error":"#REF!"}},{"$f":" IF(#REF!=\"\", \"\",#REF!)","v":{"$error":"#REF!"}},{"$f":" IF(#REF!=\"\", \"\",#REF!)","v":{"$error":"#REF!"}},{"$error":"#REF!"},{"$error":"#REF!"},{"$error":"#REF!"},{"$error":"#REF!"},{"$f":" IF(#REF!=\"\", \"\",#REF!)","v":{"$error":"#REF!"}},{"$f":" IF(#REF!=\"\", \"\",#REF!)","v":{"$error":"#REF!"}},{"$f":" IF(#REF!=\"\", \"\",#REF!)","v":{"$error":"#REF!"}},{"$f":" IF(#REF!=\"\", \"\",#REF!)","v":{"$error":"#REF!"}},{"$f":" IF(#REF!=\"\", \"\",#REF!)","v":{"$error":"#REF!"}},{"$f":" IF(#REF!=\"\", \"\",#REF!)","v":{"$error":"#REF!"}},{"$f":" IF(#REF!=\"\", \"\",#REF!)","v":{"$error":"#REF!"}},{"$f":" IF(#REF!=\"\", \"\",#REF!)","v":{"$error":"#REF!"}},{"$f":"IF(A8=\"\",\"\",#REF!)","v":{"$error":"#REF!"}},{"$f":" IF(Q8=\"\", \"\",#REF!)","v":{"$error":"#REF!"}},{"$f":" IF(Q8=\"\", \"\",#REF!)","v":{"$error":"#REF!"}},{"$f":" IF(Q8=\"\", \"\",#REF!)","v":{"$error":"#REF!"}},{"$f":" IF(Q8=\"\", \"\",#REF!)","v":{"$error":"#REF!"}},{"$f":" IF(#REF!=\"\", \"\",#REF!)","v":{"$error":"#REF!"}},{"$f":" IF(#REF!=\"\", \"\",#REF!)","v":{"$error":"#REF!"}},{"$f":"IF(Y8=\"\", \"\", IF($L8=\"男\", VLOOKUP(Y8, データ!$B$2:$C$101, 2, FALSE), IF($L8=\"女\", VLOOKUP(Y8, データ!$F$2:$H$101, 2, FALSE), \"\")))","v":{"$error":"#REF!"}},{"$f":"IF(A8=\"\",\"\", IF(#REF!=\"\", \"\",#REF!))","v":{"$error":"#REF!"}},{"$f":" IF(#REF!=\"\", \"\",#REF!)","v":{"$error":"#REF!"}},{"$f":" IF(#REF!=\"\", \"\",#REF!)","v":{"$error":"#REF!"}},{"$f":" IF(#REF!=\"\", \"\",#REF!)","v":{"$error":"#REF!"}},{"$f":" IF(#REF!=\"\", \"\",#REF!)","v":{"$error":"#REF!"}},{"$f":"IF(AE8=\"\", \"\", IF($L8=\"男\", VLOOKUP(AE8, データ!$B$2:$C$101, 2, FALSE), IF($L8=\"女\", VLOOKUP(AE8, データ!$F$2:$H$101, 2, FALSE), \"\")))","v":{"$error":"#REF!"}},{"$f":"IF(A8=\"\",\"\", IF(#REF!=\"\", \"\",#REF!))","v":{"$error":"#REF!"}},{"$f":" IF(#REF!=\"\", \"\",#REF!)","v":{"$error":"#REF!"}},{"$f":" IF(#REF!=\"\", \"\",#REF!)","v":{"$error":"#REF!"}},{"$f":" IF(#REF!=\"\", \"\",#REF!)","v":{"$error":"#REF!"}},{"$f":" IF(#REF!=\"\", \"\",#REF!)","v":{"$error":"#REF!"}},{"$f":"IF(AK8=\"\", \"\", IF($L8=\"男\", VLOOKUP(AK8, データ!$B$2:$C$101, 2, FALSE), IF($L8=\"女\", VLOOKUP(AK8, データ!$F$2:$H$101, 2, FALSE), \"\")))","v":{"$error":"#REF!"}},{"$f":"IF(A8=\"\",\"\", IF(#REF!=\"\", \"\",#REF!))","v":{"$error":"#REF!"}},{"$f":" IF(#REF!=\"\", \"\",#REF!)","v":{"$error":"#REF!"}},{"$f":" IF(#REF!=\"\", \"\",#REF!)","v":{"$error":"#REF!"}},{"$f":" IF(#REF!=\"\", \"\",#REF!)","v":{"$error":"#REF!"}},{"$f":" IF(#REF!=\"\", \"\",#REF!)","v":{"$error":"#REF!"}},{"$f":"IF(AQ8=\"\", \"\", IF($L8=\"男\", VLOOKUP(AQ8, データ!$B$2:$C$101, 2, FALSE), IF($L8=\"女\", VLOOKUP(AQ8, データ!$F$2:$H$101, 2, FALSE), \"\")))","v":{"$error":"#REF!"}},{"$f":"IF(A8=\"\",\"\", IF(#REF!=\"\", \"\",#REF!))","v":{"$error":"#REF!"}},{"$f":" IF(#REF!=\"\", \"\",#REF!)","v":{"$error":"#REF!"}},{"$f":" IF(#REF!=\"\", \"\",#REF!)","v":{"$error":"#REF!"}},{"$f":" IF(#REF!=\"\", \"\",#REF!)","v":{"$error":"#REF!"}},{"$f":" IF(#REF!=\"\", \"\",#REF!)","v":{"$error":"#REF!"}},{"$f":"IF(AW8=\"\", \"\", IF($L8=\"男\", VLOOKUP(AW8, データ!$B$2:$C$101, 2, FALSE), IF($L8=\"女\", VLOOKUP(AW8, データ!$F$2:$H$101, 2, FALSE), \"\")))","v":{"$error":"#REF!"}},{"$f":"IF(A8=\"\",\"\", IF(#REF!=\"\", \"\",#REF!))","v":{"$error":"#REF!"}},{"$f":" IF(#REF!=\"\", \"\",#REF!)","v":{"$error":"#REF!"}},{"$f":" IF(#REF!=\"\", \"\",#REF!)","v":{"$error":"#REF!"}},{"$f":" IF(#REF!=\"\", \"\",#REF!)","v":{"$error":"#REF!"}},{"$f":" IF(#REF!=\"\", \"\",#REF!)","v":{"$error":"#REF!"}},{"$error":"#REF!"}]
[{"$f":"#REF!","v":{"$error":"#REF!"}},{"$f":" IF(#REF!=\"\", \"\",#REF!)","v":{"$error":"#REF!"}},{"$f":" IF(#REF!=\"\", \"\",#REF!)","v":{"$error":"#REF!"}},{"$f":" IF(#REF!=\"\", \"\",#REF!)","v":{"$error":"#REF!"}},{"$error":"#REF!"},{"$error":"#REF!"},{"$error":"#REF!"},{"$error":"#REF!"},{"$f":" IF(#REF!=\"\", \"\",#REF!)","v":{"$error":"#REF!"}},{"$f":" IF(#REF!=\"\", \"\",#REF!)","v":{"$error":"#REF!"}},{"$f":" IF(#REF!=\"\", \"\",#REF!)","v":{"$error":"#REF!"}},{"$f":" IF(#REF!=\"\", \"\",#REF!)","v":{"$error":"#REF!"}},{"$f":" IF(#REF!=\"\", \"\",#REF!)","v":{"$error":"#REF!"}},{"$f":" IF(#REF!=\"\", \"\",#REF!)","v":{"$error":"#REF!"}},{"$f":" IF(#REF!=\"\", \"\",#REF!)","v":{"$error":"#REF!"}},{"$f":" IF(#REF!=\"\", \"\",#REF!)","v":{"$error":"#REF!"}},{"$f":"IF(A9=\"\",\"\",#REF!)","v":{"$error":"#REF!"}},{"$f":" IF(Q9=\"\", \"\",#REF!)","v":{"$error":"#REF!"}},{"$f":" IF(Q9=\"\", \"\",#REF!)","v":{"$error":"#REF!"}},{"$f":" IF(Q9=\"\", \"\",#REF!)","v":{"$error":"#REF!"}},{"$f":" IF(Q9=\"\", \"\",#REF!)","v":{"$error":"#REF!"}},{"$f":" IF(#REF!=\"\", \"\",#REF!)","v":{"$error":"#REF!"}},{"$f":" IF(#REF!=\"\", \"\",#REF!)","v":{"$error":"#REF!"}},{"$f":"IF(Y9=\"\", \"\", IF($L9=\"男\", VLOOKUP(Y9, データ!$B$2:$C$101, 2, FALSE), IF($L9=\"女\", VLOOKUP(Y9, データ!$F$2:$H$101, 2, FALSE), \"\")))","v":{"$error":"#REF!"}},{"$f":"IF(A9=\"\",\"\", IF(#REF!=\"\", \"\",#REF!))","v":{"$error":"#REF!"}},{"$f":" IF(#REF!=\"\", \"\",#REF!)","v":{"$error":"#REF!"}},{"$f":" IF(#REF!=\"\", \"\",#REF!)","v":{"$error":"#REF!"}},{"$f":" IF(#REF!=\"\", \"\",#REF!)","v":{"$error":"#REF!"}},{"$f":" IF(#REF!=\"\", \"\",#REF!)","v":{"$error":"#REF!"}},{"$f":"IF(AE9=\"\", \"\", IF($L9=\"男\", VLOOKUP(AE9, データ!$B$2:$C$101, 2, FALSE), IF($L9=\"女\", VLOOKUP(AE9, データ!$F$2:$H$101, 2, FALSE), \"\")))","v":{"$error":"#REF!"}},{"$f":"IF(A9=\"\",\"\", IF(#REF!=\"\", \"\",#REF!))","v":{"$error":"#REF!"}},{"$f":" IF(#REF!=\"\", \"\",#REF!)","v":{"$error":"#REF!"}},{"$f":" IF(#REF!=\"\", \"\",#REF!)","v":{"$error":"#REF!"}},{"$f":" IF(#REF!=\"\", \"\",#REF!)","v":{"$error":"#REF!"}},{"$f":" IF(#REF!=\"\", \"\",#REF!)","v":{"$error":"#REF!"}},{"$f":"IF(AK9=\"\", \"\", IF($L9=\"男\", VLOOKUP(AK9, データ!$B$2:$C$101, 2, FALSE), IF($L9=\"女\", VLOOKUP(AK9, データ!$F$2:$H$101, 2, FALSE), \"\")))","v":{"$error":"#REF!"}},{"$f":"IF(A9=\"\",\"\", IF(#REF!=\"\", \"\",#REF!))","v":{"$error":"#REF!"}},{"$f":" IF(#REF!=\"\", \"\",#REF!)","v":{"$error":"#REF!"}},{"$f":" IF(#REF!=\"\", \"\",#REF!)","v":{"$error":"#REF!"}},{"$f":" IF(#REF!=\"\", \"\",#REF!)","v":{"$error":"#REF!"}},{"$f":" IF(#REF!=\"\", \"\",#REF!)","v":{"$error":"#REF!"}},{"$f":"IF(AQ9=\"\", \"\", IF($L9=\"男\", VLOOKUP(AQ9, データ!$B$2:$C$101, 2, FALSE), IF($L9=\"女\", VLOOKUP(AQ9, データ!$F$2:$H$101, 2, FALSE), \"\")))","v":{"$error":"#REF!"}},{"$f":"IF(A9=\"\",\"\", IF(#REF!=\"\", \"\",#REF!))","v":{"$error":"#REF!"}},{"$f":" IF(#REF!=\"\", \"\",#REF!)","v":{"$error":"#REF!"}},{"$f":" IF(#REF!=\"\", \"\",#REF!)","v":{"$error":"#REF!"}},{"$f":" IF(#REF!=\"\", \"\",#REF!)","v":{"$error":"#REF!"}},{"$f":" IF(#REF!=\"\", \"\",#REF!)","v":{"$error":"#REF!"}},{"$f":"IF(AW9=\"\", \"\", IF($L9=\"男\", VLOOKUP(AW9, データ!$B$2:$C$101, 2, FALSE), IF($L9=\"女\", VLOOKUP(AW9, データ!$F$2:$H$101, 2, FALSE), \"\")))","v":{"$error":"#REF!"}},{"$f":"IF(A9=\"\",\"\", IF(#REF!=\"\", \"\",#REF!))","v":{"$error":"#REF!"}},{"$f":" IF(#REF!=\"\", \"\",#REF!)","v":{"$error":"#REF!"}},{"$f":" IF(#REF!=\"\", \"\",#REF!)","v":{"$error":"#REF!"}},{"$f":" IF(#REF!=\"\", \"\",#REF!)","v":{"$error":"#REF!"}},{"$f":" IF(#REF!=\"\", \"\",#REF!)","v":{"$error":"#REF!"}},{"$error":"#REF!"}]
[{"$f":"#REF!","v":{"$error":"#REF!"}},{"$f":" IF(#REF!=\"\", \"\",#REF!)","v":{"$error":"#REF!"}},{"$f":" IF(#REF!=\"\", \"\",#REF!)","v":{"$error":"#REF!"}},{"$f":" IF(#REF!=\"\", \"\",#REF!)","v":{"$error":"#REF!"}},{"$error":"#REF!"},{"$error":"#REF!"},{"$error":"#REF!"},{"$error":"#REF!"},{"$f":" IF(#REF!=\"\", \"\",#REF!)","v":{"$error":"#REF!"}},{"$f":" IF(#REF!=\"\", \"\",#REF!)","v":{"$error":"#REF!"}},{"$f":" IF(#REF!=\"\", \"\",#REF!)","v":{"$error":"#REF!"}},{"$f":" IF(#REF!=\"\", \"\",#REF!)","v":{"$error":"#REF!"}},{"$f":" IF(#REF!=\"\", \"\",#REF!)","v":{"$error":"#REF!"}},{"$f":" IF(#REF!=\"\", \"\",#REF!)","v":{"$error":"#REF!"}},{"$f":" IF(#REF!=\"\", \"\",#REF!)","v":{"$error":"#REF!"}},{"$f":" IF(#REF!=\"\", \"\",#REF!)","v":{"$error":"#REF!"}},{"$f":"IF(A10=\"\",\"\",#REF!)","v":{"$error":"#REF!"}},{"$f":" IF(Q10=\"\", \"\",#REF!)","v":{"$error":"#REF!"}},{"$f":" IF(Q10=\"\", \"\",#REF!)","v":{"$error":"#REF!"}},{"$f":" IF(Q10=\"\", \"\",#REF!)","v":{"$error":"#REF!"}},{"$f":" IF(Q10=\"\", \"\",#REF!)","v":{"$error":"#REF!"}},{"$f":" IF(#REF!=\"\", \"\",#REF!)","v":{"$error":"#REF!"}},{"$f":" IF(#REF!=\"\", \"\",#REF!)","v":{"$error":"#REF!"}},{"$f":"IF(Y10=\"\", \"\", IF($L10=\"男\", VLOOKUP(Y10, データ!$B$2:$C$101, 2, FALSE), IF($L10=\"女\", VLOOKUP(Y10, データ!$F$2:$H$101, 2, FALSE), \"\")))","v":{"$error":"#REF!"}},{"$f":"IF(A10=\"\",\"\", IF(#REF!=\"\", \"\",#REF!))","v":{"$error":"#REF!"}},{"$f":" IF(#REF!=\"\", \"\",#REF!)","v":{"$error":"#REF!"}},{"$f":" IF(#REF!=\"\", \"\",#REF!)","v":{"$error":"#REF!"}},{"$f":" IF(#REF!=\"\", \"\",#REF!)","v":{"$error":"#REF!"}},{"$f":" IF(#REF!=\"\", \"\",#REF!)","v":{"$error":"#REF!"}},{"$f":"IF(AE10=\"\", \"\", IF($L10=\"男\", VLOOKUP(AE10, データ!$B$2:$C$101, 2, FALSE), IF($L10=\"女\", VLOOKUP(AE10, データ!$F$2:$H$101, 2, FALSE), \"\")))","v":{"$error":"#REF!"}},{"$f":"IF(A10=\"\",\"\", IF(#REF!=\"\", \"\",#REF!))","v":{"$error":"#REF!"}},{"$f":" IF(#REF!=\"\", \"\",#REF!)","v":{"$error":"#REF!"}},{"$f":" IF(#REF!=\"\", \"\",#REF!)","v":{"$error":"#REF!"}},{"$f":" IF(#REF!=\"\", \"\",#REF!)","v":{"$error":"#REF!"}},{"$f":" IF(#REF!=\"\", \"\",#REF!)","v":{"$error":"#REF!"}},{"$f":"IF(AK10=\"\", \"\", IF($L10=\"男\", VLOOKUP(AK10, データ!$B$2:$C$101, 2, FALSE), IF($L10=\"女\", VLOOKUP(AK10, データ!$F$2:$H$101, 2, FALSE), \"\")))","v":{"$error":"#REF!"}},{"$f":"IF(A10=\"\",\"\", IF(#REF!=\"\", \"\",#REF!))","v":{"$error":"#REF!"}},{"$f":" IF(#REF!=\"\", \"\",#REF!)","v":{"$error":"#REF!"}},{"$f":" IF(#REF!=\"\", \"\",#REF!)","v":{"$error":"#REF!"}},{"$f":" IF(#REF!=\"\", \"\",#REF!)","v":{"$error":"#REF!"}},{"$f":" IF(#REF!=\"\", \"\",#REF!)","v":{"$error":"#REF!"}},{"$f":"IF(AQ10=\"\", \"\", IF($L10=\"男\", VLOOKUP(AQ10, データ!$B$2:$C$101, 2, FALSE), IF($L10=\"女\", VLOOKUP(AQ10, データ!$F$2:$H$101, 2, FALSE), \"\")))","v":{"$error":"#REF!"}},{"$f":"IF(A10=\"\",\"\", IF(#REF!=\"\", \"\",#REF!))","v":{"$error":"#REF!"}},{"$f":" IF(#REF!=\"\", \"\",#REF!)","v":{"$error":"#REF!"}},{"$f":" IF(#REF!=\"\", \"\",#REF!)","v":{"$error":"#REF!"}},{"$f":" IF(#REF!=\"\", \"\",#REF!)","v":{"$error":"#REF!"}},{"$f":" IF(#REF!=\"\", \"\",#REF!)","v":{"$error":"#REF!"}},{"$f":"IF(AW10=\"\", \"\", IF($L10=\"男\", VLOOKUP(AW10, データ!$B$2:$C$101, 2, FALSE), IF($L10=\"女\", VLOOKUP(AW10, データ!$F$2:$H$101, 2, FALSE), \"\")))","v":{"$error":"#REF!"}},{"$f":"IF(A10=\"\",\"\", IF(#REF!=\"\", \"\",#REF!))","v":{"$error":"#REF!"}},{"$f":" IF(#REF!=\"\", \"\",#REF!)","v":{"$error":"#REF!"}},{"$f":" IF(#REF!=\"\", \"\",#REF!)","v":{"$error":"#REF!"}},{"$f":" IF(#REF!=\"\", \"\",#REF!)","v":{"$error":"#REF!"}},{"$f":" IF(#REF!=\"\", \"\",#REF!)","v":{"$error":"#REF!"}},{"$error":"#REF!"}]
[{"$f":"#REF!","v":{"$error":"#REF!"}},{"$f":" IF(#REF!=\"\", \"\",#REF!)","v":{"$error":"#REF!"}},{"$f":" IF(#REF!=\"\", \"\",#REF!)","v":{"$error":"#REF!"}},{"$f":" IF(#REF!=\"\", \"\",#REF!)","v":{"$error":"#REF!"}},{"$error":"#REF!"},{"$error":"#REF!"},{"$error":"#REF!"},{"$error":"#REF!"},{"$f":" IF(#REF!=\"\", \"\",#REF!)","v":{"$error":"#REF!"}},{"$f":" IF(#REF!=\"\", \"\",#REF!)","v":{"$error":"#REF!"}},{"$f":" IF(#REF!=\"\", \"\",#REF!)","v":{"$error":"#REF!"}},{"$f":" IF(#REF!=\"\", \"\",#REF!)","v":{"$error":"#REF!"}},{"$f":" IF(#REF!=\"\", \"\",#REF!)","v":{"$error":"#REF!"}},{"$f":" IF(#REF!=\"\", \"\",#REF!)","v":{"$error":"#REF!"}},{"$f":" IF(#REF!=\"\", \"\",#REF!)","v":{"$error":"#REF!"}},{"$f":" IF(#REF!=\"\", \"\",#REF!)","v":{"$error":"#REF!"}},{"$f":"IF(A11=\"\",\"\",#REF!)","v":{"$error":"#REF!"}},{"$f":" IF(Q11=\"\", \"\",#REF!)","v":{"$error":"#REF!"}},{"$f":" IF(Q11=\"\", \"\",#REF!)","v":{"$error":"#REF!"}},{"$f":" IF(Q11=\"\", \"\",#REF!)","v":{"$error":"#REF!"}},{"$f":" IF(Q11=\"\", \"\",#REF!)","v":{"$error":"#REF!"}},{"$f":" IF(#REF!=\"\", \"\",#REF!)","v":{"$error":"#REF!"}},{"$f":" IF(#REF!=\"\", \"\",#REF!)","v":{"$error":"#REF!"}},{"$f":"IF(Y11=\"\", \"\", IF($L11=\"男\", VLOOKUP(Y11, データ!$B$2:$C$101, 2, FALSE), IF($L11=\"女\", VLOOKUP(Y11, データ!$F$2:$H$101, 2, FALSE), \"\")))","v":{"$error":"#REF!"}},{"$f":"IF(A11=\"\",\"\", IF(#REF!=\"\", \"\",#REF!))","v":{"$error":"#REF!"}},{"$f":" IF(#REF!=\"\", \"\",#REF!)","v":{"$error":"#REF!"}},{"$f":" IF(#REF!=\"\", \"\",#REF!)","v":{"$error":"#REF!"}},{"$f":" IF(#REF!=\"\", \"\",#REF!)","v":{"$error":"#REF!"}},{"$f":" IF(#REF!=\"\", \"\",#REF!)","v":{"$error":"#REF!"}},{"$f":"IF(AE11=\"\", \"\", IF($L11=\"男\", VLOOKUP(AE11, データ!$B$2:$C$101, 2, FALSE), IF($L11=\"女\", VLOOKUP(AE11, データ!$F$2:$H$101, 2, FALSE), \"\")))","v":{"$error":"#REF!"}},{"$f":"IF(A11=\"\",\"\", IF(#REF!=\"\", \"\",#REF!))","v":{"$error":"#REF!"}},{"$f":" IF(#REF!=\"\", \"\",#REF!)","v":{"$error":"#REF!"}},{"$f":" IF(#REF!=\"\", \"\",#REF!)","v":{"$error":"#REF!"}},{"$f":" IF(#REF!=\"\", \"\",#REF!)","v":{"$error":"#REF!"}},{"$f":" IF(#REF!=\"\", \"\",#REF!)","v":{"$error":"#REF!"}},{"$f":"IF(AK11=\"\", \"\", IF($L11=\"男\", VLOOKUP(AK11, データ!$B$2:$C$101, 2, FALSE), IF($L11=\"女\", VLOOKUP(AK11, データ!$F$2:$H$101, 2, FALSE), \"\")))","v":{"$error":"#REF!"}},{"$f":"IF(A11=\"\",\"\", IF(#REF!=\"\", \"\",#REF!))","v":{"$error":"#REF!"}},{"$f":" IF(#REF!=\"\", \"\",#REF!)","v":{"$error":"#REF!"}},{"$f":" IF(#REF!=\"\", \"\",#REF!)","v":{"$error":"#REF!"}},{"$f":" IF(#REF!=\"\", \"\",#REF!)","v":{"$error":"#REF!"}},{"$f":" IF(#REF!=\"\", \"\",#REF!)","v":{"$error":"#REF!"}},{"$f":"IF(AQ11=\"\", \"\", IF($L11=\"男\", VLOOKUP(AQ11, データ!$B$2:$C$101, 2, FALSE), IF($L11=\"女\", VLOOKUP(AQ11, データ!$F$2:$H$101, 2, FALSE), \"\")))","v":{"$error":"#REF!"}},{"$f":"IF(A11=\"\",\"\", IF(#REF!=\"\", \"\",#REF!))","v":{"$error":"#REF!"}},{"$f":" IF(#REF!=\"\", \"\",#REF!)","v":{"$error":"#REF!"}},{"$f":" IF(#REF!=\"\", \"\",#REF!)","v":{"$error":"#REF!"}},{"$f":" IF(#REF!=\"\", \"\",#REF!)","v":{"$error":"#REF!"}},{"$f":" IF(#REF!=\"\", \"\",#REF!)","v":{"$error":"#REF!"}},{"$f":"IF(AW11=\"\", \"\", IF($L11=\"男\", VLOOKUP(AW11, データ!$B$2:$C$101, 2, FALSE), IF($L11=\"女\", VLOOKUP(AW11, データ!$F$2:$H$101, 2, FALSE), \"\")))","v":{"$error":"#REF!"}},{"$f":"IF(A11=\"\",\"\", IF(#REF!=\"\", \"\",#REF!))","v":{"$error":"#REF!"}},{"$f":" IF(#REF!=\"\", \"\",#REF!)","v":{"$error":"#REF!"}},{"$f":" IF(#REF!=\"\", \"\",#REF!)","v":{"$error":"#REF!"}},{"$f":" IF(#REF!=\"\", \"\",#REF!)","v":{"$error":"#REF!"}},{"$f":" IF(#REF!=\"\", \"\",#REF!)","v":{"$error":"#REF!"}},{"$error":"#REF!"}]
[{"$f":"#REF!","v":{"$error":"#REF!"}},{"$f":" IF(#REF!=\"\", \"\",#REF!)","v":{"$error":"#REF!"}},{"$f":" IF(#REF!=\"\", \"\",#REF!)","v":{"$error":"#REF!"}},{"$f":" IF(#REF!=\"\", \"\",#REF!)","v":{"$error":"#REF!"}},{"$error":"#REF!"},{"$error":"#REF!"},{"$error":"#REF!"},{"$error":"#REF!"},{"$f":" IF(#REF!=\"\", \"\",#REF!)","v":{"$error":"#REF!"}},{"$f":" IF(#REF!=\"\", \"\",#REF!)","v":{"$error":"#REF!"}},{"$f":" IF(#REF!=\"\", \"\",#REF!)","v":{"$error":"#REF!"}},{"$f":" IF(#REF!=\"\", \"\",#REF!)","v":{"$error":"#REF!"}},{"$f":" IF(#REF!=\"\", \"\",#REF!)","v":{"$error":"#REF!"}},{"$f":" IF(#REF!=\"\", \"\",#REF!)","v":{"$error":"#REF!"}},{"$f":" IF(#REF!=\"\", \"\",#REF!)","v":{"$error":"#REF!"}},{"$f":" IF(#REF!=\"\", \"\",#REF!)","v":{"$error":"#REF!"}},{"$f":"IF(A12=\"\",\"\",#REF!)","v":{"$error":"#REF!"}},{"$f":" IF(Q12=\"\", \"\",#REF!)","v":{"$error":"#REF!"}},{"$f":" IF(Q12=\"\", \"\",#REF!)","v":{"$error":"#REF!"}},{"$f":" IF(Q12=\"\", \"\",#REF!)","v":{"$error":"#REF!"}},{"$f":" IF(Q12=\"\", \"\",#REF!)","v":{"$error":"#REF!"}},{"$f":" IF(#REF!=\"\", \"\",#REF!)","v":{"$error":"#REF!"}},{"$f":" IF(#REF!=\"\", \"\",#REF!)","v":{"$error":"#REF!"}},{"$f":"IF(Y12=\"\", \"\", IF($L12=\"男\", VLOOKUP(Y12, データ!$B$2:$C$101, 2, FALSE), IF($L12=\"女\", VLOOKUP(Y12, データ!$F$2:$H$101, 2, FALSE), \"\")))","v":{"$error":"#REF!"}},{"$f":"IF(A12=\"\",\"\", IF(#REF!=\"\", \"\",#REF!))","v":{"$error":"#REF!"}},{"$f":" IF(#REF!=\"\", \"\",#REF!)","v":{"$error":"#REF!"}},{"$f":" IF(#REF!=\"\", \"\",#REF!)","v":{"$error":"#REF!"}},{"$f":" IF(#REF!=\"\", \"\",#REF!)","v":{"$error":"#REF!"}},{"$f":" IF(#REF!=\"\", \"\",#REF!)","v":{"$error":"#REF!"}},{"$f":"IF(AE12=\"\", \"\", IF($L12=\"男\", VLOOKUP(AE12, データ!$B$2:$C$101, 2, FALSE), IF($L12=\"女\", VLOOKUP(AE12, データ!$F$2:$H$101, 2, FALSE), \"\")))","v":{"$error":"#REF!"}},{"$f":"IF(A12=\"\",\"\", IF(#REF!=\"\", \"\",#REF!))","v":{"$error":"#REF!"}},{"$f":" IF(#REF!=\"\", \"\",#REF!)","v":{"$error":"#REF!"}},{"$f":" IF(#REF!=\"\", \"\",#REF!)","v":{"$error":"#REF!"}},{"$f":" IF(#REF!=\"\", \"\",#REF!)","v":{"$error":"#REF!"}},{"$f":" IF(#REF!=\"\", \"\",#REF!)","v":{"$error":"#REF!"}},{"$f":"IF(AK12=\"\", \"\", IF($L12=\"男\", VLOOKUP(AK12, データ!$B$2:$C$101, 2, FALSE), IF($L12=\"女\", VLOOKUP(AK12, データ!$F$2:$H$101, 2, FALSE), \"\")))","v":{"$error":"#REF!"}},{"$f":"IF(A12=\"\",\"\", IF(#REF!=\"\", \"\",#REF!))","v":{"$error":"#REF!"}},{"$f":" IF(#REF!=\"\", \"\",#REF!)","v":{"$error":"#REF!"}},{"$f":" IF(#REF!=\"\", \"\",#REF!)","v":{"$error":"#REF!"}},{"$f":" IF(#REF!=\"\", \"\",#REF!)","v":{"$error":"#REF!"}},{"$f":" IF(#REF!=\"\", \"\",#REF!)","v":{"$error":"#REF!"}},{"$f":"IF(AQ12=\"\", \"\", IF($L12=\"男\", VLOOKUP(AQ12, データ!$B$2:$C$101, 2, FALSE), IF($L12=\"女\", VLOOKUP(AQ12, データ!$F$2:$H$101, 2, FALSE), \"\")))","v":{"$error":"#REF!"}},{"$f":"IF(A12=\"\",\"\", IF(#REF!=\"\", \"\",#REF!))","v":{"$error":"#REF!"}},{"$f":" IF(#REF!=\"\", \"\",#REF!)","v":{"$error":"#REF!"}},{"$f":" IF(#REF!=\"\", \"\",#REF!)","v":{"$error":"#REF!"}},{"$f":" IF(#REF!=\"\", \"\",#REF!)","v":{"$error":"#REF!"}},{"$f":" IF(#REF!=\"\", \"\",#REF!)","v":{"$error":"#REF!"}},{"$f":"IF(AW12=\"\", \"\", IF($L12=\"男\", VLOOKUP(AW12, データ!$B$2:$C$101, 2, FALSE), IF($L12=\"女\", VLOOKUP(AW12, データ!$F$2:$H$101, 2, FALSE), \"\")))","v":{"$error":"#REF!"}},{"$f":"IF(A12=\"\",\"\", IF(#REF!=\"\", \"\",#REF!))","v":{"$error":"#REF!"}},{"$f":" IF(#REF!=\"\", \"\",#REF!)","v":{"$error":"#REF!"}},{"$f":" IF(#REF!=\"\", \"\",#REF!)","v":{"$error":"#REF!"}},{"$f":" IF(#REF!=\"\", \"\",#REF!)","v":{"$error":"#REF!"}},{"$f":" IF(#REF!=\"\", \"\",#REF!)","v":{"$error":"#REF!"}},{"$error":"#REF!"}]
[{"$f":"#REF!","v":{"$error":"#REF!"}},{"$f":" IF(#REF!=\"\", \"\",#REF!)","v":{"$error":"#REF!"}},{"$f":" IF(#REF!=\"\", \"\",#REF!)","v":{"$error":"#REF!"}},{"$f":" IF(#REF!=\"\", \"\",#REF!)","v":{"$error":"#REF!"}},{"$error":"#REF!"},{"$error":"#REF!"},{"$error":"#REF!"},{"$error":"#REF!"},{"$f":" IF(#REF!=\"\", \"\",#REF!)","v":{"$error":"#REF!"}},{"$f":" IF(#REF!=\"\", \"\",#REF!)","v":{"$error":"#REF!"}},{"$f":" IF(#REF!=\"\", \"\",#REF!)","v":{"$error":"#REF!"}},{"$f":" IF(#REF!=\"\", \"\",#REF!)","v":{"$error":"#REF!"}},{"$f":" IF(#REF!=\"\", \"\",#REF!)","v":{"$error":"#REF!"}},{"$f":" IF(#REF!=\"\", \"\",#REF!)","v":{"$error":"#REF!"}},{"$f":" IF(#REF!=\"\", \"\",#REF!)","v":{"$error":"#REF!"}},{"$f":" IF(#REF!=\"\", \"\",#REF!)","v":{"$error":"#REF!"}},{"$f":"IF(A13=\"\",\"\",#REF!)","v":{"$error":"#REF!"}},{"$f":" IF(Q13=\"\", \"\",#REF!)","v":{"$error":"#REF!"}},{"$f":" IF(Q13=\"\", \"\",#REF!)","v":{"$error":"#REF!"}},{"$f":" IF(Q13=\"\", \"\",#REF!)","v":{"$error":"#REF!"}},{"$f":" IF(Q13=\"\", \"\",#REF!)","v":{"$error":"#REF!"}},{"$f":" IF(#REF!=\"\", \"\",#REF!)","v":{"$error":"#REF!"}},{"$f":" IF(#REF!=\"\", \"\",#REF!)","v":{"$error":"#REF!"}},{"$f":"IF(Y13=\"\", \"\", IF($L13=\"男\", VLOOKUP(Y13, データ!$B$2:$C$101, 2, FALSE), IF($L13=\"女\", VLOOKUP(Y13, データ!$F$2:$H$101, 2, FALSE), \"\")))","v":{"$error":"#REF!"}},{"$f":"IF(A13=\"\",\"\", IF(#REF!=\"\", \"\",#REF!))","v":{"$error":"#REF!"}},{"$f":" IF(#REF!=\"\", \"\",#REF!)","v":{"$error":"#REF!"}},{"$f":" IF(#REF!=\"\", \"\",#REF!)","v":{"$error":"#REF!"}},{"$f":" IF(#REF!=\"\", \"\",#REF!)","v":{"$error":"#REF!"}},{"$f":" IF(#REF!=\"\", \"\",#REF!)","v":{"$error":"#REF!"}},{"$f":"IF(AE13=\"\", \"\", IF($L13=\"男\", VLOOKUP(AE13, データ!$B$2:$C$101, 2, FALSE), IF($L13=\"女\", VLOOKUP(AE13, データ!$F$2:$H$101, 2, FALSE), \"\")))","v":{"$error":"#REF!"}},{"$f":"IF(A13=\"\",\"\", IF(#REF!=\"\", \"\",#REF!))","v":{"$error":"#REF!"}},{"$f":" IF(#REF!=\"\", \"\",#REF!)","v":{"$error":"#REF!"}},{"$f":" IF(#REF!=\"\", \"\",#REF!)","v":{"$error":"#REF!"}},{"$f":" IF(#REF!=\"\", \"\",#REF!)","v":{"$error":"#REF!"}},{"$f":" IF(#REF!=\"\", \"\",#REF!)","v":{"$error":"#REF!"}},{"$f":"IF(AK13=\"\", \"\", IF($L13=\"男\", VLOOKUP(AK13, データ!$B$2:$C$101, 2, FALSE), IF($L13=\"女\", VLOOKUP(AK13, データ!$F$2:$H$101, 2, FALSE), \"\")))","v":{"$error":"#REF!"}},{"$f":"IF(A13=\"\",\"\", IF(#REF!=\"\", \"\",#REF!))","v":{"$error":"#REF!"}},{"$f":" IF(#REF!=\"\", \"\",#REF!)","v":{"$error":"#REF!"}},{"$f":" IF(#REF!=\"\", \"\",#REF!)","v":{"$error":"#REF!"}},{"$f":" IF(#REF!=\"\", \"\",#REF!)","v":{"$error":"#REF!"}},{"$f":" IF(#REF!=\"\", \"\",#REF!)","v":{"$error":"#REF!"}},{"$f":"IF(AQ13=\"\", \"\", IF($L13=\"男\", VLOOKUP(AQ13, データ!$B$2:$C$101, 2, FALSE), IF($L13=\"女\", VLOOKUP(AQ13, データ!$F$2:$H$101, 2, FALSE), \"\")))","v":{"$error":"#REF!"}},{"$f":"IF(A13=\"\",\"\", IF(#REF!=\"\", \"\",#REF!))","v":{"$error":"#REF!"}},{"$f":" IF(#REF!=\"\", \"\",#REF!)","v":{"$error":"#REF!"}},{"$f":" IF(#REF!=\"\", \"\",#REF!)","v":{"$error":"#REF!"}},{"$f":" IF(#REF!=\"\", \"\",#REF!)","v":{"$error":"#REF!"}},{"$f":" IF(#REF!=\"\", \"\",#REF!)","v":{"$error":"#REF!"}},{"$f":"IF(AW13=\"\", \"\", IF($L13=\"男\", VLOOKUP(AW13, データ!$B$2:$C$101, 2, FALSE), IF($L13=\"女\", VLOOKUP(AW13, データ!$F$2:$H$101, 2, FALSE), \"\")))","v":{"$error":"#REF!"}},{"$f":"IF(A13=\"\",\"\", IF(#REF!=\"\", \"\",#REF!))","v":{"$error":"#REF!"}},{"$f":" IF(#REF!=\"\", \"\",#REF!)","v":{"$error":"#REF!"}},{"$f":" IF(#REF!=\"\", \"\",#REF!)","v":{"$error":"#REF!"}},{"$f":" IF(#REF!=\"\", \"\",#REF!)","v":{"$error":"#REF!"}},{"$f":" IF(#REF!=\"\", \"\",#REF!)","v":{"$error":"#REF!"}},{"$error":"#REF!"}]
[{"$f":"#REF!","v":{"$error":"#REF!"}},{"$f":" IF(#REF!=\"\", \"\",#REF!)","v":{"$error":"#REF!"}},{"$f":" IF(#REF!=\"\", \"\",#REF!)","v":{"$error":"#REF!"}},{"$f":" IF(#REF!=\"\", \"\",#REF!)","v":{"$error":"#REF!"}},{"$error":"#REF!"},{"$error":"#REF!"},{"$error":"#REF!"},{"$error":"#REF!"},{"$f":" IF(#REF!=\"\", \"\",#REF!)","v":{"$error":"#REF!"}},{"$f":" IF(#REF!=\"\", \"\",#REF!)","v":{"$error":"#REF!"}},{"$f":" IF(#REF!=\"\", \"\",#REF!)","v":{"$error":"#REF!"}},{"$f":" IF(#REF!=\"\", \"\",#REF!)","v":{"$error":"#REF!"}},{"$f":" IF(#REF!=\"\", \"\",#REF!)","v":{"$error":"#REF!"}},{"$f":" IF(#REF!=\"\", \"\",#REF!)","v":{"$error":"#REF!"}},{"$f":" IF(#REF!=\"\", \"\",#REF!)","v":{"$error":"#REF!"}},{"$f":" IF(#REF!=\"\", \"\",#REF!)","v":{"$error":"#REF!"}},{"$f":"IF(A14=\"\",\"\",#REF!)","v":{"$error":"#REF!"}},{"$f":" IF(Q14=\"\", \"\",#REF!)","v":{"$error":"#REF!"}},{"$f":" IF(Q14=\"\", \"\",#REF!)","v":{"$error":"#REF!"}},{"$f":" IF(Q14=\"\", \"\",#REF!)","v":{"$error":"#REF!"}},{"$f":" IF(Q14=\"\", \"\",#REF!)","v":{"$error":"#REF!"}},{"$f":" IF(#REF!=\"\", \"\",#REF!)","v":{"$error":"#REF!"}},{"$f":" IF(#REF!=\"\", \"\",#REF!)","v":{"$error":"#REF!"}},{"$f":"IF(Y14=\"\", \"\", IF($L14=\"男\", VLOOKUP(Y14, データ!$B$2:$C$101, 2, FALSE), IF($L14=\"女\", VLOOKUP(Y14, データ!$F$2:$H$101, 2, FALSE), \"\")))","v":{"$error":"#REF!"}},{"$f":"IF(A14=\"\",\"\", IF(#REF!=\"\", \"\",#REF!))","v":{"$error":"#REF!"}},{"$f":" IF(#REF!=\"\", \"\",#REF!)","v":{"$error":"#REF!"}},{"$f":" IF(#REF!=\"\", \"\",#REF!)","v":{"$error":"#REF!"}},{"$f":" IF(#REF!=\"\", \"\",#REF!)","v":{"$error":"#REF!"}},{"$f":" IF(#REF!=\"\", \"\",#REF!)","v":{"$error":"#REF!"}},{"$f":"IF(AE14=\"\", \"\", IF($L14=\"男\", VLOOKUP(AE14, データ!$B$2:$C$101, 2, FALSE), IF($L14=\"女\", VLOOKUP(AE14, データ!$F$2:$H$101, 2, FALSE), \"\")))","v":{"$error":"#REF!"}},{"$f":"IF(A14=\"\",\"\", IF(#REF!=\"\", \"\",#REF!))","v":{"$error":"#REF!"}},{"$f":" IF(#REF!=\"\", \"\",#REF!)","v":{"$error":"#REF!"}},{"$f":" IF(#REF!=\"\", \"\",#REF!)","v":{"$error":"#REF!"}},{"$f":" IF(#REF!=\"\", \"\",#REF!)","v":{"$error":"#REF!"}},{"$f":" IF(#REF!=\"\", \"\",#REF!)","v":{"$error":"#REF!"}},{"$f":"IF(AK14=\"\", \"\", IF($L14=\"男\", VLOOKUP(AK14, データ!$B$2:$C$101, 2, FALSE), IF($L14=\"女\", VLOOKUP(AK14, データ!$F$2:$H$101, 2, FALSE), \"\")))","v":{"$error":"#REF!"}},{"$f":"IF(A14=\"\",\"\", IF(#REF!=\"\", \"\",#REF!))","v":{"$error":"#REF!"}},{"$f":" IF(#REF!=\"\", \"\",#REF!)","v":{"$error":"#REF!"}},{"$f":" IF(#REF!=\"\", \"\",#REF!)","v":{"$error":"#REF!"}},{"$f":" IF(#REF!=\"\", \"\",#REF!)","v":{"$error":"#REF!"}},{"$f":" IF(#REF!=\"\", \"\",#REF!)","v":{"$error":"#REF!"}},{"$f":"IF(AQ14=\"\", \"\", IF($L14=\"男\", VLOOKUP(AQ14, データ!$B$2:$C$101, 2, FALSE), IF($L14=\"女\", VLOOKUP(AQ14, データ!$F$2:$H$101, 2, FALSE), \"\")))","v":{"$error":"#REF!"}},{"$f":"IF(A14=\"\",\"\", IF(#REF!=\"\", \"\",#REF!))","v":{"$error":"#REF!"}},{"$f":" IF(#REF!=\"\", \"\",#REF!)","v":{"$error":"#REF!"}},{"$f":" IF(#REF!=\"\", \"\",#REF!)","v":{"$error":"#REF!"}},{"$f":" IF(#REF!=\"\", \"\",#REF!)","v":{"$error":"#REF!"}},{"$f":" IF(#REF!=\"\", \"\",#REF!)","v":{"$error":"#REF!"}},{"$f":"IF(AW14=\"\", \"\", IF($L14=\"男\", VLOOKUP(AW14, データ!$B$2:$C$101, 2, FALSE), IF($L14=\"女\", VLOOKUP(AW14, データ!$F$2:$H$101, 2, FALSE), \"\")))","v":{"$error":"#REF!"}},{"$f":"IF(A14=\"\",\"\", IF(#REF!=\"\", \"\",#REF!))","v":{"$error":"#REF!"}},{"$f":" IF(#REF!=\"\", \"\",#REF!)","v":{"$error":"#REF!"}},{"$f":" IF(#REF!=\"\", \"\",#REF!)","v":{"$error":"#REF!"}},{"$f":" IF(#REF!=\"\", \"\",#REF!)","v":{"$error":"#REF!"}},{"$f":" IF(#REF!=\"\", \"\",#REF!)","v":{"$error":"#REF!"}},{"$error":"#REF!"}]
[{"$f":"#REF!","v":{"$error":"#REF!"}},{"$f":" IF(#REF!=\"\", \"\",#REF!)","v":{"$error":"#REF!"}},{"$f":" IF(#REF!=\"\", \"\",#REF!)","v":{"$error":"#REF!"}},{"$f":" IF(#REF!=\"\", \"\",#REF!)","v":{"$error":"#REF!"}},{"$error":"#REF!"},{"$error":"#REF!"},{"$error":"#REF!"},{"$error":"#REF!"},{"$f":" IF(#REF!=\"\", \"\",#REF!)","v":{"$error":"#REF!"}},{"$f":" IF(#REF!=\"\", \"\",#REF!)","v":{"$error":"#REF!"}},{"$f":" IF(#REF!=\"\", \"\",#REF!)","v":{"$error":"#REF!"}},{"$f":" IF(#REF!=\"\", \"\",#REF!)","v":{"$error":"#REF!"}},{"$f":" IF(#REF!=\"\", \"\",#REF!)","v":{"$error":"#REF!"}},{"$f":" IF(#REF!=\"\", \"\",#REF!)","v":{"$error":"#REF!"}},{"$f":" IF(#REF!=\"\", \"\",#REF!)","v":{"$error":"#REF!"}},{"$f":" IF(#REF!=\"\", \"\",#REF!)","v":{"$error":"#REF!"}},{"$f":"IF(A15=\"\",\"\",#REF!)","v":{"$error":"#REF!"}},{"$f":" IF(Q15=\"\", \"\",#REF!)","v":{"$error":"#REF!"}},{"$f":" IF(Q15=\"\", \"\",#REF!)","v":{"$error":"#REF!"}},{"$f":" IF(Q15=\"\", \"\",#REF!)","v":{"$error":"#REF!"}},{"$f":" IF(Q15=\"\", \"\",#REF!)","v":{"$error":"#REF!"}},{"$f":" IF(#REF!=\"\", \"\",#REF!)","v":{"$error":"#REF!"}},{"$f":" IF(#REF!=\"\", \"\",#REF!)","v":{"$error":"#REF!"}},{"$f":"IF(Y15=\"\", \"\", IF($L15=\"男\", VLOOKUP(Y15, データ!$B$2:$C$101, 2, FALSE), IF($L15=\"女\", VLOOKUP(Y15, データ!$F$2:$H$101, 2, FALSE), \"\")))","v":{"$error":"#REF!"}},{"$f":"IF(A15=\"\",\"\", IF(#REF!=\"\", \"\",#REF!))","v":{"$error":"#REF!"}},{"$f":" IF(#REF!=\"\", \"\",#REF!)","v":{"$error":"#REF!"}},{"$f":" IF(#REF!=\"\", \"\",#REF!)","v":{"$error":"#REF!"}},{"$f":" IF(#REF!=\"\", \"\",#REF!)","v":{"$error":"#REF!"}},{"$f":" IF(#REF!=\"\", \"\",#REF!)","v":{"$error":"#REF!"}},{"$f":"IF(AE15=\"\", \"\", IF($L15=\"男\", VLOOKUP(AE15, データ!$B$2:$C$101, 2, FALSE), IF($L15=\"女\", VLOOKUP(AE15, データ!$F$2:$H$101, 2, FALSE), \"\")))","v":{"$error":"#REF!"}},{"$f":"IF(A15=\"\",\"\", IF(#REF!=\"\", \"\",#REF!))","v":{"$error":"#REF!"}},{"$f":" IF(#REF!=\"\", \"\",#REF!)","v":{"$error":"#REF!"}},{"$f":" IF(#REF!=\"\", \"\",#REF!)","v":{"$error":"#REF!"}},{"$f":" IF(#REF!=\"\", \"\",#REF!)","v":{"$error":"#REF!"}},{"$f":" IF(#REF!=\"\", \"\",#REF!)","v":{"$error":"#REF!"}},{"$f":"IF(AK15=\"\", \"\", IF($L15=\"男\", VLOOKUP(AK15, データ!$B$2:$C$101, 2, FALSE), IF($L15=\"女\", VLOOKUP(AK15, データ!$F$2:$H$101, 2, FALSE), \"\")))","v":{"$error":"#REF!"}},{"$f":"IF(A15=\"\",\"\", IF(#REF!=\"\", \"\",#REF!))","v":{"$error":"#REF!"}},{"$f":" IF(#REF!=\"\", \"\",#REF!)","v":{"$error":"#REF!"}},{"$f":" IF(#REF!=\"\", \"\",#REF!)","v":{"$error":"#REF!"}},{"$f":" IF(#REF!=\"\", \"\",#REF!)","v":{"$error":"#REF!"}},{"$f":" IF(#REF!=\"\", \"\",#REF!)","v":{"$error":"#REF!"}},{"$f":"IF(AQ15=\"\", \"\", IF($L15=\"男\", VLOOKUP(AQ15, データ!$B$2:$C$101, 2, FALSE), IF($L15=\"女\", VLOOKUP(AQ15, データ!$F$2:$H$101, 2, FALSE), \"\")))","v":{"$error":"#REF!"}},{"$f":"IF(A15=\"\",\"\", IF(#REF!=\"\", \"\",#REF!))","v":{"$error":"#REF!"}},{"$f":" IF(#REF!=\"\", \"\",#REF!)","v":{"$error":"#REF!"}},{"$f":" IF(#REF!=\"\", \"\",#REF!)","v":{"$error":"#REF!"}},{"$f":" IF(#REF!=\"\", \"\",#REF!)","v":{"$error":"#REF!"}},{"$f":" IF(#REF!=\"\", \"\",#REF!)","v":{"$error":"#REF!"}},{"$f":"IF(AW15=\"\", \"\", IF($L15=\"男\", VLOOKUP(AW15, データ!$B$2:$C$101, 2, FALSE), IF($L15=\"女\", VLOOKUP(AW15, データ!$F$2:$H$101, 2, FALSE), \"\")))","v":{"$error":"#REF!"}},{"$f":"IF(A15=\"\",\"\", IF(#REF!=\"\", \"\",#REF!))","v":{"$error":"#REF!"}},{"$f":" IF(#REF!=\"\", \"\",#REF!)","v":{"$error":"#REF!"}},{"$f":" IF(#REF!=\"\", \"\",#REF!)","v":{"$error":"#REF!"}},{"$f":" IF(#REF!=\"\", \"\",#REF!)","v":{"$error":"#REF!"}},{"$f":" IF(#REF!=\"\", \"\",#REF!)","v":{"$error":"#REF!"}},{"$error":"#REF!"}]
[{"$f":"#REF!","v":{"$error":"#REF!"}},{"$f":" IF(#REF!=\"\", \"\",#REF!)","v":{"$error":"#REF!"}},{"$f":" IF(#REF!=\"\", \"\",#REF!)","v":{"$error":"#REF!"}},{"$f":" IF(#REF!=\"\", \"\",#REF!)","v":{"$error":"#REF!"}},{"$error":"#REF!"},{"$error":"#REF!"},{"$error":"#REF!"},{"$error":"#REF!"},{"$f":" IF(#REF!=\"\", \"\",#REF!)","v":{"$error":"#REF!"}},{"$f":" IF(#REF!=\"\", \"\",#REF!)","v":{"$error":"#REF!"}},{"$f":" IF(#REF!=\"\", \"\",#REF!)","v":{"$error":"#REF!"}},{"$f":" IF(#REF!=\"\", \"\",#REF!)","v":{"$error":"#REF!"}},{"$f":" IF(#REF!=\"\", \"\",#REF!)","v":{"$error":"#REF!"}},{"$f":" IF(#REF!=\"\", \"\",#REF!)","v":{"$error":"#REF!"}},{"$f":" IF(#REF!=\"\", \"\",#REF!)","v":{"$error":"#REF!"}},{"$f":" IF(#REF!=\"\", \"\",#REF!)","v":{"$error":"#REF!"}},{"$f":"IF(A16=\"\",\"\",#REF!)","v":{"$error":"#REF!"}},{"$f":" IF(Q16=\"\", \"\",#REF!)","v":{"$error":"#REF!"}},{"$f":" IF(Q16=\"\", \"\",#REF!)","v":{"$error":"#REF!"}},{"$f":" IF(Q16=\"\", \"\",#REF!)","v":{"$error":"#REF!"}},{"$f":" IF(Q16=\"\", \"\",#REF!)","v":{"$error":"#REF!"}},{"$f":" IF(#REF!=\"\", \"\",#REF!)","v":{"$error":"#REF!"}},{"$f":" IF(#REF!=\"\", \"\",#REF!)","v":{"$error":"#REF!"}},{"$f":"IF(Y16=\"\", \"\", IF($L16=\"男\", VLOOKUP(Y16, データ!$B$2:$C$101, 2, FALSE), IF($L16=\"女\", VLOOKUP(Y16, データ!$F$2:$H$101, 2, FALSE), \"\")))","v":{"$error":"#REF!"}},{"$f":"IF(A16=\"\",\"\", IF(#REF!=\"\", \"\",#REF!))","v":{"$error":"#REF!"}},{"$f":" IF(#REF!=\"\", \"\",#REF!)","v":{"$error":"#REF!"}},{"$f":" IF(#REF!=\"\", \"\",#REF!)","v":{"$error":"#REF!"}},{"$f":" IF(#REF!=\"\", \"\",#REF!)","v":{"$error":"#REF!"}},{"$f":" IF(#REF!=\"\", \"\",#REF!)","v":{"$error":"#REF!"}},{"$f":"IF(AE16=\"\", \"\", IF($L16=\"男\", VLOOKUP(AE16, データ!$B$2:$C$101, 2, FALSE), IF($L16=\"女\", VLOOKUP(AE16, データ!$F$2:$H$101, 2, FALSE), \"\")))","v":{"$error":"#REF!"}},{"$f":"IF(A16=\"\",\"\", IF(#REF!=\"\", \"\",#REF!))","v":{"$error":"#REF!"}},{"$f":" IF(#REF!=\"\", \"\",#REF!)","v":{"$error":"#REF!"}},{"$f":" IF(#REF!=\"\", \"\",#REF!)","v":{"$error":"#REF!"}},{"$f":" IF(#REF!=\"\", \"\",#REF!)","v":{"$error":"#REF!"}},{"$f":" IF(#REF!=\"\", \"\",#REF!)","v":{"$error":"#REF!"}},{"$f":"IF(AK16=\"\", \"\", IF($L16=\"男\", VLOOKUP(AK16, データ!$B$2:$C$101, 2, FALSE), IF($L16=\"女\", VLOOKUP(AK16, データ!$F$2:$H$101, 2, FALSE), \"\")))","v":{"$error":"#REF!"}},{"$f":"IF(A16=\"\",\"\", IF(#REF!=\"\", \"\",#REF!))","v":{"$error":"#REF!"}},{"$f":" IF(#REF!=\"\", \"\",#REF!)","v":{"$error":"#REF!"}},{"$f":" IF(#REF!=\"\", \"\",#REF!)","v":{"$error":"#REF!"}},{"$f":" IF(#REF!=\"\", \"\",#REF!)","v":{"$error":"#REF!"}},{"$f":" IF(#REF!=\"\", \"\",#REF!)","v":{"$error":"#REF!"}},{"$f":"IF(AQ16=\"\", \"\", IF($L16=\"男\", VLOOKUP(AQ16, データ!$B$2:$C$101, 2, FALSE), IF($L16=\"女\", VLOOKUP(AQ16, データ!$F$2:$H$101, 2, FALSE), \"\")))","v":{"$error":"#REF!"}},{"$f":"IF(A16=\"\",\"\", IF(#REF!=\"\", \"\",#REF!))","v":{"$error":"#REF!"}},{"$f":" IF(#REF!=\"\", \"\",#REF!)","v":{"$error":"#REF!"}},{"$f":" IF(#REF!=\"\", \"\",#REF!)","v":{"$error":"#REF!"}},{"$f":" IF(#REF!=\"\", \"\",#REF!)","v":{"$error":"#REF!"}},{"$f":" IF(#REF!=\"\", \"\",#REF!)","v":{"$error":"#REF!"}},{"$f":"IF(AW16=\"\", \"\", IF($L16=\"男\", VLOOKUP(AW16, データ!$B$2:$C$101, 2, FALSE), IF($L16=\"女\", VLOOKUP(AW16, データ!$F$2:$H$101, 2, FALSE), \"\")))","v":{"$error":"#REF!"}},{"$f":"IF(A16=\"\",\"\", IF(#REF!=\"\", \"\",#REF!))","v":{"$error":"#REF!"}},{"$f":" IF(#REF!=\"\", \"\",#REF!)","v":{"$error":"#REF!"}},{"$f":" IF(#REF!=\"\", \"\",#REF!)","v":{"$error":"#REF!"}},{"$f":" IF(#REF!=\"\", \"\",#REF!)","v":{"$error":"#REF!"}},{"$f":" IF(#REF!=\"\", \"\",#REF!)","v":{"$error":"#REF!"}},{"$error":"#REF!"}]
[{"$f":"#REF!","v":{"$error":"#REF!"}},{"$f":" IF(#REF!=\"\", \"\",#REF!)","v":{"$error":"#REF!"}},{"$f":" IF(#REF!=\"\", \"\",#REF!)","v":{"$error":"#REF!"}},{"$f":" IF(#REF!=\"\", \"\",#REF!)","v":{"$error":"#REF!"}},{"$error":"#REF!"},{"$error":"#REF!"},{"$error":"#REF!"},{"$error":"#REF!"},{"$f":" IF(#REF!=\"\", \"\",#REF!)","v":{"$error":"#REF!"}},{"$f":" IF(#REF!=\"\", \"\",#REF!)","v":{"$error":"#REF!"}},{"$f":" IF(#REF!=\"\", \"\",#REF!)","v":{"$error":"#REF!"}},{"$f":" IF(#REF!=\"\", \"\",#REF!)","v":{"$error":"#REF!"}},{"$f":" IF(#REF!=\"\", \"\",#REF!)","v":{"$error":"#REF!"}},{"$f":" IF(#REF!=\"\", \"\",#REF!)","v":{"$error":"#REF!"}},{"$f":" IF(#REF!=\"\", \"\",#REF!)","v":{"$error":"#REF!"}},{"$f":" IF(#REF!=\"\", \"\",#REF!)","v":{"$error":"#REF!"}},{"$f":"IF(A17=\"\",\"\",#REF!)","v":{"$error":"#REF!"}},{"$f":" IF(Q17=\"\", \"\",#REF!)","v":{"$error":"#REF!"}},{"$f":" IF(Q17=\"\", \"\",#REF!)","v":{"$error":"#REF!"}},{"$f":" IF(Q17=\"\", \"\",#REF!)","v":{"$error":"#REF!"}},{"$f":" IF(Q17=\"\", \"\",#REF!)","v":{"$error":"#REF!"}},{"$f":" IF(#REF!=\"\", \"\",#REF!)","v":{"$error":"#REF!"}},{"$f":" IF(#REF!=\"\", \"\",#REF!)","v":{"$error":"#REF!"}},{"$f":"IF(Y17=\"\", \"\", IF($L17=\"男\", VLOOKUP(Y17, データ!$B$2:$C$101, 2, FALSE), IF($L17=\"女\", VLOOKUP(Y17, データ!$F$2:$H$101, 2, FALSE), \"\")))","v":{"$error":"#REF!"}},{"$f":"IF(A17=\"\",\"\", IF(#REF!=\"\", \"\",#REF!))","v":{"$error":"#REF!"}},{"$f":" IF(#REF!=\"\", \"\",#REF!)","v":{"$error":"#REF!"}},{"$f":" IF(#REF!=\"\", \"\",#REF!)","v":{"$error":"#REF!"}},{"$f":" IF(#REF!=\"\", \"\",#REF!)","v":{"$error":"#REF!"}},{"$f":" IF(#REF!=\"\", \"\",#REF!)","v":{"$error":"#REF!"}},{"$f":"IF(AE17=\"\", \"\", IF($L17=\"男\", VLOOKUP(AE17, データ!$B$2:$C$101, 2, FALSE), IF($L17=\"女\", VLOOKUP(AE17, データ!$F$2:$H$101, 2, FALSE), \"\")))","v":{"$error":"#REF!"}},{"$f":"IF(A17=\"\",\"\", IF(#REF!=\"\", \"\",#REF!))","v":{"$error":"#REF!"}},{"$f":" IF(#REF!=\"\", \"\",#REF!)","v":{"$error":"#REF!"}},{"$f":" IF(#REF!=\"\", \"\",#REF!)","v":{"$error":"#REF!"}},{"$f":" IF(#REF!=\"\", \"\",#REF!)","v":{"$error":"#REF!"}},{"$f":" IF(#REF!=\"\", \"\",#REF!)","v":{"$error":"#REF!"}},{"$f":"IF(AK17=\"\", \"\", IF($L17=\"男\", VLOOKUP(AK17, データ!$B$2:$C$101, 2, FALSE), IF($L17=\"女\", VLOOKUP(AK17, データ!$F$2:$H$101, 2, FALSE), \"\")))","v":{"$error":"#REF!"}},{"$f":"IF(A17=\"\",\"\", IF(#REF!=\"\", \"\",#REF!))","v":{"$error":"#REF!"}},{"$f":" IF(#REF!=\"\", \"\",#REF!)","v":{"$error":"#REF!"}},{"$f":" IF(#REF!=\"\", \"\",#REF!)","v":{"$error":"#REF!"}},{"$f":" IF(#REF!=\"\", \"\",#REF!)","v":{"$error":"#REF!"}},{"$f":" IF(#REF!=\"\", \"\",#REF!)","v":{"$error":"#REF!"}},{"$f":"IF(AQ17=\"\", \"\", IF($L17=\"男\", VLOOKUP(AQ17, データ!$B$2:$C$101, 2, FALSE), IF($L17=\"女\", VLOOKUP(AQ17, データ!$F$2:$H$101, 2, FALSE), \"\")))","v":{"$error":"#REF!"}},{"$f":"IF(A17=\"\",\"\", IF(#REF!=\"\", \"\",#REF!))","v":{"$error":"#REF!"}},{"$f":" IF(#REF!=\"\", \"\",#REF!)","v":{"$error":"#REF!"}},{"$f":" IF(#REF!=\"\", \"\",#REF!)","v":{"$error":"#REF!"}},{"$f":" IF(#REF!=\"\", \"\",#REF!)","v":{"$error":"#REF!"}},{"$f":" IF(#REF!=\"\", \"\",#REF!)","v":{"$error":"#REF!"}},{"$f":"IF(AW17=\"\", \"\", IF($L17=\"男\", VLOOKUP(AW17, データ!$B$2:$C$101, 2, FALSE), IF($L17=\"女\", VLOOKUP(AW17, データ!$F$2:$H$101, 2, FALSE), \"\")))","v":{"$error":"#REF!"}},{"$f":"IF(A17=\"\",\"\", IF(#REF!=\"\", \"\",#REF!))","v":{"$error":"#REF!"}},{"$f":" IF(#REF!=\"\", \"\",#REF!)","v":{"$error":"#REF!"}},{"$f":" IF(#REF!=\"\", \"\",#REF!)","v":{"$error":"#REF!"}},{"$f":" IF(#REF!=\"\", \"\",#REF!)","v":{"$error":"#REF!"}},{"$f":" IF(#REF!=\"\", \"\",#REF!)","v":{"$error":"#REF!"}},{"$error":"#REF!"}]
[{"$f":"#REF!","v":{"$error":"#REF!"}},{"$f":" IF(#REF!=\"\", \"\",#REF!)","v":{"$error":"#REF!"}},{"$f":" IF(#REF!=\"\", \"\",#REF!)","v":{"$error":"#REF!"}},{"$f":" IF(#REF!=\"\", \"\",#REF!)","v":{"$error":"#REF!"}},{"$error":"#REF!"},{"$error":"#REF!"},{"$error":"#REF!"},{"$error":"#REF!"},{"$f":" IF(#REF!=\"\", \"\",#REF!)","v":{"$error":"#REF!"}},{"$f":" IF(#REF!=\"\", \"\",#REF!)","v":{"$error":"#REF!"}},{"$f":" IF(#REF!=\"\", \"\",#REF!)","v":{"$error":"#REF!"}},{"$f":" IF(#REF!=\"\", \"\",#REF!)","v":{"$error":"#REF!"}},{"$f":" IF(#REF!=\"\", \"\",#REF!)","v":{"$error":"#REF!"}},{"$f":" IF(#REF!=\"\", \"\",#REF!)","v":{"$error":"#REF!"}},{"$f":" IF(#REF!=\"\", \"\",#REF!)","v":{"$error":"#REF!"}},{"$f":" IF(#REF!=\"\", \"\",#REF!)","v":{"$error":"#REF!"}},{"$f":"IF(A18=\"\",\"\",#REF!)","v":{"$error":"#REF!"}},{"$f":" IF(Q18=\"\", \"\",#REF!)","v":{"$error":"#REF!"}},{"$f":" IF(Q18=\"\", \"\",#REF!)","v":{"$error":"#REF!"}},{"$f":" IF(Q18=\"\", \"\",#REF!)","v":{"$error":"#REF!"}},{"$f":" IF(Q18=\"\", \"\",#REF!)","v":{"$error":"#REF!"}},{"$f":" IF(#REF!=\"\", \"\",#REF!)","v":{"$error":"#REF!"}},{"$f":" IF(#REF!=\"\", \"\",#REF!)","v":{"$error":"#REF!"}},{"$f":"IF(Y18=\"\", \"\", IF($L18=\"男\", VLOOKUP(Y18, データ!$B$2:$C$101, 2, FALSE), IF($L18=\"女\", VLOOKUP(Y18, データ!$F$2:$H$101, 2, FALSE), \"\")))","v":{"$error":"#REF!"}},{"$f":"IF(A18=\"\",\"\", IF(#REF!=\"\", \"\",#REF!))","v":{"$error":"#REF!"}},{"$f":" IF(#REF!=\"\", \"\",#REF!)","v":{"$error":"#REF!"}},{"$f":" IF(#REF!=\"\", \"\",#REF!)","v":{"$error":"#REF!"}},{"$f":" IF(#REF!=\"\", \"\",#REF!)","v":{"$error":"#REF!"}},{"$f":" IF(#REF!=\"\", \"\",#REF!)","v":{"$error":"#REF!"}},{"$f":"IF(AE18=\"\", \"\", IF($L18=\"男\", VLOOKUP(AE18, データ!$B$2:$C$101, 2, FALSE), IF($L18=\"女\", VLOOKUP(AE18, データ!$F$2:$H$101, 2, FALSE), \"\")))","v":{"$error":"#REF!"}},{"$f":"IF(A18=\"\",\"\", IF(#REF!=\"\", \"\",#REF!))","v":{"$error":"#REF!"}},{"$f":" IF(#REF!=\"\", \"\",#REF!)","v":{"$error":"#REF!"}},{"$f":" IF(#REF!=\"\", \"\",#REF!)","v":{"$error":"#REF!"}},{"$f":" IF(#REF!=\"\", \"\",#REF!)","v":{"$error":"#REF!"}},{"$f":" IF(#REF!=\"\", \"\",#REF!)","v":{"$error":"#REF!"}},{"$f":"IF(AK18=\"\", \"\", IF($L18=\"男\", VLOOKUP(AK18, データ!$B$2:$C$101, 2, FALSE), IF($L18=\"女\", VLOOKUP(AK18, データ!$F$2:$H$101, 2, FALSE), \"\")))","v":{"$error":"#REF!"}},{"$f":"IF(A18=\"\",\"\", IF(#REF!=\"\", \"\",#REF!))","v":{"$error":"#REF!"}},{"$f":" IF(#REF!=\"\", \"\",#REF!)","v":{"$error":"#REF!"}},{"$f":" IF(#REF!=\"\", \"\",#REF!)","v":{"$error":"#REF!"}},{"$f":" IF(#REF!=\"\", \"\",#REF!)","v":{"$error":"#REF!"}},{"$f":" IF(#REF!=\"\", \"\",#REF!)","v":{"$error":"#REF!"}},{"$f":"IF(AQ18=\"\", \"\", IF($L18=\"男\", VLOOKUP(AQ18, データ!$B$2:$C$101, 2, FALSE), IF($L18=\"女\", VLOOKUP(AQ18, データ!$F$2:$H$101, 2, FALSE), \"\")))","v":{"$error":"#REF!"}},{"$f":"IF(A18=\"\",\"\", IF(#REF!=\"\", \"\",#REF!))","v":{"$error":"#REF!"}},{"$f":" IF(#REF!=\"\", \"\",#REF!)","v":{"$error":"#REF!"}},{"$f":" IF(#REF!=\"\", \"\",#REF!)","v":{"$error":"#REF!"}},{"$f":" IF(#REF!=\"\", \"\",#REF!)","v":{"$error":"#REF!"}},{"$f":" IF(#REF!=\"\", \"\",#REF!)","v":{"$error":"#REF!"}},{"$f":"IF(AW18=\"\", \"\", IF($L18=\"男\", VLOOKUP(AW18, データ!$B$2:$C$101, 2, FALSE), IF($L18=\"女\", VLOOKUP(AW18, データ!$F$2:$H$101, 2, FALSE), \"\")))","v":{"$error":"#REF!"}},{"$f":"IF(A18=\"\",\"\", IF(#REF!=\"\", \"\",#REF!))","v":{"$error":"#REF!"}},{"$f":" IF(#REF!=\"\", \"\",#REF!)","v":{"$error":"#REF!"}},{"$f":" IF(#REF!=\"\", \"\",#REF!)","v":{"$error":"#REF!"}},{"$f":" IF(#REF!=\"\", \"\",#REF!)","v":{"$error":"#REF!"}},{"$f":" IF(#REF!=\"\", \"\",#REF!)","v":{"$error":"#REF!"}},{"$error":"#REF!"}]
[{"$f":"#REF!","v":{"$error":"#REF!"}},{"$f":" IF(#REF!=\"\", \"\",#REF!)","v":{"$error":"#REF!"}},{"$f":" IF(#REF!=\"\", \"\",#REF!)","v":{"$error":"#REF!"}},{"$f":" IF(#REF!=\"\", \"\",#REF!)","v":{"$error":"#REF!"}},{"$error":"#REF!"},{"$error":"#REF!"},{"$error":"#REF!"},{"$error":"#REF!"},{"$f":" IF(#REF!=\"\", \"\",#REF!)","v":{"$error":"#REF!"}},{"$f":" IF(#REF!=\"\", \"\",#REF!)","v":{"$error":"#REF!"}},{"$f":" IF(#REF!=\"\", \"\",#REF!)","v":{"$error":"#REF!"}},{"$f":" IF(#REF!=\"\", \"\",#REF!)","v":{"$error":"#REF!"}},{"$f":" IF(#REF!=\"\", \"\",#REF!)","v":{"$error":"#REF!"}},{"$f":" IF(#REF!=\"\", \"\",#REF!)","v":{"$error":"#REF!"}},{"$f":" IF(#REF!=\"\", \"\",#REF!)","v":{"$error":"#REF!"}},{"$f":" IF(#REF!=\"\", \"\",#REF!)","v":{"$error":"#REF!"}},{"$f":"IF(A19=\"\",\"\",#REF!)","v":{"$error":"#REF!"}},{"$f":" IF(Q19=\"\", \"\",#REF!)","v":{"$error":"#REF!"}},{"$f":" IF(Q19=\"\", \"\",#REF!)","v":{"$error":"#REF!"}},{"$f":" IF(Q19=\"\", \"\",#REF!)","v":{"$error":"#REF!"}},{"$f":" IF(Q19=\"\", \"\",#REF!)","v":{"$error":"#REF!"}},{"$f":" IF(#REF!=\"\", \"\",#REF!)","v":{"$error":"#REF!"}},{"$f":" IF(#REF!=\"\", \"\",#REF!)","v":{"$error":"#REF!"}},{"$f":"IF(Y19=\"\", \"\", IF($L19=\"男\", VLOOKUP(Y19, データ!$B$2:$C$101, 2, FALSE), IF($L19=\"女\", VLOOKUP(Y19, データ!$F$2:$H$101, 2, FALSE), \"\")))","v":{"$error":"#REF!"}},{"$f":"IF(A19=\"\",\"\", IF(#REF!=\"\", \"\",#REF!))","v":{"$error":"#REF!"}},{"$f":" IF(#REF!=\"\", \"\",#REF!)","v":{"$error":"#REF!"}},{"$f":" IF(#REF!=\"\", \"\",#REF!)","v":{"$error":"#REF!"}},{"$f":" IF(#REF!=\"\", \"\",#REF!)","v":{"$error":"#REF!"}},{"$f":" IF(#REF!=\"\", \"\",#REF!)","v":{"$error":"#REF!"}},{"$f":"IF(AE19=\"\", \"\", IF($L19=\"男\", VLOOKUP(AE19, データ!$B$2:$C$101, 2, FALSE), IF($L19=\"女\", VLOOKUP(AE19, データ!$F$2:$H$101, 2, FALSE), \"\")))","v":{"$error":"#REF!"}},{"$f":"IF(A19=\"\",\"\", IF(#REF!=\"\", \"\",#REF!))","v":{"$error":"#REF!"}},{"$f":" IF(#REF!=\"\", \"\",#REF!)","v":{"$error":"#REF!"}},{"$f":" IF(#REF!=\"\", \"\",#REF!)","v":{"$error":"#REF!"}},{"$f":" IF(#REF!=\"\", \"\",#REF!)","v":{"$error":"#REF!"}},{"$f":" IF(#REF!=\"\", \"\",#REF!)","v":{"$error":"#REF!"}},{"$f":"IF(AK19=\"\", \"\", IF($L19=\"男\", VLOOKUP(AK19, データ!$B$2:$C$101, 2, FALSE), IF($L19=\"女\", VLOOKUP(AK19, データ!$F$2:$H$101, 2, FALSE), \"\")))","v":{"$error":"#REF!"}},{"$f":"IF(A19=\"\",\"\", IF(#REF!=\"\", \"\",#REF!))","v":{"$error":"#REF!"}},{"$f":" IF(#REF!=\"\", \"\",#REF!)","v":{"$error":"#REF!"}},{"$f":" IF(#REF!=\"\", \"\",#REF!)","v":{"$error":"#REF!"}},{"$f":" IF(#REF!=\"\", \"\",#REF!)","v":{"$error":"#REF!"}},{"$f":" IF(#REF!=\"\", \"\",#REF!)","v":{"$error":"#REF!"}},{"$f":"IF(AQ19=\"\", \"\", IF($L19=\"男\", VLOOKUP(AQ19, データ!$B$2:$C$101, 2, FALSE), IF($L19=\"女\", VLOOKUP(AQ19, データ!$F$2:$H$101, 2, FALSE), \"\")))","v":{"$error":"#REF!"}},{"$f":"IF(A19=\"\",\"\", IF(#REF!=\"\", \"\",#REF!))","v":{"$error":"#REF!"}},{"$f":" IF(#REF!=\"\", \"\",#REF!)","v":{"$error":"#REF!"}},{"$f":" IF(#REF!=\"\", \"\",#REF!)","v":{"$error":"#REF!"}},{"$f":" IF(#REF!=\"\", \"\",#REF!)","v":{"$error":"#REF!"}},{"$f":" IF(#REF!=\"\", \"\",#REF!)","v":{"$error":"#REF!"}},{"$f":"IF(AW19=\"\", \"\", IF($L19=\"男\", VLOOKUP(AW19, データ!$B$2:$C$101, 2, FALSE), IF($L19=\"女\", VLOOKUP(AW19, データ!$F$2:$H$101, 2, FALSE), \"\")))","v":{"$error":"#REF!"}},{"$f":"IF(A19=\"\",\"\", IF(#REF!=\"\", \"\",#REF!))","v":{"$error":"#REF!"}},{"$f":" IF(#REF!=\"\", \"\",#REF!)","v":{"$error":"#REF!"}},{"$f":" IF(#REF!=\"\", \"\",#REF!)","v":{"$error":"#REF!"}},{"$f":" IF(#REF!=\"\", \"\",#REF!)","v":{"$error":"#REF!"}},{"$f":" IF(#REF!=\"\", \"\",#REF!)","v":{"$error":"#REF!"}},{"$error":"#REF!"}]
[{"$f":"#REF!","v":{"$error":"#REF!"}},{"$f":" IF(#REF!=\"\", \"\",#REF!)","v":{"$error":"#REF!"}},{"$f":" IF(#REF!=\"\", \"\",#REF!)","v":{"$error":"#REF!"}},{"$f":" IF(#REF!=\"\", \"\",#REF!)","v":{"$error":"#REF!"}},{"$error":"#REF!"},{"$error":"#REF!"},{"$error":"#REF!"},{"$error":"#REF!"},{"$f":" IF(#REF!=\"\", \"\",#REF!)","v":{"$error":"#REF!"}},{"$f":" IF(#REF!=\"\", \"\",#REF!)","v":{"$error":"#REF!"}},{"$f":" IF(#REF!=\"\", \"\",#REF!)","v":{"$error":"#REF!"}},{"$f":" IF(#REF!=\"\", \"\",#REF!)","v":{"$error":"#REF!"}},{"$f":" IF(#REF!=\"\", \"\",#REF!)","v":{"$error":"#REF!"}},{"$f":" IF(#REF!=\"\", \"\",#REF!)","v":{"$error":"#REF!"}},{"$f":" IF(#REF!=\"\", \"\",#REF!)","v":{"$error":"#REF!"}},{"$f":" IF(#REF!=\"\", \"\",#REF!)","v":{"$error":"#REF!"}},{"$f":"IF(A20=\"\",\"\",#REF!)","v":{"$error":"#REF!"}},{"$f":" IF(Q20=\"\", \"\",#REF!)","v":{"$error":"#REF!"}},{"$f":" IF(Q20=\"\", \"\",#REF!)","v":{"$error":"#REF!"}},{"$f":" IF(Q20=\"\", \"\",#REF!)","v":{"$error":"#REF!"}},{"$f":" IF(Q20=\"\", \"\",#REF!)","v":{"$error":"#REF!"}},{"$f":" IF(#REF!=\"\", \"\",#REF!)","v":{"$error":"#REF!"}},{"$f":" IF(#REF!=\"\", \"\",#REF!)","v":{"$error":"#REF!"}},{"$f":"IF(Y20=\"\", \"\", IF($L20=\"男\", VLOOKUP(Y20, データ!$B$2:$C$101, 2, FALSE), IF($L20=\"女\", VLOOKUP(Y20, データ!$F$2:$H$101, 2, FALSE), \"\")))","v":{"$error":"#REF!"}},{"$f":"IF(A20=\"\",\"\", IF(#REF!=\"\", \"\",#REF!))","v":{"$error":"#REF!"}},{"$f":" IF(#REF!=\"\", \"\",#REF!)","v":{"$error":"#REF!"}},{"$f":" IF(#REF!=\"\", \"\",#REF!)","v":{"$error":"#REF!"}},{"$f":" IF(#REF!=\"\", \"\",#REF!)","v":{"$error":"#REF!"}},{"$f":" IF(#REF!=\"\", \"\",#REF!)","v":{"$error":"#REF!"}},{"$f":"IF(AE20=\"\", \"\", IF($L20=\"男\", VLOOKUP(AE20, データ!$B$2:$C$101, 2, FALSE), IF($L20=\"女\", VLOOKUP(AE20, データ!$F$2:$H$101, 2, FALSE), \"\")))","v":{"$error":"#REF!"}},{"$f":"IF(A20=\"\",\"\", IF(#REF!=\"\", \"\",#REF!))","v":{"$error":"#REF!"}},{"$f":" IF(#REF!=\"\", \"\",#REF!)","v":{"$error":"#REF!"}},{"$f":" IF(#REF!=\"\", \"\",#REF!)","v":{"$error":"#REF!"}},{"$f":" IF(#REF!=\"\", \"\",#REF!)","v":{"$error":"#REF!"}},{"$f":" IF(#REF!=\"\", \"\",#REF!)","v":{"$error":"#REF!"}},{"$f":"IF(AK20=\"\", \"\", IF($L20=\"男\", VLOOKUP(AK20, データ!$B$2:$C$101, 2, FALSE), IF($L20=\"女\", VLOOKUP(AK20, データ!$F$2:$H$101, 2, FALSE), \"\")))","v":{"$error":"#REF!"}},{"$f":"IF(A20=\"\",\"\", IF(#REF!=\"\", \"\",#REF!))","v":{"$error":"#REF!"}},{"$f":" IF(#REF!=\"\", \"\",#REF!)","v":{"$error":"#REF!"}},{"$f":" IF(#REF!=\"\", \"\",#REF!)","v":{"$error":"#REF!"}},{"$f":" IF(#REF!=\"\", \"\",#REF!)","v":{"$error":"#REF!"}},{"$f":" IF(#REF!=\"\", \"\",#REF!)","v":{"$error":"#REF!"}},{"$f":"IF(AQ20=\"\", \"\", IF($L20=\"男\", VLOOKUP(AQ20, データ!$B$2:$C$101, 2, FALSE), IF($L20=\"女\", VLOOKUP(AQ20, データ!$F$2:$H$101, 2, FALSE), \"\")))","v":{"$error":"#REF!"}},{"$f":"IF(A20=\"\",\"\", IF(#REF!=\"\", \"\",#REF!))","v":{"$error":"#REF!"}},{"$f":" IF(#REF!=\"\", \"\",#REF!)","v":{"$error":"#REF!"}},{"$f":" IF(#REF!=\"\", \"\",#REF!)","v":{"$error":"#REF!"}},{"$f":" IF(#REF!=\"\", \"\",#REF!)","v":{"$error":"#REF!"}},{"$f":" IF(#REF!=\"\", \"\",#REF!)","v":{"$error":"#REF!"}},{"$f":"IF(AW20=\"\", \"\", IF($L20=\"男\", VLOOKUP(AW20, データ!$B$2:$C$101, 2, FALSE), IF($L20=\"女\", VLOOKUP(AW20, データ!$F$2:$H$101, 2, FALSE), \"\")))","v":{"$error":"#REF!"}},{"$f":"IF(A20=\"\",\"\", IF(#REF!=\"\", \"\",#REF!))","v":{"$error":"#REF!"}},{"$f":" IF(#REF!=\"\", \"\",#REF!)","v":{"$error":"#REF!"}},{"$f":" IF(#REF!=\"\", \"\",#REF!)","v":{"$error":"#REF!"}},{"$f":" IF(#REF!=\"\", \"\",#REF!)","v":{"$error":"#REF!"}},{"$f":" IF(#REF!=\"\", \"\",#REF!)","v":{"$error":"#REF!"}},{"$error":"#REF!"}]
[{"$f":"#REF!","v":{"$error":"#REF!"}},{"$f":" IF(#REF!=\"\", \"\",#REF!)","v":{"$error":"#REF!"}},{"$f":" IF(#REF!=\"\", \"\",#REF!)","v":{"$error":"#REF!"}},{"$f":" IF(#REF!=\"\", \"\",#REF!)","v":{"$error":"#REF!"}},{"$error":"#REF!"},{"$error":"#REF!"},{"$error":"#REF!"},{"$error":"#REF!"},{"$f":" IF(#REF!=\"\", \"\",#REF!)","v":{"$error":"#REF!"}},{"$f":" IF(#REF!=\"\", \"\",#REF!)","v":{"$error":"#REF!"}},{"$f":" IF(#REF!=\"\", \"\",#REF!)","v":{"$error":"#REF!"}},{"$f":" IF(#REF!=\"\", \"\",#REF!)","v":{"$error":"#REF!"}},{"$f":" IF(#REF!=\"\", \"\",#REF!)","v":{"$error":"#REF!"}},{"$f":" IF(#REF!=\"\", \"\",#REF!)","v":{"$error":"#REF!"}},{"$f":" IF(#REF!=\"\", \"\",#REF!)","v":{"$error":"#REF!"}},{"$f":" IF(#REF!=\"\", \"\",#REF!)","v":{"$error":"#REF!"}},{"$f":"IF(A21=\"\",\"\",#REF!)","v":{"$error":"#REF!"}},{"$f":" IF(Q21=\"\", \"\",#REF!)","v":{"$error":"#REF!"}},{"$f":" IF(Q21=\"\", \"\",#REF!)","v":{"$error":"#REF!"}},{"$f":" IF(Q21=\"\", \"\",#REF!)","v":{"$error":"#REF!"}},{"$f":" IF(Q21=\"\", \"\",#REF!)","v":{"$error":"#REF!"}},{"$f":" IF(#REF!=\"\", \"\",#REF!)","v":{"$error":"#REF!"}},{"$f":" IF(#REF!=\"\", \"\",#REF!)","v":{"$error":"#REF!"}},{"$f":"IF(Y21=\"\", \"\", IF($L21=\"男\", VLOOKUP(Y21, データ!$B$2:$C$101, 2, FALSE), IF($L21=\"女\", VLOOKUP(Y21, データ!$F$2:$H$101, 2, FALSE), \"\")))","v":{"$error":"#REF!"}},{"$f":"IF(A21=\"\",\"\", IF(#REF!=\"\", \"\",#REF!))","v":{"$error":"#REF!"}},{"$f":" IF(#REF!=\"\", \"\",#REF!)","v":{"$error":"#REF!"}},{"$f":" IF(#REF!=\"\", \"\",#REF!)","v":{"$error":"#REF!"}},{"$f":" IF(#REF!=\"\", \"\",#REF!)","v":{"$error":"#REF!"}},{"$f":" IF(#REF!=\"\", \"\",#REF!)","v":{"$error":"#REF!"}},{"$f":"IF(AE21=\"\", \"\", IF($L21=\"男\", VLOOKUP(AE21, データ!$B$2:$C$101, 2, FALSE), IF($L21=\"女\", VLOOKUP(AE21, データ!$F$2:$H$101, 2, FALSE), \"\")))","v":{"$error":"#REF!"}},{"$f":"IF(A21=\"\",\"\", IF(#REF!=\"\", \"\",#REF!))","v":{"$error":"#REF!"}},{"$f":" IF(#REF!=\"\", \"\",#REF!)","v":{"$error":"#REF!"}},{"$f":" IF(#REF!=\"\", \"\",#REF!)","v":{"$error":"#REF!"}},{"$f":" IF(#REF!=\"\", \"\",#REF!)","v":{"$error":"#REF!"}},{"$f":" IF(#REF!=\"\", \"\",#REF!)","v":{"$error":"#REF!"}},{"$f":"IF(AK21=\"\", \"\", IF($L21=\"男\", VLOOKUP(AK21, データ!$B$2:$C$101, 2, FALSE), IF($L21=\"女\", VLOOKUP(AK21, データ!$F$2:$H$101, 2, FALSE), \"\")))","v":{"$error":"#REF!"}},{"$f":"IF(A21=\"\",\"\", IF(#REF!=\"\", \"\",#REF!))","v":{"$error":"#REF!"}},{"$f":" IF(#REF!=\"\", \"\",#REF!)","v":{"$error":"#REF!"}},{"$f":" IF(#REF!=\"\", \"\",#REF!)","v":{"$error":"#REF!"}},{"$f":" IF(#REF!=\"\", \"\",#REF!)","v":{"$error":"#REF!"}},{"$f":" IF(#REF!=\"\", \"\",#REF!)","v":{"$error":"#REF!"}},{"$f":"IF(AQ21=\"\", \"\", IF($L21=\"男\", VLOOKUP(AQ21, データ!$B$2:$C$101, 2, FALSE), IF($L21=\"女\", VLOOKUP(AQ21, データ!$F$2:$H$101, 2, FALSE), \"\")))","v":{"$error":"#REF!"}},{"$f":"IF(A21=\"\",\"\", IF(#REF!=\"\", \"\",#REF!))","v":{"$error":"#REF!"}},{"$f":" IF(#REF!=\"\", \"\",#REF!)","v":{"$error":"#REF!"}},{"$f":" IF(#REF!=\"\", \"\",#REF!)","v":{"$error":"#REF!"}},{"$f":" IF(#REF!=\"\", \"\",#REF!)","v":{"$error":"#REF!"}},{"$f":" IF(#REF!=\"\", \"\",#REF!)","v":{"$error":"#REF!"}},{"$f":"IF(AW21=\"\", \"\", IF($L21=\"男\", VLOOKUP(AW21, データ!$B$2:$C$101, 2, FALSE), IF($L21=\"女\", VLOOKUP(AW21, データ!$F$2:$H$101, 2, FALSE), \"\")))","v":{"$error":"#REF!"}},{"$f":"IF(A21=\"\",\"\", IF(#REF!=\"\", \"\",#REF!))","v":{"$error":"#REF!"}},{"$f":" IF(#REF!=\"\", \"\",#REF!)","v":{"$error":"#REF!"}},{"$f":" IF(#REF!=\"\", \"\",#REF!)","v":{"$error":"#REF!"}},{"$f":" IF(#REF!=\"\", \"\",#REF!)","v":{"$error":"#REF!"}},{"$f":" IF(#REF!=\"\", \"\",#REF!)","v":{"$error":"#REF!"}},{"$error":"#REF!"}]
[{"$f":"#REF!","v":{"$error":"#REF!"}},{"$f":" IF(#REF!=\"\", \"\",#REF!)","v":{"$error":"#REF!"}},{"$f":" IF(#REF!=\"\", \"\",#REF!)","v":{"$error":"#REF!"}},{"$f":" IF(#REF!=\"\", \"\",#REF!)","v":{"$error":"#REF!"}},{"$error":"#REF!"},{"$error":"#REF!"},{"$error":"#REF!"},{"$error":"#REF!"},{"$f":" IF(#REF!=\"\", \"\",#REF!)","v":{"$error":"#REF!"}},{"$f":" IF(#REF!=\"\", \"\",#REF!)","v":{"$error":"#REF!"}},{"$f":" IF(#REF!=\"\", \"\",#REF!)","v":{"$error":"#REF!"}},{"$f":" IF(#REF!=\"\", \"\",#REF!)","v":{"$error":"#REF!"}},{"$f":" IF(#REF!=\"\", \"\",#REF!)","v":{"$error":"#REF!"}},{"$f":" IF(#REF!=\"\", \"\",#REF!)","v":{"$error":"#REF!"}},{"$f":" IF(#REF!=\"\", \"\",#REF!)","v":{"$error":"#REF!"}},{"$f":" IF(#REF!=\"\", \"\",#REF!)","v":{"$error":"#REF!"}},{"$f":"IF(A22=\"\",\"\",#REF!)","v":{"$error":"#REF!"}},{"$f":" IF(Q22=\"\", \"\",#REF!)","v":{"$error":"#REF!"}},{"$f":" IF(Q22=\"\", \"\",#REF!)","v":{"$error":"#REF!"}},{"$f":" IF(Q22=\"\", \"\",#REF!)","v":{"$error":"#REF!"}},{"$f":" IF(Q22=\"\", \"\",#REF!)","v":{"$error":"#REF!"}},{"$f":" IF(#REF!=\"\", \"\",#REF!)","v":{"$error":"#REF!"}},{"$f":" IF(#REF!=\"\", \"\",#REF!)","v":{"$error":"#REF!"}},{"$f":"IF(Y22=\"\", \"\", IF($L22=\"男\", VLOOKUP(Y22, データ!$B$2:$C$101, 2, FALSE), IF($L22=\"女\", VLOOKUP(Y22, データ!$F$2:$H$101, 2, FALSE), \"\")))","v":{"$error":"#REF!"}},{"$f":"IF(A22=\"\",\"\", IF(#REF!=\"\", \"\",#REF!))","v":{"$error":"#REF!"}},{"$f":" IF(#REF!=\"\", \"\",#REF!)","v":{"$error":"#REF!"}},{"$f":" IF(#REF!=\"\", \"\",#REF!)","v":{"$error":"#REF!"}},{"$f":" IF(#REF!=\"\", \"\",#REF!)","v":{"$error":"#REF!"}},{"$f":" IF(#REF!=\"\", \"\",#REF!)","v":{"$error":"#REF!"}},{"$f":"IF(AE22=\"\", \"\", IF($L22=\"男\", VLOOKUP(AE22, データ!$B$2:$C$101, 2, FALSE), IF($L22=\"女\", VLOOKUP(AE22, データ!$F$2:$H$101, 2, FALSE), \"\")))","v":{"$error":"#REF!"}},{"$f":"IF(A22=\"\",\"\", IF(#REF!=\"\", \"\",#REF!))","v":{"$error":"#REF!"}},{"$f":" IF(#REF!=\"\", \"\",#REF!)","v":{"$error":"#REF!"}},{"$f":" IF(#REF!=\"\", \"\",#REF!)","v":{"$error":"#REF!"}},{"$f":" IF(#REF!=\"\", \"\",#REF!)","v":{"$error":"#REF!"}},{"$f":" IF(#REF!=\"\", \"\",#REF!)","v":{"$error":"#REF!"}},{"$f":"IF(AK22=\"\", \"\", IF($L22=\"男\", VLOOKUP(AK22, データ!$B$2:$C$101, 2, FALSE), IF($L22=\"女\", VLOOKUP(AK22, データ!$F$2:$H$101, 2, FALSE), \"\")))","v":{"$error":"#REF!"}},{"$f":"IF(A22=\"\",\"\", IF(#REF!=\"\", \"\",#REF!))","v":{"$error":"#REF!"}},{"$f":" IF(#REF!=\"\", \"\",#REF!)","v":{"$error":"#REF!"}},{"$f":" IF(#REF!=\"\", \"\",#REF!)","v":{"$error":"#REF!"}},{"$f":" IF(#REF!=\"\", \"\",#REF!)","v":{"$error":"#REF!"}},{"$f":" IF(#REF!=\"\", \"\",#REF!)","v":{"$error":"#REF!"}},{"$f":"IF(AQ22=\"\", \"\", IF($L22=\"男\", VLOOKUP(AQ22, データ!$B$2:$C$101, 2, FALSE), IF($L22=\"女\", VLOOKUP(AQ22, データ!$F$2:$H$101, 2, FALSE), \"\")))","v":{"$error":"#REF!"}},{"$f":"IF(A22=\"\",\"\", IF(#REF!=\"\", \"\",#REF!))","v":{"$error":"#REF!"}},{"$f":" IF(#REF!=\"\", \"\",#REF!)","v":{"$error":"#REF!"}},{"$f":" IF(#REF!=\"\", \"\",#REF!)","v":{"$error":"#REF!"}},{"$f":" IF(#REF!=\"\", \"\",#REF!)","v":{"$error":"#REF!"}},{"$f":" IF(#REF!=\"\", \"\",#REF!)","v":{"$error":"#REF!"}},{"$f":"IF(AW22=\"\", \"\", IF($L22=\"男\", VLOOKUP(AW22, データ!$B$2:$C$101, 2, FALSE), IF($L22=\"女\", VLOOKUP(AW22, データ!$F$2:$H$101, 2, FALSE), \"\")))","v":{"$error":"#REF!"}},{"$f":"IF(A22=\"\",\"\", IF(#REF!=\"\", \"\",#REF!))","v":{"$error":"#REF!"}},{"$f":" IF(#REF!=\"\", \"\",#REF!)","v":{"$error":"#REF!"}},{"$f":" IF(#REF!=\"\", \"\",#REF!)","v":{"$error":"#REF!"}},{"$f":" IF(#REF!=\"\", \"\",#REF!)","v":{"$error":"#REF!"}},{"$f":" IF(#REF!=\"\", \"\",#REF!)","v":{"$error":"#REF!"}},{"$error":"#REF!"}]
[{"$f":"#REF!","v":{"$error":"#REF!"}},{"$f":" IF(#REF!=\"\", \"\",#REF!)","v":{"$error":"#REF!"}},{"$f":" IF(#REF!=\"\", \"\",#REF!)","v":{"$error":"#REF!"}},{"$f":" IF(#REF!=\"\", \"\",#REF!)","v":{"$error":"#REF!"}},{"$error":"#REF!"},{"$error":"#REF!"},{"$error":"#REF!"},{"$error":"#REF!"},{"$f":" IF(#REF!=\"\", \"\",#REF!)","v":{"$error":"#REF!"}},{"$f":" IF(#REF!=\"\", \"\",#REF!)","v":{"$error":"#REF!"}},{"$f":" IF(#REF!=\"\", \"\",#REF!)","v":{"$error":"#REF!"}},{"$f":" IF(#REF!=\"\", \"\",#REF!)","v":{"$error":"#REF!"}},{"$f":" IF(#REF!=\"\", \"\",#REF!)","v":{"$error":"#REF!"}},{"$f":" IF(#REF!=\"\", \"\",#REF!)","v":{"$error":"#REF!"}},{"$f":" IF(#REF!=\"\", \"\",#REF!)","v":{"$error":"#REF!"}},{"$f":" IF(#REF!=\"\", \"\",#REF!)","v":{"$error":"#REF!"}},{"$f":"IF(A23=\"\",\"\",#REF!)","v":{"$error":"#REF!"}},{"$f":" IF(Q23=\"\", \"\",#REF!)","v":{"$error":"#REF!"}},{"$f":" IF(Q23=\"\", \"\",#REF!)","v":{"$error":"#REF!"}},{"$f":" IF(Q23=\"\", \"\",#REF!)","v":{"$error":"#REF!"}},{"$f":" IF(Q23=\"\", \"\",#REF!)","v":{"$error":"#REF!"}},{"$f":" IF(#REF!=\"\", \"\",#REF!)","v":{"$error":"#REF!"}},{"$f":" IF(#REF!=\"\", \"\",#REF!)","v":{"$error":"#REF!"}},{"$f":"IF(Y23=\"\", \"\", IF($L23=\"男\", VLOOKUP(Y23, データ!$B$2:$C$101, 2, FALSE), IF($L23=\"女\", VLOOKUP(Y23, データ!$F$2:$H$101, 2, FALSE), \"\")))","v":{"$error":"#REF!"}},{"$f":"IF(A23=\"\",\"\", IF(#REF!=\"\", \"\",#REF!))","v":{"$error":"#REF!"}},{"$f":" IF(#REF!=\"\", \"\",#REF!)","v":{"$error":"#REF!"}},{"$f":" IF(#REF!=\"\", \"\",#REF!)","v":{"$error":"#REF!"}},{"$f":" IF(#REF!=\"\", \"\",#REF!)","v":{"$error":"#REF!"}},{"$f":" IF(#REF!=\"\", \"\",#REF!)","v":{"$error":"#REF!"}},{"$f":"IF(AE23=\"\", \"\", IF($L23=\"男\", VLOOKUP(AE23, データ!$B$2:$C$101, 2, FALSE), IF($L23=\"女\", VLOOKUP(AE23, データ!$F$2:$H$101, 2, FALSE), \"\")))","v":{"$error":"#REF!"}},{"$f":"IF(A23=\"\",\"\", IF(#REF!=\"\", \"\",#REF!))","v":{"$error":"#REF!"}},{"$f":" IF(#REF!=\"\", \"\",#REF!)","v":{"$error":"#REF!"}},{"$f":" IF(#REF!=\"\", \"\",#REF!)","v":{"$error":"#REF!"}},{"$f":" IF(#REF!=\"\", \"\",#REF!)","v":{"$error":"#REF!"}},{"$f":" IF(#REF!=\"\", \"\",#REF!)","v":{"$error":"#REF!"}},{"$f":"IF(AK23=\"\", \"\", IF($L23=\"男\", VLOOKUP(AK23, データ!$B$2:$C$101, 2, FALSE), IF($L23=\"女\", VLOOKUP(AK23, データ!$F$2:$H$101, 2, FALSE), \"\")))","v":{"$error":"#REF!"}},{"$f":"IF(A23=\"\",\"\", IF(#REF!=\"\", \"\",#REF!))","v":{"$error":"#REF!"}},{"$f":" IF(#REF!=\"\", \"\",#REF!)","v":{"$error":"#REF!"}},{"$f":" IF(#REF!=\"\", \"\",#REF!)","v":{"$error":"#REF!"}},{"$f":" IF(#REF!=\"\", \"\",#REF!)","v":{"$error":"#REF!"}},{"$f":" IF(#REF!=\"\", \"\",#REF!)","v":{"$error":"#REF!"}},{"$f":"IF(AQ23=\"\", \"\", IF($L23=\"男\", VLOOKUP(AQ23, データ!$B$2:$C$101, 2, FALSE), IF($L23=\"女\", VLOOKUP(AQ23, データ!$F$2:$H$101, 2, FALSE), \"\")))","v":{"$error":"#REF!"}},{"$f":"IF(A23=\"\",\"\", IF(#REF!=\"\", \"\",#REF!))","v":{"$error":"#REF!"}},{"$f":" IF(#REF!=\"\", \"\",#REF!)","v":{"$error":"#REF!"}},{"$f":" IF(#REF!=\"\", \"\",#REF!)","v":{"$error":"#REF!"}},{"$f":" IF(#REF!=\"\", \"\",#REF!)","v":{"$error":"#REF!"}},{"$f":" IF(#REF!=\"\", \"\",#REF!)","v":{"$error":"#REF!"}},{"$f":"IF(AW23=\"\", \"\", IF($L23=\"男\", VLOOKUP(AW23, データ!$B$2:$C$101, 2, FALSE), IF($L23=\"女\", VLOOKUP(AW23, データ!$F$2:$H$101, 2, FALSE), \"\")))","v":{"$error":"#REF!"}},{"$f":"IF(A23=\"\",\"\", IF(#REF!=\"\", \"\",#REF!))","v":{"$error":"#REF!"}},{"$f":" IF(#REF!=\"\", \"\",#REF!)","v":{"$error":"#REF!"}},{"$f":" IF(#REF!=\"\", \"\",#REF!)","v":{"$error":"#REF!"}},{"$f":" IF(#REF!=\"\", \"\",#REF!)","v":{"$error":"#REF!"}},{"$f":" IF(#REF!=\"\", \"\",#REF!)","v":{"$error":"#REF!"}},{"$error":"#REF!"}]
[{"$f":"#REF!","v":{"$error":"#REF!"}},{"$f":" IF(#REF!=\"\", \"\",#REF!)","v":{"$error":"#REF!"}},{"$f":" IF(#REF!=\"\", \"\",#REF!)","v":{"$error":"#REF!"}},{"$f":" IF(#REF!=\"\", \"\",#REF!)","v":{"$error":"#REF!"}},{"$error":"#REF!"},{"$error":"#REF!"},{"$error":"#REF!"},{"$error":"#REF!"},{"$f":" IF(#REF!=\"\", \"\",#REF!)","v":{"$error":"#REF!"}},{"$f":" IF(#REF!=\"\", \"\",#REF!)","v":{"$error":"#REF!"}},{"$f":" IF(#REF!=\"\", \"\",#REF!)","v":{"$error":"#REF!"}},{"$f":" IF(#REF!=\"\", \"\",#REF!)","v":{"$error":"#REF!"}},{"$f":" IF(#REF!=\"\", \"\",#REF!)","v":{"$error":"#REF!"}},{"$f":" IF(#REF!=\"\", \"\",#REF!)","v":{"$error":"#REF!"}},{"$f":" IF(#REF!=\"\", \"\",#REF!)","v":{"$error":"#REF!"}},{"$f":" IF(#REF!=\"\", \"\",#REF!)","v":{"$error":"#REF!"}},{"$f":"IF(A24=\"\",\"\",#REF!)","v":{"$error":"#REF!"}},{"$f":" IF(Q24=\"\", \"\",#REF!)","v":{"$error":"#REF!"}},{"$f":" IF(Q24=\"\", \"\",#REF!)","v":{"$error":"#REF!"}},{"$f":" IF(Q24=\"\", \"\",#REF!)","v":{"$error":"#REF!"}},{"$f":" IF(Q24=\"\", \"\",#REF!)","v":{"$error":"#REF!"}},{"$f":" IF(#REF!=\"\", \"\",#REF!)","v":{"$error":"#REF!"}},{"$f":" IF(#REF!=\"\", \"\",#REF!)","v":{"$error":"#REF!"}},{"$f":"IF(Y24=\"\", \"\", IF($L24=\"男\", VLOOKUP(Y24, データ!$B$2:$C$101, 2, FALSE), IF($L24=\"女\", VLOOKUP(Y24, データ!$F$2:$H$101, 2, FALSE), \"\")))","v":{"$error":"#REF!"}},{"$f":"IF(A24=\"\",\"\", IF(#REF!=\"\", \"\",#REF!))","v":{"$error":"#REF!"}},{"$f":" IF(#REF!=\"\", \"\",#REF!)","v":{"$error":"#REF!"}},{"$f":" IF(#REF!=\"\", \"\",#REF!)","v":{"$error":"#REF!"}},{"$f":" IF(#REF!=\"\", \"\",#REF!)","v":{"$error":"#REF!"}},{"$f":" IF(#REF!=\"\", \"\",#REF!)","v":{"$error":"#REF!"}},{"$f":"IF(AE24=\"\", \"\", IF($L24=\"男\", VLOOKUP(AE24, データ!$B$2:$C$101, 2, FALSE), IF($L24=\"女\", VLOOKUP(AE24, データ!$F$2:$H$101, 2, FALSE), \"\")))","v":{"$error":"#REF!"}},{"$f":"IF(A24=\"\",\"\", IF(#REF!=\"\", \"\",#REF!))","v":{"$error":"#REF!"}},{"$f":" IF(#REF!=\"\", \"\",#REF!)","v":{"$error":"#REF!"}},{"$f":" IF(#REF!=\"\", \"\",#REF!)","v":{"$error":"#REF!"}},{"$f":" IF(#REF!=\"\", \"\",#REF!)","v":{"$error":"#REF!"}},{"$f":" IF(#REF!=\"\", \"\",#REF!)","v":{"$error":"#REF!"}},{"$f":"IF(AK24=\"\", \"\", IF($L24=\"男\", VLOOKUP(AK24, データ!$B$2:$C$101, 2, FALSE), IF($L24=\"女\", VLOOKUP(AK24, データ!$F$2:$H$101, 2, FALSE), \"\")))","v":{"$error":"#REF!"}},{"$f":"IF(A24=\"\",\"\", IF(#REF!=\"\", \"\",#REF!))","v":{"$error":"#REF!"}},{"$f":" IF(#REF!=\"\", \"\",#REF!)","v":{"$error":"#REF!"}},{"$f":" IF(#REF!=\"\", \"\",#REF!)","v":{"$error":"#REF!"}},{"$f":" IF(#REF!=\"\", \"\",#REF!)","v":{"$error":"#REF!"}},{"$f":" IF(#REF!=\"\", \"\",#REF!)","v":{"$error":"#REF!"}},{"$f":"IF(AQ24=\"\", \"\", IF($L24=\"男\", VLOOKUP(AQ24, データ!$B$2:$C$101, 2, FALSE), IF($L24=\"女\", VLOOKUP(AQ24, データ!$F$2:$H$101, 2, FALSE), \"\")))","v":{"$error":"#REF!"}},{"$f":"IF(A24=\"\",\"\", IF(#REF!=\"\", \"\",#REF!))","v":{"$error":"#REF!"}},{"$f":" IF(#REF!=\"\", \"\",#REF!)","v":{"$error":"#REF!"}},{"$f":" IF(#REF!=\"\", \"\",#REF!)","v":{"$error":"#REF!"}},{"$f":" IF(#REF!=\"\", \"\",#REF!)","v":{"$error":"#REF!"}},{"$f":" IF(#REF!=\"\", \"\",#REF!)","v":{"$error":"#REF!"}},{"$f":"IF(AW24=\"\", \"\", IF($L24=\"男\", VLOOKUP(AW24, データ!$B$2:$C$101, 2, FALSE), IF($L24=\"女\", VLOOKUP(AW24, データ!$F$2:$H$101, 2, FALSE), \"\")))","v":{"$error":"#REF!"}},{"$f":"IF(A24=\"\",\"\", IF(#REF!=\"\", \"\",#REF!))","v":{"$error":"#REF!"}},{"$f":" IF(#REF!=\"\", \"\",#REF!)","v":{"$error":"#REF!"}},{"$f":" IF(#REF!=\"\", \"\",#REF!)","v":{"$error":"#REF!"}},{"$f":" IF(#REF!=\"\", \"\",#REF!)","v":{"$error":"#REF!"}},{"$f":" IF(#REF!=\"\", \"\",#REF!)","v":{"$error":"#REF!"}},{"$error":"#REF!"}]
[{"$f":"#REF!","v":{"$error":"#REF!"}},{"$f":" IF(#REF!=\"\", \"\",#REF!)","v":{"$error":"#REF!"}},{"$f":" IF(#REF!=\"\", \"\",#REF!)","v":{"$error":"#REF!"}},{"$f":" IF(#REF!=\"\", \"\",#REF!)","v":{"$error":"#REF!"}},{"$error":"#REF!"},{"$error":"#REF!"},{"$error":"#REF!"},{"$error":"#REF!"},{"$f":" IF(#REF!=\"\", \"\",#REF!)","v":{"$error":"#REF!"}},{"$f":" IF(#REF!=\"\", \"\",#REF!)","v":{"$error":"#REF!"}},{"$f":" IF(#REF!=\"\", \"\",#REF!)","v":{"$error":"#REF!"}},{"$f":" IF(#REF!=\"\", \"\",#REF!)","v":{"$error":"#REF!"}},{"$f":" IF(#REF!=\"\", \"\",#REF!)","v":{"$error":"#REF!"}},{"$f":" IF(#REF!=\"\", \"\",#REF!)","v":{"$error":"#REF!"}},{"$f":" IF(#REF!=\"\", \"\",#REF!)","v":{"$error":"#REF!"}},{"$f":" IF(#REF!=\"\", \"\",#REF!)","v":{"$error":"#REF!"}},{"$f":"IF(A25=\"\",\"\",#REF!)","v":{"$error":"#REF!"}},{"$f":" IF(Q25=\"\", \"\",#REF!)","v":{"$error":"#REF!"}},{"$f":" IF(Q25=\"\", \"\",#REF!)","v":{"$error":"#REF!"}},{"$f":" IF(Q25=\"\", \"\",#REF!)","v":{"$error":"#REF!"}},{"$f":" IF(Q25=\"\", \"\",#REF!)","v":{"$error":"#REF!"}},{"$f":" IF(#REF!=\"\", \"\",#REF!)","v":{"$error":"#REF!"}},{"$f":" IF(#REF!=\"\", \"\",#REF!)","v":{"$error":"#REF!"}},{"$f":"IF(Y25=\"\", \"\", IF($L25=\"男\", VLOOKUP(Y25, データ!$B$2:$C$101, 2, FALSE), IF($L25=\"女\", VLOOKUP(Y25, データ!$F$2:$H$101, 2, FALSE), \"\")))","v":{"$error":"#REF!"}},{"$f":"IF(A25=\"\",\"\", IF(#REF!=\"\", \"\",#REF!))","v":{"$error":"#REF!"}},{"$f":" IF(#REF!=\"\", \"\",#REF!)","v":{"$error":"#REF!"}},{"$f":" IF(#REF!=\"\", \"\",#REF!)","v":{"$error":"#REF!"}},{"$f":" IF(#REF!=\"\", \"\",#REF!)","v":{"$error":"#REF!"}},{"$f":" IF(#REF!=\"\", \"\",#REF!)","v":{"$error":"#REF!"}},{"$f":"IF(AE25=\"\", \"\", IF($L25=\"男\", VLOOKUP(AE25, データ!$B$2:$C$101, 2, FALSE), IF($L25=\"女\", VLOOKUP(AE25, データ!$F$2:$H$101, 2, FALSE), \"\")))","v":{"$error":"#REF!"}},{"$f":"IF(A25=\"\",\"\", IF(#REF!=\"\", \"\",#REF!))","v":{"$error":"#REF!"}},{"$f":" IF(#REF!=\"\", \"\",#REF!)","v":{"$error":"#REF!"}},{"$f":" IF(#REF!=\"\", \"\",#REF!)","v":{"$error":"#REF!"}},{"$f":" IF(#REF!=\"\", \"\",#REF!)","v":{"$error":"#REF!"}},{"$f":" IF(#REF!=\"\", \"\",#REF!)","v":{"$error":"#REF!"}},{"$f":"IF(AK25=\"\", \"\", IF($L25=\"男\", VLOOKUP(AK25, データ!$B$2:$C$101, 2, FALSE), IF($L25=\"女\", VLOOKUP(AK25, データ!$F$2:$H$101, 2, FALSE), \"\")))","v":{"$error":"#REF!"}},{"$f":"IF(A25=\"\",\"\", IF(#REF!=\"\", \"\",#REF!))","v":{"$error":"#REF!"}},{"$f":" IF(#REF!=\"\", \"\",#REF!)","v":{"$error":"#REF!"}},{"$f":" IF(#REF!=\"\", \"\",#REF!)","v":{"$error":"#REF!"}},{"$f":" IF(#REF!=\"\", \"\",#REF!)","v":{"$error":"#REF!"}},{"$f":" IF(#REF!=\"\", \"\",#REF!)","v":{"$error":"#REF!"}},{"$f":"IF(AQ25=\"\", \"\", IF($L25=\"男\", VLOOKUP(AQ25, データ!$B$2:$C$101, 2, FALSE), IF($L25=\"女\", VLOOKUP(AQ25, データ!$F$2:$H$101, 2, FALSE), \"\")))","v":{"$error":"#REF!"}},{"$f":"IF(A25=\"\",\"\", IF(#REF!=\"\", \"\",#REF!))","v":{"$error":"#REF!"}},{"$f":" IF(#REF!=\"\", \"\",#REF!)","v":{"$error":"#REF!"}},{"$f":" IF(#REF!=\"\", \"\",#REF!)","v":{"$error":"#REF!"}},{"$f":" IF(#REF!=\"\", \"\",#REF!)","v":{"$error":"#REF!"}},{"$f":" IF(#REF!=\"\", \"\",#REF!)","v":{"$error":"#REF!"}},{"$f":"IF(AW25=\"\", \"\", IF($L25=\"男\", VLOOKUP(AW25, データ!$B$2:$C$101, 2, FALSE), IF($L25=\"女\", VLOOKUP(AW25, データ!$F$2:$H$101, 2, FALSE), \"\")))","v":{"$error":"#REF!"}},{"$f":"IF(A25=\"\",\"\", IF(#REF!=\"\", \"\",#REF!))","v":{"$error":"#REF!"}},{"$f":" IF(#REF!=\"\", \"\",#REF!)","v":{"$error":"#REF!"}},{"$f":" IF(#REF!=\"\", \"\",#REF!)","v":{"$error":"#REF!"}},{"$f":" IF(#REF!=\"\", \"\",#REF!)","v":{"$error":"#REF!"}},{"$f":" IF(#REF!=\"\", \"\",#REF!)","v":{"$error":"#REF!"}},{"$error":"#REF!"}]
[{"$f":"#REF!","v":{"$error":"#REF!"}},{"$f":" IF(#REF!=\"\", \"\",#REF!)","v":{"$error":"#REF!"}},{"$f":" IF(#REF!=\"\", \"\",#REF!)","v":{"$error":"#REF!"}},{"$f":" IF(#REF!=\"\", \"\",#REF!)","v":{"$error":"#REF!"}},{"$error":"#REF!"},{"$error":"#REF!"},{"$error":"#REF!"},{"$error":"#REF!"},{"$f":" IF(#REF!=\"\", \"\",#REF!)","v":{"$error":"#REF!"}},{"$f":" IF(#REF!=\"\", \"\",#REF!)","v":{"$error":"#REF!"}},{"$f":" IF(#REF!=\"\", \"\",#REF!)","v":{"$error":"#REF!"}},{"$f":" IF(#REF!=\"\", \"\",#REF!)","v":{"$error":"#REF!"}},{"$f":" IF(#REF!=\"\", \"\",#REF!)","v":{"$error":"#REF!"}},{"$f":" IF(#REF!=\"\", \"\",#REF!)","v":{"$error":"#REF!"}},{"$f":" IF(#REF!=\"\", \"\",#REF!)","v":{"$error":"#REF!"}},{"$f":" IF(#REF!=\"\", \"\",#REF!)","v":{"$error":"#REF!"}},{"$f":"IF(A26=\"\",\"\",#REF!)","v":{"$error":"#REF!"}},{"$f":" IF(Q26=\"\", \"\",#REF!)","v":{"$error":"#REF!"}},{"$f":" IF(Q26=\"\", \"\",#REF!)","v":{"$error":"#REF!"}},{"$f":" IF(Q26=\"\", \"\",#REF!)","v":{"$error":"#REF!"}},{"$f":" IF(Q26=\"\", \"\",#REF!)","v":{"$error":"#REF!"}},{"$f":" IF(#REF!=\"\", \"\",#REF!)","v":{"$error":"#REF!"}},{"$f":" IF(#REF!=\"\", \"\",#REF!)","v":{"$error":"#REF!"}},{"$f":"IF(Y26=\"\", \"\", IF($L26=\"男\", VLOOKUP(Y26, データ!$B$2:$C$101, 2, FALSE), IF($L26=\"女\", VLOOKUP(Y26, データ!$F$2:$H$101, 2, FALSE), \"\")))","v":{"$error":"#REF!"}},{"$f":"IF(A26=\"\",\"\", IF(#REF!=\"\", \"\",#REF!))","v":{"$error":"#REF!"}},{"$f":" IF(#REF!=\"\", \"\",#REF!)","v":{"$error":"#REF!"}},{"$f":" IF(#REF!=\"\", \"\",#REF!)","v":{"$error":"#REF!"}},{"$f":" IF(#REF!=\"\", \"\",#REF!)","v":{"$error":"#REF!"}},{"$f":" IF(#REF!=\"\", \"\",#REF!)","v":{"$error":"#REF!"}},{"$f":"IF(AE26=\"\", \"\", IF($L26=\"男\", VLOOKUP(AE26, データ!$B$2:$C$101, 2, FALSE), IF($L26=\"女\", VLOOKUP(AE26, データ!$F$2:$H$101, 2, FALSE), \"\")))","v":{"$error":"#REF!"}},{"$f":"IF(A26=\"\",\"\", IF(#REF!=\"\", \"\",#REF!))","v":{"$error":"#REF!"}},{"$f":" IF(#REF!=\"\", \"\",#REF!)","v":{"$error":"#REF!"}},{"$f":" IF(#REF!=\"\", \"\",#REF!)","v":{"$error":"#REF!"}},{"$f":" IF(#REF!=\"\", \"\",#REF!)","v":{"$error":"#REF!"}},{"$f":" IF(#REF!=\"\", \"\",#REF!)","v":{"$error":"#REF!"}},{"$f":"IF(AK26=\"\", \"\", IF($L26=\"男\", VLOOKUP(AK26, データ!$B$2:$C$101, 2, FALSE), IF($L26=\"女\", VLOOKUP(AK26, データ!$F$2:$H$101, 2, FALSE), \"\")))","v":{"$error":"#REF!"}},{"$f":"IF(A26=\"\",\"\", IF(#REF!=\"\", \"\",#REF!))","v":{"$error":"#REF!"}},{"$f":" IF(#REF!=\"\", \"\",#REF!)","v":{"$error":"#REF!"}},{"$f":" IF(#REF!=\"\", \"\",#REF!)","v":{"$error":"#REF!"}},{"$f":" IF(#REF!=\"\", \"\",#REF!)","v":{"$error":"#REF!"}},{"$f":" IF(#REF!=\"\", \"\",#REF!)","v":{"$error":"#REF!"}},{"$f":"IF(AQ26=\"\", \"\", IF($L26=\"男\", VLOOKUP(AQ26, データ!$B$2:$C$101, 2, FALSE), IF($L26=\"女\", VLOOKUP(AQ26, データ!$F$2:$H$101, 2, FALSE), \"\")))","v":{"$error":"#REF!"}},{"$f":"IF(A26=\"\",\"\", IF(#REF!=\"\", \"\",#REF!))","v":{"$error":"#REF!"}},{"$f":" IF(#REF!=\"\", \"\",#REF!)","v":{"$error":"#REF!"}},{"$f":" IF(#REF!=\"\", \"\",#REF!)","v":{"$error":"#REF!"}},{"$f":" IF(#REF!=\"\", \"\",#REF!)","v":{"$error":"#REF!"}},{"$f":" IF(#REF!=\"\", \"\",#REF!)","v":{"$error":"#REF!"}},{"$f":"IF(AW26=\"\", \"\", IF($L26=\"男\", VLOOKUP(AW26, データ!$B$2:$C$101, 2, FALSE), IF($L26=\"女\", VLOOKUP(AW26, データ!$F$2:$H$101, 2, FALSE), \"\")))","v":{"$error":"#REF!"}},{"$f":"IF(A26=\"\",\"\", IF(#REF!=\"\", \"\",#REF!))","v":{"$error":"#REF!"}},{"$f":" IF(#REF!=\"\", \"\",#REF!)","v":{"$error":"#REF!"}},{"$f":" IF(#REF!=\"\", \"\",#REF!)","v":{"$error":"#REF!"}},{"$f":" IF(#REF!=\"\", \"\",#REF!)","v":{"$error":"#REF!"}},{"$f":" IF(#REF!=\"\", \"\",#REF!)","v":{"$error":"#REF!"}},{"$error":"#REF!"}]
[{"$f":"#REF!","v":{"$error":"#REF!"}},{"$f":" IF(#REF!=\"\", \"\",#REF!)","v":{"$error":"#REF!"}},{"$f":" IF(#REF!=\"\", \"\",#REF!)","v":{"$error":"#REF!"}},{"$f":" IF(#REF!=\"\", \"\",#REF!)","v":{"$error":"#REF!"}},{"$error":"#REF!"},{"$error":"#REF!"},{"$error":"#REF!"},{"$error":"#REF!"},{"$f":" IF(#REF!=\"\", \"\",#REF!)","v":{"$error":"#REF!"}},{"$f":" IF(#REF!=\"\", \"\",#REF!)","v":{"$error":"#REF!"}},{"$f":" IF(#REF!=\"\", \"\",#REF!)","v":{"$error":"#REF!"}},{"$f":" IF(#REF!=\"\", \"\",#REF!)","v":{"$error":"#REF!"}},{"$f":" IF(#REF!=\"\", \"\",#REF!)","v":{"$error":"#REF!"}},{"$f":" IF(#REF!=\"\", \"\",#REF!)","v":{"$error":"#REF!"}},{"$f":" IF(#REF!=\"\", \"\",#REF!)","v":{"$error":"#REF!"}},{"$f":" IF(#REF!=\"\", \"\",#REF!)","v":{"$error":"#REF!"}},{"$f":"IF(A27=\"\",\"\",#REF!)","v":{"$error":"#REF!"}},{"$f":" IF(Q27=\"\", \"\",#REF!)","v":{"$error":"#REF!"}},{"$f":" IF(Q27=\"\", \"\",#REF!)","v":{"$error":"#REF!"}},{"$f":" IF(Q27=\"\", \"\",#REF!)","v":{"$error":"#REF!"}},{"$f":" IF(Q27=\"\", \"\",#REF!)","v":{"$error":"#REF!"}},{"$f":" IF(#REF!=\"\", \"\",#REF!)","v":{"$error":"#REF!"}},{"$f":" IF(#REF!=\"\", \"\",#REF!)","v":{"$error":"#REF!"}},{"$f":"IF(Y27=\"\", \"\", IF($L27=\"男\", VLOOKUP(Y27, データ!$B$2:$C$101, 2, FALSE), IF($L27=\"女\", VLOOKUP(Y27, データ!$F$2:$H$101, 2, FALSE), \"\")))","v":{"$error":"#REF!"}},{"$f":"IF(A27=\"\",\"\", IF(#REF!=\"\", \"\",#REF!))","v":{"$error":"#REF!"}},{"$f":" IF(#REF!=\"\", \"\",#REF!)","v":{"$error":"#REF!"}},{"$f":" IF(#REF!=\"\", \"\",#REF!)","v":{"$error":"#REF!"}},{"$f":" IF(#REF!=\"\", \"\",#REF!)","v":{"$error":"#REF!"}},{"$f":" IF(#REF!=\"\", \"\",#REF!)","v":{"$error":"#REF!"}},{"$f":"IF(AE27=\"\", \"\", IF($L27=\"男\", VLOOKUP(AE27, データ!$B$2:$C$101, 2, FALSE), IF($L27=\"女\", VLOOKUP(AE27, データ!$F$2:$H$101, 2, FALSE), \"\")))","v":{"$error":"#REF!"}},{"$f":"IF(A27=\"\",\"\", IF(#REF!=\"\", \"\",#REF!))","v":{"$error":"#REF!"}},{"$f":" IF(#REF!=\"\", \"\",#REF!)","v":{"$error":"#REF!"}},{"$f":" IF(#REF!=\"\", \"\",#REF!)","v":{"$error":"#REF!"}},{"$f":" IF(#REF!=\"\", \"\",#REF!)","v":{"$error":"#REF!"}},{"$f":" IF(#REF!=\"\", \"\",#REF!)","v":{"$error":"#REF!"}},{"$f":"IF(AK27=\"\", \"\", IF($L27=\"男\", VLOOKUP(AK27, データ!$B$2:$C$101, 2, FALSE), IF($L27=\"女\", VLOOKUP(AK27, データ!$F$2:$H$101, 2, FALSE), \"\")))","v":{"$error":"#REF!"}},{"$f":"IF(A27=\"\",\"\", IF(#REF!=\"\", \"\",#REF!))","v":{"$error":"#REF!"}},{"$f":" IF(#REF!=\"\", \"\",#REF!)","v":{"$error":"#REF!"}},{"$f":" IF(#REF!=\"\", \"\",#REF!)","v":{"$error":"#REF!"}},{"$f":" IF(#REF!=\"\", \"\",#REF!)","v":{"$error":"#REF!"}},{"$f":" IF(#REF!=\"\", \"\",#REF!)","v":{"$error":"#REF!"}},{"$f":"IF(AQ27=\"\", \"\", IF($L27=\"男\", VLOOKUP(AQ27, データ!$B$2:$C$101, 2, FALSE), IF($L27=\"女\", VLOOKUP(AQ27, データ!$F$2:$H$101, 2, FALSE), \"\")))","v":{"$error":"#REF!"}},{"$f":"IF(A27=\"\",\"\", IF(#REF!=\"\", \"\",#REF!))","v":{"$error":"#REF!"}},{"$f":" IF(#REF!=\"\", \"\",#REF!)","v":{"$error":"#REF!"}},{"$f":" IF(#REF!=\"\", \"\",#REF!)","v":{"$error":"#REF!"}},{"$f":" IF(#REF!=\"\", \"\",#REF!)","v":{"$error":"#REF!"}},{"$f":" IF(#REF!=\"\", \"\",#REF!)","v":{"$error":"#REF!"}},{"$f":"IF(AW27=\"\", \"\", IF($L27=\"男\", VLOOKUP(AW27, データ!$B$2:$C$101, 2, FALSE), IF($L27=\"女\", VLOOKUP(AW27, データ!$F$2:$H$101, 2, FALSE), \"\")))","v":{"$error":"#REF!"}},{"$f":"IF(A27=\"\",\"\", IF(#REF!=\"\", \"\",#REF!))","v":{"$error":"#REF!"}},{"$f":" IF(#REF!=\"\", \"\",#REF!)","v":{"$error":"#REF!"}},{"$f":" IF(#REF!=\"\", \"\",#REF!)","v":{"$error":"#REF!"}},{"$f":" IF(#REF!=\"\", \"\",#REF!)","v":{"$error":"#REF!"}},{"$f":" IF(#REF!=\"\", \"\",#REF!)","v":{"$error":"#REF!"}},{"$error":"#REF!"}]
[{"$f":"#REF!","v":{"$error":"#REF!"}},{"$f":" IF(#REF!=\"\", \"\",#REF!)","v":{"$error":"#REF!"}},{"$f":" IF(#REF!=\"\", \"\",#REF!)","v":{"$error":"#REF!"}},{"$f":" IF(#REF!=\"\", \"\",#REF!)","v":{"$error":"#REF!"}},{"$error":"#REF!"},{"$error":"#REF!"},{"$error":"#REF!"},{"$error":"#REF!"},{"$f":" IF(#REF!=\"\", \"\",#REF!)","v":{"$error":"#REF!"}},{"$f":" IF(#REF!=\"\", \"\",#REF!)","v":{"$error":"#REF!"}},{"$f":" IF(#REF!=\"\", \"\",#REF!)","v":{"$error":"#REF!"}},{"$f":" IF(#REF!=\"\", \"\",#REF!)","v":{"$error":"#REF!"}},{"$f":" IF(#REF!=\"\", \"\",#REF!)","v":{"$error":"#REF!"}},{"$f":" IF(#REF!=\"\", \"\",#REF!)","v":{"$error":"#REF!"}},{"$f":" IF(#REF!=\"\", \"\",#REF!)","v":{"$error":"#REF!"}},{"$f":" IF(#REF!=\"\", \"\",#REF!)","v":{"$error":"#REF!"}},{"$f":"IF(A28=\"\",\"\",#REF!)","v":{"$error":"#REF!"}},{"$f":" IF(Q28=\"\", \"\",#REF!)","v":{"$error":"#REF!"}},{"$f":" IF(Q28=\"\", \"\",#REF!)","v":{"$error":"#REF!"}},{"$f":" IF(Q28=\"\", \"\",#REF!)","v":{"$error":"#REF!"}},{"$f":" IF(Q28=\"\", \"\",#REF!)","v":{"$error":"#REF!"}},{"$f":" IF(#REF!=\"\", \"\",#REF!)","v":{"$error":"#REF!"}},{"$f":" IF(#REF!=\"\", \"\",#REF!)","v":{"$error":"#REF!"}},{"$f":"IF(Y28=\"\", \"\", IF($L28=\"男\", VLOOKUP(Y28, データ!$B$2:$C$101, 2, FALSE), IF($L28=\"女\", VLOOKUP(Y28, データ!$F$2:$H$101, 2, FALSE), \"\")))","v":{"$error":"#REF!"}},{"$f":"IF(A28=\"\",\"\", IF(#REF!=\"\", \"\",#REF!))","v":{"$error":"#REF!"}},{"$f":" IF(#REF!=\"\", \"\",#REF!)","v":{"$error":"#REF!"}},{"$f":" IF(#REF!=\"\", \"\",#REF!)","v":{"$error":"#REF!"}},{"$f":" IF(#REF!=\"\", \"\",#REF!)","v":{"$error":"#REF!"}},{"$f":" IF(#REF!=\"\", \"\",#REF!)","v":{"$error":"#REF!"}},{"$f":"IF(AE28=\"\", \"\", IF($L28=\"男\", VLOOKUP(AE28, データ!$B$2:$C$101, 2, FALSE), IF($L28=\"女\", VLOOKUP(AE28, データ!$F$2:$H$101, 2, FALSE), \"\")))","v":{"$error":"#REF!"}},{"$f":"IF(A28=\"\",\"\", IF(#REF!=\"\", \"\",#REF!))","v":{"$error":"#REF!"}},{"$f":" IF(#REF!=\"\", \"\",#REF!)","v":{"$error":"#REF!"}},{"$f":" IF(#REF!=\"\", \"\",#REF!)","v":{"$error":"#REF!"}},{"$f":" IF(#REF!=\"\", \"\",#REF!)","v":{"$error":"#REF!"}},{"$f":" IF(#REF!=\"\", \"\",#REF!)","v":{"$error":"#REF!"}},{"$f":"IF(AK28=\"\", \"\", IF($L28=\"男\", VLOOKUP(AK28, データ!$B$2:$C$101, 2, FALSE), IF($L28=\"女\", VLOOKUP(AK28, データ!$F$2:$H$101, 2, FALSE), \"\")))","v":{"$error":"#REF!"}},{"$f":"IF(A28=\"\",\"\", IF(#REF!=\"\", \"\",#REF!))","v":{"$error":"#REF!"}},{"$f":" IF(#REF!=\"\", \"\",#REF!)","v":{"$error":"#REF!"}},{"$f":" IF(#REF!=\"\", \"\",#REF!)","v":{"$error":"#REF!"}},{"$f":" IF(#REF!=\"\", \"\",#REF!)","v":{"$error":"#REF!"}},{"$f":" IF(#REF!=\"\", \"\",#REF!)","v":{"$error":"#REF!"}},{"$f":"IF(AQ28=\"\", \"\", IF($L28=\"男\", VLOOKUP(AQ28, データ!$B$2:$C$101, 2, FALSE), IF($L28=\"女\", VLOOKUP(AQ28, データ!$F$2:$H$101, 2, FALSE), \"\")))","v":{"$error":"#REF!"}},{"$f":"IF(A28=\"\",\"\", IF(#REF!=\"\", \"\",#REF!))","v":{"$error":"#REF!"}},{"$f":" IF(#REF!=\"\", \"\",#REF!)","v":{"$error":"#REF!"}},{"$f":" IF(#REF!=\"\", \"\",#REF!)","v":{"$error":"#REF!"}},{"$f":" IF(#REF!=\"\", \"\",#REF!)","v":{"$error":"#REF!"}},{"$f":" IF(#REF!=\"\", \"\",#REF!)","v":{"$error":"#REF!"}},{"$f":"IF(AW28=\"\", \"\", IF($L28=\"男\", VLOOKUP(AW28, データ!$B$2:$C$101, 2, FALSE), IF($L28=\"女\", VLOOKUP(AW28, データ!$F$2:$H$101, 2, FALSE), \"\")))","v":{"$error":"#REF!"}},{"$f":"IF(A28=\"\",\"\", IF(#REF!=\"\", \"\",#REF!))","v":{"$error":"#REF!"}},{"$f":" IF(#REF!=\"\", \"\",#REF!)","v":{"$error":"#REF!"}},{"$f":" IF(#REF!=\"\", \"\",#REF!)","v":{"$error":"#REF!"}},{"$f":" IF(#REF!=\"\", \"\",#REF!)","v":{"$error":"#REF!"}},{"$f":" IF(#REF!=\"\", \"\",#REF!)","v":{"$error":"#REF!"}},{"$error":"#REF!"}]
[{"$f":"#REF!","v":{"$error":"#REF!"}},{"$f":" IF(#REF!=\"\", \"\",#REF!)","v":{"$error":"#REF!"}},{"$f":" IF(#REF!=\"\", \"\",#REF!)","v":{"$error":"#REF!"}},{"$f":" IF(#REF!=\"\", \"\",#REF!)","v":{"$error":"#REF!"}},{"$error":"#REF!"},{"$error":"#REF!"},{"$error":"#REF!"},{"$error":"#REF!"},{"$f":" IF(#REF!=\"\", \"\",#REF!)","v":{"$error":"#REF!"}},{"$f":" IF(#REF!=\"\", \"\",#REF!)","v":{"$error":"#REF!"}},{"$f":" IF(#REF!=\"\", \"\",#REF!)","v":{"$error":"#REF!"}},{"$f":" IF(#REF!=\"\", \"\",#REF!)","v":{"$error":"#REF!"}},{"$f":" IF(#REF!=\"\", \"\",#REF!)","v":{"$error":"#REF!"}},{"$f":" IF(#REF!=\"\", \"\",#REF!)","v":{"$error":"#REF!"}},{"$f":" IF(#REF!=\"\", \"\",#REF!)","v":{"$error":"#REF!"}},{"$f":" IF(#REF!=\"\", \"\",#REF!)","v":{"$error":"#REF!"}},{"$f":"IF(A29=\"\",\"\",#REF!)","v":{"$error":"#REF!"}},{"$f":" IF(Q29=\"\", \"\",#REF!)","v":{"$error":"#REF!"}},{"$f":" IF(Q29=\"\", \"\",#REF!)","v":{"$error":"#REF!"}},{"$f":" IF(Q29=\"\", \"\",#REF!)","v":{"$error":"#REF!"}},{"$f":" IF(Q29=\"\", \"\",#REF!)","v":{"$error":"#REF!"}},{"$f":" IF(#REF!=\"\", \"\",#REF!)","v":{"$error":"#REF!"}},{"$f":" IF(#REF!=\"\", \"\",#REF!)","v":{"$error":"#REF!"}},{"$f":"IF(Y29=\"\", \"\", IF($L29=\"男\", VLOOKUP(Y29, データ!$B$2:$C$101, 2, FALSE), IF($L29=\"女\", VLOOKUP(Y29, データ!$F$2:$H$101, 2, FALSE), \"\")))","v":{"$error":"#REF!"}},{"$f":"IF(A29=\"\",\"\", IF(#REF!=\"\", \"\",#REF!))","v":{"$error":"#REF!"}},{"$f":" IF(#REF!=\"\", \"\",#REF!)","v":{"$error":"#REF!"}},{"$f":" IF(#REF!=\"\", \"\",#REF!)","v":{"$error":"#REF!"}},{"$f":" IF(#REF!=\"\", \"\",#REF!)","v":{"$error":"#REF!"}},{"$f":" IF(#REF!=\"\", \"\",#REF!)","v":{"$error":"#REF!"}},{"$f":"IF(AE29=\"\", \"\", IF($L29=\"男\", VLOOKUP(AE29, データ!$B$2:$C$101, 2, FALSE), IF($L29=\"女\", VLOOKUP(AE29, データ!$F$2:$H$101, 2, FALSE), \"\")))","v":{"$error":"#REF!"}},{"$f":"IF(A29=\"\",\"\", IF(#REF!=\"\", \"\",#REF!))","v":{"$error":"#REF!"}},{"$f":" IF(#REF!=\"\", \"\",#REF!)","v":{"$error":"#REF!"}},{"$f":" IF(#REF!=\"\", \"\",#REF!)","v":{"$error":"#REF!"}},{"$f":" IF(#REF!=\"\", \"\",#REF!)","v":{"$error":"#REF!"}},{"$f":" IF(#REF!=\"\", \"\",#REF!)","v":{"$error":"#REF!"}},{"$f":"IF(AK29=\"\", \"\", IF($L29=\"男\", VLOOKUP(AK29, データ!$B$2:$C$101, 2, FALSE), IF($L29=\"女\", VLOOKUP(AK29, データ!$F$2:$H$101, 2, FALSE), \"\")))","v":{"$error":"#REF!"}},{"$f":"IF(A29=\"\",\"\", IF(#REF!=\"\", \"\",#REF!))","v":{"$error":"#REF!"}},{"$f":" IF(#REF!=\"\", \"\",#REF!)","v":{"$error":"#REF!"}},{"$f":" IF(#REF!=\"\", \"\",#REF!)","v":{"$error":"#REF!"}},{"$f":" IF(#REF!=\"\", \"\",#REF!)","v":{"$error":"#REF!"}},{"$f":" IF(#REF!=\"\", \"\",#REF!)","v":{"$error":"#REF!"}},{"$f":"IF(AQ29=\"\", \"\", IF($L29=\"男\", VLOOKUP(AQ29, データ!$B$2:$C$101, 2, FALSE), IF($L29=\"女\", VLOOKUP(AQ29, データ!$F$2:$H$101, 2, FALSE), \"\")))","v":{"$error":"#REF!"}},{"$f":"IF(A29=\"\",\"\", IF(#REF!=\"\", \"\",#REF!))","v":{"$error":"#REF!"}},{"$f":" IF(#REF!=\"\", \"\",#REF!)","v":{"$error":"#REF!"}},{"$f":" IF(#REF!=\"\", \"\",#REF!)","v":{"$error":"#REF!"}},{"$f":" IF(#REF!=\"\", \"\",#REF!)","v":{"$error":"#REF!"}},{"$f":" IF(#REF!=\"\", \"\",#REF!)","v":{"$error":"#REF!"}},{"$f":"IF(AW29=\"\", \"\", IF($L29=\"男\", VLOOKUP(AW29, データ!$B$2:$C$101, 2, FALSE), IF($L29=\"女\", VLOOKUP(AW29, データ!$F$2:$H$101, 2, FALSE), \"\")))","v":{"$error":"#REF!"}},{"$f":"IF(A29=\"\",\"\", IF(#REF!=\"\", \"\",#REF!))","v":{"$error":"#REF!"}},{"$f":" IF(#REF!=\"\", \"\",#REF!)","v":{"$error":"#REF!"}},{"$f":" IF(#REF!=\"\", \"\",#REF!)","v":{"$error":"#REF!"}},{"$f":" IF(#REF!=\"\", \"\",#REF!)","v":{"$error":"#REF!"}},{"$f":" IF(#REF!=\"\", \"\",#REF!)","v":{"$error":"#REF!"}},{"$error":"#REF!"}]
[{"$f":"#REF!","v":{"$error":"#REF!"}},{"$f":" IF(#REF!=\"\", \"\",#REF!)","v":{"$error":"#REF!"}},{"$f":" IF(#REF!=\"\", \"\",#REF!)","v":{"$error":"#REF!"}},{"$f":" IF(#REF!=\"\", \"\",#REF!)","v":{"$error":"#REF!"}},{"$error":"#REF!"},{"$error":"#REF!"},{"$error":"#REF!"},{"$error":"#REF!"},{"$f":" IF(#REF!=\"\", \"\",#REF!)","v":{"$error":"#REF!"}},{"$f":" IF(#REF!=\"\", \"\",#REF!)","v":{"$error":"#REF!"}},{"$f":" IF(#REF!=\"\", \"\",#REF!)","v":{"$error":"#REF!"}},{"$f":" IF(#REF!=\"\", \"\",#REF!)","v":{"$error":"#REF!"}},{"$f":" IF(#REF!=\"\", \"\",#REF!)","v":{"$error":"#REF!"}},{"$f":" IF(#REF!=\"\", \"\",#REF!)","v":{"$error":"#REF!"}},{"$f":" IF(#REF!=\"\", \"\",#REF!)","v":{"$error":"#REF!"}},{"$f":" IF(#REF!=\"\", \"\",#REF!)","v":{"$error":"#REF!"}},{"$f":"IF(A30=\"\",\"\",#REF!)","v":{"$error":"#REF!"}},{"$f":" IF(Q30=\"\", \"\",#REF!)","v":{"$error":"#REF!"}},{"$f":" IF(Q30=\"\", \"\",#REF!)","v":{"$error":"#REF!"}},{"$f":" IF(Q30=\"\", \"\",#REF!)","v":{"$error":"#REF!"}},{"$f":" IF(Q30=\"\", \"\",#REF!)","v":{"$error":"#REF!"}},{"$f":" IF(#REF!=\"\", \"\",#REF!)","v":{"$error":"#REF!"}},{"$f":" IF(#REF!=\"\", \"\",#REF!)","v":{"$error":"#REF!"}},{"$f":"IF(Y30=\"\", \"\", IF($L30=\"男\", VLOOKUP(Y30, データ!$B$2:$C$101, 2, FALSE), IF($L30=\"女\", VLOOKUP(Y30, データ!$F$2:$H$101, 2, FALSE), \"\")))","v":{"$error":"#REF!"}},{"$f":"IF(A30=\"\",\"\", IF(#REF!=\"\", \"\",#REF!))","v":{"$error":"#REF!"}},{"$f":" IF(#REF!=\"\", \"\",#REF!)","v":{"$error":"#REF!"}},{"$f":" IF(#REF!=\"\", \"\",#REF!)","v":{"$error":"#REF!"}},{"$f":" IF(#REF!=\"\", \"\",#REF!)","v":{"$error":"#REF!"}},{"$f":" IF(#REF!=\"\", \"\",#REF!)","v":{"$error":"#REF!"}},{"$f":"IF(AE30=\"\", \"\", IF($L30=\"男\", VLOOKUP(AE30, データ!$B$2:$C$101, 2, FALSE), IF($L30=\"女\", VLOOKUP(AE30, データ!$F$2:$H$101, 2, FALSE), \"\")))","v":{"$error":"#REF!"}},{"$f":"IF(A30=\"\",\"\", IF(#REF!=\"\", \"\",#REF!))","v":{"$error":"#REF!"}},{"$f":" IF(#REF!=\"\", \"\",#REF!)","v":{"$error":"#REF!"}},{"$f":" IF(#REF!=\"\", \"\",#REF!)","v":{"$error":"#REF!"}},{"$f":" IF(#REF!=\"\", \"\",#REF!)","v":{"$error":"#REF!"}},{"$f":" IF(#REF!=\"\", \"\",#REF!)","v":{"$error":"#REF!"}},{"$f":"IF(AK30=\"\", \"\", IF($L30=\"男\", VLOOKUP(AK30, データ!$B$2:$C$101, 2, FALSE), IF($L30=\"女\", VLOOKUP(AK30, データ!$F$2:$H$101, 2, FALSE), \"\")))","v":{"$error":"#REF!"}},{"$f":"IF(A30=\"\",\"\", IF(#REF!=\"\", \"\",#REF!))","v":{"$error":"#REF!"}},{"$f":" IF(#REF!=\"\", \"\",#REF!)","v":{"$error":"#REF!"}},{"$f":" IF(#REF!=\"\", \"\",#REF!)","v":{"$error":"#REF!"}},{"$f":" IF(#REF!=\"\", \"\",#REF!)","v":{"$error":"#REF!"}},{"$f":" IF(#REF!=\"\", \"\",#REF!)","v":{"$error":"#REF!"}},{"$f":"IF(AQ30=\"\", \"\", IF($L30=\"男\", VLOOKUP(AQ30, データ!$B$2:$C$101, 2, FALSE), IF($L30=\"女\", VLOOKUP(AQ30, データ!$F$2:$H$101, 2, FALSE), \"\")))","v":{"$error":"#REF!"}},{"$f":"IF(A30=\"\",\"\", IF(#REF!=\"\", \"\",#REF!))","v":{"$error":"#REF!"}},{"$f":" IF(#REF!=\"\", \"\",#REF!)","v":{"$error":"#REF!"}},{"$f":" IF(#REF!=\"\", \"\",#REF!)","v":{"$error":"#REF!"}},{"$f":" IF(#REF!=\"\", \"\",#REF!)","v":{"$error":"#REF!"}},{"$f":" IF(#REF!=\"\", \"\",#REF!)","v":{"$error":"#REF!"}},{"$f":"IF(AW30=\"\", \"\", IF($L30=\"男\", VLOOKUP(AW30, データ!$B$2:$C$101, 2, FALSE), IF($L30=\"女\", VLOOKUP(AW30, データ!$F$2:$H$101, 2, FALSE), \"\")))","v":{"$error":"#REF!"}},{"$f":"IF(A30=\"\",\"\", IF(#REF!=\"\", \"\",#REF!))","v":{"$error":"#REF!"}},{"$f":" IF(#REF!=\"\", \"\",#REF!)","v":{"$error":"#REF!"}},{"$f":" IF(#REF!=\"\", \"\",#REF!)","v":{"$error":"#REF!"}},{"$f":" IF(#REF!=\"\", \"\",#REF!)","v":{"$error":"#REF!"}},{"$f":" IF(#REF!=\"\", \"\",#REF!)","v":{"$error":"#REF!"}},{"$error":"#REF!"}]
[{"$f":"#REF!","v":{"$error":"#REF!"}},{"$f":" IF(#REF!=\"\", \"\",#REF!)","v":{"$error":"#REF!"}},{"$f":" IF(#REF!=\"\", \"\",#REF!)","v":{"$error":"#REF!"}},{"$f":" IF(#REF!=\"\", \"\",#REF!)","v":{"$error":"#REF!"}},{"$error":"#REF!"},{"$error":"#REF!"},{"$error":"#REF!"},{"$error":"#REF!"},{"$f":" IF(#REF!=\"\", \"\",#REF!)","v":{"$error":"#REF!"}},{"$f":" IF(#REF!=\"\", \"\",#REF!)","v":{"$error":"#REF!"}},{"$f":" IF(#REF!=\"\", \"\",#REF!)","v":{"$error":"#REF!"}},{"$f":" IF(#REF!=\"\", \"\",#REF!)","v":{"$error":"#REF!"}},{"$f":" IF(#REF!=\"\", \"\",#REF!)","v":{"$error":"#REF!"}},{"$f":" IF(#REF!=\"\", \"\",#REF!)","v":{"$error":"#REF!"}},{"$f":" IF(#REF!=\"\", \"\",#REF!)","v":{"$error":"#REF!"}},{"$f":" IF(#REF!=\"\", \"\",#REF!)","v":{"$error":"#REF!"}},{"$f":"IF(A31=\"\",\"\",#REF!)","v":{"$error":"#REF!"}},{"$f":" IF(Q31=\"\", \"\",#REF!)","v":{"$error":"#REF!"}},{"$f":" IF(Q31=\"\", \"\",#REF!)","v":{"$error":"#REF!"}},{"$f":" IF(Q31=\"\", \"\",#REF!)","v":{"$error":"#REF!"}},{"$f":" IF(Q31=\"\", \"\",#REF!)","v":{"$error":"#REF!"}},{"$f":" IF(#REF!=\"\", \"\",#REF!)","v":{"$error":"#REF!"}},{"$f":" IF(#REF!=\"\", \"\",#REF!)","v":{"$error":"#REF!"}},{"$f":"IF(Y31=\"\", \"\", IF($L31=\"男\", VLOOKUP(Y31, データ!$B$2:$C$101, 2, FALSE), IF($L31=\"女\", VLOOKUP(Y31, データ!$F$2:$H$101, 2, FALSE), \"\")))","v":{"$error":"#REF!"}},{"$f":"IF(A31=\"\",\"\", IF(#REF!=\"\", \"\",#REF!))","v":{"$error":"#REF!"}},{"$f":" IF(#REF!=\"\", \"\",#REF!)","v":{"$error":"#REF!"}},{"$f":" IF(#REF!=\"\", \"\",#REF!)","v":{"$error":"#REF!"}},{"$f":" IF(#REF!=\"\", \"\",#REF!)","v":{"$error":"#REF!"}},{"$f":" IF(#REF!=\"\", \"\",#REF!)","v":{"$error":"#REF!"}},{"$f":"IF(AE31=\"\", \"\", IF($L31=\"男\", VLOOKUP(AE31, データ!$B$2:$C$101, 2, FALSE), IF($L31=\"女\", VLOOKUP(AE31, データ!$F$2:$H$101, 2, FALSE), \"\")))","v":{"$error":"#REF!"}},{"$f":"IF(A31=\"\",\"\", IF(#REF!=\"\", \"\",#REF!))","v":{"$error":"#REF!"}},{"$f":" IF(#REF!=\"\", \"\",#REF!)","v":{"$error":"#REF!"}},{"$f":" IF(#REF!=\"\", \"\",#REF!)","v":{"$error":"#REF!"}},{"$f":" IF(#REF!=\"\", \"\",#REF!)","v":{"$error":"#REF!"}},{"$f":" IF(#REF!=\"\", \"\",#REF!)","v":{"$error":"#REF!"}},{"$f":"IF(AK31=\"\", \"\", IF($L31=\"男\", VLOOKUP(AK31, データ!$B$2:$C$101, 2, FALSE), IF($L31=\"女\", VLOOKUP(AK31, データ!$F$2:$H$101, 2, FALSE), \"\")))","v":{"$error":"#REF!"}},{"$f":"IF(A31=\"\",\"\", IF(#REF!=\"\", \"\",#REF!))","v":{"$error":"#REF!"}},{"$f":" IF(#REF!=\"\", \"\",#REF!)","v":{"$error":"#REF!"}},{"$f":" IF(#REF!=\"\", \"\",#REF!)","v":{"$error":"#REF!"}},{"$f":" IF(#REF!=\"\", \"\",#REF!)","v":{"$error":"#REF!"}},{"$f":" IF(#REF!=\"\", \"\",#REF!)","v":{"$error":"#REF!"}},{"$f":"IF(AQ31=\"\", \"\", IF($L31=\"男\", VLOOKUP(AQ31, データ!$B$2:$C$101, 2, FALSE), IF($L31=\"女\", VLOOKUP(AQ31, データ!$F$2:$H$101, 2, FALSE), \"\")))","v":{"$error":"#REF!"}},{"$f":"IF(A31=\"\",\"\", IF(#REF!=\"\", \"\",#REF!))","v":{"$error":"#REF!"}},{"$f":" IF(#REF!=\"\", \"\",#REF!)","v":{"$error":"#REF!"}},{"$f":" IF(#REF!=\"\", \"\",#REF!)","v":{"$error":"#REF!"}},{"$f":" IF(#REF!=\"\", \"\",#REF!)","v":{"$error":"#REF!"}},{"$f":" IF(#REF!=\"\", \"\",#REF!)","v":{"$error":"#REF!"}},{"$f":"IF(AW31=\"\", \"\", IF($L31=\"男\", VLOOKUP(AW31, データ!$B$2:$C$101, 2, FALSE), IF($L31=\"女\", VLOOKUP(AW31, データ!$F$2:$H$101, 2, FALSE), \"\")))","v":{"$error":"#REF!"}},{"$f":"IF(A31=\"\",\"\", IF(#REF!=\"\", \"\",#REF!))","v":{"$error":"#REF!"}},{"$f":" IF(#REF!=\"\", \"\",#REF!)","v":{"$error":"#REF!"}},{"$f":" IF(#REF!=\"\", \"\",#REF!)","v":{"$error":"#REF!"}},{"$f":" IF(#REF!=\"\", \"\",#REF!)","v":{"$error":"#REF!"}},{"$f":" IF(#REF!=\"\", \"\",#REF!)","v":{"$error":"#REF!"}},{"$error":"#REF!"}]
[{"$f":"#REF!","v":{"$error":"#REF!"}},{"$f":" IF(#REF!=\"\", \"\",#REF!)","v":{"$error":"#REF!"}},{"$f":" IF(#REF!=\"\", \"\",#REF!)","v":{"$error":"#REF!"}},{"$f":" IF(#REF!=\"\", \"\",#REF!)","v":{"$error":"#REF!"}},{"$error":"#REF!"},{"$error":"#REF!"},{"$error":"#REF!"},{"$error":"#REF!"},{"$f":" IF(#REF!=\"\", \"\",#REF!)","v":{"$error":"#REF!"}},{"$f":" IF(#REF!=\"\", \"\",#REF!)","v":{"$error":"#REF!"}},{"$f":" IF(#REF!=\"\", \"\",#REF!)","v":{"$error":"#REF!"}},{"$f":" IF(#REF!=\"\", \"\",#REF!)","v":{"$error":"#REF!"}},{"$f":" IF(#REF!=\"\", \"\",#REF!)","v":{"$error":"#REF!"}},{"$f":" IF(#REF!=\"\", \"\",#REF!)","v":{"$error":"#REF!"}},{"$f":" IF(#REF!=\"\", \"\",#REF!)","v":{"$error":"#REF!"}},{"$f":" IF(#REF!=\"\", \"\",#REF!)","v":{"$error":"#REF!"}},{"$f":"IF(A32=\"\",\"\",#REF!)","v":{"$error":"#REF!"}},{"$f":" IF(Q32=\"\", \"\",#REF!)","v":{"$error":"#REF!"}},{"$f":" IF(Q32=\"\", \"\",#REF!)","v":{"$error":"#REF!"}},{"$f":" IF(Q32=\"\", \"\",#REF!)","v":{"$error":"#REF!"}},{"$f":" IF(Q32=\"\", \"\",#REF!)","v":{"$error":"#REF!"}},{"$f":" IF(#REF!=\"\", \"\",#REF!)","v":{"$error":"#REF!"}},{"$f":" IF(#REF!=\"\", \"\",#REF!)","v":{"$error":"#REF!"}},{"$f":"IF(Y32=\"\", \"\", IF($L32=\"男\", VLOOKUP(Y32, データ!$B$2:$C$101, 2, FALSE), IF($L32=\"女\", VLOOKUP(Y32, データ!$F$2:$H$101, 2, FALSE), \"\")))","v":{"$error":"#REF!"}},{"$f":"IF(A32=\"\",\"\", IF(#REF!=\"\", \"\",#REF!))","v":{"$error":"#REF!"}},{"$f":" IF(#REF!=\"\", \"\",#REF!)","v":{"$error":"#REF!"}},{"$f":" IF(#REF!=\"\", \"\",#REF!)","v":{"$error":"#REF!"}},{"$f":" IF(#REF!=\"\", \"\",#REF!)","v":{"$error":"#REF!"}},{"$f":" IF(#REF!=\"\", \"\",#REF!)","v":{"$error":"#REF!"}},{"$f":"IF(AE32=\"\", \"\", IF($L32=\"男\", VLOOKUP(AE32, データ!$B$2:$C$101, 2, FALSE), IF($L32=\"女\", VLOOKUP(AE32, データ!$F$2:$H$101, 2, FALSE), \"\")))","v":{"$error":"#REF!"}},{"$f":"IF(A32=\"\",\"\", IF(#REF!=\"\", \"\",#REF!))","v":{"$error":"#REF!"}},{"$f":" IF(#REF!=\"\", \"\",#REF!)","v":{"$error":"#REF!"}},{"$f":" IF(#REF!=\"\", \"\",#REF!)","v":{"$error":"#REF!"}},{"$f":" IF(#REF!=\"\", \"\",#REF!)","v":{"$error":"#REF!"}},{"$f":" IF(#REF!=\"\", \"\",#REF!)","v":{"$error":"#REF!"}},{"$f":"IF(AK32=\"\", \"\", IF($L32=\"男\", VLOOKUP(AK32, データ!$B$2:$C$101, 2, FALSE), IF($L32=\"女\", VLOOKUP(AK32, データ!$F$2:$H$101, 2, FALSE), \"\")))","v":{"$error":"#REF!"}},{"$f":"IF(A32=\"\",\"\", IF(#REF!=\"\", \"\",#REF!))","v":{"$error":"#REF!"}},{"$f":" IF(#REF!=\"\", \"\",#REF!)","v":{"$error":"#REF!"}},{"$f":" IF(#REF!=\"\", \"\",#REF!)","v":{"$error":"#REF!"}},{"$f":" IF(#REF!=\"\", \"\",#REF!)","v":{"$error":"#REF!"}},{"$f":" IF(#REF!=\"\", \"\",#REF!)","v":{"$error":"#REF!"}},{"$f":"IF(AQ32=\"\", \"\", IF($L32=\"男\", VLOOKUP(AQ32, データ!$B$2:$C$101, 2, FALSE), IF($L32=\"女\", VLOOKUP(AQ32, データ!$F$2:$H$101, 2, FALSE), \"\")))","v":{"$error":"#REF!"}},{"$f":"IF(A32=\"\",\"\", IF(#REF!=\"\", \"\",#REF!))","v":{"$error":"#REF!"}},{"$f":" IF(#REF!=\"\", \"\",#REF!)","v":{"$error":"#REF!"}},{"$f":" IF(#REF!=\"\", \"\",#REF!)","v":{"$error":"#REF!"}},{"$f":" IF(#REF!=\"\", \"\",#REF!)","v":{"$error":"#REF!"}},{"$f":" IF(#REF!=\"\", \"\",#REF!)","v":{"$error":"#REF!"}},{"$f":"IF(AW32=\"\", \"\", IF($L32=\"男\", VLOOKUP(AW32, データ!$B$2:$C$101, 2, FALSE), IF($L32=\"女\", VLOOKUP(AW32, データ!$F$2:$H$101, 2, FALSE), \"\")))","v":{"$error":"#REF!"}},{"$f":"IF(A32=\"\",\"\", IF(#REF!=\"\", \"\",#REF!))","v":{"$error":"#REF!"}},{"$f":" IF(#REF!=\"\", \"\",#REF!)","v":{"$error":"#REF!"}},{"$f":" IF(#REF!=\"\", \"\",#REF!)","v":{"$error":"#REF!"}},{"$f":" IF(#REF!=\"\", \"\",#REF!)","v":{"$error":"#REF!"}},{"$f":" IF(#REF!=\"\", \"\",#REF!)","v":{"$error":"#REF!"}},{"$error":"#REF!"}]
[{"$f":"#REF!","v":{"$error":"#REF!"}},{"$f":" IF(#REF!=\"\", \"\",#REF!)","v":{"$error":"#REF!"}},{"$f":" IF(#REF!=\"\", \"\",#REF!)","v":{"$error":"#REF!"}},{"$f":" IF(#REF!=\"\", \"\",#REF!)","v":{"$error":"#REF!"}},{"$error":"#REF!"},{"$error":"#REF!"},{"$error":"#REF!"},{"$error":"#REF!"},{"$f":" IF(#REF!=\"\", \"\",#REF!)","v":{"$error":"#REF!"}},{"$f":" IF(#REF!=\"\", \"\",#REF!)","v":{"$error":"#REF!"}},{"$f":" IF(#REF!=\"\", \"\",#REF!)","v":{"$error":"#REF!"}},{"$f":" IF(#REF!=\"\", \"\",#REF!)","v":{"$error":"#REF!"}},{"$f":" IF(#REF!=\"\", \"\",#REF!)","v":{"$error":"#REF!"}},{"$f":" IF(#REF!=\"\", \"\",#REF!)","v":{"$error":"#REF!"}},{"$f":" IF(#REF!=\"\", \"\",#REF!)","v":{"$error":"#REF!"}},{"$f":" IF(#REF!=\"\", \"\",#REF!)","v":{"$error":"#REF!"}},{"$f":"IF(A33=\"\",\"\",#REF!)","v":{"$error":"#REF!"}},{"$f":" IF(Q33=\"\", \"\",#REF!)","v":{"$error":"#REF!"}},{"$f":" IF(Q33=\"\", \"\",#REF!)","v":{"$error":"#REF!"}},{"$f":" IF(Q33=\"\", \"\",#REF!)","v":{"$error":"#REF!"}},{"$f":" IF(Q33=\"\", \"\",#REF!)","v":{"$error":"#REF!"}},{"$f":" IF(#REF!=\"\", \"\",#REF!)","v":{"$error":"#REF!"}},{"$f":" IF(#REF!=\"\", \"\",#REF!)","v":{"$error":"#REF!"}},{"$f":"IF(Y33=\"\", \"\", IF($L33=\"男\", VLOOKUP(Y33, データ!$B$2:$C$101, 2, FALSE), IF($L33=\"女\", VLOOKUP(Y33, データ!$F$2:$H$101, 2, FALSE), \"\")))","v":{"$error":"#REF!"}},{"$f":"IF(A33=\"\",\"\", IF(#REF!=\"\", \"\",#REF!))","v":{"$error":"#REF!"}},{"$f":" IF(#REF!=\"\", \"\",#REF!)","v":{"$error":"#REF!"}},{"$f":" IF(#REF!=\"\", \"\",#REF!)","v":{"$error":"#REF!"}},{"$f":" IF(#REF!=\"\", \"\",#REF!)","v":{"$error":"#REF!"}},{"$f":" IF(#REF!=\"\", \"\",#REF!)","v":{"$error":"#REF!"}},{"$f":"IF(AE33=\"\", \"\", IF($L33=\"男\", VLOOKUP(AE33, データ!$B$2:$C$101, 2, FALSE), IF($L33=\"女\", VLOOKUP(AE33, データ!$F$2:$H$101, 2, FALSE), \"\")))","v":{"$error":"#REF!"}},{"$f":"IF(A33=\"\",\"\", IF(#REF!=\"\", \"\",#REF!))","v":{"$error":"#REF!"}},{"$f":" IF(#REF!=\"\", \"\",#REF!)","v":{"$error":"#REF!"}},{"$f":" IF(#REF!=\"\", \"\",#REF!)","v":{"$error":"#REF!"}},{"$f":" IF(#REF!=\"\", \"\",#REF!)","v":{"$error":"#REF!"}},{"$f":" IF(#REF!=\"\", \"\",#REF!)","v":{"$error":"#REF!"}},{"$f":"IF(AK33=\"\", \"\", IF($L33=\"男\", VLOOKUP(AK33, データ!$B$2:$C$101, 2, FALSE), IF($L33=\"女\", VLOOKUP(AK33, データ!$F$2:$H$101, 2, FALSE), \"\")))","v":{"$error":"#REF!"}},{"$f":"IF(A33=\"\",\"\", IF(#REF!=\"\", \"\",#REF!))","v":{"$error":"#REF!"}},{"$f":" IF(#REF!=\"\", \"\",#REF!)","v":{"$error":"#REF!"}},{"$f":" IF(#REF!=\"\", \"\",#REF!)","v":{"$error":"#REF!"}},{"$f":" IF(#REF!=\"\", \"\",#REF!)","v":{"$error":"#REF!"}},{"$f":" IF(#REF!=\"\", \"\",#REF!)","v":{"$error":"#REF!"}},{"$f":"IF(AQ33=\"\", \"\", IF($L33=\"男\", VLOOKUP(AQ33, データ!$B$2:$C$101, 2, FALSE), IF($L33=\"女\", VLOOKUP(AQ33, データ!$F$2:$H$101, 2, FALSE), \"\")))","v":{"$error":"#REF!"}},{"$f":"IF(A33=\"\",\"\", IF(#REF!=\"\", \"\",#REF!))","v":{"$error":"#REF!"}},{"$f":" IF(#REF!=\"\", \"\",#REF!)","v":{"$error":"#REF!"}},{"$f":" IF(#REF!=\"\", \"\",#REF!)","v":{"$error":"#REF!"}},{"$f":" IF(#REF!=\"\", \"\",#REF!)","v":{"$error":"#REF!"}},{"$f":" IF(#REF!=\"\", \"\",#REF!)","v":{"$error":"#REF!"}},{"$f":"IF(AW33=\"\", \"\", IF($L33=\"男\", VLOOKUP(AW33, データ!$B$2:$C$101, 2, FALSE), IF($L33=\"女\", VLOOKUP(AW33, データ!$F$2:$H$101, 2, FALSE), \"\")))","v":{"$error":"#REF!"}},{"$f":"IF(A33=\"\",\"\", IF(#REF!=\"\", \"\",#REF!))","v":{"$error":"#REF!"}},{"$f":" IF(#REF!=\"\", \"\",#REF!)","v":{"$error":"#REF!"}},{"$f":" IF(#REF!=\"\", \"\",#REF!)","v":{"$error":"#REF!"}},{"$f":" IF(#REF!=\"\", \"\",#REF!)","v":{"$error":"#REF!"}},{"$f":" IF(#REF!=\"\", \"\",#REF!)","v":{"$error":"#REF!"}},{"$error":"#REF!"}]
[{"$f":"#REF!","v":{"$error":"#REF!"}},{"$f":" IF(#REF!=\"\", \"\",#REF!)","v":{"$error":"#REF!"}},{"$f":" IF(#REF!=\"\", \"\",#REF!)","v":{"$error":"#REF!"}},{"$f":" IF(#REF!=\"\", \"\",#REF!)","v":{"$error":"#REF!"}},{"$error":"#REF!"},{"$error":"#REF!"},{"$error":"#REF!"},{"$error":"#REF!"},{"$f":" IF(#REF!=\"\", \"\",#REF!)","v":{"$error":"#REF!"}},{"$f":" IF(#REF!=\"\", \"\",#REF!)","v":{"$error":"#REF!"}},{"$f":" IF(#REF!=\"\", \"\",#REF!)","v":{"$error":"#REF!"}},{"$f":" IF(#REF!=\"\", \"\",#REF!)","v":{"$error":"#REF!"}},{"$f":" IF(#REF!=\"\", \"\",#REF!)","v":{"$error":"#REF!"}},{"$f":" IF(#REF!=\"\", \"\",#REF!)","v":{"$error":"#REF!"}},{"$f":" IF(#REF!=\"\", \"\",#REF!)","v":{"$error":"#REF!"}},{"$f":" IF(#REF!=\"\", \"\",#REF!)","v":{"$error":"#REF!"}},{"$f":"IF(A34=\"\",\"\",#REF!)","v":{"$error":"#REF!"}},{"$f":" IF(Q34=\"\", \"\",#REF!)","v":{"$error":"#REF!"}},{"$f":" IF(Q34=\"\", \"\",#REF!)","v":{"$error":"#REF!"}},{"$f":" IF(Q34=\"\", \"\",#REF!)","v":{"$error":"#REF!"}},{"$f":" IF(Q34=\"\", \"\",#REF!)","v":{"$error":"#REF!"}},{"$f":" IF(#REF!=\"\", \"\",#REF!)","v":{"$error":"#REF!"}},{"$f":" IF(#REF!=\"\", \"\",#REF!)","v":{"$error":"#REF!"}},{"$f":"IF(Y34=\"\", \"\", IF($L34=\"男\", VLOOKUP(Y34, データ!$B$2:$C$101, 2, FALSE), IF($L34=\"女\", VLOOKUP(Y34, データ!$F$2:$H$101, 2, FALSE), \"\")))","v":{"$error":"#REF!"}},{"$f":"IF(A34=\"\",\"\", IF(#REF!=\"\", \"\",#REF!))","v":{"$error":"#REF!"}},{"$f":" IF(#REF!=\"\", \"\",#REF!)","v":{"$error":"#REF!"}},{"$f":" IF(#REF!=\"\", \"\",#REF!)","v":{"$error":"#REF!"}},{"$f":" IF(#REF!=\"\", \"\",#REF!)","v":{"$error":"#REF!"}},{"$f":" IF(#REF!=\"\", \"\",#REF!)","v":{"$error":"#REF!"}},{"$f":"IF(AE34=\"\", \"\", IF($L34=\"男\", VLOOKUP(AE34, データ!$B$2:$C$101, 2, FALSE), IF($L34=\"女\", VLOOKUP(AE34, データ!$F$2:$H$101, 2, FALSE), \"\")))","v":{"$error":"#REF!"}},{"$f":"IF(A34=\"\",\"\", IF(#REF!=\"\", \"\",#REF!))","v":{"$error":"#REF!"}},{"$f":" IF(#REF!=\"\", \"\",#REF!)","v":{"$error":"#REF!"}},{"$f":" IF(#REF!=\"\", \"\",#REF!)","v":{"$error":"#REF!"}},{"$f":" IF(#REF!=\"\", \"\",#REF!)","v":{"$error":"#REF!"}},{"$f":" IF(#REF!=\"\", \"\",#REF!)","v":{"$error":"#REF!"}},{"$f":"IF(AK34=\"\", \"\", IF($L34=\"男\", VLOOKUP(AK34, データ!$B$2:$C$101, 2, FALSE), IF($L34=\"女\", VLOOKUP(AK34, データ!$F$2:$H$101, 2, FALSE), \"\")))","v":{"$error":"#REF!"}},{"$f":"IF(A34=\"\",\"\", IF(#REF!=\"\", \"\",#REF!))","v":{"$error":"#REF!"}},{"$f":" IF(#REF!=\"\", \"\",#REF!)","v":{"$error":"#REF!"}},{"$f":" IF(#REF!=\"\", \"\",#REF!)","v":{"$error":"#REF!"}},{"$f":" IF(#REF!=\"\", \"\",#REF!)","v":{"$error":"#REF!"}},{"$f":" IF(#REF!=\"\", \"\",#REF!)","v":{"$error":"#REF!"}},{"$f":"IF(AQ34=\"\", \"\", IF($L34=\"男\", VLOOKUP(AQ34, データ!$B$2:$C$101, 2, FALSE), IF($L34=\"女\", VLOOKUP(AQ34, データ!$F$2:$H$101, 2, FALSE), \"\")))","v":{"$error":"#REF!"}},{"$f":"IF(A34=\"\",\"\", IF(#REF!=\"\", \"\",#REF!))","v":{"$error":"#REF!"}},{"$f":" IF(#REF!=\"\", \"\",#REF!)","v":{"$error":"#REF!"}},{"$f":" IF(#REF!=\"\", \"\",#REF!)","v":{"$error":"#REF!"}},{"$f":" IF(#REF!=\"\", \"\",#REF!)","v":{"$error":"#REF!"}},{"$f":" IF(#REF!=\"\", \"\",#REF!)","v":{"$error":"#REF!"}},{"$f":"IF(AW34=\"\", \"\", IF($L34=\"男\", VLOOKUP(AW34, データ!$B$2:$C$101, 2, FALSE), IF($L34=\"女\", VLOOKUP(AW34, データ!$F$2:$H$101, 2, FALSE), \"\")))","v":{"$error":"#REF!"}},{"$f":"IF(A34=\"\",\"\", IF(#REF!=\"\", \"\",#REF!))","v":{"$error":"#REF!"}},{"$f":" IF(#REF!=\"\", \"\",#REF!)","v":{"$error":"#REF!"}},{"$f":" IF(#REF!=\"\", \"\",#REF!)","v":{"$error":"#REF!"}},{"$f":" IF(#REF!=\"\", \"\",#REF!)","v":{"$error":"#REF!"}},{"$f":" IF(#REF!=\"\", \"\",#REF!)","v":{"$error":"#REF!"}},{"$error":"#REF!"}]
[{"$f":"#REF!","v":{"$error":"#REF!"}},{"$f":" IF(#REF!=\"\", \"\",#REF!)","v":{"$error":"#REF!"}},{"$f":" IF(#REF!=\"\", \"\",#REF!)","v":{"$error":"#REF!"}},{"$f":" IF(#REF!=\"\", \"\",#REF!)","v":{"$error":"#REF!"}},{"$error":"#REF!"},{"$error":"#REF!"},{"$error":"#REF!"},{"$error":"#REF!"},{"$f":" IF(#REF!=\"\", \"\",#REF!)","v":{"$error":"#REF!"}},{"$f":" IF(#REF!=\"\", \"\",#REF!)","v":{"$error":"#REF!"}},{"$f":" IF(#REF!=\"\", \"\",#REF!)","v":{"$error":"#REF!"}},{"$f":" IF(#REF!=\"\", \"\",#REF!)","v":{"$error":"#REF!"}},{"$f":" IF(#REF!=\"\", \"\",#REF!)","v":{"$error":"#REF!"}},{"$f":" IF(#REF!=\"\", \"\",#REF!)","v":{"$error":"#REF!"}},{"$f":" IF(#REF!=\"\", \"\",#REF!)","v":{"$error":"#REF!"}},{"$f":" IF(#REF!=\"\", \"\",#REF!)","v":{"$error":"#REF!"}},{"$f":"IF(A35=\"\",\"\",#REF!)","v":{"$error":"#REF!"}},{"$f":" IF(Q35=\"\", \"\",#REF!)","v":{"$error":"#REF!"}},{"$f":" IF(Q35=\"\", \"\",#REF!)","v":{"$error":"#REF!"}},{"$f":" IF(Q35=\"\", \"\",#REF!)","v":{"$error":"#REF!"}},{"$f":" IF(Q35=\"\", \"\",#REF!)","v":{"$error":"#REF!"}},{"$f":" IF(#REF!=\"\", \"\",#REF!)","v":{"$error":"#REF!"}},{"$f":" IF(#REF!=\"\", \"\",#REF!)","v":{"$error":"#REF!"}},{"$f":"IF(Y35=\"\", \"\", IF($L35=\"男\", VLOOKUP(Y35, データ!$B$2:$C$101, 2, FALSE), IF($L35=\"女\", VLOOKUP(Y35, データ!$F$2:$H$101, 2, FALSE), \"\")))","v":{"$error":"#REF!"}},{"$f":"IF(A35=\"\",\"\", IF(#REF!=\"\", \"\",#REF!))","v":{"$error":"#REF!"}},{"$f":" IF(#REF!=\"\", \"\",#REF!)","v":{"$error":"#REF!"}},{"$f":" IF(#REF!=\"\", \"\",#REF!)","v":{"$error":"#REF!"}},{"$f":" IF(#REF!=\"\", \"\",#REF!)","v":{"$error":"#REF!"}},{"$f":" IF(#REF!=\"\", \"\",#REF!)","v":{"$error":"#REF!"}},{"$f":"IF(AE35=\"\", \"\", IF($L35=\"男\", VLOOKUP(AE35, データ!$B$2:$C$101, 2, FALSE), IF($L35=\"女\", VLOOKUP(AE35, データ!$F$2:$H$101, 2, FALSE), \"\")))","v":{"$error":"#REF!"}},{"$f":"IF(A35=\"\",\"\", IF(#REF!=\"\", \"\",#REF!))","v":{"$error":"#REF!"}},{"$f":" IF(#REF!=\"\", \"\",#REF!)","v":{"$error":"#REF!"}},{"$f":" IF(#REF!=\"\", \"\",#REF!)","v":{"$error":"#REF!"}},{"$f":" IF(#REF!=\"\", \"\",#REF!)","v":{"$error":"#REF!"}},{"$f":" IF(#REF!=\"\", \"\",#REF!)","v":{"$error":"#REF!"}},{"$f":"IF(AK35=\"\", \"\", IF($L35=\"男\", VLOOKUP(AK35, データ!$B$2:$C$101, 2, FALSE), IF($L35=\"女\", VLOOKUP(AK35, データ!$F$2:$H$101, 2, FALSE), \"\")))","v":{"$error":"#REF!"}},{"$f":"IF(A35=\"\",\"\", IF(#REF!=\"\", \"\",#REF!))","v":{"$error":"#REF!"}},{"$f":" IF(#REF!=\"\", \"\",#REF!)","v":{"$error":"#REF!"}},{"$f":" IF(#REF!=\"\", \"\",#REF!)","v":{"$error":"#REF!"}},{"$f":" IF(#REF!=\"\", \"\",#REF!)","v":{"$error":"#REF!"}},{"$f":" IF(#REF!=\"\", \"\",#REF!)","v":{"$error":"#REF!"}},{"$f":"IF(AQ35=\"\", \"\", IF($L35=\"男\", VLOOKUP(AQ35, データ!$B$2:$C$101, 2, FALSE), IF($L35=\"女\", VLOOKUP(AQ35, データ!$F$2:$H$101, 2, FALSE), \"\")))","v":{"$error":"#REF!"}},{"$f":"IF(A35=\"\",\"\", IF(#REF!=\"\", \"\",#REF!))","v":{"$error":"#REF!"}},{"$f":" IF(#REF!=\"\", \"\",#REF!)","v":{"$error":"#REF!"}},{"$f":" IF(#REF!=\"\", \"\",#REF!)","v":{"$error":"#REF!"}},{"$f":" IF(#REF!=\"\", \"\",#REF!)","v":{"$error":"#REF!"}},{"$f":" IF(#REF!=\"\", \"\",#REF!)","v":{"$error":"#REF!"}},{"$f":"IF(AW35=\"\", \"\", IF($L35=\"男\", VLOOKUP(AW35, データ!$B$2:$C$101, 2, FALSE), IF($L35=\"女\", VLOOKUP(AW35, データ!$F$2:$H$101, 2, FALSE), \"\")))","v":{"$error":"#REF!"}},{"$f":"IF(A35=\"\",\"\", IF(#REF!=\"\", \"\",#REF!))","v":{"$error":"#REF!"}},{"$f":" IF(#REF!=\"\", \"\",#REF!)","v":{"$error":"#REF!"}},{"$f":" IF(#REF!=\"\", \"\",#REF!)","v":{"$error":"#REF!"}},{"$f":" IF(#REF!=\"\", \"\",#REF!)","v":{"$error":"#REF!"}},{"$f":" IF(#REF!=\"\", \"\",#REF!)","v":{"$error":"#REF!"}},{"$error":"#REF!"}]
[{"$f":"#REF!","v":{"$error":"#REF!"}},{"$f":" IF(#REF!=\"\", \"\",#REF!)","v":{"$error":"#REF!"}},{"$f":" IF(#REF!=\"\", \"\",#REF!)","v":{"$error":"#REF!"}},{"$f":" IF(#REF!=\"\", \"\",#REF!)","v":{"$error":"#REF!"}},{"$error":"#REF!"},{"$error":"#REF!"},{"$error":"#REF!"},{"$error":"#REF!"},{"$f":" IF(#REF!=\"\", \"\",#REF!)","v":{"$error":"#REF!"}},{"$f":" IF(#REF!=\"\", \"\",#REF!)","v":{"$error":"#REF!"}},{"$f":" IF(#REF!=\"\", \"\",#REF!)","v":{"$error":"#REF!"}},{"$f":" IF(#REF!=\"\", \"\",#REF!)","v":{"$error":"#REF!"}},{"$f":" IF(#REF!=\"\", \"\",#REF!)","v":{"$error":"#REF!"}},{"$f":" IF(#REF!=\"\", \"\",#REF!)","v":{"$error":"#REF!"}},{"$f":" IF(#REF!=\"\", \"\",#REF!)","v":{"$error":"#REF!"}},{"$f":" IF(#REF!=\"\", \"\",#REF!)","v":{"$error":"#REF!"}},{"$f":"IF(A36=\"\",\"\",#REF!)","v":{"$error":"#REF!"}},{"$f":" IF(Q36=\"\", \"\",#REF!)","v":{"$error":"#REF!"}},{"$f":" IF(Q36=\"\", \"\",#REF!)","v":{"$error":"#REF!"}},{"$f":" IF(Q36=\"\", \"\",#REF!)","v":{"$error":"#REF!"}},{"$f":" IF(Q36=\"\", \"\",#REF!)","v":{"$error":"#REF!"}},{"$f":" IF(#REF!=\"\", \"\",#REF!)","v":{"$error":"#REF!"}},{"$f":" IF(#REF!=\"\", \"\",#REF!)","v":{"$error":"#REF!"}},{"$f":"IF(Y36=\"\", \"\", IF($L36=\"男\", VLOOKUP(Y36, データ!$B$2:$C$101, 2, FALSE), IF($L36=\"女\", VLOOKUP(Y36, データ!$F$2:$H$101, 2, FALSE), \"\")))","v":{"$error":"#REF!"}},{"$f":"IF(A36=\"\",\"\", IF(#REF!=\"\", \"\",#REF!))","v":{"$error":"#REF!"}},{"$f":" IF(#REF!=\"\", \"\",#REF!)","v":{"$error":"#REF!"}},{"$f":" IF(#REF!=\"\", \"\",#REF!)","v":{"$error":"#REF!"}},{"$f":" IF(#REF!=\"\", \"\",#REF!)","v":{"$error":"#REF!"}},{"$f":" IF(#REF!=\"\", \"\",#REF!)","v":{"$error":"#REF!"}},{"$f":"IF(AE36=\"\", \"\", IF($L36=\"男\", VLOOKUP(AE36, データ!$B$2:$C$101, 2, FALSE), IF($L36=\"女\", VLOOKUP(AE36, データ!$F$2:$H$101, 2, FALSE), \"\")))","v":{"$error":"#REF!"}},{"$f":"IF(A36=\"\",\"\", IF(#REF!=\"\", \"\",#REF!))","v":{"$error":"#REF!"}},{"$f":" IF(#REF!=\"\", \"\",#REF!)","v":{"$error":"#REF!"}},{"$f":" IF(#REF!=\"\", \"\",#REF!)","v":{"$error":"#REF!"}},{"$f":" IF(#REF!=\"\", \"\",#REF!)","v":{"$error":"#REF!"}},{"$f":" IF(#REF!=\"\", \"\",#REF!)","v":{"$error":"#REF!"}},{"$f":"IF(AK36=\"\", \"\", IF($L36=\"男\", VLOOKUP(AK36, データ!$B$2:$C$101, 2, FALSE), IF($L36=\"女\", VLOOKUP(AK36, データ!$F$2:$H$101, 2, FALSE), \"\")))","v":{"$error":"#REF!"}},{"$f":"IF(A36=\"\",\"\", IF(#REF!=\"\", \"\",#REF!))","v":{"$error":"#REF!"}},{"$f":" IF(#REF!=\"\", \"\",#REF!)","v":{"$error":"#REF!"}},{"$f":" IF(#REF!=\"\", \"\",#REF!)","v":{"$error":"#REF!"}},{"$f":" IF(#REF!=\"\", \"\",#REF!)","v":{"$error":"#REF!"}},{"$f":" IF(#REF!=\"\", \"\",#REF!)","v":{"$error":"#REF!"}},{"$f":"IF(AQ36=\"\", \"\", IF($L36=\"男\", VLOOKUP(AQ36, データ!$B$2:$C$101, 2, FALSE), IF($L36=\"女\", VLOOKUP(AQ36, データ!$F$2:$H$101, 2, FALSE), \"\")))","v":{"$error":"#REF!"}},{"$f":"IF(A36=\"\",\"\", IF(#REF!=\"\", \"\",#REF!))","v":{"$error":"#REF!"}},{"$f":" IF(#REF!=\"\", \"\",#REF!)","v":{"$error":"#REF!"}},{"$f":" IF(#REF!=\"\", \"\",#REF!)","v":{"$error":"#REF!"}},{"$f":" IF(#REF!=\"\", \"\",#REF!)","v":{"$error":"#REF!"}},{"$f":" IF(#REF!=\"\", \"\",#REF!)","v":{"$error":"#REF!"}},{"$f":"IF(AW36=\"\", \"\", IF($L36=\"男\", VLOOKUP(AW36, データ!$B$2:$C$101, 2, FALSE), IF($L36=\"女\", VLOOKUP(AW36, データ!$F$2:$H$101, 2, FALSE), \"\")))","v":{"$error":"#REF!"}},{"$f":"IF(A36=\"\",\"\", IF(#REF!=\"\", \"\",#REF!))","v":{"$error":"#REF!"}},{"$f":" IF(#REF!=\"\", \"\",#REF!)","v":{"$error":"#REF!"}},{"$f":" IF(#REF!=\"\", \"\",#REF!)","v":{"$error":"#REF!"}},{"$f":" IF(#REF!=\"\", \"\",#REF!)","v":{"$error":"#REF!"}},{"$f":" IF(#REF!=\"\", \"\",#REF!)","v":{"$error":"#REF!"}},{"$error":"#REF!"}]
[{"$f":"#REF!","v":{"$error":"#REF!"}},{"$f":" IF(#REF!=\"\", \"\",#REF!)","v":{"$error":"#REF!"}},{"$f":" IF(#REF!=\"\", \"\",#REF!)","v":{"$error":"#REF!"}},{"$f":" IF(#REF!=\"\", \"\",#REF!)","v":{"$error":"#REF!"}},{"$error":"#REF!"},{"$error":"#REF!"},{"$error":"#REF!"},{"$error":"#REF!"},{"$f":" IF(#REF!=\"\", \"\",#REF!)","v":{"$error":"#REF!"}},{"$f":" IF(#REF!=\"\", \"\",#REF!)","v":{"$error":"#REF!"}},{"$f":" IF(#REF!=\"\", \"\",#REF!)","v":{"$error":"#REF!"}},{"$f":" IF(#REF!=\"\", \"\",#REF!)","v":{"$error":"#REF!"}},{"$f":" IF(#REF!=\"\", \"\",#REF!)","v":{"$error":"#REF!"}},{"$f":" IF(#REF!=\"\", \"\",#REF!)","v":{"$error":"#REF!"}},{"$f":" IF(#REF!=\"\", \"\",#REF!)","v":{"$error":"#REF!"}},{"$f":" IF(#REF!=\"\", \"\",#REF!)","v":{"$error":"#REF!"}},{"$f":"IF(A37=\"\",\"\",#REF!)","v":{"$error":"#REF!"}},{"$f":" IF(Q37=\"\", \"\",#REF!)","v":{"$error":"#REF!"}},{"$f":" IF(Q37=\"\", \"\",#REF!)","v":{"$error":"#REF!"}},{"$f":" IF(Q37=\"\", \"\",#REF!)","v":{"$error":"#REF!"}},{"$f":" IF(Q37=\"\", \"\",#REF!)","v":{"$error":"#REF!"}},{"$f":" IF(#REF!=\"\", \"\",#REF!)","v":{"$error":"#REF!"}},{"$f":" IF(#REF!=\"\", \"\",#REF!)","v":{"$error":"#REF!"}},{"$f":"IF(Y37=\"\", \"\", IF($L37=\"男\", VLOOKUP(Y37, データ!$B$2:$C$101, 2, FALSE), IF($L37=\"女\", VLOOKUP(Y37, データ!$F$2:$H$101, 2, FALSE), \"\")))","v":{"$error":"#REF!"}},{"$f":"IF(A37=\"\",\"\", IF(#REF!=\"\", \"\",#REF!))","v":{"$error":"#REF!"}},{"$f":" IF(#REF!=\"\", \"\",#REF!)","v":{"$error":"#REF!"}},{"$f":" IF(#REF!=\"\", \"\",#REF!)","v":{"$error":"#REF!"}},{"$f":" IF(#REF!=\"\", \"\",#REF!)","v":{"$error":"#REF!"}},{"$f":" IF(#REF!=\"\", \"\",#REF!)","v":{"$error":"#REF!"}},{"$f":"IF(AE37=\"\", \"\", IF($L37=\"男\", VLOOKUP(AE37, データ!$B$2:$C$101, 2, FALSE), IF($L37=\"女\", VLOOKUP(AE37, データ!$F$2:$H$101, 2, FALSE), \"\")))","v":{"$error":"#REF!"}},{"$f":"IF(A37=\"\",\"\", IF(#REF!=\"\", \"\",#REF!))","v":{"$error":"#REF!"}},{"$f":" IF(#REF!=\"\", \"\",#REF!)","v":{"$error":"#REF!"}},{"$f":" IF(#REF!=\"\", \"\",#REF!)","v":{"$error":"#REF!"}},{"$f":" IF(#REF!=\"\", \"\",#REF!)","v":{"$error":"#REF!"}},{"$f":" IF(#REF!=\"\", \"\",#REF!)","v":{"$error":"#REF!"}},{"$f":"IF(AK37=\"\", \"\", IF($L37=\"男\", VLOOKUP(AK37, データ!$B$2:$C$101, 2, FALSE), IF($L37=\"女\", VLOOKUP(AK37, データ!$F$2:$H$101, 2, FALSE), \"\")))","v":{"$error":"#REF!"}},{"$f":"IF(A37=\"\",\"\", IF(#REF!=\"\", \"\",#REF!))","v":{"$error":"#REF!"}},{"$f":" IF(#REF!=\"\", \"\",#REF!)","v":{"$error":"#REF!"}},{"$f":" IF(#REF!=\"\", \"\",#REF!)","v":{"$error":"#REF!"}},{"$f":" IF(#REF!=\"\", \"\",#REF!)","v":{"$error":"#REF!"}},{"$f":" IF(#REF!=\"\", \"\",#REF!)","v":{"$error":"#REF!"}},{"$f":"IF(AQ37=\"\", \"\", IF($L37=\"男\", VLOOKUP(AQ37, データ!$B$2:$C$101, 2, FALSE), IF($L37=\"女\", VLOOKUP(AQ37, データ!$F$2:$H$101, 2, FALSE), \"\")))","v":{"$error":"#REF!"}},{"$f":"IF(A37=\"\",\"\", IF(#REF!=\"\", \"\",#REF!))","v":{"$error":"#REF!"}},{"$f":" IF(#REF!=\"\", \"\",#REF!)","v":{"$error":"#REF!"}},{"$f":" IF(#REF!=\"\", \"\",#REF!)","v":{"$error":"#REF!"}},{"$f":" IF(#REF!=\"\", \"\",#REF!)","v":{"$error":"#REF!"}},{"$f":" IF(#REF!=\"\", \"\",#REF!)","v":{"$error":"#REF!"}},{"$f":"IF(AW37=\"\", \"\", IF($L37=\"男\", VLOOKUP(AW37, データ!$B$2:$C$101, 2, FALSE), IF($L37=\"女\", VLOOKUP(AW37, データ!$F$2:$H$101, 2, FALSE), \"\")))","v":{"$error":"#REF!"}},{"$f":"IF(A37=\"\",\"\", IF(#REF!=\"\", \"\",#REF!))","v":{"$error":"#REF!"}},{"$f":" IF(#REF!=\"\", \"\",#REF!)","v":{"$error":"#REF!"}},{"$f":" IF(#REF!=\"\", \"\",#REF!)","v":{"$error":"#REF!"}},{"$f":" IF(#REF!=\"\", \"\",#REF!)","v":{"$error":"#REF!"}},{"$f":" IF(#REF!=\"\", \"\",#REF!)","v":{"$error":"#REF!"}},{"$error":"#REF!"}]
[{"$f":"#REF!","v":{"$error":"#REF!"}},{"$f":" IF(#REF!=\"\", \"\",#REF!)","v":{"$error":"#REF!"}},{"$f":" IF(#REF!=\"\", \"\",#REF!)","v":{"$error":"#REF!"}},{"$f":" IF(#REF!=\"\", \"\",#REF!)","v":{"$error":"#REF!"}},{"$error":"#REF!"},{"$error":"#REF!"},{"$error":"#REF!"},{"$error":"#REF!"},{"$f":" IF(#REF!=\"\", \"\",#REF!)","v":{"$error":"#REF!"}},{"$f":" IF(#REF!=\"\", \"\",#REF!)","v":{"$error":"#REF!"}},{"$f":" IF(#REF!=\"\", \"\",#REF!)","v":{"$error":"#REF!"}},{"$f":" IF(#REF!=\"\", \"\",#REF!)","v":{"$error":"#REF!"}},{"$f":" IF(#REF!=\"\", \"\",#REF!)","v":{"$error":"#REF!"}},{"$f":" IF(#REF!=\"\", \"\",#REF!)","v":{"$error":"#REF!"}},{"$f":" IF(#REF!=\"\", \"\",#REF!)","v":{"$error":"#REF!"}},{"$f":" IF(#REF!=\"\", \"\",#REF!)","v":{"$error":"#REF!"}},{"$f":"IF(A38=\"\",\"\",#REF!)","v":{"$error":"#REF!"}},{"$f":" IF(Q38=\"\", \"\",#REF!)","v":{"$error":"#REF!"}},{"$f":" IF(Q38=\"\", \"\",#REF!)","v":{"$error":"#REF!"}},{"$f":" IF(Q38=\"\", \"\",#REF!)","v":{"$error":"#REF!"}},{"$f":" IF(Q38=\"\", \"\",#REF!)","v":{"$error":"#REF!"}},{"$f":" IF(#REF!=\"\", \"\",#REF!)","v":{"$error":"#REF!"}},{"$f":" IF(#REF!=\"\", \"\",#REF!)","v":{"$error":"#REF!"}},{"$f":"IF(Y38=\"\", \"\", IF($L38=\"男\", VLOOKUP(Y38, データ!$B$2:$C$101, 2, FALSE), IF($L38=\"女\", VLOOKUP(Y38, データ!$F$2:$H$101, 2, FALSE), \"\")))","v":{"$error":"#REF!"}},{"$f":"IF(A38=\"\",\"\", IF(#REF!=\"\", \"\",#REF!))","v":{"$error":"#REF!"}},{"$f":" IF(#REF!=\"\", \"\",#REF!)","v":{"$error":"#REF!"}},{"$f":" IF(#REF!=\"\", \"\",#REF!)","v":{"$error":"#REF!"}},{"$f":" IF(#REF!=\"\", \"\",#REF!)","v":{"$error":"#REF!"}},{"$f":" IF(#REF!=\"\", \"\",#REF!)","v":{"$error":"#REF!"}},{"$f":"IF(AE38=\"\", \"\", IF($L38=\"男\", VLOOKUP(AE38, データ!$B$2:$C$101, 2, FALSE), IF($L38=\"女\", VLOOKUP(AE38, データ!$F$2:$H$101, 2, FALSE), \"\")))","v":{"$error":"#REF!"}},{"$f":"IF(A38=\"\",\"\", IF(#REF!=\"\", \"\",#REF!))","v":{"$error":"#REF!"}},{"$f":" IF(#REF!=\"\", \"\",#REF!)","v":{"$error":"#REF!"}},{"$f":" IF(#REF!=\"\", \"\",#REF!)","v":{"$error":"#REF!"}},{"$f":" IF(#REF!=\"\", \"\",#REF!)","v":{"$error":"#REF!"}},{"$f":" IF(#REF!=\"\", \"\",#REF!)","v":{"$error":"#REF!"}},{"$f":"IF(AK38=\"\", \"\", IF($L38=\"男\", VLOOKUP(AK38, データ!$B$2:$C$101, 2, FALSE), IF($L38=\"女\", VLOOKUP(AK38, データ!$F$2:$H$101, 2, FALSE), \"\")))","v":{"$error":"#REF!"}},{"$f":"IF(A38=\"\",\"\", IF(#REF!=\"\", \"\",#REF!))","v":{"$error":"#REF!"}},{"$f":" IF(#REF!=\"\", \"\",#REF!)","v":{"$error":"#REF!"}},{"$f":" IF(#REF!=\"\", \"\",#REF!)","v":{"$error":"#REF!"}},{"$f":" IF(#REF!=\"\", \"\",#REF!)","v":{"$error":"#REF!"}},{"$f":" IF(#REF!=\"\", \"\",#REF!)","v":{"$error":"#REF!"}},{"$f":"IF(AQ38=\"\", \"\", IF($L38=\"男\", VLOOKUP(AQ38, データ!$B$2:$C$101, 2, FALSE), IF($L38=\"女\", VLOOKUP(AQ38, データ!$F$2:$H$101, 2, FALSE), \"\")))","v":{"$error":"#REF!"}},{"$f":"IF(A38=\"\",\"\", IF(#REF!=\"\", \"\",#REF!))","v":{"$error":"#REF!"}},{"$f":" IF(#REF!=\"\", \"\",#REF!)","v":{"$error":"#REF!"}},{"$f":" IF(#REF!=\"\", \"\",#REF!)","v":{"$error":"#REF!"}},{"$f":" IF(#REF!=\"\", \"\",#REF!)","v":{"$error":"#REF!"}},{"$f":" IF(#REF!=\"\", \"\",#REF!)","v":{"$error":"#REF!"}},{"$f":"IF(AW38=\"\", \"\", IF($L38=\"男\", VLOOKUP(AW38, データ!$B$2:$C$101, 2, FALSE), IF($L38=\"女\", VLOOKUP(AW38, データ!$F$2:$H$101, 2, FALSE), \"\")))","v":{"$error":"#REF!"}},{"$f":"IF(A38=\"\",\"\", IF(#REF!=\"\", \"\",#REF!))","v":{"$error":"#REF!"}},{"$f":" IF(#REF!=\"\", \"\",#REF!)","v":{"$error":"#REF!"}},{"$f":" IF(#REF!=\"\", \"\",#REF!)","v":{"$error":"#REF!"}},{"$f":" IF(#REF!=\"\", \"\",#REF!)","v":{"$error":"#REF!"}},{"$f":" IF(#REF!=\"\", \"\",#REF!)","v":{"$error":"#REF!"}},{"$error":"#REF!"}]
[{"$f":"#REF!","v":{"$error":"#REF!"}},{"$f":" IF(#REF!=\"\", \"\",#REF!)","v":{"$error":"#REF!"}},{"$f":" IF(#REF!=\"\", \"\",#REF!)","v":{"$error":"#REF!"}},{"$f":" IF(#REF!=\"\", \"\",#REF!)","v":{"$error":"#REF!"}},{"$error":"#REF!"},{"$error":"#REF!"},{"$error":"#REF!"},{"$error":"#REF!"},{"$f":" IF(#REF!=\"\", \"\",#REF!)","v":{"$error":"#REF!"}},{"$f":" IF(#REF!=\"\", \"\",#REF!)","v":{"$error":"#REF!"}},{"$f":" IF(#REF!=\"\", \"\",#REF!)","v":{"$error":"#REF!"}},{"$f":" IF(#REF!=\"\", \"\",#REF!)","v":{"$error":"#REF!"}},{"$f":" IF(#REF!=\"\", \"\",#REF!)","v":{"$error":"#REF!"}},{"$f":" IF(#REF!=\"\", \"\",#REF!)","v":{"$error":"#REF!"}},{"$f":" IF(#REF!=\"\", \"\",#REF!)","v":{"$error":"#REF!"}},{"$f":" IF(#REF!=\"\", \"\",#REF!)","v":{"$error":"#REF!"}},{"$f":"IF(A39=\"\",\"\",#REF!)","v":{"$error":"#REF!"}},{"$f":" IF(Q39=\"\", \"\",#REF!)","v":{"$error":"#REF!"}},{"$f":" IF(Q39=\"\", \"\",#REF!)","v":{"$error":"#REF!"}},{"$f":" IF(Q39=\"\", \"\",#REF!)","v":{"$error":"#REF!"}},{"$f":" IF(Q39=\"\", \"\",#REF!)","v":{"$error":"#REF!"}},{"$f":" IF(#REF!=\"\", \"\",#REF!)","v":{"$error":"#REF!"}},{"$f":" IF(#REF!=\"\", \"\",#REF!)","v":{"$error":"#REF!"}},{"$f":"IF(Y39=\"\", \"\", IF($L39=\"男\", VLOOKUP(Y39, データ!$B$2:$C$101, 2, FALSE), IF($L39=\"女\", VLOOKUP(Y39, データ!$F$2:$H$101, 2, FALSE), \"\")))","v":{"$error":"#REF!"}},{"$f":"IF(A39=\"\",\"\", IF(#REF!=\"\", \"\",#REF!))","v":{"$error":"#REF!"}},{"$f":" IF(#REF!=\"\", \"\",#REF!)","v":{"$error":"#REF!"}},{"$f":" IF(#REF!=\"\", \"\",#REF!)","v":{"$error":"#REF!"}},{"$f":" IF(#REF!=\"\", \"\",#REF!)","v":{"$error":"#REF!"}},{"$f":" IF(#REF!=\"\", \"\",#REF!)","v":{"$error":"#REF!"}},{"$f":"IF(AE39=\"\", \"\", IF($L39=\"男\", VLOOKUP(AE39, データ!$B$2:$C$101, 2, FALSE), IF($L39=\"女\", VLOOKUP(AE39, データ!$F$2:$H$101, 2, FALSE), \"\")))","v":{"$error":"#REF!"}},{"$f":"IF(A39=\"\",\"\", IF(#REF!=\"\", \"\",#REF!))","v":{"$error":"#REF!"}},{"$f":" IF(#REF!=\"\", \"\",#REF!)","v":{"$error":"#REF!"}},{"$f":" IF(#REF!=\"\", \"\",#REF!)","v":{"$error":"#REF!"}},{"$f":" IF(#REF!=\"\", \"\",#REF!)","v":{"$error":"#REF!"}},{"$f":" IF(#REF!=\"\", \"\",#REF!)","v":{"$error":"#REF!"}},{"$f":"IF(AK39=\"\", \"\", IF($L39=\"男\", VLOOKUP(AK39, データ!$B$2:$C$101, 2, FALSE), IF($L39=\"女\", VLOOKUP(AK39, データ!$F$2:$H$101, 2, FALSE), \"\")))","v":{"$error":"#REF!"}},{"$f":"IF(A39=\"\",\"\", IF(#REF!=\"\", \"\",#REF!))","v":{"$error":"#REF!"}},{"$f":" IF(#REF!=\"\", \"\",#REF!)","v":{"$error":"#REF!"}},{"$f":" IF(#REF!=\"\", \"\",#REF!)","v":{"$error":"#REF!"}},{"$f":" IF(#REF!=\"\", \"\",#REF!)","v":{"$error":"#REF!"}},{"$f":" IF(#REF!=\"\", \"\",#REF!)","v":{"$error":"#REF!"}},{"$f":"IF(AQ39=\"\", \"\", IF($L39=\"男\", VLOOKUP(AQ39, データ!$B$2:$C$101, 2, FALSE), IF($L39=\"女\", VLOOKUP(AQ39, データ!$F$2:$H$101, 2, FALSE), \"\")))","v":{"$error":"#REF!"}},{"$f":"IF(A39=\"\",\"\", IF(#REF!=\"\", \"\",#REF!))","v":{"$error":"#REF!"}},{"$f":" IF(#REF!=\"\", \"\",#REF!)","v":{"$error":"#REF!"}},{"$f":" IF(#REF!=\"\", \"\",#REF!)","v":{"$error":"#REF!"}},{"$f":" IF(#REF!=\"\", \"\",#REF!)","v":{"$error":"#REF!"}},{"$f":" IF(#REF!=\"\", \"\",#REF!)","v":{"$error":"#REF!"}},{"$f":"IF(AW39=\"\", \"\", IF($L39=\"男\", VLOOKUP(AW39, データ!$B$2:$C$101, 2, FALSE), IF($L39=\"女\", VLOOKUP(AW39, データ!$F$2:$H$101, 2, FALSE), \"\")))","v":{"$error":"#REF!"}},{"$f":"IF(A39=\"\",\"\", IF(#REF!=\"\", \"\",#REF!))","v":{"$error":"#REF!"}},{"$f":" IF(#REF!=\"\", \"\",#REF!)","v":{"$error":"#REF!"}},{"$f":" IF(#REF!=\"\", \"\",#REF!)","v":{"$error":"#REF!"}},{"$f":" IF(#REF!=\"\", \"\",#REF!)","v":{"$error":"#REF!"}},{"$f":" IF(#REF!=\"\", \"\",#REF!)","v":{"$error":"#REF!"}},{"$error":"#REF!"}]
[{"$f":"#REF!","v":{"$error":"#REF!"}},{"$f":" IF(#REF!=\"\", \"\",#REF!)","v":{"$error":"#REF!"}},{"$f":" IF(#REF!=\"\", \"\",#REF!)","v":{"$error":"#REF!"}},{"$f":" IF(#REF!=\"\", \"\",#REF!)","v":{"$error":"#REF!"}},{"$error":"#REF!"},{"$error":"#REF!"},{"$error":"#REF!"},{"$error":"#REF!"},{"$f":" IF(#REF!=\"\", \"\",#REF!)","v":{"$error":"#REF!"}},{"$f":" IF(#REF!=\"\", \"\",#REF!)","v":{"$error":"#REF!"}},{"$f":" IF(#REF!=\"\", \"\",#REF!)","v":{"$error":"#REF!"}},{"$f":" IF(#REF!=\"\", \"\",#REF!)","v":{"$error":"#REF!"}},{"$f":" IF(#REF!=\"\", \"\",#REF!)","v":{"$error":"#REF!"}},{"$f":" IF(#REF!=\"\", \"\",#REF!)","v":{"$error":"#REF!"}},{"$f":" IF(#REF!=\"\", \"\",#REF!)","v":{"$error":"#REF!"}},{"$f":" IF(#REF!=\"\", \"\",#REF!)","v":{"$error":"#REF!"}},{"$f":"IF(A40=\"\",\"\",#REF!)","v":{"$error":"#REF!"}},{"$f":" IF(Q40=\"\", \"\",#REF!)","v":{"$error":"#REF!"}},{"$f":" IF(Q40=\"\", \"\",#REF!)","v":{"$error":"#REF!"}},{"$f":" IF(Q40=\"\", \"\",#REF!)","v":{"$error":"#REF!"}},{"$f":" IF(Q40=\"\", \"\",#REF!)","v":{"$error":"#REF!"}},{"$f":" IF(#REF!=\"\", \"\",#REF!)","v":{"$error":"#REF!"}},{"$f":" IF(#REF!=\"\", \"\",#REF!)","v":{"$error":"#REF!"}},{"$f":"IF(Y40=\"\", \"\", IF($L40=\"男\", VLOOKUP(Y40, データ!$B$2:$C$101, 2, FALSE), IF($L40=\"女\", VLOOKUP(Y40, データ!$F$2:$H$101, 2, FALSE), \"\")))","v":{"$error":"#REF!"}},{"$f":"IF(A40=\"\",\"\", IF(#REF!=\"\", \"\",#REF!))","v":{"$error":"#REF!"}},{"$f":" IF(#REF!=\"\", \"\",#REF!)","v":{"$error":"#REF!"}},{"$f":" IF(#REF!=\"\", \"\",#REF!)","v":{"$error":"#REF!"}},{"$f":" IF(#REF!=\"\", \"\",#REF!)","v":{"$error":"#REF!"}},{"$f":" IF(#REF!=\"\", \"\",#REF!)","v":{"$error":"#REF!"}},{"$f":"IF(AE40=\"\", \"\", IF($L40=\"男\", VLOOKUP(AE40, データ!$B$2:$C$101, 2, FALSE), IF($L40=\"女\", VLOOKUP(AE40, データ!$F$2:$H$101, 2, FALSE), \"\")))","v":{"$error":"#REF!"}},{"$f":"IF(A40=\"\",\"\", IF(#REF!=\"\", \"\",#REF!))","v":{"$error":"#REF!"}},{"$f":" IF(#REF!=\"\", \"\",#REF!)","v":{"$error":"#REF!"}},{"$f":" IF(#REF!=\"\", \"\",#REF!)","v":{"$error":"#REF!"}},{"$f":" IF(#REF!=\"\", \"\",#REF!)","v":{"$error":"#REF!"}},{"$f":" IF(#REF!=\"\", \"\",#REF!)","v":{"$error":"#REF!"}},{"$f":"IF(AK40=\"\", \"\", IF($L40=\"男\", VLOOKUP(AK40, データ!$B$2:$C$101, 2, FALSE), IF($L40=\"女\", VLOOKUP(AK40, データ!$F$2:$H$101, 2, FALSE), \"\")))","v":{"$error":"#REF!"}},{"$f":"IF(A40=\"\",\"\", IF(#REF!=\"\", \"\",#REF!))","v":{"$error":"#REF!"}},{"$f":" IF(#REF!=\"\", \"\",#REF!)","v":{"$error":"#REF!"}},{"$f":" IF(#REF!=\"\", \"\",#REF!)","v":{"$error":"#REF!"}},{"$f":" IF(#REF!=\"\", \"\",#REF!)","v":{"$error":"#REF!"}},{"$f":" IF(#REF!=\"\", \"\",#REF!)","v":{"$error":"#REF!"}},{"$f":"IF(AQ40=\"\", \"\", IF($L40=\"男\", VLOOKUP(AQ40, データ!$B$2:$C$101, 2, FALSE), IF($L40=\"女\", VLOOKUP(AQ40, データ!$F$2:$H$101, 2, FALSE), \"\")))","v":{"$error":"#REF!"}},{"$f":"IF(A40=\"\",\"\", IF(#REF!=\"\", \"\",#REF!))","v":{"$error":"#REF!"}},{"$f":" IF(#REF!=\"\", \"\",#REF!)","v":{"$error":"#REF!"}},{"$f":" IF(#REF!=\"\", \"\",#REF!)","v":{"$error":"#REF!"}},{"$f":" IF(#REF!=\"\", \"\",#REF!)","v":{"$error":"#REF!"}},{"$f":" IF(#REF!=\"\", \"\",#REF!)","v":{"$error":"#REF!"}},{"$f":"IF(AW40=\"\", \"\", IF($L40=\"男\", VLOOKUP(AW40, データ!$B$2:$C$101, 2, FALSE), IF($L40=\"女\", VLOOKUP(AW40, データ!$F$2:$H$101, 2, FALSE), \"\")))","v":{"$error":"#REF!"}},{"$f":"IF(A40=\"\",\"\", IF(#REF!=\"\", \"\",#REF!))","v":{"$error":"#REF!"}},{"$f":" IF(#REF!=\"\", \"\",#REF!)","v":{"$error":"#REF!"}},{"$f":" IF(#REF!=\"\", \"\",#REF!)","v":{"$error":"#REF!"}},{"$f":" IF(#REF!=\"\", \"\",#REF!)","v":{"$error":"#REF!"}},{"$f":" IF(#REF!=\"\", \"\",#REF!)","v":{"$error":"#REF!"}},{"$error":"#REF!"}]
[{"$f":"#REF!","v":{"$error":"#REF!"}},{"$f":" IF(#REF!=\"\", \"\",#REF!)","v":{"$error":"#REF!"}},{"$f":" IF(#REF!=\"\", \"\",#REF!)","v":{"$error":"#REF!"}},{"$f":" IF(#REF!=\"\", \"\",#REF!)","v":{"$error":"#REF!"}},{"$error":"#REF!"},{"$error":"#REF!"},{"$error":"#REF!"},{"$error":"#REF!"},{"$f":" IF(#REF!=\"\", \"\",#REF!)","v":{"$error":"#REF!"}},{"$f":" IF(#REF!=\"\", \"\",#REF!)","v":{"$error":"#REF!"}},{"$f":" IF(#REF!=\"\", \"\",#REF!)","v":{"$error":"#REF!"}},{"$f":" IF(#REF!=\"\", \"\",#REF!)","v":{"$error":"#REF!"}},{"$f":" IF(#REF!=\"\", \"\",#REF!)","v":{"$error":"#REF!"}},{"$f":" IF(#REF!=\"\", \"\",#REF!)","v":{"$error":"#REF!"}},{"$f":" IF(#REF!=\"\", \"\",#REF!)","v":{"$error":"#REF!"}},{"$f":" IF(#REF!=\"\", \"\",#REF!)","v":{"$error":"#REF!"}},{"$f":"IF(A41=\"\",\"\",#REF!)","v":{"$error":"#REF!"}},{"$f":" IF(Q41=\"\", \"\",#REF!)","v":{"$error":"#REF!"}},{"$f":" IF(Q41=\"\", \"\",#REF!)","v":{"$error":"#REF!"}},{"$f":" IF(Q41=\"\", \"\",#REF!)","v":{"$error":"#REF!"}},{"$f":" IF(Q41=\"\", \"\",#REF!)","v":{"$error":"#REF!"}},{"$f":" IF(#REF!=\"\", \"\",#REF!)","v":{"$error":"#REF!"}},{"$f":" IF(#REF!=\"\", \"\",#REF!)","v":{"$error":"#REF!"}},{"$f":"IF(Y41=\"\", \"\", IF($L41=\"男\", VLOOKUP(Y41, データ!$B$2:$C$101, 2, FALSE), IF($L41=\"女\", VLOOKUP(Y41, データ!$F$2:$H$101, 2, FALSE), \"\")))","v":{"$error":"#REF!"}},{"$f":"IF(A41=\"\",\"\", IF(#REF!=\"\", \"\",#REF!))","v":{"$error":"#REF!"}},{"$f":" IF(#REF!=\"\", \"\",#REF!)","v":{"$error":"#REF!"}},{"$f":" IF(#REF!=\"\", \"\",#REF!)","v":{"$error":"#REF!"}},{"$f":" IF(#REF!=\"\", \"\",#REF!)","v":{"$error":"#REF!"}},{"$f":" IF(#REF!=\"\", \"\",#REF!)","v":{"$error":"#REF!"}},{"$f":"IF(AE41=\"\", \"\", IF($L41=\"男\", VLOOKUP(AE41, データ!$B$2:$C$101, 2, FALSE), IF($L41=\"女\", VLOOKUP(AE41, データ!$F$2:$H$101, 2, FALSE), \"\")))","v":{"$error":"#REF!"}},{"$f":"IF(A41=\"\",\"\", IF(#REF!=\"\", \"\",#REF!))","v":{"$error":"#REF!"}},{"$f":" IF(#REF!=\"\", \"\",#REF!)","v":{"$error":"#REF!"}},{"$f":" IF(#REF!=\"\", \"\",#REF!)","v":{"$error":"#REF!"}},{"$f":" IF(#REF!=\"\", \"\",#REF!)","v":{"$error":"#REF!"}},{"$f":" IF(#REF!=\"\", \"\",#REF!)","v":{"$error":"#REF!"}},{"$f":"IF(AK41=\"\", \"\", IF($L41=\"男\", VLOOKUP(AK41, データ!$B$2:$C$101, 2, FALSE), IF($L41=\"女\", VLOOKUP(AK41, データ!$F$2:$H$101, 2, FALSE), \"\")))","v":{"$error":"#REF!"}},{"$f":"IF(A41=\"\",\"\", IF(#REF!=\"\", \"\",#REF!))","v":{"$error":"#REF!"}},{"$f":" IF(#REF!=\"\", \"\",#REF!)","v":{"$error":"#REF!"}},{"$f":" IF(#REF!=\"\", \"\",#REF!)","v":{"$error":"#REF!"}},{"$f":" IF(#REF!=\"\", \"\",#REF!)","v":{"$error":"#REF!"}},{"$f":" IF(#REF!=\"\", \"\",#REF!)","v":{"$error":"#REF!"}},{"$f":"IF(AQ41=\"\", \"\", IF($L41=\"男\", VLOOKUP(AQ41, データ!$B$2:$C$101, 2, FALSE), IF($L41=\"女\", VLOOKUP(AQ41, データ!$F$2:$H$101, 2, FALSE), \"\")))","v":{"$error":"#REF!"}},{"$f":"IF(A41=\"\",\"\", IF(#REF!=\"\", \"\",#REF!))","v":{"$error":"#REF!"}},{"$f":" IF(#REF!=\"\", \"\",#REF!)","v":{"$error":"#REF!"}},{"$f":" IF(#REF!=\"\", \"\",#REF!)","v":{"$error":"#REF!"}},{"$f":" IF(#REF!=\"\", \"\",#REF!)","v":{"$error":"#REF!"}},{"$f":" IF(#REF!=\"\", \"\",#REF!)","v":{"$error":"#REF!"}},{"$f":"IF(AW41=\"\", \"\", IF($L41=\"男\", VLOOKUP(AW41, データ!$B$2:$C$101, 2, FALSE), IF($L41=\"女\", VLOOKUP(AW41, データ!$F$2:$H$101, 2, FALSE), \"\")))","v":{"$error":"#REF!"}},{"$f":"IF(A41=\"\",\"\", IF(#REF!=\"\", \"\",#REF!))","v":{"$error":"#REF!"}},{"$f":" IF(#REF!=\"\", \"\",#REF!)","v":{"$error":"#REF!"}},{"$f":" IF(#REF!=\"\", \"\",#REF!)","v":{"$error":"#REF!"}},{"$f":" IF(#REF!=\"\", \"\",#REF!)","v":{"$error":"#REF!"}},{"$f":" IF(#REF!=\"\", \"\",#REF!)","v":{"$error":"#REF!"}},{"$error":"#REF!"}]
[{"$f":"#REF!","v":{"$error":"#REF!"}},{"$f":" IF(#REF!=\"\", \"\",#REF!)","v":{"$error":"#REF!"}},{"$f":" IF(#REF!=\"\", \"\",#REF!)","v":{"$error":"#REF!"}},{"$f":" IF(#REF!=\"\", \"\",#REF!)","v":{"$error":"#REF!"}},{"$error":"#REF!"},{"$error":"#REF!"},{"$error":"#REF!"},{"$error":"#REF!"},{"$f":" IF(#REF!=\"\", \"\",#REF!)","v":{"$error":"#REF!"}},{"$f":" IF(#REF!=\"\", \"\",#REF!)","v":{"$error":"#REF!"}},{"$f":" IF(#REF!=\"\", \"\",#REF!)","v":{"$error":"#REF!"}},{"$f":" IF(#REF!=\"\", \"\",#REF!)","v":{"$error":"#REF!"}},{"$f":" IF(#REF!=\"\", \"\",#REF!)","v":{"$error":"#REF!"}},{"$f":" IF(#REF!=\"\", \"\",#REF!)","v":{"$error":"#REF!"}},{"$f":" IF(#REF!=\"\", \"\",#REF!)","v":{"$error":"#REF!"}},{"$f":" IF(#REF!=\"\", \"\",#REF!)","v":{"$error":"#REF!"}},{"$f":"IF(A42=\"\",\"\",#REF!)","v":{"$error":"#REF!"}},{"$f":" IF(Q42=\"\", \"\",#REF!)","v":{"$error":"#REF!"}},{"$f":" IF(Q42=\"\", \"\",#REF!)","v":{"$error":"#REF!"}},{"$f":" IF(Q42=\"\", \"\",#REF!)","v":{"$error":"#REF!"}},{"$f":" IF(Q42=\"\", \"\",#REF!)","v":{"$error":"#REF!"}},{"$f":" IF(#REF!=\"\", \"\",#REF!)","v":{"$error":"#REF!"}},{"$f":" IF(#REF!=\"\", \"\",#REF!)","v":{"$error":"#REF!"}},{"$f":"IF(Y42=\"\", \"\", IF($L42=\"男\", VLOOKUP(Y42, データ!$B$2:$C$101, 2, FALSE), IF($L42=\"女\", VLOOKUP(Y42, データ!$F$2:$H$101, 2, FALSE), \"\")))","v":{"$error":"#REF!"}},{"$f":"IF(A42=\"\",\"\", IF(#REF!=\"\", \"\",#REF!))","v":{"$error":"#REF!"}},{"$f":" IF(#REF!=\"\", \"\",#REF!)","v":{"$error":"#REF!"}},{"$f":" IF(#REF!=\"\", \"\",#REF!)","v":{"$error":"#REF!"}},{"$f":" IF(#REF!=\"\", \"\",#REF!)","v":{"$error":"#REF!"}},{"$f":" IF(#REF!=\"\", \"\",#REF!)","v":{"$error":"#REF!"}},{"$f":"IF(AE42=\"\", \"\", IF($L42=\"男\", VLOOKUP(AE42, データ!$B$2:$C$101, 2, FALSE), IF($L42=\"女\", VLOOKUP(AE42, データ!$F$2:$H$101, 2, FALSE), \"\")))","v":{"$error":"#REF!"}},{"$f":"IF(A42=\"\",\"\", IF(#REF!=\"\", \"\",#REF!))","v":{"$error":"#REF!"}},{"$f":" IF(#REF!=\"\", \"\",#REF!)","v":{"$error":"#REF!"}},{"$f":" IF(#REF!=\"\", \"\",#REF!)","v":{"$error":"#REF!"}},{"$f":" IF(#REF!=\"\", \"\",#REF!)","v":{"$error":"#REF!"}},{"$f":" IF(#REF!=\"\", \"\",#REF!)","v":{"$error":"#REF!"}},{"$f":"IF(AK42=\"\", \"\", IF($L42=\"男\", VLOOKUP(AK42, データ!$B$2:$C$101, 2, FALSE), IF($L42=\"女\", VLOOKUP(AK42, データ!$F$2:$H$101, 2, FALSE), \"\")))","v":{"$error":"#REF!"}},{"$f":"IF(A42=\"\",\"\", IF(#REF!=\"\", \"\",#REF!))","v":{"$error":"#REF!"}},{"$f":" IF(#REF!=\"\", \"\",#REF!)","v":{"$error":"#REF!"}},{"$f":" IF(#REF!=\"\", \"\",#REF!)","v":{"$error":"#REF!"}},{"$f":" IF(#REF!=\"\", \"\",#REF!)","v":{"$error":"#REF!"}},{"$f":" IF(#REF!=\"\", \"\",#REF!)","v":{"$error":"#REF!"}},{"$f":"IF(AQ42=\"\", \"\", IF($L42=\"男\", VLOOKUP(AQ42, データ!$B$2:$C$101, 2, FALSE), IF($L42=\"女\", VLOOKUP(AQ42, データ!$F$2:$H$101, 2, FALSE), \"\")))","v":{"$error":"#REF!"}},{"$f":"IF(A42=\"\",\"\", IF(#REF!=\"\", \"\",#REF!))","v":{"$error":"#REF!"}},{"$f":" IF(#REF!=\"\", \"\",#REF!)","v":{"$error":"#REF!"}},{"$f":" IF(#REF!=\"\", \"\",#REF!)","v":{"$error":"#REF!"}},{"$f":" IF(#REF!=\"\", \"\",#REF!)","v":{"$error":"#REF!"}},{"$f":" IF(#REF!=\"\", \"\",#REF!)","v":{"$error":"#REF!"}},{"$f":"IF(AW42=\"\", \"\", IF($L42=\"男\", VLOOKUP(AW42, データ!$B$2:$C$101, 2, FALSE), IF($L42=\"女\", VLOOKUP(AW42, データ!$F$2:$H$101, 2, FALSE), \"\")))","v":{"$error":"#REF!"}},{"$f":"IF(A42=\"\",\"\", IF(#REF!=\"\", \"\",#REF!))","v":{"$error":"#REF!"}},{"$f":" IF(#REF!=\"\", \"\",#REF!)","v":{"$error":"#REF!"}},{"$f":" IF(#REF!=\"\", \"\",#REF!)","v":{"$error":"#REF!"}},{"$f":" IF(#REF!=\"\", \"\",#REF!)","v":{"$error":"#REF!"}},{"$f":" IF(#REF!=\"\", \"\",#REF!)","v":{"$error":"#REF!"}},{"$error":"#REF!"}]
[{"$f":"#REF!","v":{"$error":"#REF!"}},{"$f":" IF(#REF!=\"\", \"\",#REF!)","v":{"$error":"#REF!"}},{"$f":" IF(#REF!=\"\", \"\",#REF!)","v":{"$error":"#REF!"}},{"$f":" IF(#REF!=\"\", \"\",#REF!)","v":{"$error":"#REF!"}},{"$error":"#REF!"},{"$error":"#REF!"},{"$error":"#REF!"},{"$error":"#REF!"},{"$f":" IF(#REF!=\"\", \"\",#REF!)","v":{"$error":"#REF!"}},{"$f":" IF(#REF!=\"\", \"\",#REF!)","v":{"$error":"#REF!"}},{"$f":" IF(#REF!=\"\", \"\",#REF!)","v":{"$error":"#REF!"}},{"$f":" IF(#REF!=\"\", \"\",#REF!)","v":{"$error":"#REF!"}},{"$f":" IF(#REF!=\"\", \"\",#REF!)","v":{"$error":"#REF!"}},{"$f":" IF(#REF!=\"\", \"\",#REF!)","v":{"$error":"#REF!"}},{"$f":" IF(#REF!=\"\", \"\",#REF!)","v":{"$error":"#REF!"}},{"$f":" IF(#REF!=\"\", \"\",#REF!)","v":{"$error":"#REF!"}},{"$f":"IF(A43=\"\",\"\",#REF!)","v":{"$error":"#REF!"}},{"$f":" IF(Q43=\"\", \"\",#REF!)","v":{"$error":"#REF!"}},{"$f":" IF(Q43=\"\", \"\",#REF!)","v":{"$error":"#REF!"}},{"$f":" IF(Q43=\"\", \"\",#REF!)","v":{"$error":"#REF!"}},{"$f":" IF(Q43=\"\", \"\",#REF!)","v":{"$error":"#REF!"}},{"$f":" IF(#REF!=\"\", \"\",#REF!)","v":{"$error":"#REF!"}},{"$f":" IF(#REF!=\"\", \"\",#REF!)","v":{"$error":"#REF!"}},{"$f":"IF(Y43=\"\", \"\", IF($L43=\"男\", VLOOKUP(Y43, データ!$B$2:$C$101, 2, FALSE), IF($L43=\"女\", VLOOKUP(Y43, データ!$F$2:$H$101, 2, FALSE), \"\")))","v":{"$error":"#REF!"}},{"$f":"IF(A43=\"\",\"\", IF(#REF!=\"\", \"\",#REF!))","v":{"$error":"#REF!"}},{"$f":" IF(#REF!=\"\", \"\",#REF!)","v":{"$error":"#REF!"}},{"$f":" IF(#REF!=\"\", \"\",#REF!)","v":{"$error":"#REF!"}},{"$f":" IF(#REF!=\"\", \"\",#REF!)","v":{"$error":"#REF!"}},{"$f":" IF(#REF!=\"\", \"\",#REF!)","v":{"$error":"#REF!"}},{"$f":"IF(AE43=\"\", \"\", IF($L43=\"男\", VLOOKUP(AE43, データ!$B$2:$C$101, 2, FALSE), IF($L43=\"女\", VLOOKUP(AE43, データ!$F$2:$H$101, 2, FALSE), \"\")))","v":{"$error":"#REF!"}},{"$f":"IF(A43=\"\",\"\", IF(#REF!=\"\", \"\",#REF!))","v":{"$error":"#REF!"}},{"$f":" IF(#REF!=\"\", \"\",#REF!)","v":{"$error":"#REF!"}},{"$f":" IF(#REF!=\"\", \"\",#REF!)","v":{"$error":"#REF!"}},{"$f":" IF(#REF!=\"\", \"\",#REF!)","v":{"$error":"#REF!"}},{"$f":" IF(#REF!=\"\", \"\",#REF!)","v":{"$error":"#REF!"}},{"$f":"IF(AK43=\"\", \"\", IF($L43=\"男\", VLOOKUP(AK43, データ!$B$2:$C$101, 2, FALSE), IF($L43=\"女\", VLOOKUP(AK43, データ!$F$2:$H$101, 2, FALSE), \"\")))","v":{"$error":"#REF!"}},{"$f":"IF(A43=\"\",\"\", IF(#REF!=\"\", \"\",#REF!))","v":{"$error":"#REF!"}},{"$f":" IF(#REF!=\"\", \"\",#REF!)","v":{"$error":"#REF!"}},{"$f":" IF(#REF!=\"\", \"\",#REF!)","v":{"$error":"#REF!"}},{"$f":" IF(#REF!=\"\", \"\",#REF!)","v":{"$error":"#REF!"}},{"$f":" IF(#REF!=\"\", \"\",#REF!)","v":{"$error":"#REF!"}},{"$f":"IF(AQ43=\"\", \"\", IF($L43=\"男\", VLOOKUP(AQ43, データ!$B$2:$C$101, 2, FALSE), IF($L43=\"女\", VLOOKUP(AQ43, データ!$F$2:$H$101, 2, FALSE), \"\")))","v":{"$error":"#REF!"}},{"$f":"IF(A43=\"\",\"\", IF(#REF!=\"\", \"\",#REF!))","v":{"$error":"#REF!"}},{"$f":" IF(#REF!=\"\", \"\",#REF!)","v":{"$error":"#REF!"}},{"$f":" IF(#REF!=\"\", \"\",#REF!)","v":{"$error":"#REF!"}},{"$f":" IF(#REF!=\"\", \"\",#REF!)","v":{"$error":"#REF!"}},{"$f":" IF(#REF!=\"\", \"\",#REF!)","v":{"$error":"#REF!"}},{"$f":"IF(AW43=\"\", \"\", IF($L43=\"男\", VLOOKUP(AW43, データ!$B$2:$C$101, 2, FALSE), IF($L43=\"女\", VLOOKUP(AW43, データ!$F$2:$H$101, 2, FALSE), \"\")))","v":{"$error":"#REF!"}},{"$f":"IF(A43=\"\",\"\", IF(#REF!=\"\", \"\",#REF!))","v":{"$error":"#REF!"}},{"$f":" IF(#REF!=\"\", \"\",#REF!)","v":{"$error":"#REF!"}},{"$f":" IF(#REF!=\"\", \"\",#REF!)","v":{"$error":"#REF!"}},{"$f":" IF(#REF!=\"\", \"\",#REF!)","v":{"$error":"#REF!"}},{"$f":" IF(#REF!=\"\", \"\",#REF!)","v":{"$error":"#REF!"}},{"$error":"#REF!"}]
[{"$f":"#REF!","v":{"$error":"#REF!"}},{"$f":" IF(#REF!=\"\", \"\",#REF!)","v":{"$error":"#REF!"}},{"$f":" IF(#REF!=\"\", \"\",#REF!)","v":{"$error":"#REF!"}},{"$f":" IF(#REF!=\"\", \"\",#REF!)","v":{"$error":"#REF!"}},{"$error":"#REF!"},{"$error":"#REF!"},{"$error":"#REF!"},{"$error":"#REF!"},{"$f":" IF(#REF!=\"\", \"\",#REF!)","v":{"$error":"#REF!"}},{"$f":" IF(#REF!=\"\", \"\",#REF!)","v":{"$error":"#REF!"}},{"$f":" IF(#REF!=\"\", \"\",#REF!)","v":{"$error":"#REF!"}},{"$f":" IF(#REF!=\"\", \"\",#REF!)","v":{"$error":"#REF!"}},{"$f":" IF(#REF!=\"\", \"\",#REF!)","v":{"$error":"#REF!"}},{"$f":" IF(#REF!=\"\", \"\",#REF!)","v":{"$error":"#REF!"}},{"$f":" IF(#REF!=\"\", \"\",#REF!)","v":{"$error":"#REF!"}},{"$f":" IF(#REF!=\"\", \"\",#REF!)","v":{"$error":"#REF!"}},{"$f":"IF(A44=\"\",\"\",#REF!)","v":{"$error":"#REF!"}},{"$f":" IF(Q44=\"\", \"\",#REF!)","v":{"$error":"#REF!"}},{"$f":" IF(Q44=\"\", \"\",#REF!)","v":{"$error":"#REF!"}},{"$f":" IF(Q44=\"\", \"\",#REF!)","v":{"$error":"#REF!"}},{"$f":" IF(Q44=\"\", \"\",#REF!)","v":{"$error":"#REF!"}},{"$f":" IF(#REF!=\"\", \"\",#REF!)","v":{"$error":"#REF!"}},{"$f":" IF(#REF!=\"\", \"\",#REF!)","v":{"$error":"#REF!"}},{"$f":"IF(Y44=\"\", \"\", IF($L44=\"男\", VLOOKUP(Y44, データ!$B$2:$C$101, 2, FALSE), IF($L44=\"女\", VLOOKUP(Y44, データ!$F$2:$H$101, 2, FALSE), \"\")))","v":{"$error":"#REF!"}},{"$f":"IF(A44=\"\",\"\", IF(#REF!=\"\", \"\",#REF!))","v":{"$error":"#REF!"}},{"$f":" IF(#REF!=\"\", \"\",#REF!)","v":{"$error":"#REF!"}},{"$f":" IF(#REF!=\"\", \"\",#REF!)","v":{"$error":"#REF!"}},{"$f":" IF(#REF!=\"\", \"\",#REF!)","v":{"$error":"#REF!"}},{"$f":" IF(#REF!=\"\", \"\",#REF!)","v":{"$error":"#REF!"}},{"$f":"IF(AE44=\"\", \"\", IF($L44=\"男\", VLOOKUP(AE44, データ!$B$2:$C$101, 2, FALSE), IF($L44=\"女\", VLOOKUP(AE44, データ!$F$2:$H$101, 2, FALSE), \"\")))","v":{"$error":"#REF!"}},{"$f":"IF(A44=\"\",\"\", IF(#REF!=\"\", \"\",#REF!))","v":{"$error":"#REF!"}},{"$f":" IF(#REF!=\"\", \"\",#REF!)","v":{"$error":"#REF!"}},{"$f":" IF(#REF!=\"\", \"\",#REF!)","v":{"$error":"#REF!"}},{"$f":" IF(#REF!=\"\", \"\",#REF!)","v":{"$error":"#REF!"}},{"$f":" IF(#REF!=\"\", \"\",#REF!)","v":{"$error":"#REF!"}},{"$f":"IF(AK44=\"\", \"\", IF($L44=\"男\", VLOOKUP(AK44, データ!$B$2:$C$101, 2, FALSE), IF($L44=\"女\", VLOOKUP(AK44, データ!$F$2:$H$101, 2, FALSE), \"\")))","v":{"$error":"#REF!"}},{"$f":"IF(A44=\"\",\"\", IF(#REF!=\"\", \"\",#REF!))","v":{"$error":"#REF!"}},{"$f":" IF(#REF!=\"\", \"\",#REF!)","v":{"$error":"#REF!"}},{"$f":" IF(#REF!=\"\", \"\",#REF!)","v":{"$error":"#REF!"}},{"$f":" IF(#REF!=\"\", \"\",#REF!)","v":{"$error":"#REF!"}},{"$f":" IF(#REF!=\"\", \"\",#REF!)","v":{"$error":"#REF!"}},{"$f":"IF(AQ44=\"\", \"\", IF($L44=\"男\", VLOOKUP(AQ44, データ!$B$2:$C$101, 2, FALSE), IF($L44=\"女\", VLOOKUP(AQ44, データ!$F$2:$H$101, 2, FALSE), \"\")))","v":{"$error":"#REF!"}},{"$f":"IF(A44=\"\",\"\", IF(#REF!=\"\", \"\",#REF!))","v":{"$error":"#REF!"}},{"$f":" IF(#REF!=\"\", \"\",#REF!)","v":{"$error":"#REF!"}},{"$f":" IF(#REF!=\"\", \"\",#REF!)","v":{"$error":"#REF!"}},{"$f":" IF(#REF!=\"\", \"\",#REF!)","v":{"$error":"#REF!"}},{"$f":" IF(#REF!=\"\", \"\",#REF!)","v":{"$error":"#REF!"}},{"$f":"IF(AW44=\"\", \"\", IF($L44=\"男\", VLOOKUP(AW44, データ!$B$2:$C$101, 2, FALSE), IF($L44=\"女\", VLOOKUP(AW44, データ!$F$2:$H$101, 2, FALSE), \"\")))","v":{"$error":"#REF!"}},{"$f":"IF(A44=\"\",\"\", IF(#REF!=\"\", \"\",#REF!))","v":{"$error":"#REF!"}},{"$f":" IF(#REF!=\"\", \"\",#REF!)","v":{"$error":"#REF!"}},{"$f":" IF(#REF!=\"\", \"\",#REF!)","v":{"$error":"#REF!"}},{"$f":" IF(#REF!=\"\", \"\",#REF!)","v":{"$error":"#REF!"}},{"$f":" IF(#REF!=\"\", \"\",#REF!)","v":{"$error":"#REF!"}},{"$error":"#REF!"}]
[{"$f":"#REF!","v":{"$error":"#REF!"}},{"$f":" IF(#REF!=\"\", \"\",#REF!)","v":{"$error":"#REF!"}},{"$f":" IF(#REF!=\"\", \"\",#REF!)","v":{"$error":"#REF!"}},{"$f":" IF(#REF!=\"\", \"\",#REF!)","v":{"$error":"#REF!"}},{"$error":"#REF!"},{"$error":"#REF!"},{"$error":"#REF!"},{"$error":"#REF!"},{"$f":" IF(#REF!=\"\", \"\",#REF!)","v":{"$error":"#REF!"}},{"$f":" IF(#REF!=\"\", \"\",#REF!)","v":{"$error":"#REF!"}},{"$f":" IF(#REF!=\"\", \"\",#REF!)","v":{"$error":"#REF!"}},{"$f":" IF(#REF!=\"\", \"\",#REF!)","v":{"$error":"#REF!"}},{"$f":" IF(#REF!=\"\", \"\",#REF!)","v":{"$error":"#REF!"}},{"$f":" IF(#REF!=\"\", \"\",#REF!)","v":{"$error":"#REF!"}},{"$f":" IF(#REF!=\"\", \"\",#REF!)","v":{"$error":"#REF!"}},{"$f":" IF(#REF!=\"\", \"\",#REF!)","v":{"$error":"#REF!"}},{"$f":"IF(A45=\"\",\"\",#REF!)","v":{"$error":"#REF!"}},{"$f":" IF(Q45=\"\", \"\",#REF!)","v":{"$error":"#REF!"}},{"$f":" IF(Q45=\"\", \"\",#REF!)","v":{"$error":"#REF!"}},{"$f":" IF(Q45=\"\", \"\",#REF!)","v":{"$error":"#REF!"}},{"$f":" IF(Q45=\"\", \"\",#REF!)","v":{"$error":"#REF!"}},{"$f":" IF(#REF!=\"\", \"\",#REF!)","v":{"$error":"#REF!"}},{"$f":" IF(#REF!=\"\", \"\",#REF!)","v":{"$error":"#REF!"}},{"$f":"IF(Y45=\"\", \"\", IF($L45=\"男\", VLOOKUP(Y45, データ!$B$2:$C$101, 2, FALSE), IF($L45=\"女\", VLOOKUP(Y45, データ!$F$2:$H$101, 2, FALSE), \"\")))","v":{"$error":"#REF!"}},{"$f":"IF(A45=\"\",\"\", IF(#REF!=\"\", \"\",#REF!))","v":{"$error":"#REF!"}},{"$f":" IF(#REF!=\"\", \"\",#REF!)","v":{"$error":"#REF!"}},{"$f":" IF(#REF!=\"\", \"\",#REF!)","v":{"$error":"#REF!"}},{"$f":" IF(#REF!=\"\", \"\",#REF!)","v":{"$error":"#REF!"}},{"$f":" IF(#REF!=\"\", \"\",#REF!)","v":{"$error":"#REF!"}},{"$f":"IF(AE45=\"\", \"\", IF($L45=\"男\", VLOOKUP(AE45, データ!$B$2:$C$101, 2, FALSE), IF($L45=\"女\", VLOOKUP(AE45, データ!$F$2:$H$101, 2, FALSE), \"\")))","v":{"$error":"#REF!"}},{"$f":"IF(A45=\"\",\"\", IF(#REF!=\"\", \"\",#REF!))","v":{"$error":"#REF!"}},{"$f":" IF(#REF!=\"\", \"\",#REF!)","v":{"$error":"#REF!"}},{"$f":" IF(#REF!=\"\", \"\",#REF!)","v":{"$error":"#REF!"}},{"$f":" IF(#REF!=\"\", \"\",#REF!)","v":{"$error":"#REF!"}},{"$f":" IF(#REF!=\"\", \"\",#REF!)","v":{"$error":"#REF!"}},{"$f":"IF(AK45=\"\", \"\", IF($L45=\"男\", VLOOKUP(AK45, データ!$B$2:$C$101, 2, FALSE), IF($L45=\"女\", VLOOKUP(AK45, データ!$F$2:$H$101, 2, FALSE), \"\")))","v":{"$error":"#REF!"}},{"$f":"IF(A45=\"\",\"\", IF(#REF!=\"\", \"\",#REF!))","v":{"$error":"#REF!"}},{"$f":" IF(#REF!=\"\", \"\",#REF!)","v":{"$error":"#REF!"}},{"$f":" IF(#REF!=\"\", \"\",#REF!)","v":{"$error":"#REF!"}},{"$f":" IF(#REF!=\"\", \"\",#REF!)","v":{"$error":"#REF!"}},{"$f":" IF(#REF!=\"\", \"\",#REF!)","v":{"$error":"#REF!"}},{"$f":"IF(AQ45=\"\", \"\", IF($L45=\"男\", VLOOKUP(AQ45, データ!$B$2:$C$101, 2, FALSE), IF($L45=\"女\", VLOOKUP(AQ45, データ!$F$2:$H$101, 2, FALSE), \"\")))","v":{"$error":"#REF!"}},{"$f":"IF(A45=\"\",\"\", IF(#REF!=\"\", \"\",#REF!))","v":{"$error":"#REF!"}},{"$f":" IF(#REF!=\"\", \"\",#REF!)","v":{"$error":"#REF!"}},{"$f":" IF(#REF!=\"\", \"\",#REF!)","v":{"$error":"#REF!"}},{"$f":" IF(#REF!=\"\", \"\",#REF!)","v":{"$error":"#REF!"}},{"$f":" IF(#REF!=\"\", \"\",#REF!)","v":{"$error":"#REF!"}},{"$f":"IF(AW45=\"\", \"\", IF($L45=\"男\", VLOOKUP(AW45, データ!$B$2:$C$101, 2, FALSE), IF($L45=\"女\", VLOOKUP(AW45, データ!$F$2:$H$101, 2, FALSE), \"\")))","v":{"$error":"#REF!"}},{"$f":"IF(A45=\"\",\"\", IF(#REF!=\"\", \"\",#REF!))","v":{"$error":"#REF!"}},{"$f":" IF(#REF!=\"\", \"\",#REF!)","v":{"$error":"#REF!"}},{"$f":" IF(#REF!=\"\", \"\",#REF!)","v":{"$error":"#REF!"}},{"$f":" IF(#REF!=\"\", \"\",#REF!)","v":{"$error":"#REF!"}},{"$f":" IF(#REF!=\"\", \"\",#REF!)","v":{"$error":"#REF!"}},{"$error":"#REF!"}]
[{"$f":"#REF!","v":{"$error":"#REF!"}},{"$f":" IF(#REF!=\"\", \"\",#REF!)","v":{"$error":"#REF!"}},{"$f":" IF(#REF!=\"\", \"\",#REF!)","v":{"$error":"#REF!"}},{"$f":" IF(#REF!=\"\", \"\",#REF!)","v":{"$error":"#REF!"}},{"$error":"#REF!"},{"$error":"#REF!"},{"$error":"#REF!"},{"$error":"#REF!"},{"$f":" IF(#REF!=\"\", \"\",#REF!)","v":{"$error":"#REF!"}},{"$f":" IF(#REF!=\"\", \"\",#REF!)","v":{"$error":"#REF!"}},{"$f":" IF(#REF!=\"\", \"\",#REF!)","v":{"$error":"#REF!"}},{"$f":" IF(#REF!=\"\", \"\",#REF!)","v":{"$error":"#REF!"}},{"$f":" IF(#REF!=\"\", \"\",#REF!)","v":{"$error":"#REF!"}},{"$f":" IF(#REF!=\"\", \"\",#REF!)","v":{"$error":"#REF!"}},{"$f":" IF(#REF!=\"\", \"\",#REF!)","v":{"$error":"#REF!"}},{"$f":" IF(#REF!=\"\", \"\",#REF!)","v":{"$error":"#REF!"}},{"$f":"IF(A46=\"\",\"\",#REF!)","v":{"$error":"#REF!"}},{"$f":" IF(Q46=\"\", \"\",#REF!)","v":{"$error":"#REF!"}},{"$f":" IF(Q46=\"\", \"\",#REF!)","v":{"$error":"#REF!"}},{"$f":" IF(Q46=\"\", \"\",#REF!)","v":{"$error":"#REF!"}},{"$f":" IF(Q46=\"\", \"\",#REF!)","v":{"$error":"#REF!"}},{"$f":" IF(#REF!=\"\", \"\",#REF!)","v":{"$error":"#REF!"}},{"$f":" IF(#REF!=\"\", \"\",#REF!)","v":{"$error":"#REF!"}},{"$f":"IF(Y46=\"\", \"\", IF($L46=\"男\", VLOOKUP(Y46, データ!$B$2:$C$101, 2, FALSE), IF($L46=\"女\", VLOOKUP(Y46, データ!$F$2:$H$101, 2, FALSE), \"\")))","v":{"$error":"#REF!"}},{"$f":"IF(A46=\"\",\"\", IF(#REF!=\"\", \"\",#REF!))","v":{"$error":"#REF!"}},{"$f":" IF(#REF!=\"\", \"\",#REF!)","v":{"$error":"#REF!"}},{"$f":" IF(#REF!=\"\", \"\",#REF!)","v":{"$error":"#REF!"}},{"$f":" IF(#REF!=\"\", \"\",#REF!)","v":{"$error":"#REF!"}},{"$f":" IF(#REF!=\"\", \"\",#REF!)","v":{"$error":"#REF!"}},{"$f":"IF(AE46=\"\", \"\", IF($L46=\"男\", VLOOKUP(AE46, データ!$B$2:$C$101, 2, FALSE), IF($L46=\"女\", VLOOKUP(AE46, データ!$F$2:$H$101, 2, FALSE), \"\")))","v":{"$error":"#REF!"}},{"$f":"IF(A46=\"\",\"\", IF(#REF!=\"\", \"\",#REF!))","v":{"$error":"#REF!"}},{"$f":" IF(#REF!=\"\", \"\",#REF!)","v":{"$error":"#REF!"}},{"$f":" IF(#REF!=\"\", \"\",#REF!)","v":{"$error":"#REF!"}},{"$f":" IF(#REF!=\"\", \"\",#REF!)","v":{"$error":"#REF!"}},{"$f":" IF(#REF!=\"\", \"\",#REF!)","v":{"$error":"#REF!"}},{"$f":"IF(AK46=\"\", \"\", IF($L46=\"男\", VLOOKUP(AK46, データ!$B$2:$C$101, 2, FALSE), IF($L46=\"女\", VLOOKUP(AK46, データ!$F$2:$H$101, 2, FALSE), \"\")))","v":{"$error":"#REF!"}},{"$f":"IF(A46=\"\",\"\", IF(#REF!=\"\", \"\",#REF!))","v":{"$error":"#REF!"}},{"$f":" IF(#REF!=\"\", \"\",#REF!)","v":{"$error":"#REF!"}},{"$f":" IF(#REF!=\"\", \"\",#REF!)","v":{"$error":"#REF!"}},{"$f":" IF(#REF!=\"\", \"\",#REF!)","v":{"$error":"#REF!"}},{"$f":" IF(#REF!=\"\", \"\",#REF!)","v":{"$error":"#REF!"}},{"$f":"IF(AQ46=\"\", \"\", IF($L46=\"男\", VLOOKUP(AQ46, データ!$B$2:$C$101, 2, FALSE), IF($L46=\"女\", VLOOKUP(AQ46, データ!$F$2:$H$101, 2, FALSE), \"\")))","v":{"$error":"#REF!"}},{"$f":"IF(A46=\"\",\"\", IF(#REF!=\"\", \"\",#REF!))","v":{"$error":"#REF!"}},{"$f":" IF(#REF!=\"\", \"\",#REF!)","v":{"$error":"#REF!"}},{"$f":" IF(#REF!=\"\", \"\",#REF!)","v":{"$error":"#REF!"}},{"$f":" IF(#REF!=\"\", \"\",#REF!)","v":{"$error":"#REF!"}},{"$f":" IF(#REF!=\"\", \"\",#REF!)","v":{"$error":"#REF!"}},{"$f":"IF(AW46=\"\", \"\", IF($L46=\"男\", VLOOKUP(AW46, データ!$B$2:$C$101, 2, FALSE), IF($L46=\"女\", VLOOKUP(AW46, データ!$F$2:$H$101, 2, FALSE), \"\")))","v":{"$error":"#REF!"}},{"$f":"IF(A46=\"\",\"\", IF(#REF!=\"\", \"\",#REF!))","v":{"$error":"#REF!"}},{"$f":" IF(#REF!=\"\", \"\",#REF!)","v":{"$error":"#REF!"}},{"$f":" IF(#REF!=\"\", \"\",#REF!)","v":{"$error":"#REF!"}},{"$f":" IF(#REF!=\"\", \"\",#REF!)","v":{"$error":"#REF!"}},{"$f":" IF(#REF!=\"\", \"\",#REF!)","v":{"$error":"#REF!"}},{"$error":"#REF!"}]
[{"$f":"#REF!","v":{"$error":"#REF!"}},{"$f":" IF(#REF!=\"\", \"\",#REF!)","v":{"$error":"#REF!"}},{"$f":" IF(#REF!=\"\", \"\",#REF!)","v":{"$error":"#REF!"}},{"$f":" IF(#REF!=\"\", \"\",#REF!)","v":{"$error":"#REF!"}},{"$error":"#REF!"},{"$error":"#REF!"},{"$error":"#REF!"},{"$error":"#REF!"},{"$f":" IF(#REF!=\"\", \"\",#REF!)","v":{"$error":"#REF!"}},{"$f":" IF(#REF!=\"\", \"\",#REF!)","v":{"$error":"#REF!"}},{"$f":" IF(#REF!=\"\", \"\",#REF!)","v":{"$error":"#REF!"}},{"$f":" IF(#REF!=\"\", \"\",#REF!)","v":{"$error":"#REF!"}},{"$f":" IF(#REF!=\"\", \"\",#REF!)","v":{"$error":"#REF!"}},{"$f":" IF(#REF!=\"\", \"\",#REF!)","v":{"$error":"#REF!"}},{"$f":" IF(#REF!=\"\", \"\",#REF!)","v":{"$error":"#REF!"}},{"$f":" IF(#REF!=\"\", \"\",#REF!)","v":{"$error":"#REF!"}},{"$f":"IF(A47=\"\",\"\",#REF!)","v":{"$error":"#REF!"}},{"$f":" IF(Q47=\"\", \"\",#REF!)","v":{"$error":"#REF!"}},{"$f":" IF(Q47=\"\", \"\",#REF!)","v":{"$error":"#REF!"}},{"$f":" IF(Q47=\"\", \"\",#REF!)","v":{"$error":"#REF!"}},{"$f":" IF(Q47=\"\", \"\",#REF!)","v":{"$error":"#REF!"}},{"$f":" IF(#REF!=\"\", \"\",#REF!)","v":{"$error":"#REF!"}},{"$f":" IF(#REF!=\"\", \"\",#REF!)","v":{"$error":"#REF!"}},{"$f":"IF(Y47=\"\", \"\", IF($L47=\"男\", VLOOKUP(Y47, データ!$B$2:$C$101, 2, FALSE), IF($L47=\"女\", VLOOKUP(Y47, データ!$F$2:$H$101, 2, FALSE), \"\")))","v":{"$error":"#REF!"}},{"$f":"IF(A47=\"\",\"\", IF(#REF!=\"\", \"\",#REF!))","v":{"$error":"#REF!"}},{"$f":" IF(#REF!=\"\", \"\",#REF!)","v":{"$error":"#REF!"}},{"$f":" IF(#REF!=\"\", \"\",#REF!)","v":{"$error":"#REF!"}},{"$f":" IF(#REF!=\"\", \"\",#REF!)","v":{"$error":"#REF!"}},{"$f":" IF(#REF!=\"\", \"\",#REF!)","v":{"$error":"#REF!"}},{"$f":"IF(AE47=\"\", \"\", IF($L47=\"男\", VLOOKUP(AE47, データ!$B$2:$C$101, 2, FALSE), IF($L47=\"女\", VLOOKUP(AE47, データ!$F$2:$H$101, 2, FALSE), \"\")))","v":{"$error":"#REF!"}},{"$f":"IF(A47=\"\",\"\", IF(#REF!=\"\", \"\",#REF!))","v":{"$error":"#REF!"}},{"$f":" IF(#REF!=\"\", \"\",#REF!)","v":{"$error":"#REF!"}},{"$f":" IF(#REF!=\"\", \"\",#REF!)","v":{"$error":"#REF!"}},{"$f":" IF(#REF!=\"\", \"\",#REF!)","v":{"$error":"#REF!"}},{"$f":" IF(#REF!=\"\", \"\",#REF!)","v":{"$error":"#REF!"}},{"$f":"IF(AK47=\"\", \"\", IF($L47=\"男\", VLOOKUP(AK47, データ!$B$2:$C$101, 2, FALSE), IF($L47=\"女\", VLOOKUP(AK47, データ!$F$2:$H$101, 2, FALSE), \"\")))","v":{"$error":"#REF!"}},{"$f":"IF(A47=\"\",\"\", IF(#REF!=\"\", \"\",#REF!))","v":{"$error":"#REF!"}},{"$f":" IF(#REF!=\"\", \"\",#REF!)","v":{"$error":"#REF!"}},{"$f":" IF(#REF!=\"\", \"\",#REF!)","v":{"$error":"#REF!"}},{"$f":" IF(#REF!=\"\", \"\",#REF!)","v":{"$error":"#REF!"}},{"$f":" IF(#REF!=\"\", \"\",#REF!)","v":{"$error":"#REF!"}},{"$f":"IF(AQ47=\"\", \"\", IF($L47=\"男\", VLOOKUP(AQ47, データ!$B$2:$C$101, 2, FALSE), IF($L47=\"女\", VLOOKUP(AQ47, データ!$F$2:$H$101, 2, FALSE), \"\")))","v":{"$error":"#REF!"}},{"$f":"IF(A47=\"\",\"\", IF(#REF!=\"\", \"\",#REF!))","v":{"$error":"#REF!"}},{"$f":" IF(#REF!=\"\", \"\",#REF!)","v":{"$error":"#REF!"}},{"$f":" IF(#REF!=\"\", \"\",#REF!)","v":{"$error":"#REF!"}},{"$f":" IF(#REF!=\"\", \"\",#REF!)","v":{"$error":"#REF!"}},{"$f":" IF(#REF!=\"\", \"\",#REF!)","v":{"$error":"#REF!"}},{"$f":"IF(AW47=\"\", \"\", IF($L47=\"男\", VLOOKUP(AW47, データ!$B$2:$C$101, 2, FALSE), IF($L47=\"女\", VLOOKUP(AW47, データ!$F$2:$H$101, 2, FALSE), \"\")))","v":{"$error":"#REF!"}},{"$f":"IF(A47=\"\",\"\", IF(#REF!=\"\", \"\",#REF!))","v":{"$error":"#REF!"}},{"$f":" IF(#REF!=\"\", \"\",#REF!)","v":{"$error":"#REF!"}},{"$f":" IF(#REF!=\"\", \"\",#REF!)","v":{"$error":"#REF!"}},{"$f":" IF(#REF!=\"\", \"\",#REF!)","v":{"$error":"#REF!"}},{"$f":" IF(#REF!=\"\", \"\",#REF!)","v":{"$error":"#REF!"}},{"$error":"#REF!"}]
[{"$f":"#REF!","v":{"$error":"#REF!"}},{"$f":" IF(#REF!=\"\", \"\",#REF!)","v":{"$error":"#REF!"}},{"$f":" IF(#REF!=\"\", \"\",#REF!)","v":{"$error":"#REF!"}},{"$f":" IF(#REF!=\"\", \"\",#REF!)","v":{"$error":"#REF!"}},{"$error":"#REF!"},{"$error":"#REF!"},{"$error":"#REF!"},{"$error":"#REF!"},{"$f":" IF(#REF!=\"\", \"\",#REF!)","v":{"$error":"#REF!"}},{"$f":" IF(#REF!=\"\", \"\",#REF!)","v":{"$error":"#REF!"}},{"$f":" IF(#REF!=\"\", \"\",#REF!)","v":{"$error":"#REF!"}},{"$f":" IF(#REF!=\"\", \"\",#REF!)","v":{"$error":"#REF!"}},{"$f":" IF(#REF!=\"\", \"\",#REF!)","v":{"$error":"#REF!"}},{"$f":" IF(#REF!=\"\", \"\",#REF!)","v":{"$error":"#REF!"}},{"$f":" IF(#REF!=\"\", \"\",#REF!)","v":{"$error":"#REF!"}},{"$f":" IF(#REF!=\"\", \"\",#REF!)","v":{"$error":"#REF!"}},{"$f":"IF(A48=\"\",\"\",#REF!)","v":{"$error":"#REF!"}},{"$f":" IF(Q48=\"\", \"\",#REF!)","v":{"$error":"#REF!"}},{"$f":" IF(Q48=\"\", \"\",#REF!)","v":{"$error":"#REF!"}},{"$f":" IF(Q48=\"\", \"\",#REF!)","v":{"$error":"#REF!"}},{"$f":" IF(Q48=\"\", \"\",#REF!)","v":{"$error":"#REF!"}},{"$f":" IF(#REF!=\"\", \"\",#REF!)","v":{"$error":"#REF!"}},{"$f":" IF(#REF!=\"\", \"\",#REF!)","v":{"$error":"#REF!"}},{"$f":"IF(Y48=\"\", \"\", IF($L48=\"男\", VLOOKUP(Y48, データ!$B$2:$C$101, 2, FALSE), IF($L48=\"女\", VLOOKUP(Y48, データ!$F$2:$H$101, 2, FALSE), \"\")))","v":{"$error":"#REF!"}},{"$f":"IF(A48=\"\",\"\", IF(#REF!=\"\", \"\",#REF!))","v":{"$error":"#REF!"}},{"$f":" IF(#REF!=\"\", \"\",#REF!)","v":{"$error":"#REF!"}},{"$f":" IF(#REF!=\"\", \"\",#REF!)","v":{"$error":"#REF!"}},{"$f":" IF(#REF!=\"\", \"\",#REF!)","v":{"$error":"#REF!"}},{"$f":" IF(#REF!=\"\", \"\",#REF!)","v":{"$error":"#REF!"}},{"$f":"IF(AE48=\"\", \"\", IF($L48=\"男\", VLOOKUP(AE48, データ!$B$2:$C$101, 2, FALSE), IF($L48=\"女\", VLOOKUP(AE48, データ!$F$2:$H$101, 2, FALSE), \"\")))","v":{"$error":"#REF!"}},{"$f":"IF(A48=\"\",\"\", IF(#REF!=\"\", \"\",#REF!))","v":{"$error":"#REF!"}},{"$f":" IF(#REF!=\"\", \"\",#REF!)","v":{"$error":"#REF!"}},{"$f":" IF(#REF!=\"\", \"\",#REF!)","v":{"$error":"#REF!"}},{"$f":" IF(#REF!=\"\", \"\",#REF!)","v":{"$error":"#REF!"}},{"$f":" IF(#REF!=\"\", \"\",#REF!)","v":{"$error":"#REF!"}},{"$f":"IF(AK48=\"\", \"\", IF($L48=\"男\", VLOOKUP(AK48, データ!$B$2:$C$101, 2, FALSE), IF($L48=\"女\", VLOOKUP(AK48, データ!$F$2:$H$101, 2, FALSE), \"\")))","v":{"$error":"#REF!"}},{"$f":"IF(A48=\"\",\"\", IF(#REF!=\"\", \"\",#REF!))","v":{"$error":"#REF!"}},{"$f":" IF(#REF!=\"\", \"\",#REF!)","v":{"$error":"#REF!"}},{"$f":" IF(#REF!=\"\", \"\",#REF!)","v":{"$error":"#REF!"}},{"$f":" IF(#REF!=\"\", \"\",#REF!)","v":{"$error":"#REF!"}},{"$f":" IF(#REF!=\"\", \"\",#REF!)","v":{"$error":"#REF!"}},{"$f":"IF(AQ48=\"\", \"\", IF($L48=\"男\", VLOOKUP(AQ48, データ!$B$2:$C$101, 2, FALSE), IF($L48=\"女\", VLOOKUP(AQ48, データ!$F$2:$H$101, 2, FALSE), \"\")))","v":{"$error":"#REF!"}},{"$f":"IF(A48=\"\",\"\", IF(#REF!=\"\", \"\",#REF!))","v":{"$error":"#REF!"}},{"$f":" IF(#REF!=\"\", \"\",#REF!)","v":{"$error":"#REF!"}},{"$f":" IF(#REF!=\"\", \"\",#REF!)","v":{"$error":"#REF!"}},{"$f":" IF(#REF!=\"\", \"\",#REF!)","v":{"$error":"#REF!"}},{"$f":" IF(#REF!=\"\", \"\",#REF!)","v":{"$error":"#REF!"}},{"$f":"IF(AW48=\"\", \"\", IF($L48=\"男\", VLOOKUP(AW48, データ!$B$2:$C$101, 2, FALSE), IF($L48=\"女\", VLOOKUP(AW48, データ!$F$2:$H$101, 2, FALSE), \"\")))","v":{"$error":"#REF!"}},{"$f":"IF(A48=\"\",\"\", IF(#REF!=\"\", \"\",#REF!))","v":{"$error":"#REF!"}},{"$f":" IF(#REF!=\"\", \"\",#REF!)","v":{"$error":"#REF!"}},{"$f":" IF(#REF!=\"\", \"\",#REF!)","v":{"$error":"#REF!"}},{"$f":" IF(#REF!=\"\", \"\",#REF!)","v":{"$error":"#REF!"}},{"$f":" IF(#REF!=\"\", \"\",#REF!)","v":{"$error":"#REF!"}},{"$error":"#REF!"}]
[{"$f":"#REF!","v":{"$error":"#REF!"}},{"$f":" IF(#REF!=\"\", \"\",#REF!)","v":{"$error":"#REF!"}},{"$f":" IF(#REF!=\"\", \"\",#REF!)","v":{"$error":"#REF!"}},{"$f":" IF(#REF!=\"\", \"\",#REF!)","v":{"$error":"#REF!"}},{"$error":"#REF!"},{"$error":"#REF!"},{"$error":"#REF!"},{"$error":"#REF!"},{"$f":" IF(#REF!=\"\", \"\",#REF!)","v":{"$error":"#REF!"}},{"$f":" IF(#REF!=\"\", \"\",#REF!)","v":{"$error":"#REF!"}},{"$f":" IF(#REF!=\"\", \"\",#REF!)","v":{"$error":"#REF!"}},{"$f":" IF(#REF!=\"\", \"\",#REF!)","v":{"$error":"#REF!"}},{"$f":" IF(#REF!=\"\", \"\",#REF!)","v":{"$error":"#REF!"}},{"$f":" IF(#REF!=\"\", \"\",#REF!)","v":{"$error":"#REF!"}},{"$f":" IF(#REF!=\"\", \"\",#REF!)","v":{"$error":"#REF!"}},{"$f":" IF(#REF!=\"\", \"\",#REF!)","v":{"$error":"#REF!"}},{"$f":"IF(A49=\"\",\"\",#REF!)","v":{"$error":"#REF!"}},{"$f":" IF(Q49=\"\", \"\",#REF!)","v":{"$error":"#REF!"}},{"$f":" IF(Q49=\"\", \"\",#REF!)","v":{"$error":"#REF!"}},{"$f":" IF(Q49=\"\", \"\",#REF!)","v":{"$error":"#REF!"}},{"$f":" IF(Q49=\"\", \"\",#REF!)","v":{"$error":"#REF!"}},{"$f":" IF(#REF!=\"\", \"\",#REF!)","v":{"$error":"#REF!"}},{"$f":" IF(#REF!=\"\", \"\",#REF!)","v":{"$error":"#REF!"}},{"$f":"IF(Y49=\"\", \"\", IF($L49=\"男\", VLOOKUP(Y49, データ!$B$2:$C$101, 2, FALSE), IF($L49=\"女\", VLOOKUP(Y49, データ!$F$2:$H$101, 2, FALSE), \"\")))","v":{"$error":"#REF!"}},{"$f":"IF(A49=\"\",\"\", IF(#REF!=\"\", \"\",#REF!))","v":{"$error":"#REF!"}},{"$f":" IF(#REF!=\"\", \"\",#REF!)","v":{"$error":"#REF!"}},{"$f":" IF(#REF!=\"\", \"\",#REF!)","v":{"$error":"#REF!"}},{"$f":" IF(#REF!=\"\", \"\",#REF!)","v":{"$error":"#REF!"}},{"$f":" IF(#REF!=\"\", \"\",#REF!)","v":{"$error":"#REF!"}},{"$f":"IF(AE49=\"\", \"\", IF($L49=\"男\", VLOOKUP(AE49, データ!$B$2:$C$101, 2, FALSE), IF($L49=\"女\", VLOOKUP(AE49, データ!$F$2:$H$101, 2, FALSE), \"\")))","v":{"$error":"#REF!"}},{"$f":"IF(A49=\"\",\"\", IF(#REF!=\"\", \"\",#REF!))","v":{"$error":"#REF!"}},{"$f":" IF(#REF!=\"\", \"\",#REF!)","v":{"$error":"#REF!"}},{"$f":" IF(#REF!=\"\", \"\",#REF!)","v":{"$error":"#REF!"}},{"$f":" IF(#REF!=\"\", \"\",#REF!)","v":{"$error":"#REF!"}},{"$f":" IF(#REF!=\"\", \"\",#REF!)","v":{"$error":"#REF!"}},{"$f":"IF(AK49=\"\", \"\", IF($L49=\"男\", VLOOKUP(AK49, データ!$B$2:$C$101, 2, FALSE), IF($L49=\"女\", VLOOKUP(AK49, データ!$F$2:$H$101, 2, FALSE), \"\")))","v":{"$error":"#REF!"}},{"$f":"IF(A49=\"\",\"\", IF(#REF!=\"\", \"\",#REF!))","v":{"$error":"#REF!"}},{"$f":" IF(#REF!=\"\", \"\",#REF!)","v":{"$error":"#REF!"}},{"$f":" IF(#REF!=\"\", \"\",#REF!)","v":{"$error":"#REF!"}},{"$f":" IF(#REF!=\"\", \"\",#REF!)","v":{"$error":"#REF!"}},{"$f":" IF(#REF!=\"\", \"\",#REF!)","v":{"$error":"#REF!"}},{"$f":"IF(AQ49=\"\", \"\", IF($L49=\"男\", VLOOKUP(AQ49, データ!$B$2:$C$101, 2, FALSE), IF($L49=\"女\", VLOOKUP(AQ49, データ!$F$2:$H$101, 2, FALSE), \"\")))","v":{"$error":"#REF!"}},{"$f":"IF(A49=\"\",\"\", IF(#REF!=\"\", \"\",#REF!))","v":{"$error":"#REF!"}},{"$f":" IF(#REF!=\"\", \"\",#REF!)","v":{"$error":"#REF!"}},{"$f":" IF(#REF!=\"\", \"\",#REF!)","v":{"$error":"#REF!"}},{"$f":" IF(#REF!=\"\", \"\",#REF!)","v":{"$error":"#REF!"}},{"$f":" IF(#REF!=\"\", \"\",#REF!)","v":{"$error":"#REF!"}},{"$f":"IF(AW49=\"\", \"\", IF($L49=\"男\", VLOOKUP(AW49, データ!$B$2:$C$101, 2, FALSE), IF($L49=\"女\", VLOOKUP(AW49, データ!$F$2:$H$101, 2, FALSE), \"\")))","v":{"$error":"#REF!"}},{"$f":"IF(A49=\"\",\"\", IF(#REF!=\"\", \"\",#REF!))","v":{"$error":"#REF!"}},{"$f":" IF(#REF!=\"\", \"\",#REF!)","v":{"$error":"#REF!"}},{"$f":" IF(#REF!=\"\", \"\",#REF!)","v":{"$error":"#REF!"}},{"$f":" IF(#REF!=\"\", \"\",#REF!)","v":{"$error":"#REF!"}},{"$f":" IF(#REF!=\"\", \"\",#REF!)","v":{"$error":"#REF!"}},{"$error":"#REF!"}]
[{"$f":"#REF!","v":{"$error":"#REF!"}},{"$f":" IF(#REF!=\"\", \"\",#REF!)","v":{"$error":"#REF!"}},{"$f":" IF(#REF!=\"\", \"\",#REF!)","v":{"$error":"#REF!"}},{"$f":" IF(#REF!=\"\", \"\",#REF!)","v":{"$error":"#REF!"}},{"$error":"#REF!"},{"$error":"#REF!"},{"$error":"#REF!"},{"$error":"#REF!"},{"$f":" IF(#REF!=\"\", \"\",#REF!)","v":{"$error":"#REF!"}},{"$f":" IF(#REF!=\"\", \"\",#REF!)","v":{"$error":"#REF!"}},{"$f":" IF(#REF!=\"\", \"\",#REF!)","v":{"$error":"#REF!"}},{"$f":" IF(#REF!=\"\", \"\",#REF!)","v":{"$error":"#REF!"}},{"$f":" IF(#REF!=\"\", \"\",#REF!)","v":{"$error":"#REF!"}},{"$f":" IF(#REF!=\"\", \"\",#REF!)","v":{"$error":"#REF!"}},{"$f":" IF(#REF!=\"\", \"\",#REF!)","v":{"$error":"#REF!"}},{"$f":" IF(#REF!=\"\", \"\",#REF!)","v":{"$error":"#REF!"}},{"$f":"IF(A50=\"\",\"\",#REF!)","v":{"$error":"#REF!"}},{"$f":" IF(Q50=\"\", \"\",#REF!)","v":{"$error":"#REF!"}},{"$f":" IF(Q50=\"\", \"\",#REF!)","v":{"$error":"#REF!"}},{"$f":" IF(Q50=\"\", \"\",#REF!)","v":{"$error":"#REF!"}},{"$f":" IF(Q50=\"\", \"\",#REF!)","v":{"$error":"#REF!"}},{"$f":" IF(#REF!=\"\", \"\",#REF!)","v":{"$error":"#REF!"}},{"$f":" IF(#REF!=\"\", \"\",#REF!)","v":{"$error":"#REF!"}},{"$f":"IF(Y50=\"\", \"\", IF($L50=\"男\", VLOOKUP(Y50, データ!$B$2:$C$101, 2, FALSE), IF($L50=\"女\", VLOOKUP(Y50, データ!$F$2:$H$101, 2, FALSE), \"\")))","v":{"$error":"#REF!"}},{"$f":"IF(A50=\"\",\"\", IF(#REF!=\"\", \"\",#REF!))","v":{"$error":"#REF!"}},{"$f":" IF(#REF!=\"\", \"\",#REF!)","v":{"$error":"#REF!"}},{"$f":" IF(#REF!=\"\", \"\",#REF!)","v":{"$error":"#REF!"}},{"$f":" IF(#REF!=\"\", \"\",#REF!)","v":{"$error":"#REF!"}},{"$f":" IF(#REF!=\"\", \"\",#REF!)","v":{"$error":"#REF!"}},{"$f":"IF(AE50=\"\", \"\", IF($L50=\"男\", VLOOKUP(AE50, データ!$B$2:$C$101, 2, FALSE), IF($L50=\"女\", VLOOKUP(AE50, データ!$F$2:$H$101, 2, FALSE), \"\")))","v":{"$error":"#REF!"}},{"$f":"IF(A50=\"\",\"\", IF(#REF!=\"\", \"\",#REF!))","v":{"$error":"#REF!"}},{"$f":" IF(#REF!=\"\", \"\",#REF!)","v":{"$error":"#REF!"}},{"$f":" IF(#REF!=\"\", \"\",#REF!)","v":{"$error":"#REF!"}},{"$f":" IF(#REF!=\"\", \"\",#REF!)","v":{"$error":"#REF!"}},{"$f":" IF(#REF!=\"\", \"\",#REF!)","v":{"$error":"#REF!"}},{"$f":"IF(AK50=\"\", \"\", IF($L50=\"男\", VLOOKUP(AK50, データ!$B$2:$C$101, 2, FALSE), IF($L50=\"女\", VLOOKUP(AK50, データ!$F$2:$H$101, 2, FALSE), \"\")))","v":{"$error":"#REF!"}},{"$f":"IF(A50=\"\",\"\", IF(#REF!=\"\", \"\",#REF!))","v":{"$error":"#REF!"}},{"$f":" IF(#REF!=\"\", \"\",#REF!)","v":{"$error":"#REF!"}},{"$f":" IF(#REF!=\"\", \"\",#REF!)","v":{"$error":"#REF!"}},{"$f":" IF(#REF!=\"\", \"\",#REF!)","v":{"$error":"#REF!"}},{"$f":" IF(#REF!=\"\", \"\",#REF!)","v":{"$error":"#REF!"}},{"$f":"IF(AQ50=\"\", \"\", IF($L50=\"男\", VLOOKUP(AQ50, データ!$B$2:$C$101, 2, FALSE), IF($L50=\"女\", VLOOKUP(AQ50, データ!$F$2:$H$101, 2, FALSE), \"\")))","v":{"$error":"#REF!"}},{"$f":"IF(A50=\"\",\"\", IF(#REF!=\"\", \"\",#REF!))","v":{"$error":"#REF!"}},{"$f":" IF(#REF!=\"\", \"\",#REF!)","v":{"$error":"#REF!"}},{"$f":" IF(#REF!=\"\", \"\",#REF!)","v":{"$error":"#REF!"}},{"$f":" IF(#REF!=\"\", \"\",#REF!)","v":{"$error":"#REF!"}},{"$f":" IF(#REF!=\"\", \"\",#REF!)","v":{"$error":"#REF!"}},{"$f":"IF(AW50=\"\", \"\", IF($L50=\"男\", VLOOKUP(AW50, データ!$B$2:$C$101, 2, FALSE), IF($L50=\"女\", VLOOKUP(AW50, データ!$F$2:$H$101, 2, FALSE), \"\")))","v":{"$error":"#REF!"}},{"$f":"IF(A50=\"\",\"\", IF(#REF!=\"\", \"\",#REF!))","v":{"$error":"#REF!"}},{"$f":" IF(#REF!=\"\", \"\",#REF!)","v":{"$error":"#REF!"}},{"$f":" IF(#REF!=\"\", \"\",#REF!)","v":{"$error":"#REF!"}},{"$f":" IF(#REF!=\"\", \"\",#REF!)","v":{"$error":"#REF!"}},{"$f":" IF(#REF!=\"\", \"\",#REF!)","v":{"$error":"#REF!"}},{"$error":"#REF!"}]
[{"$f":"#REF!","v":{"$error":"#REF!"}},{"$f":" IF(#REF!=\"\", \"\",#REF!)","v":{"$error":"#REF!"}},{"$f":" IF(#REF!=\"\", \"\",#REF!)","v":{"$error":"#REF!"}},{"$f":" IF(#REF!=\"\", \"\",#REF!)","v":{"$error":"#REF!"}},{"$error":"#REF!"},{"$error":"#REF!"},{"$error":"#REF!"},{"$error":"#REF!"},{"$f":" IF(#REF!=\"\", \"\",#REF!)","v":{"$error":"#REF!"}},{"$f":" IF(#REF!=\"\", \"\",#REF!)","v":{"$error":"#REF!"}},{"$f":" IF(#REF!=\"\", \"\",#REF!)","v":{"$error":"#REF!"}},{"$f":" IF(#REF!=\"\", \"\",#REF!)","v":{"$error":"#REF!"}},{"$f":" IF(#REF!=\"\", \"\",#REF!)","v":{"$error":"#REF!"}},{"$f":" IF(#REF!=\"\", \"\",#REF!)","v":{"$error":"#REF!"}},{"$f":" IF(#REF!=\"\", \"\",#REF!)","v":{"$error":"#REF!"}},{"$f":" IF(#REF!=\"\", \"\",#REF!)","v":{"$error":"#REF!"}},{"$f":"IF(A51=\"\",\"\",#REF!)","v":{"$error":"#REF!"}},{"$f":" IF(Q51=\"\", \"\",#REF!)","v":{"$error":"#REF!"}},{"$f":" IF(Q51=\"\", \"\",#REF!)","v":{"$error":"#REF!"}},{"$f":" IF(Q51=\"\", \"\",#REF!)","v":{"$error":"#REF!"}},{"$f":" IF(Q51=\"\", \"\",#REF!)","v":{"$error":"#REF!"}},{"$f":" IF(#REF!=\"\", \"\",#REF!)","v":{"$error":"#REF!"}},{"$f":" IF(#REF!=\"\", \"\",#REF!)","v":{"$error":"#REF!"}},{"$f":"IF(Y51=\"\", \"\", IF($L51=\"男\", VLOOKUP(Y51, データ!$B$2:$C$101, 2, FALSE), IF($L51=\"女\", VLOOKUP(Y51, データ!$F$2:$H$101, 2, FALSE), \"\")))","v":{"$error":"#REF!"}},{"$f":"IF(A51=\"\",\"\", IF(#REF!=\"\", \"\",#REF!))","v":{"$error":"#REF!"}},{"$f":" IF(#REF!=\"\", \"\",#REF!)","v":{"$error":"#REF!"}},{"$f":" IF(#REF!=\"\", \"\",#REF!)","v":{"$error":"#REF!"}},{"$f":" IF(#REF!=\"\", \"\",#REF!)","v":{"$error":"#REF!"}},{"$f":" IF(#REF!=\"\", \"\",#REF!)","v":{"$error":"#REF!"}},{"$f":"IF(AE51=\"\", \"\", IF($L51=\"男\", VLOOKUP(AE51, データ!$B$2:$C$101, 2, FALSE), IF($L51=\"女\", VLOOKUP(AE51, データ!$F$2:$H$101, 2, FALSE), \"\")))","v":{"$error":"#REF!"}},{"$f":"IF(A51=\"\",\"\", IF(#REF!=\"\", \"\",#REF!))","v":{"$error":"#REF!"}},{"$f":" IF(#REF!=\"\", \"\",#REF!)","v":{"$error":"#REF!"}},{"$f":" IF(#REF!=\"\", \"\",#REF!)","v":{"$error":"#REF!"}},{"$f":" IF(#REF!=\"\", \"\",#REF!)","v":{"$error":"#REF!"}},{"$f":" IF(#REF!=\"\", \"\",#REF!)","v":{"$error":"#REF!"}},{"$f":"IF(AK51=\"\", \"\", IF($L51=\"男\", VLOOKUP(AK51, データ!$B$2:$C$101, 2, FALSE), IF($L51=\"女\", VLOOKUP(AK51, データ!$F$2:$H$101, 2, FALSE), \"\")))","v":{"$error":"#REF!"}},{"$f":"IF(A51=\"\",\"\", IF(#REF!=\"\", \"\",#REF!))","v":{"$error":"#REF!"}},{"$f":" IF(#REF!=\"\", \"\",#REF!)","v":{"$error":"#REF!"}},{"$f":" IF(#REF!=\"\", \"\",#REF!)","v":{"$error":"#REF!"}},{"$f":" IF(#REF!=\"\", \"\",#REF!)","v":{"$error":"#REF!"}},{"$f":" IF(#REF!=\"\", \"\",#REF!)","v":{"$error":"#REF!"}},{"$f":"IF(AQ51=\"\", \"\", IF($L51=\"男\", VLOOKUP(AQ51, データ!$B$2:$C$101, 2, FALSE), IF($L51=\"女\", VLOOKUP(AQ51, データ!$F$2:$H$101, 2, FALSE), \"\")))","v":{"$error":"#REF!"}},{"$f":"IF(A51=\"\",\"\", IF(#REF!=\"\", \"\",#REF!))","v":{"$error":"#REF!"}},{"$f":" IF(#REF!=\"\", \"\",#REF!)","v":{"$error":"#REF!"}},{"$f":" IF(#REF!=\"\", \"\",#REF!)","v":{"$error":"#REF!"}},{"$f":" IF(#REF!=\"\", \"\",#REF!)","v":{"$error":"#REF!"}},{"$f":" IF(#REF!=\"\", \"\",#REF!)","v":{"$error":"#REF!"}},{"$f":"IF(AW51=\"\", \"\", IF($L51=\"男\", VLOOKUP(AW51, データ!$B$2:$C$101, 2, FALSE), IF($L51=\"女\", VLOOKUP(AW51, データ!$F$2:$H$101, 2, FALSE), \"\")))","v":{"$error":"#REF!"}},{"$f":"IF(A51=\"\",\"\", IF(#REF!=\"\", \"\",#REF!))","v":{"$error":"#REF!"}},{"$f":" IF(#REF!=\"\", \"\",#REF!)","v":{"$error":"#REF!"}},{"$f":" IF(#REF!=\"\", \"\",#REF!)","v":{"$error":"#REF!"}},{"$f":" IF(#REF!=\"\", \"\",#REF!)","v":{"$error":"#REF!"}},{"$f":" IF(#REF!=\"\", \"\",#REF!)","v":{"$error":"#REF!"}},{"$error":"#REF!"}]
[{"$f":"#REF!","v":{"$error":"#REF!"}},{"$f":" IF(#REF!=\"\", \"\",#REF!)","v":{"$error":"#REF!"}},{"$f":" IF(#REF!=\"\", \"\",#REF!)","v":{"$error":"#REF!"}},{"$f":" IF(#REF!=\"\", \"\",#REF!)","v":{"$error":"#REF!"}},{"$error":"#REF!"},{"$error":"#REF!"},{"$error":"#REF!"},{"$error":"#REF!"},{"$f":" IF(#REF!=\"\", \"\",#REF!)","v":{"$error":"#REF!"}},{"$f":" IF(#REF!=\"\", \"\",#REF!)","v":{"$error":"#REF!"}},{"$f":" IF(#REF!=\"\", \"\",#REF!)","v":{"$error":"#REF!"}},{"$f":" IF(#REF!=\"\", \"\",#REF!)","v":{"$error":"#REF!"}},{"$f":" IF(#REF!=\"\", \"\",#REF!)","v":{"$error":"#REF!"}},{"$f":" IF(#REF!=\"\", \"\",#REF!)","v":{"$error":"#REF!"}},{"$f":" IF(#REF!=\"\", \"\",#REF!)","v":{"$error":"#REF!"}},{"$f":" IF(#REF!=\"\", \"\",#REF!)","v":{"$error":"#REF!"}},{"$f":"IF(A52=\"\",\"\",#REF!)","v":{"$error":"#REF!"}},{"$f":" IF(Q52=\"\", \"\",#REF!)","v":{"$error":"#REF!"}},{"$f":" IF(Q52=\"\", \"\",#REF!)","v":{"$error":"#REF!"}},{"$f":" IF(Q52=\"\", \"\",#REF!)","v":{"$error":"#REF!"}},{"$f":" IF(Q52=\"\", \"\",#REF!)","v":{"$error":"#REF!"}},{"$f":" IF(#REF!=\"\", \"\",#REF!)","v":{"$error":"#REF!"}},{"$f":" IF(#REF!=\"\", \"\",#REF!)","v":{"$error":"#REF!"}},{"$f":"IF(Y52=\"\", \"\", IF($L52=\"男\", VLOOKUP(Y52, データ!$B$2:$C$101, 2, FALSE), IF($L52=\"女\", VLOOKUP(Y52, データ!$F$2:$H$101, 2, FALSE), \"\")))","v":{"$error":"#REF!"}},{"$f":"IF(A52=\"\",\"\", IF(#REF!=\"\", \"\",#REF!))","v":{"$error":"#REF!"}},{"$f":" IF(#REF!=\"\", \"\",#REF!)","v":{"$error":"#REF!"}},{"$f":" IF(#REF!=\"\", \"\",#REF!)","v":{"$error":"#REF!"}},{"$f":" IF(#REF!=\"\", \"\",#REF!)","v":{"$error":"#REF!"}},{"$f":" IF(#REF!=\"\", \"\",#REF!)","v":{"$error":"#REF!"}},{"$f":"IF(AE52=\"\", \"\", IF($L52=\"男\", VLOOKUP(AE52, データ!$B$2:$C$101, 2, FALSE), IF($L52=\"女\", VLOOKUP(AE52, データ!$F$2:$H$101, 2, FALSE), \"\")))","v":{"$error":"#REF!"}},{"$f":"IF(A52=\"\",\"\", IF(#REF!=\"\", \"\",#REF!))","v":{"$error":"#REF!"}},{"$f":" IF(#REF!=\"\", \"\",#REF!)","v":{"$error":"#REF!"}},{"$f":" IF(#REF!=\"\", \"\",#REF!)","v":{"$error":"#REF!"}},{"$f":" IF(#REF!=\"\", \"\",#REF!)","v":{"$error":"#REF!"}},{"$f":" IF(#REF!=\"\", \"\",#REF!)","v":{"$error":"#REF!"}},{"$f":"IF(AK52=\"\", \"\", IF($L52=\"男\", VLOOKUP(AK52, データ!$B$2:$C$101, 2, FALSE), IF($L52=\"女\", VLOOKUP(AK52, データ!$F$2:$H$101, 2, FALSE), \"\")))","v":{"$error":"#REF!"}},{"$f":"IF(A52=\"\",\"\", IF(#REF!=\"\", \"\",#REF!))","v":{"$error":"#REF!"}},{"$f":" IF(#REF!=\"\", \"\",#REF!)","v":{"$error":"#REF!"}},{"$f":" IF(#REF!=\"\", \"\",#REF!)","v":{"$error":"#REF!"}},{"$f":" IF(#REF!=\"\", \"\",#REF!)","v":{"$error":"#REF!"}},{"$f":" IF(#REF!=\"\", \"\",#REF!)","v":{"$error":"#REF!"}},{"$f":"IF(AQ52=\"\", \"\", IF($L52=\"男\", VLOOKUP(AQ52, データ!$B$2:$C$101, 2, FALSE), IF($L52=\"女\", VLOOKUP(AQ52, データ!$F$2:$H$101, 2, FALSE), \"\")))","v":{"$error":"#REF!"}},{"$f":"IF(A52=\"\",\"\", IF(#REF!=\"\", \"\",#REF!))","v":{"$error":"#REF!"}},{"$f":" IF(#REF!=\"\", \"\",#REF!)","v":{"$error":"#REF!"}},{"$f":" IF(#REF!=\"\", \"\",#REF!)","v":{"$error":"#REF!"}},{"$f":" IF(#REF!=\"\", \"\",#REF!)","v":{"$error":"#REF!"}},{"$f":" IF(#REF!=\"\", \"\",#REF!)","v":{"$error":"#REF!"}},{"$f":"IF(AW52=\"\", \"\", IF($L52=\"男\", VLOOKUP(AW52, データ!$B$2:$C$101, 2, FALSE), IF($L52=\"女\", VLOOKUP(AW52, データ!$F$2:$H$101, 2, FALSE), \"\")))","v":{"$error":"#REF!"}},{"$f":"IF(A52=\"\",\"\", IF(#REF!=\"\", \"\",#REF!))","v":{"$error":"#REF!"}},{"$f":" IF(#REF!=\"\", \"\",#REF!)","v":{"$error":"#REF!"}},{"$f":" IF(#REF!=\"\", \"\",#REF!)","v":{"$error":"#REF!"}},{"$f":" IF(#REF!=\"\", \"\",#REF!)","v":{"$error":"#REF!"}},{"$f":" IF(#REF!=\"\", \"\",#REF!)","v":{"$error":"#REF!"}},{"$error":"#REF!"}]
[{"$f":"#REF!","v":{"$error":"#REF!"}},{"$f":" IF(#REF!=\"\", \"\",#REF!)","v":{"$error":"#REF!"}},{"$f":" IF(#REF!=\"\", \"\",#REF!)","v":{"$error":"#REF!"}},{"$f":" IF(#REF!=\"\", \"\",#REF!)","v":{"$error":"#REF!"}},{"$error":"#REF!"},{"$error":"#REF!"},{"$error":"#REF!"},{"$error":"#REF!"},{"$f":" IF(#REF!=\"\", \"\",#REF!)","v":{"$error":"#REF!"}},{"$f":" IF(#REF!=\"\", \"\",#REF!)","v":{"$error":"#REF!"}},{"$f":" IF(#REF!=\"\", \"\",#REF!)","v":{"$error":"#REF!"}},{"$f":" IF(#REF!=\"\", \"\",#REF!)","v":{"$error":"#REF!"}},{"$f":" IF(#REF!=\"\", \"\",#REF!)","v":{"$error":"#REF!"}},{"$f":" IF(#REF!=\"\", \"\",#REF!)","v":{"$error":"#REF!"}},{"$f":" IF(#REF!=\"\", \"\",#REF!)","v":{"$error":"#REF!"}},{"$f":" IF(#REF!=\"\", \"\",#REF!)","v":{"$error":"#REF!"}},{"$f":"IF(A53=\"\",\"\",#REF!)","v":{"$error":"#REF!"}},{"$f":" IF(Q53=\"\", \"\",#REF!)","v":{"$error":"#REF!"}},{"$f":" IF(Q53=\"\", \"\",#REF!)","v":{"$error":"#REF!"}},{"$f":" IF(Q53=\"\", \"\",#REF!)","v":{"$error":"#REF!"}},{"$f":" IF(Q53=\"\", \"\",#REF!)","v":{"$error":"#REF!"}},{"$f":" IF(#REF!=\"\", \"\",#REF!)","v":{"$error":"#REF!"}},{"$f":" IF(#REF!=\"\", \"\",#REF!)","v":{"$error":"#REF!"}},{"$f":"IF(Y53=\"\", \"\", IF($L53=\"男\", VLOOKUP(Y53, データ!$B$2:$C$101, 2, FALSE), IF($L53=\"女\", VLOOKUP(Y53, データ!$F$2:$H$101, 2, FALSE), \"\")))","v":{"$error":"#REF!"}},{"$f":"IF(A53=\"\",\"\", IF(#REF!=\"\", \"\",#REF!))","v":{"$error":"#REF!"}},{"$f":" IF(#REF!=\"\", \"\",#REF!)","v":{"$error":"#REF!"}},{"$f":" IF(#REF!=\"\", \"\",#REF!)","v":{"$error":"#REF!"}},{"$f":" IF(#REF!=\"\", \"\",#REF!)","v":{"$error":"#REF!"}},{"$f":" IF(#REF!=\"\", \"\",#REF!)","v":{"$error":"#REF!"}},{"$f":"IF(AE53=\"\", \"\", IF($L53=\"男\", VLOOKUP(AE53, データ!$B$2:$C$101, 2, FALSE), IF($L53=\"女\", VLOOKUP(AE53, データ!$F$2:$H$101, 2, FALSE), \"\")))","v":{"$error":"#REF!"}},{"$f":"IF(A53=\"\",\"\", IF(#REF!=\"\", \"\",#REF!))","v":{"$error":"#REF!"}},{"$f":" IF(#REF!=\"\", \"\",#REF!)","v":{"$error":"#REF!"}},{"$f":" IF(#REF!=\"\", \"\",#REF!)","v":{"$error":"#REF!"}},{"$f":" IF(#REF!=\"\", \"\",#REF!)","v":{"$error":"#REF!"}},{"$f":" IF(#REF!=\"\", \"\",#REF!)","v":{"$error":"#REF!"}},{"$f":"IF(AK53=\"\", \"\", IF($L53=\"男\", VLOOKUP(AK53, データ!$B$2:$C$101, 2, FALSE), IF($L53=\"女\", VLOOKUP(AK53, データ!$F$2:$H$101, 2, FALSE), \"\")))","v":{"$error":"#REF!"}},{"$f":"IF(A53=\"\",\"\", IF(#REF!=\"\", \"\",#REF!))","v":{"$error":"#REF!"}},{"$f":" IF(#REF!=\"\", \"\",#REF!)","v":{"$error":"#REF!"}},{"$f":" IF(#REF!=\"\", \"\",#REF!)","v":{"$error":"#REF!"}},{"$f":" IF(#REF!=\"\", \"\",#REF!)","v":{"$error":"#REF!"}},{"$f":" IF(#REF!=\"\", \"\",#REF!)","v":{"$error":"#REF!"}},{"$f":"IF(AQ53=\"\", \"\", IF($L53=\"男\", VLOOKUP(AQ53, データ!$B$2:$C$101, 2, FALSE), IF($L53=\"女\", VLOOKUP(AQ53, データ!$F$2:$H$101, 2, FALSE), \"\")))","v":{"$error":"#REF!"}},{"$f":"IF(A53=\"\",\"\", IF(#REF!=\"\", \"\",#REF!))","v":{"$error":"#REF!"}},{"$f":" IF(#REF!=\"\", \"\",#REF!)","v":{"$error":"#REF!"}},{"$f":" IF(#REF!=\"\", \"\",#REF!)","v":{"$error":"#REF!"}},{"$f":" IF(#REF!=\"\", \"\",#REF!)","v":{"$error":"#REF!"}},{"$f":" IF(#REF!=\"\", \"\",#REF!)","v":{"$error":"#REF!"}},{"$f":"IF(AW53=\"\", \"\", IF($L53=\"男\", VLOOKUP(AW53, データ!$B$2:$C$101, 2, FALSE), IF($L53=\"女\", VLOOKUP(AW53, データ!$F$2:$H$101, 2, FALSE), \"\")))","v":{"$error":"#REF!"}},{"$f":"IF(A53=\"\",\"\", IF(#REF!=\"\", \"\",#REF!))","v":{"$error":"#REF!"}},{"$f":" IF(#REF!=\"\", \"\",#REF!)","v":{"$error":"#REF!"}},{"$f":" IF(#REF!=\"\", \"\",#REF!)","v":{"$error":"#REF!"}},{"$f":" IF(#REF!=\"\", \"\",#REF!)","v":{"$error":"#REF!"}},{"$f":" IF(#REF!=\"\", \"\",#REF!)","v":{"$error":"#REF!"}},{"$error":"#REF!"}]
[{"$f":"#REF!","v":{"$error":"#REF!"}},{"$f":" IF(#REF!=\"\", \"\",#REF!)","v":{"$error":"#REF!"}},{"$f":" IF(#REF!=\"\", \"\",#REF!)","v":{"$error":"#REF!"}},{"$f":" IF(#REF!=\"\", \"\",#REF!)","v":{"$error":"#REF!"}},{"$error":"#REF!"},{"$error":"#REF!"},{"$error":"#REF!"},{"$error":"#REF!"},{"$f":" IF(#REF!=\"\", \"\",#REF!)","v":{"$error":"#REF!"}},{"$f":" IF(#REF!=\"\", \"\",#REF!)","v":{"$error":"#REF!"}},{"$f":" IF(#REF!=\"\", \"\",#REF!)","v":{"$error":"#REF!"}},{"$f":" IF(#REF!=\"\", \"\",#REF!)","v":{"$error":"#REF!"}},{"$f":" IF(#REF!=\"\", \"\",#REF!)","v":{"$error":"#REF!"}},{"$f":" IF(#REF!=\"\", \"\",#REF!)","v":{"$error":"#REF!"}},{"$f":" IF(#REF!=\"\", \"\",#REF!)","v":{"$error":"#REF!"}},{"$f":" IF(#REF!=\"\", \"\",#REF!)","v":{"$error":"#REF!"}},{"$f":"IF(A54=\"\",\"\",#REF!)","v":{"$error":"#REF!"}},{"$f":" IF(Q54=\"\", \"\",#REF!)","v":{"$error":"#REF!"}},{"$f":" IF(Q54=\"\", \"\",#REF!)","v":{"$error":"#REF!"}},{"$f":" IF(Q54=\"\", \"\",#REF!)","v":{"$error":"#REF!"}},{"$f":" IF(Q54=\"\", \"\",#REF!)","v":{"$error":"#REF!"}},{"$f":" IF(#REF!=\"\", \"\",#REF!)","v":{"$error":"#REF!"}},{"$f":" IF(#REF!=\"\", \"\",#REF!)","v":{"$error":"#REF!"}},{"$f":"IF(Y54=\"\", \"\", IF($L54=\"男\", VLOOKUP(Y54, データ!$B$2:$C$101, 2, FALSE), IF($L54=\"女\", VLOOKUP(Y54, データ!$F$2:$H$101, 2, FALSE), \"\")))","v":{"$error":"#REF!"}},{"$f":"IF(A54=\"\",\"\", IF(#REF!=\"\", \"\",#REF!))","v":{"$error":"#REF!"}},{"$f":" IF(#REF!=\"\", \"\",#REF!)","v":{"$error":"#REF!"}},{"$f":" IF(#REF!=\"\", \"\",#REF!)","v":{"$error":"#REF!"}},{"$f":" IF(#REF!=\"\", \"\",#REF!)","v":{"$error":"#REF!"}},{"$f":" IF(#REF!=\"\", \"\",#REF!)","v":{"$error":"#REF!"}},{"$f":"IF(AE54=\"\", \"\", IF($L54=\"男\", VLOOKUP(AE54, データ!$B$2:$C$101, 2, FALSE), IF($L54=\"女\", VLOOKUP(AE54, データ!$F$2:$H$101, 2, FALSE), \"\")))","v":{"$error":"#REF!"}},{"$f":"IF(A54=\"\",\"\", IF(#REF!=\"\", \"\",#REF!))","v":{"$error":"#REF!"}},{"$f":" IF(#REF!=\"\", \"\",#REF!)","v":{"$error":"#REF!"}},{"$f":" IF(#REF!=\"\", \"\",#REF!)","v":{"$error":"#REF!"}},{"$f":" IF(#REF!=\"\", \"\",#REF!)","v":{"$error":"#REF!"}},{"$f":" IF(#REF!=\"\", \"\",#REF!)","v":{"$error":"#REF!"}},{"$f":"IF(AK54=\"\", \"\", IF($L54=\"男\", VLOOKUP(AK54, データ!$B$2:$C$101, 2, FALSE), IF($L54=\"女\", VLOOKUP(AK54, データ!$F$2:$H$101, 2, FALSE), \"\")))","v":{"$error":"#REF!"}},{"$f":"IF(A54=\"\",\"\", IF(#REF!=\"\", \"\",#REF!))","v":{"$error":"#REF!"}},{"$f":" IF(#REF!=\"\", \"\",#REF!)","v":{"$error":"#REF!"}},{"$f":" IF(#REF!=\"\", \"\",#REF!)","v":{"$error":"#REF!"}},{"$f":" IF(#REF!=\"\", \"\",#REF!)","v":{"$error":"#REF!"}},{"$f":" IF(#REF!=\"\", \"\",#REF!)","v":{"$error":"#REF!"}},{"$f":"IF(AQ54=\"\", \"\", IF($L54=\"男\", VLOOKUP(AQ54, データ!$B$2:$C$101, 2, FALSE), IF($L54=\"女\", VLOOKUP(AQ54, データ!$F$2:$H$101, 2, FALSE), \"\")))","v":{"$error":"#REF!"}},{"$f":"IF(A54=\"\",\"\", IF(#REF!=\"\", \"\",#REF!))","v":{"$error":"#REF!"}},{"$f":" IF(#REF!=\"\", \"\",#REF!)","v":{"$error":"#REF!"}},{"$f":" IF(#REF!=\"\", \"\",#REF!)","v":{"$error":"#REF!"}},{"$f":" IF(#REF!=\"\", \"\",#REF!)","v":{"$error":"#REF!"}},{"$f":" IF(#REF!=\"\", \"\",#REF!)","v":{"$error":"#REF!"}},{"$f":"IF(AW54=\"\", \"\", IF($L54=\"男\", VLOOKUP(AW54, データ!$B$2:$C$101, 2, FALSE), IF($L54=\"女\", VLOOKUP(AW54, データ!$F$2:$H$101, 2, FALSE), \"\")))","v":{"$error":"#REF!"}},{"$f":"IF(A54=\"\",\"\", IF(#REF!=\"\", \"\",#REF!))","v":{"$error":"#REF!"}},{"$f":" IF(#REF!=\"\", \"\",#REF!)","v":{"$error":"#REF!"}},{"$f":" IF(#REF!=\"\", \"\",#REF!)","v":{"$error":"#REF!"}},{"$f":" IF(#REF!=\"\", \"\",#REF!)","v":{"$error":"#REF!"}},{"$f":" IF(#REF!=\"\", \"\",#REF!)","v":{"$error":"#REF!"}},{"$error":"#REF!"}]
[{"$f":"#REF!","v":{"$error":"#REF!"}},{"$f":" IF(#REF!=\"\", \"\",#REF!)","v":{"$error":"#REF!"}},{"$f":" IF(#REF!=\"\", \"\",#REF!)","v":{"$error":"#REF!"}},{"$f":" IF(#REF!=\"\", \"\",#REF!)","v":{"$error":"#REF!"}},{"$error":"#REF!"},{"$error":"#REF!"},{"$error":"#REF!"},{"$error":"#REF!"},{"$f":" IF(#REF!=\"\", \"\",#REF!)","v":{"$error":"#REF!"}},{"$f":" IF(#REF!=\"\", \"\",#REF!)","v":{"$error":"#REF!"}},{"$f":" IF(#REF!=\"\", \"\",#REF!)","v":{"$error":"#REF!"}},{"$f":" IF(#REF!=\"\", \"\",#REF!)","v":{"$error":"#REF!"}},{"$f":" IF(#REF!=\"\", \"\",#REF!)","v":{"$error":"#REF!"}},{"$f":" IF(#REF!=\"\", \"\",#REF!)","v":{"$error":"#REF!"}},{"$f":" IF(#REF!=\"\", \"\",#REF!)","v":{"$error":"#REF!"}},{"$f":" IF(#REF!=\"\", \"\",#REF!)","v":{"$error":"#REF!"}},{"$f":"IF(A55=\"\",\"\",#REF!)","v":{"$error":"#REF!"}},{"$f":" IF(Q55=\"\", \"\",#REF!)","v":{"$error":"#REF!"}},{"$f":" IF(Q55=\"\", \"\",#REF!)","v":{"$error":"#REF!"}},{"$f":" IF(Q55=\"\", \"\",#REF!)","v":{"$error":"#REF!"}},{"$f":" IF(Q55=\"\", \"\",#REF!)","v":{"$error":"#REF!"}},{"$f":" IF(#REF!=\"\", \"\",#REF!)","v":{"$error":"#REF!"}},{"$f":" IF(#REF!=\"\", \"\",#REF!)","v":{"$error":"#REF!"}},{"$f":"IF(Y55=\"\", \"\", IF($L55=\"男\", VLOOKUP(Y55, データ!$B$2:$C$101, 2, FALSE), IF($L55=\"女\", VLOOKUP(Y55, データ!$F$2:$H$101, 2, FALSE), \"\")))","v":{"$error":"#REF!"}},{"$f":"IF(A55=\"\",\"\", IF(#REF!=\"\", \"\",#REF!))","v":{"$error":"#REF!"}},{"$f":" IF(#REF!=\"\", \"\",#REF!)","v":{"$error":"#REF!"}},{"$f":" IF(#REF!=\"\", \"\",#REF!)","v":{"$error":"#REF!"}},{"$f":" IF(#REF!=\"\", \"\",#REF!)","v":{"$error":"#REF!"}},{"$f":" IF(#REF!=\"\", \"\",#REF!)","v":{"$error":"#REF!"}},{"$f":"IF(AE55=\"\", \"\", IF($L55=\"男\", VLOOKUP(AE55, データ!$B$2:$C$101, 2, FALSE), IF($L55=\"女\", VLOOKUP(AE55, データ!$F$2:$H$101, 2, FALSE), \"\")))","v":{"$error":"#REF!"}},{"$f":"IF(A55=\"\",\"\", IF(#REF!=\"\", \"\",#REF!))","v":{"$error":"#REF!"}},{"$f":" IF(#REF!=\"\", \"\",#REF!)","v":{"$error":"#REF!"}},{"$f":" IF(#REF!=\"\", \"\",#REF!)","v":{"$error":"#REF!"}},{"$f":" IF(#REF!=\"\", \"\",#REF!)","v":{"$error":"#REF!"}},{"$f":" IF(#REF!=\"\", \"\",#REF!)","v":{"$error":"#REF!"}},{"$f":"IF(AK55=\"\", \"\", IF($L55=\"男\", VLOOKUP(AK55, データ!$B$2:$C$101, 2, FALSE), IF($L55=\"女\", VLOOKUP(AK55, データ!$F$2:$H$101, 2, FALSE), \"\")))","v":{"$error":"#REF!"}},{"$f":"IF(A55=\"\",\"\", IF(#REF!=\"\", \"\",#REF!))","v":{"$error":"#REF!"}},{"$f":" IF(#REF!=\"\", \"\",#REF!)","v":{"$error":"#REF!"}},{"$f":" IF(#REF!=\"\", \"\",#REF!)","v":{"$error":"#REF!"}},{"$f":" IF(#REF!=\"\", \"\",#REF!)","v":{"$error":"#REF!"}},{"$f":" IF(#REF!=\"\", \"\",#REF!)","v":{"$error":"#REF!"}},{"$f":"IF(AQ55=\"\", \"\", IF($L55=\"男\", VLOOKUP(AQ55, データ!$B$2:$C$101, 2, FALSE), IF($L55=\"女\", VLOOKUP(AQ55, データ!$F$2:$H$101, 2, FALSE), \"\")))","v":{"$error":"#REF!"}},{"$f":"IF(A55=\"\",\"\", IF(#REF!=\"\", \"\",#REF!))","v":{"$error":"#REF!"}},{"$f":" IF(#REF!=\"\", \"\",#REF!)","v":{"$error":"#REF!"}},{"$f":" IF(#REF!=\"\", \"\",#REF!)","v":{"$error":"#REF!"}},{"$f":" IF(#REF!=\"\", \"\",#REF!)","v":{"$error":"#REF!"}},{"$f":" IF(#REF!=\"\", \"\",#REF!)","v":{"$error":"#REF!"}},{"$f":"IF(AW55=\"\", \"\", IF($L55=\"男\", VLOOKUP(AW55, データ!$B$2:$C$101, 2, FALSE), IF($L55=\"女\", VLOOKUP(AW55, データ!$F$2:$H$101, 2, FALSE), \"\")))","v":{"$error":"#REF!"}},{"$f":"IF(A55=\"\",\"\", IF(#REF!=\"\", \"\",#REF!))","v":{"$error":"#REF!"}},{"$f":" IF(#REF!=\"\", \"\",#REF!)","v":{"$error":"#REF!"}},{"$f":" IF(#REF!=\"\", \"\",#REF!)","v":{"$error":"#REF!"}},{"$f":" IF(#REF!=\"\", \"\",#REF!)","v":{"$error":"#REF!"}},{"$f":" IF(#REF!=\"\", \"\",#REF!)","v":{"$error":"#REF!"}},{"$error":"#REF!"}]
[{"$f":"#REF!","v":{"$error":"#REF!"}},{"$f":" IF(#REF!=\"\", \"\",#REF!)","v":{"$error":"#REF!"}},{"$f":" IF(#REF!=\"\", \"\",#REF!)","v":{"$error":"#REF!"}},{"$f":" IF(#REF!=\"\", \"\",#REF!)","v":{"$error":"#REF!"}},{"$error":"#REF!"},{"$error":"#REF!"},{"$error":"#REF!"},{"$error":"#REF!"},{"$f":" IF(#REF!=\"\", \"\",#REF!)","v":{"$error":"#REF!"}},{"$f":" IF(#REF!=\"\", \"\",#REF!)","v":{"$error":"#REF!"}},{"$f":" IF(#REF!=\"\", \"\",#REF!)","v":{"$error":"#REF!"}},{"$f":" IF(#REF!=\"\", \"\",#REF!)","v":{"$error":"#REF!"}},{"$f":" IF(#REF!=\"\", \"\",#REF!)","v":{"$error":"#REF!"}},{"$f":" IF(#REF!=\"\", \"\",#REF!)","v":{"$error":"#REF!"}},{"$f":" IF(#REF!=\"\", \"\",#REF!)","v":{"$error":"#REF!"}},{"$f":" IF(#REF!=\"\", \"\",#REF!)","v":{"$error":"#REF!"}},{"$f":"IF(A56=\"\",\"\",#REF!)","v":{"$error":"#REF!"}},{"$f":" IF(Q56=\"\", \"\",#REF!)","v":{"$error":"#REF!"}},{"$f":" IF(Q56=\"\", \"\",#REF!)","v":{"$error":"#REF!"}},{"$f":" IF(Q56=\"\", \"\",#REF!)","v":{"$error":"#REF!"}},{"$f":" IF(Q56=\"\", \"\",#REF!)","v":{"$error":"#REF!"}},{"$f":" IF(#REF!=\"\", \"\",#REF!)","v":{"$error":"#REF!"}},{"$f":" IF(#REF!=\"\", \"\",#REF!)","v":{"$error":"#REF!"}},{"$f":"IF(Y56=\"\", \"\", IF($L56=\"男\", VLOOKUP(Y56, データ!$B$2:$C$101, 2, FALSE), IF($L56=\"女\", VLOOKUP(Y56, データ!$F$2:$H$101, 2, FALSE), \"\")))","v":{"$error":"#REF!"}},{"$f":"IF(A56=\"\",\"\", IF(#REF!=\"\", \"\",#REF!))","v":{"$error":"#REF!"}},{"$f":" IF(#REF!=\"\", \"\",#REF!)","v":{"$error":"#REF!"}},{"$f":" IF(#REF!=\"\", \"\",#REF!)","v":{"$error":"#REF!"}},{"$f":" IF(#REF!=\"\", \"\",#REF!)","v":{"$error":"#REF!"}},{"$f":" IF(#REF!=\"\", \"\",#REF!)","v":{"$error":"#REF!"}},{"$f":"IF(AE56=\"\", \"\", IF($L56=\"男\", VLOOKUP(AE56, データ!$B$2:$C$101, 2, FALSE), IF($L56=\"女\", VLOOKUP(AE56, データ!$F$2:$H$101, 2, FALSE), \"\")))","v":{"$error":"#REF!"}},{"$f":"IF(A56=\"\",\"\", IF(#REF!=\"\", \"\",#REF!))","v":{"$error":"#REF!"}},{"$f":" IF(#REF!=\"\", \"\",#REF!)","v":{"$error":"#REF!"}},{"$f":" IF(#REF!=\"\", \"\",#REF!)","v":{"$error":"#REF!"}},{"$f":" IF(#REF!=\"\", \"\",#REF!)","v":{"$error":"#REF!"}},{"$f":" IF(#REF!=\"\", \"\",#REF!)","v":{"$error":"#REF!"}},{"$f":"IF(AK56=\"\", \"\", IF($L56=\"男\", VLOOKUP(AK56, データ!$B$2:$C$101, 2, FALSE), IF($L56=\"女\", VLOOKUP(AK56, データ!$F$2:$H$101, 2, FALSE), \"\")))","v":{"$error":"#REF!"}},{"$f":"IF(A56=\"\",\"\", IF(#REF!=\"\", \"\",#REF!))","v":{"$error":"#REF!"}},{"$f":" IF(#REF!=\"\", \"\",#REF!)","v":{"$error":"#REF!"}},{"$f":" IF(#REF!=\"\", \"\",#REF!)","v":{"$error":"#REF!"}},{"$f":" IF(#REF!=\"\", \"\",#REF!)","v":{"$error":"#REF!"}},{"$f":" IF(#REF!=\"\", \"\",#REF!)","v":{"$error":"#REF!"}},{"$f":"IF(AQ56=\"\", \"\", IF($L56=\"男\", VLOOKUP(AQ56, データ!$B$2:$C$101, 2, FALSE), IF($L56=\"女\", VLOOKUP(AQ56, データ!$F$2:$H$101, 2, FALSE), \"\")))","v":{"$error":"#REF!"}},{"$f":"IF(A56=\"\",\"\", IF(#REF!=\"\", \"\",#REF!))","v":{"$error":"#REF!"}},{"$f":" IF(#REF!=\"\", \"\",#REF!)","v":{"$error":"#REF!"}},{"$f":" IF(#REF!=\"\", \"\",#REF!)","v":{"$error":"#REF!"}},{"$f":" IF(#REF!=\"\", \"\",#REF!)","v":{"$error":"#REF!"}},{"$f":" IF(#REF!=\"\", \"\",#REF!)","v":{"$error":"#REF!"}},{"$f":"IF(AW56=\"\", \"\", IF($L56=\"男\", VLOOKUP(AW56, データ!$B$2:$C$101, 2, FALSE), IF($L56=\"女\", VLOOKUP(AW56, データ!$F$2:$H$101, 2, FALSE), \"\")))","v":{"$error":"#REF!"}},{"$f":"IF(A56=\"\",\"\", IF(#REF!=\"\", \"\",#REF!))","v":{"$error":"#REF!"}},{"$f":" IF(#REF!=\"\", \"\",#REF!)","v":{"$error":"#REF!"}},{"$f":" IF(#REF!=\"\", \"\",#REF!)","v":{"$error":"#REF!"}},{"$f":" IF(#REF!=\"\", \"\",#REF!)","v":{"$error":"#REF!"}},{"$f":" IF(#REF!=\"\", \"\",#REF!)","v":{"$error":"#REF!"}},{"$error":"#REF!"}]
[{"$f":"#REF!","v":{"$error":"#REF!"}},{"$f":" IF(#REF!=\"\", \"\",#REF!)","v":{"$error":"#REF!"}},{"$f":" IF(#REF!=\"\", \"\",#REF!)","v":{"$error":"#REF!"}},{"$f":" IF(#REF!=\"\", \"\",#REF!)","v":{"$error":"#REF!"}},{"$error":"#REF!"},{"$error":"#REF!"},{"$error":"#REF!"},{"$error":"#REF!"},{"$f":" IF(#REF!=\"\", \"\",#REF!)","v":{"$error":"#REF!"}},{"$f":" IF(#REF!=\"\", \"\",#REF!)","v":{"$error":"#REF!"}},{"$f":" IF(#REF!=\"\", \"\",#REF!)","v":{"$error":"#REF!"}},{"$f":" IF(#REF!=\"\", \"\",#REF!)","v":{"$error":"#REF!"}},{"$f":" IF(#REF!=\"\", \"\",#REF!)","v":{"$error":"#REF!"}},{"$f":" IF(#REF!=\"\", \"\",#REF!)","v":{"$error":"#REF!"}},{"$f":" IF(#REF!=\"\", \"\",#REF!)","v":{"$error":"#REF!"}},{"$f":" IF(#REF!=\"\", \"\",#REF!)","v":{"$error":"#REF!"}},{"$f":"IF(A57=\"\",\"\",#REF!)","v":{"$error":"#REF!"}},{"$f":" IF(Q57=\"\", \"\",#REF!)","v":{"$error":"#REF!"}},{"$f":" IF(Q57=\"\", \"\",#REF!)","v":{"$error":"#REF!"}},{"$f":" IF(Q57=\"\", \"\",#REF!)","v":{"$error":"#REF!"}},{"$f":" IF(Q57=\"\", \"\",#REF!)","v":{"$error":"#REF!"}},{"$f":" IF(#REF!=\"\", \"\",#REF!)","v":{"$error":"#REF!"}},{"$f":" IF(#REF!=\"\", \"\",#REF!)","v":{"$error":"#REF!"}},{"$f":"IF(Y57=\"\", \"\", IF($L57=\"男\", VLOOKUP(Y57, データ!$B$2:$C$101, 2, FALSE), IF($L57=\"女\", VLOOKUP(Y57, データ!$F$2:$H$101, 2, FALSE), \"\")))","v":{"$error":"#REF!"}},{"$f":"IF(A57=\"\",\"\", IF(#REF!=\"\", \"\",#REF!))","v":{"$error":"#REF!"}},{"$f":" IF(#REF!=\"\", \"\",#REF!)","v":{"$error":"#REF!"}},{"$f":" IF(#REF!=\"\", \"\",#REF!)","v":{"$error":"#REF!"}},{"$f":" IF(#REF!=\"\", \"\",#REF!)","v":{"$error":"#REF!"}},{"$f":" IF(#REF!=\"\", \"\",#REF!)","v":{"$error":"#REF!"}},{"$f":"IF(AE57=\"\", \"\", IF($L57=\"男\", VLOOKUP(AE57, データ!$B$2:$C$101, 2, FALSE), IF($L57=\"女\", VLOOKUP(AE57, データ!$F$2:$H$101, 2, FALSE), \"\")))","v":{"$error":"#REF!"}},{"$f":"IF(A57=\"\",\"\", IF(#REF!=\"\", \"\",#REF!))","v":{"$error":"#REF!"}},{"$f":" IF(#REF!=\"\", \"\",#REF!)","v":{"$error":"#REF!"}},{"$f":" IF(#REF!=\"\", \"\",#REF!)","v":{"$error":"#REF!"}},{"$f":" IF(#REF!=\"\", \"\",#REF!)","v":{"$error":"#REF!"}},{"$f":" IF(#REF!=\"\", \"\",#REF!)","v":{"$error":"#REF!"}},{"$f":"IF(AK57=\"\", \"\", IF($L57=\"男\", VLOOKUP(AK57, データ!$B$2:$C$101, 2, FALSE), IF($L57=\"女\", VLOOKUP(AK57, データ!$F$2:$H$101, 2, FALSE), \"\")))","v":{"$error":"#REF!"}},{"$f":"IF(A57=\"\",\"\", IF(#REF!=\"\", \"\",#REF!))","v":{"$error":"#REF!"}},{"$f":" IF(#REF!=\"\", \"\",#REF!)","v":{"$error":"#REF!"}},{"$f":" IF(#REF!=\"\", \"\",#REF!)","v":{"$error":"#REF!"}},{"$f":" IF(#REF!=\"\", \"\",#REF!)","v":{"$error":"#REF!"}},{"$f":" IF(#REF!=\"\", \"\",#REF!)","v":{"$error":"#REF!"}},{"$f":"IF(AQ57=\"\", \"\", IF($L57=\"男\", VLOOKUP(AQ57, データ!$B$2:$C$101, 2, FALSE), IF($L57=\"女\", VLOOKUP(AQ57, データ!$F$2:$H$101, 2, FALSE), \"\")))","v":{"$error":"#REF!"}},{"$f":"IF(A57=\"\",\"\", IF(#REF!=\"\", \"\",#REF!))","v":{"$error":"#REF!"}},{"$f":" IF(#REF!=\"\", \"\",#REF!)","v":{"$error":"#REF!"}},{"$f":" IF(#REF!=\"\", \"\",#REF!)","v":{"$error":"#REF!"}},{"$f":" IF(#REF!=\"\", \"\",#REF!)","v":{"$error":"#REF!"}},{"$f":" IF(#REF!=\"\", \"\",#REF!)","v":{"$error":"#REF!"}},{"$f":"IF(AW57=\"\", \"\", IF($L57=\"男\", VLOOKUP(AW57, データ!$B$2:$C$101, 2, FALSE), IF($L57=\"女\", VLOOKUP(AW57, データ!$F$2:$H$101, 2, FALSE), \"\")))","v":{"$error":"#REF!"}},{"$f":"IF(A57=\"\",\"\", IF(#REF!=\"\", \"\",#REF!))","v":{"$error":"#REF!"}},{"$f":" IF(#REF!=\"\", \"\",#REF!)","v":{"$error":"#REF!"}},{"$f":" IF(#REF!=\"\", \"\",#REF!)","v":{"$error":"#REF!"}},{"$f":" IF(#REF!=\"\", \"\",#REF!)","v":{"$error":"#REF!"}},{"$f":" IF(#REF!=\"\", \"\",#REF!)","v":{"$error":"#REF!"}},{"$error":"#REF!"}]
[{"$f":"#REF!","v":{"$error":"#REF!"}},{"$f":" IF(#REF!=\"\", \"\",#REF!)","v":{"$error":"#REF!"}},{"$f":" IF(#REF!=\"\", \"\",#REF!)","v":{"$error":"#REF!"}},{"$f":" IF(#REF!=\"\", \"\",#REF!)","v":{"$error":"#REF!"}},{"$error":"#REF!"},{"$error":"#REF!"},{"$error":"#REF!"},{"$error":"#REF!"},{"$f":" IF(#REF!=\"\", \"\",#REF!)","v":{"$error":"#REF!"}},{"$f":" IF(#REF!=\"\", \"\",#REF!)","v":{"$error":"#REF!"}},{"$f":" IF(#REF!=\"\", \"\",#REF!)","v":{"$error":"#REF!"}},{"$f":" IF(#REF!=\"\", \"\",#REF!)","v":{"$error":"#REF!"}},{"$f":" IF(#REF!=\"\", \"\",#REF!)","v":{"$error":"#REF!"}},{"$f":" IF(#REF!=\"\", \"\",#REF!)","v":{"$error":"#REF!"}},{"$f":" IF(#REF!=\"\", \"\",#REF!)","v":{"$error":"#REF!"}},{"$f":" IF(#REF!=\"\", \"\",#REF!)","v":{"$error":"#REF!"}},{"$f":"IF(A58=\"\",\"\",#REF!)","v":{"$error":"#REF!"}},{"$f":" IF(Q58=\"\", \"\",#REF!)","v":{"$error":"#REF!"}},{"$f":" IF(Q58=\"\", \"\",#REF!)","v":{"$error":"#REF!"}},{"$f":" IF(Q58=\"\", \"\",#REF!)","v":{"$error":"#REF!"}},{"$f":" IF(Q58=\"\", \"\",#REF!)","v":{"$error":"#REF!"}},{"$f":" IF(#REF!=\"\", \"\",#REF!)","v":{"$error":"#REF!"}},{"$f":" IF(#REF!=\"\", \"\",#REF!)","v":{"$error":"#REF!"}},{"$f":"IF(Y58=\"\", \"\", IF($L58=\"男\", VLOOKUP(Y58, データ!$B$2:$C$101, 2, FALSE), IF($L58=\"女\", VLOOKUP(Y58, データ!$F$2:$H$101, 2, FALSE), \"\")))","v":{"$error":"#REF!"}},{"$f":"IF(A58=\"\",\"\", IF(#REF!=\"\", \"\",#REF!))","v":{"$error":"#REF!"}},{"$f":" IF(#REF!=\"\", \"\",#REF!)","v":{"$error":"#REF!"}},{"$f":" IF(#REF!=\"\", \"\",#REF!)","v":{"$error":"#REF!"}},{"$f":" IF(#REF!=\"\", \"\",#REF!)","v":{"$error":"#REF!"}},{"$f":" IF(#REF!=\"\", \"\",#REF!)","v":{"$error":"#REF!"}},{"$f":"IF(AE58=\"\", \"\", IF($L58=\"男\", VLOOKUP(AE58, データ!$B$2:$C$101, 2, FALSE), IF($L58=\"女\", VLOOKUP(AE58, データ!$F$2:$H$101, 2, FALSE), \"\")))","v":{"$error":"#REF!"}},{"$f":"IF(A58=\"\",\"\", IF(#REF!=\"\", \"\",#REF!))","v":{"$error":"#REF!"}},{"$f":" IF(#REF!=\"\", \"\",#REF!)","v":{"$error":"#REF!"}},{"$f":" IF(#REF!=\"\", \"\",#REF!)","v":{"$error":"#REF!"}},{"$f":" IF(#REF!=\"\", \"\",#REF!)","v":{"$error":"#REF!"}},{"$f":" IF(#REF!=\"\", \"\",#REF!)","v":{"$error":"#REF!"}},{"$f":"IF(AK58=\"\", \"\", IF($L58=\"男\", VLOOKUP(AK58, データ!$B$2:$C$101, 2, FALSE), IF($L58=\"女\", VLOOKUP(AK58, データ!$F$2:$H$101, 2, FALSE), \"\")))","v":{"$error":"#REF!"}},{"$f":"IF(A58=\"\",\"\", IF(#REF!=\"\", \"\",#REF!))","v":{"$error":"#REF!"}},{"$f":" IF(#REF!=\"\", \"\",#REF!)","v":{"$error":"#REF!"}},{"$f":" IF(#REF!=\"\", \"\",#REF!)","v":{"$error":"#REF!"}},{"$f":" IF(#REF!=\"\", \"\",#REF!)","v":{"$error":"#REF!"}},{"$f":" IF(#REF!=\"\", \"\",#REF!)","v":{"$error":"#REF!"}},{"$f":"IF(AQ58=\"\", \"\", IF($L58=\"男\", VLOOKUP(AQ58, データ!$B$2:$C$101, 2, FALSE), IF($L58=\"女\", VLOOKUP(AQ58, データ!$F$2:$H$101, 2, FALSE), \"\")))","v":{"$error":"#REF!"}},{"$f":"IF(A58=\"\",\"\", IF(#REF!=\"\", \"\",#REF!))","v":{"$error":"#REF!"}},{"$f":" IF(#REF!=\"\", \"\",#REF!)","v":{"$error":"#REF!"}},{"$f":" IF(#REF!=\"\", \"\",#REF!)","v":{"$error":"#REF!"}},{"$f":" IF(#REF!=\"\", \"\",#REF!)","v":{"$error":"#REF!"}},{"$f":" IF(#REF!=\"\", \"\",#REF!)","v":{"$error":"#REF!"}},{"$f":"IF(AW58=\"\", \"\", IF($L58=\"男\", VLOOKUP(AW58, データ!$B$2:$C$101, 2, FALSE), IF($L58=\"女\", VLOOKUP(AW58, データ!$F$2:$H$101, 2, FALSE), \"\")))","v":{"$error":"#REF!"}},{"$f":"IF(A58=\"\",\"\", IF(#REF!=\"\", \"\",#REF!))","v":{"$error":"#REF!"}},{"$f":" IF(#REF!=\"\", \"\",#REF!)","v":{"$error":"#REF!"}},{"$f":" IF(#REF!=\"\", \"\",#REF!)","v":{"$error":"#REF!"}},{"$f":" IF(#REF!=\"\", \"\",#REF!)","v":{"$error":"#REF!"}},{"$f":" IF(#REF!=\"\", \"\",#REF!)","v":{"$error":"#REF!"}},{"$error":"#REF!"}]
[{"$f":"#REF!","v":{"$error":"#REF!"}},{"$f":" IF(#REF!=\"\", \"\",#REF!)","v":{"$error":"#REF!"}},{"$f":" IF(#REF!=\"\", \"\",#REF!)","v":{"$error":"#REF!"}},{"$f":" IF(#REF!=\"\", \"\",#REF!)","v":{"$error":"#REF!"}},{"$error":"#REF!"},{"$error":"#REF!"},{"$error":"#REF!"},{"$error":"#REF!"},{"$f":" IF(#REF!=\"\", \"\",#REF!)","v":{"$error":"#REF!"}},{"$f":" IF(#REF!=\"\", \"\",#REF!)","v":{"$error":"#REF!"}},{"$f":" IF(#REF!=\"\", \"\",#REF!)","v":{"$error":"#REF!"}},{"$f":" IF(#REF!=\"\", \"\",#REF!)","v":{"$error":"#REF!"}},{"$f":" IF(#REF!=\"\", \"\",#REF!)","v":{"$error":"#REF!"}},{"$f":" IF(#REF!=\"\", \"\",#REF!)","v":{"$error":"#REF!"}},{"$f":" IF(#REF!=\"\", \"\",#REF!)","v":{"$error":"#REF!"}},{"$f":" IF(#REF!=\"\", \"\",#REF!)","v":{"$error":"#REF!"}},{"$f":"IF(A59=\"\",\"\",#REF!)","v":{"$error":"#REF!"}},{"$f":" IF(Q59=\"\", \"\",#REF!)","v":{"$error":"#REF!"}},{"$f":" IF(Q59=\"\", \"\",#REF!)","v":{"$error":"#REF!"}},{"$f":" IF(Q59=\"\", \"\",#REF!)","v":{"$error":"#REF!"}},{"$f":" IF(Q59=\"\", \"\",#REF!)","v":{"$error":"#REF!"}},{"$f":" IF(#REF!=\"\", \"\",#REF!)","v":{"$error":"#REF!"}},{"$f":" IF(#REF!=\"\", \"\",#REF!)","v":{"$error":"#REF!"}},{"$f":"IF(Y59=\"\", \"\", IF($L59=\"男\", VLOOKUP(Y59, データ!$B$2:$C$101, 2, FALSE), IF($L59=\"女\", VLOOKUP(Y59, データ!$F$2:$H$101, 2, FALSE), \"\")))","v":{"$error":"#REF!"}},{"$f":"IF(A59=\"\",\"\", IF(#REF!=\"\", \"\",#REF!))","v":{"$error":"#REF!"}},{"$f":" IF(#REF!=\"\", \"\",#REF!)","v":{"$error":"#REF!"}},{"$f":" IF(#REF!=\"\", \"\",#REF!)","v":{"$error":"#REF!"}},{"$f":" IF(#REF!=\"\", \"\",#REF!)","v":{"$error":"#REF!"}},{"$f":" IF(#REF!=\"\", \"\",#REF!)","v":{"$error":"#REF!"}},{"$f":"IF(AE59=\"\", \"\", IF($L59=\"男\", VLOOKUP(AE59, データ!$B$2:$C$101, 2, FALSE), IF($L59=\"女\", VLOOKUP(AE59, データ!$F$2:$H$101, 2, FALSE), \"\")))","v":{"$error":"#REF!"}},{"$f":"IF(A59=\"\",\"\", IF(#REF!=\"\", \"\",#REF!))","v":{"$error":"#REF!"}},{"$f":" IF(#REF!=\"\", \"\",#REF!)","v":{"$error":"#REF!"}},{"$f":" IF(#REF!=\"\", \"\",#REF!)","v":{"$error":"#REF!"}},{"$f":" IF(#REF!=\"\", \"\",#REF!)","v":{"$error":"#REF!"}},{"$f":" IF(#REF!=\"\", \"\",#REF!)","v":{"$error":"#REF!"}},{"$f":"IF(AK59=\"\", \"\", IF($L59=\"男\", VLOOKUP(AK59, データ!$B$2:$C$101, 2, FALSE), IF($L59=\"女\", VLOOKUP(AK59, データ!$F$2:$H$101, 2, FALSE), \"\")))","v":{"$error":"#REF!"}},{"$f":"IF(A59=\"\",\"\", IF(#REF!=\"\", \"\",#REF!))","v":{"$error":"#REF!"}},{"$f":" IF(#REF!=\"\", \"\",#REF!)","v":{"$error":"#REF!"}},{"$f":" IF(#REF!=\"\", \"\",#REF!)","v":{"$error":"#REF!"}},{"$f":" IF(#REF!=\"\", \"\",#REF!)","v":{"$error":"#REF!"}},{"$f":" IF(#REF!=\"\", \"\",#REF!)","v":{"$error":"#REF!"}},{"$f":"IF(AQ59=\"\", \"\", IF($L59=\"男\", VLOOKUP(AQ59, データ!$B$2:$C$101, 2, FALSE), IF($L59=\"女\", VLOOKUP(AQ59, データ!$F$2:$H$101, 2, FALSE), \"\")))","v":{"$error":"#REF!"}},{"$f":"IF(A59=\"\",\"\", IF(#REF!=\"\", \"\",#REF!))","v":{"$error":"#REF!"}},{"$f":" IF(#REF!=\"\", \"\",#REF!)","v":{"$error":"#REF!"}},{"$f":" IF(#REF!=\"\", \"\",#REF!)","v":{"$error":"#REF!"}},{"$f":" IF(#REF!=\"\", \"\",#REF!)","v":{"$error":"#REF!"}},{"$f":" IF(#REF!=\"\", \"\",#REF!)","v":{"$error":"#REF!"}},{"$f":"IF(AW59=\"\", \"\", IF($L59=\"男\", VLOOKUP(AW59, データ!$B$2:$C$101, 2, FALSE), IF($L59=\"女\", VLOOKUP(AW59, データ!$F$2:$H$101, 2, FALSE), \"\")))","v":{"$error":"#REF!"}},{"$f":"IF(A59=\"\",\"\", IF(#REF!=\"\", \"\",#REF!))","v":{"$error":"#REF!"}},{"$f":" IF(#REF!=\"\", \"\",#REF!)","v":{"$error":"#REF!"}},{"$f":" IF(#REF!=\"\", \"\",#REF!)","v":{"$error":"#REF!"}},{"$f":" IF(#REF!=\"\", \"\",#REF!)","v":{"$error":"#REF!"}},{"$f":" IF(#REF!=\"\", \"\",#REF!)","v":{"$error":"#REF!"}},{"$error":"#REF!"}]
[{"$f":"#REF!","v":{"$error":"#REF!"}},{"$f":" IF(#REF!=\"\", \"\",#REF!)","v":{"$error":"#REF!"}},{"$f":" IF(#REF!=\"\", \"\",#REF!)","v":{"$error":"#REF!"}},{"$f":" IF(#REF!=\"\", \"\",#REF!)","v":{"$error":"#REF!"}},{"$error":"#REF!"},{"$error":"#REF!"},{"$error":"#REF!"},{"$error":"#REF!"},{"$f":" IF(#REF!=\"\", \"\",#REF!)","v":{"$error":"#REF!"}},{"$f":" IF(#REF!=\"\", \"\",#REF!)","v":{"$error":"#REF!"}},{"$f":" IF(#REF!=\"\", \"\",#REF!)","v":{"$error":"#REF!"}},{"$f":" IF(#REF!=\"\", \"\",#REF!)","v":{"$error":"#REF!"}},{"$f":" IF(#REF!=\"\", \"\",#REF!)","v":{"$error":"#REF!"}},{"$f":" IF(#REF!=\"\", \"\",#REF!)","v":{"$error":"#REF!"}},{"$f":" IF(#REF!=\"\", \"\",#REF!)","v":{"$error":"#REF!"}},{"$f":" IF(#REF!=\"\", \"\",#REF!)","v":{"$error":"#REF!"}},{"$f":"IF(A60=\"\",\"\",#REF!)","v":{"$error":"#REF!"}},{"$f":" IF(Q60=\"\", \"\",#REF!)","v":{"$error":"#REF!"}},{"$f":" IF(Q60=\"\", \"\",#REF!)","v":{"$error":"#REF!"}},{"$f":" IF(Q60=\"\", \"\",#REF!)","v":{"$error":"#REF!"}},{"$f":" IF(Q60=\"\", \"\",#REF!)","v":{"$error":"#REF!"}},{"$f":" IF(#REF!=\"\", \"\",#REF!)","v":{"$error":"#REF!"}},{"$f":" IF(#REF!=\"\", \"\",#REF!)","v":{"$error":"#REF!"}},{"$f":"IF(Y60=\"\", \"\", IF($L60=\"男\", VLOOKUP(Y60, データ!$B$2:$C$101, 2, FALSE), IF($L60=\"女\", VLOOKUP(Y60, データ!$F$2:$H$101, 2, FALSE), \"\")))","v":{"$error":"#REF!"}},{"$f":"IF(A60=\"\",\"\", IF(#REF!=\"\", \"\",#REF!))","v":{"$error":"#REF!"}},{"$f":" IF(#REF!=\"\", \"\",#REF!)","v":{"$error":"#REF!"}},{"$f":" IF(#REF!=\"\", \"\",#REF!)","v":{"$error":"#REF!"}},{"$f":" IF(#REF!=\"\", \"\",#REF!)","v":{"$error":"#REF!"}},{"$f":" IF(#REF!=\"\", \"\",#REF!)","v":{"$error":"#REF!"}},{"$f":"IF(AE60=\"\", \"\", IF($L60=\"男\", VLOOKUP(AE60, データ!$B$2:$C$101, 2, FALSE), IF($L60=\"女\", VLOOKUP(AE60, データ!$F$2:$H$101, 2, FALSE), \"\")))","v":{"$error":"#REF!"}},{"$f":"IF(A60=\"\",\"\", IF(#REF!=\"\", \"\",#REF!))","v":{"$error":"#REF!"}},{"$f":" IF(#REF!=\"\", \"\",#REF!)","v":{"$error":"#REF!"}},{"$f":" IF(#REF!=\"\", \"\",#REF!)","v":{"$error":"#REF!"}},{"$f":" IF(#REF!=\"\", \"\",#REF!)","v":{"$error":"#REF!"}},{"$f":" IF(#REF!=\"\", \"\",#REF!)","v":{"$error":"#REF!"}},{"$f":"IF(AK60=\"\", \"\", IF($L60=\"男\", VLOOKUP(AK60, データ!$B$2:$C$101, 2, FALSE), IF($L60=\"女\", VLOOKUP(AK60, データ!$F$2:$H$101, 2, FALSE), \"\")))","v":{"$error":"#REF!"}},{"$f":"IF(A60=\"\",\"\", IF(#REF!=\"\", \"\",#REF!))","v":{"$error":"#REF!"}},{"$f":" IF(#REF!=\"\", \"\",#REF!)","v":{"$error":"#REF!"}},{"$f":" IF(#REF!=\"\", \"\",#REF!)","v":{"$error":"#REF!"}},{"$f":" IF(#REF!=\"\", \"\",#REF!)","v":{"$error":"#REF!"}},{"$f":" IF(#REF!=\"\", \"\",#REF!)","v":{"$error":"#REF!"}},{"$f":"IF(AQ60=\"\", \"\", IF($L60=\"男\", VLOOKUP(AQ60, データ!$B$2:$C$101, 2, FALSE), IF($L60=\"女\", VLOOKUP(AQ60, データ!$F$2:$H$101, 2, FALSE), \"\")))","v":{"$error":"#REF!"}},{"$f":"IF(A60=\"\",\"\", IF(#REF!=\"\", \"\",#REF!))","v":{"$error":"#REF!"}},{"$f":" IF(#REF!=\"\", \"\",#REF!)","v":{"$error":"#REF!"}},{"$f":" IF(#REF!=\"\", \"\",#REF!)","v":{"$error":"#REF!"}},{"$f":" IF(#REF!=\"\", \"\",#REF!)","v":{"$error":"#REF!"}},{"$f":" IF(#REF!=\"\", \"\",#REF!)","v":{"$error":"#REF!"}},{"$f":"IF(AW60=\"\", \"\", IF($L60=\"男\", VLOOKUP(AW60, データ!$B$2:$C$101, 2, FALSE), IF($L60=\"女\", VLOOKUP(AW60, データ!$F$2:$H$101, 2, FALSE), \"\")))","v":{"$error":"#REF!"}},{"$f":"IF(A60=\"\",\"\", IF(#REF!=\"\", \"\",#REF!))","v":{"$error":"#REF!"}},{"$f":" IF(#REF!=\"\", \"\",#REF!)","v":{"$error":"#REF!"}},{"$f":" IF(#REF!=\"\", \"\",#REF!)","v":{"$error":"#REF!"}},{"$f":" IF(#REF!=\"\", \"\",#REF!)","v":{"$error":"#REF!"}},{"$f":" IF(#REF!=\"\", \"\",#REF!)","v":{"$error":"#REF!"}},{"$error":"#REF!"}]
[{"$f":"#REF!","v":{"$error":"#REF!"}},{"$f":" IF(#REF!=\"\", \"\",#REF!)","v":{"$error":"#REF!"}},{"$f":" IF(#REF!=\"\", \"\",#REF!)","v":{"$error":"#REF!"}},{"$f":" IF(#REF!=\"\", \"\",#REF!)","v":{"$error":"#REF!"}},{"$error":"#REF!"},{"$error":"#REF!"},{"$error":"#REF!"},{"$error":"#REF!"},{"$f":" IF(#REF!=\"\", \"\",#REF!)","v":{"$error":"#REF!"}},{"$f":" IF(#REF!=\"\", \"\",#REF!)","v":{"$error":"#REF!"}},{"$f":" IF(#REF!=\"\", \"\",#REF!)","v":{"$error":"#REF!"}},{"$f":" IF(#REF!=\"\", \"\",#REF!)","v":{"$error":"#REF!"}},{"$f":" IF(#REF!=\"\", \"\",#REF!)","v":{"$error":"#REF!"}},{"$f":" IF(#REF!=\"\", \"\",#REF!)","v":{"$error":"#REF!"}},{"$f":" IF(#REF!=\"\", \"\",#REF!)","v":{"$error":"#REF!"}},{"$f":" IF(#REF!=\"\", \"\",#REF!)","v":{"$error":"#REF!"}},{"$f":"IF(A61=\"\",\"\",#REF!)","v":{"$error":"#REF!"}},{"$f":" IF(Q61=\"\", \"\",#REF!)","v":{"$error":"#REF!"}},{"$f":" IF(Q61=\"\", \"\",#REF!)","v":{"$error":"#REF!"}},{"$f":" IF(Q61=\"\", \"\",#REF!)","v":{"$error":"#REF!"}},{"$f":" IF(Q61=\"\", \"\",#REF!)","v":{"$error":"#REF!"}},{"$f":" IF(#REF!=\"\", \"\",#REF!)","v":{"$error":"#REF!"}},{"$f":" IF(#REF!=\"\", \"\",#REF!)","v":{"$error":"#REF!"}},{"$f":"IF(Y61=\"\", \"\", IF($L61=\"男\", VLOOKUP(Y61, データ!$B$2:$C$101, 2, FALSE), IF($L61=\"女\", VLOOKUP(Y61, データ!$F$2:$H$101, 2, FALSE), \"\")))","v":{"$error":"#REF!"}},{"$f":"IF(A61=\"\",\"\", IF(#REF!=\"\", \"\",#REF!))","v":{"$error":"#REF!"}},{"$f":" IF(#REF!=\"\", \"\",#REF!)","v":{"$error":"#REF!"}},{"$f":" IF(#REF!=\"\", \"\",#REF!)","v":{"$error":"#REF!"}},{"$f":" IF(#REF!=\"\", \"\",#REF!)","v":{"$error":"#REF!"}},{"$f":" IF(#REF!=\"\", \"\",#REF!)","v":{"$error":"#REF!"}},{"$f":"IF(AE61=\"\", \"\", IF($L61=\"男\", VLOOKUP(AE61, データ!$B$2:$C$101, 2, FALSE), IF($L61=\"女\", VLOOKUP(AE61, データ!$F$2:$H$101, 2, FALSE), \"\")))","v":{"$error":"#REF!"}},{"$f":"IF(A61=\"\",\"\", IF(#REF!=\"\", \"\",#REF!))","v":{"$error":"#REF!"}},{"$f":" IF(#REF!=\"\", \"\",#REF!)","v":{"$error":"#REF!"}},{"$f":" IF(#REF!=\"\", \"\",#REF!)","v":{"$error":"#REF!"}},{"$f":" IF(#REF!=\"\", \"\",#REF!)","v":{"$error":"#REF!"}},{"$f":" IF(#REF!=\"\", \"\",#REF!)","v":{"$error":"#REF!"}},{"$f":"IF(AK61=\"\", \"\", IF($L61=\"男\", VLOOKUP(AK61, データ!$B$2:$C$101, 2, FALSE), IF($L61=\"女\", VLOOKUP(AK61, データ!$F$2:$H$101, 2, FALSE), \"\")))","v":{"$error":"#REF!"}},{"$f":"IF(A61=\"\",\"\", IF(#REF!=\"\", \"\",#REF!))","v":{"$error":"#REF!"}},{"$f":" IF(#REF!=\"\", \"\",#REF!)","v":{"$error":"#REF!"}},{"$f":" IF(#REF!=\"\", \"\",#REF!)","v":{"$error":"#REF!"}},{"$f":" IF(#REF!=\"\", \"\",#REF!)","v":{"$error":"#REF!"}},{"$f":" IF(#REF!=\"\", \"\",#REF!)","v":{"$error":"#REF!"}},{"$f":"IF(AQ61=\"\", \"\", IF($L61=\"男\", VLOOKUP(AQ61, データ!$B$2:$C$101, 2, FALSE), IF($L61=\"女\", VLOOKUP(AQ61, データ!$F$2:$H$101, 2, FALSE), \"\")))","v":{"$error":"#REF!"}},{"$f":"IF(A61=\"\",\"\", IF(#REF!=\"\", \"\",#REF!))","v":{"$error":"#REF!"}},{"$f":" IF(#REF!=\"\", \"\",#REF!)","v":{"$error":"#REF!"}},{"$f":" IF(#REF!=\"\", \"\",#REF!)","v":{"$error":"#REF!"}},{"$f":" IF(#REF!=\"\", \"\",#REF!)","v":{"$error":"#REF!"}},{"$f":" IF(#REF!=\"\", \"\",#REF!)","v":{"$error":"#REF!"}},{"$f":"IF(AW61=\"\", \"\", IF($L61=\"男\", VLOOKUP(AW61, データ!$B$2:$C$101, 2, FALSE), IF($L61=\"女\", VLOOKUP(AW61, データ!$F$2:$H$101, 2, FALSE), \"\")))","v":{"$error":"#REF!"}},{"$f":"IF(A61=\"\",\"\", IF(#REF!=\"\", \"\",#REF!))","v":{"$error":"#REF!"}},{"$f":" IF(#REF!=\"\", \"\",#REF!)","v":{"$error":"#REF!"}},{"$f":" IF(#REF!=\"\", \"\",#REF!)","v":{"$error":"#REF!"}},{"$f":" IF(#REF!=\"\", \"\",#REF!)","v":{"$error":"#REF!"}},{"$f":" IF(#REF!=\"\", \"\",#REF!)","v":{"$error":"#REF!"}},{"$error":"#REF!"}]
[{"$f":"#REF!","v":{"$error":"#REF!"}},{"$f":" IF(#REF!=\"\", \"\",#REF!)","v":{"$error":"#REF!"}},{"$f":" IF(#REF!=\"\", \"\",#REF!)","v":{"$error":"#REF!"}},{"$f":" IF(#REF!=\"\", \"\",#REF!)","v":{"$error":"#REF!"}},{"$error":"#REF!"},{"$error":"#REF!"},{"$error":"#REF!"},{"$error":"#REF!"},{"$f":" IF(#REF!=\"\", \"\",#REF!)","v":{"$error":"#REF!"}},{"$f":" IF(#REF!=\"\", \"\",#REF!)","v":{"$error":"#REF!"}},{"$f":" IF(#REF!=\"\", \"\",#REF!)","v":{"$error":"#REF!"}},{"$f":" IF(#REF!=\"\", \"\",#REF!)","v":{"$error":"#REF!"}},{"$f":" IF(#REF!=\"\", \"\",#REF!)","v":{"$error":"#REF!"}},{"$f":" IF(#REF!=\"\", \"\",#REF!)","v":{"$error":"#REF!"}},{"$f":" IF(#REF!=\"\", \"\",#REF!)","v":{"$error":"#REF!"}},{"$f":" IF(#REF!=\"\", \"\",#REF!)","v":{"$error":"#REF!"}},{"$f":"IF(A62=\"\",\"\",#REF!)","v":{"$error":"#REF!"}},{"$f":" IF(Q62=\"\", \"\",#REF!)","v":{"$error":"#REF!"}},{"$f":" IF(Q62=\"\", \"\",#REF!)","v":{"$error":"#REF!"}},{"$f":" IF(Q62=\"\", \"\",#REF!)","v":{"$error":"#REF!"}},{"$f":" IF(Q62=\"\", \"\",#REF!)","v":{"$error":"#REF!"}},{"$f":" IF(#REF!=\"\", \"\",#REF!)","v":{"$error":"#REF!"}},{"$f":" IF(#REF!=\"\", \"\",#REF!)","v":{"$error":"#REF!"}},{"$f":"IF(Y62=\"\", \"\", IF($L62=\"男\", VLOOKUP(Y62, データ!$B$2:$C$101, 2, FALSE), IF($L62=\"女\", VLOOKUP(Y62, データ!$F$2:$H$101, 2, FALSE), \"\")))","v":{"$error":"#REF!"}},{"$f":"IF(A62=\"\",\"\", IF(#REF!=\"\", \"\",#REF!))","v":{"$error":"#REF!"}},{"$f":" IF(#REF!=\"\", \"\",#REF!)","v":{"$error":"#REF!"}},{"$f":" IF(#REF!=\"\", \"\",#REF!)","v":{"$error":"#REF!"}},{"$f":" IF(#REF!=\"\", \"\",#REF!)","v":{"$error":"#REF!"}},{"$f":" IF(#REF!=\"\", \"\",#REF!)","v":{"$error":"#REF!"}},{"$f":"IF(AE62=\"\", \"\", IF($L62=\"男\", VLOOKUP(AE62, データ!$B$2:$C$101, 2, FALSE), IF($L62=\"女\", VLOOKUP(AE62, データ!$F$2:$H$101, 2, FALSE), \"\")))","v":{"$error":"#REF!"}},{"$f":"IF(A62=\"\",\"\", IF(#REF!=\"\", \"\",#REF!))","v":{"$error":"#REF!"}},{"$f":" IF(#REF!=\"\", \"\",#REF!)","v":{"$error":"#REF!"}},{"$f":" IF(#REF!=\"\", \"\",#REF!)","v":{"$error":"#REF!"}},{"$f":" IF(#REF!=\"\", \"\",#REF!)","v":{"$error":"#REF!"}},{"$f":" IF(#REF!=\"\", \"\",#REF!)","v":{"$error":"#REF!"}},{"$f":"IF(AK62=\"\", \"\", IF($L62=\"男\", VLOOKUP(AK62, データ!$B$2:$C$101, 2, FALSE), IF($L62=\"女\", VLOOKUP(AK62, データ!$F$2:$H$101, 2, FALSE), \"\")))","v":{"$error":"#REF!"}},{"$f":"IF(A62=\"\",\"\", IF(#REF!=\"\", \"\",#REF!))","v":{"$error":"#REF!"}},{"$f":" IF(#REF!=\"\", \"\",#REF!)","v":{"$error":"#REF!"}},{"$f":" IF(#REF!=\"\", \"\",#REF!)","v":{"$error":"#REF!"}},{"$f":" IF(#REF!=\"\", \"\",#REF!)","v":{"$error":"#REF!"}},{"$f":" IF(#REF!=\"\", \"\",#REF!)","v":{"$error":"#REF!"}},{"$f":"IF(AQ62=\"\", \"\", IF($L62=\"男\", VLOOKUP(AQ62, データ!$B$2:$C$101, 2, FALSE), IF($L62=\"女\", VLOOKUP(AQ62, データ!$F$2:$H$101, 2, FALSE), \"\")))","v":{"$error":"#REF!"}},{"$f":"IF(A62=\"\",\"\", IF(#REF!=\"\", \"\",#REF!))","v":{"$error":"#REF!"}},{"$f":" IF(#REF!=\"\", \"\",#REF!)","v":{"$error":"#REF!"}},{"$f":" IF(#REF!=\"\", \"\",#REF!)","v":{"$error":"#REF!"}},{"$f":" IF(#REF!=\"\", \"\",#REF!)","v":{"$error":"#REF!"}},{"$f":" IF(#REF!=\"\", \"\",#REF!)","v":{"$error":"#REF!"}},{"$f":"IF(AW62=\"\", \"\", IF($L62=\"男\", VLOOKUP(AW62, データ!$B$2:$C$101, 2, FALSE), IF($L62=\"女\", VLOOKUP(AW62, データ!$F$2:$H$101, 2, FALSE), \"\")))","v":{"$error":"#REF!"}},{"$f":"IF(A62=\"\",\"\", IF(#REF!=\"\", \"\",#REF!))","v":{"$error":"#REF!"}},{"$f":" IF(#REF!=\"\", \"\",#REF!)","v":{"$error":"#REF!"}},{"$f":" IF(#REF!=\"\", \"\",#REF!)","v":{"$error":"#REF!"}},{"$f":" IF(#REF!=\"\", \"\",#REF!)","v":{"$error":"#REF!"}},{"$f":" IF(#REF!=\"\", \"\",#REF!)","v":{"$error":"#REF!"}},{"$error":"#REF!"}]
[{"$f":"#REF!","v":{"$error":"#REF!"}},{"$f":" IF(#REF!=\"\", \"\",#REF!)","v":{"$error":"#REF!"}},{"$f":" IF(#REF!=\"\", \"\",#REF!)","v":{"$error":"#REF!"}},{"$f":" IF(#REF!=\"\", \"\",#REF!)","v":{"$error":"#REF!"}},{"$error":"#REF!"},{"$error":"#REF!"},{"$error":"#REF!"},{"$error":"#REF!"},{"$f":" IF(#REF!=\"\", \"\",#REF!)","v":{"$error":"#REF!"}},{"$f":" IF(#REF!=\"\", \"\",#REF!)","v":{"$error":"#REF!"}},{"$f":" IF(#REF!=\"\", \"\",#REF!)","v":{"$error":"#REF!"}},{"$f":" IF(#REF!=\"\", \"\",#REF!)","v":{"$error":"#REF!"}},{"$f":" IF(#REF!=\"\", \"\",#REF!)","v":{"$error":"#REF!"}},{"$f":" IF(#REF!=\"\", \"\",#REF!)","v":{"$error":"#REF!"}},{"$f":" IF(#REF!=\"\", \"\",#REF!)","v":{"$error":"#REF!"}},{"$f":" IF(#REF!=\"\", \"\",#REF!)","v":{"$error":"#REF!"}},{"$f":"IF(A63=\"\",\"\",#REF!)","v":{"$error":"#REF!"}},{"$f":" IF(Q63=\"\", \"\",#REF!)","v":{"$error":"#REF!"}},{"$f":" IF(Q63=\"\", \"\",#REF!)","v":{"$error":"#REF!"}},{"$f":" IF(Q63=\"\", \"\",#REF!)","v":{"$error":"#REF!"}},{"$f":" IF(Q63=\"\", \"\",#REF!)","v":{"$error":"#REF!"}},{"$f":" IF(#REF!=\"\", \"\",#REF!)","v":{"$error":"#REF!"}},{"$f":" IF(#REF!=\"\", \"\",#REF!)","v":{"$error":"#REF!"}},{"$f":"IF(Y63=\"\", \"\", IF($L63=\"男\", VLOOKUP(Y63, データ!$B$2:$C$101, 2, FALSE), IF($L63=\"女\", VLOOKUP(Y63, データ!$F$2:$H$101, 2, FALSE), \"\")))","v":{"$error":"#REF!"}},{"$f":"IF(A63=\"\",\"\", IF(#REF!=\"\", \"\",#REF!))","v":{"$error":"#REF!"}},{"$f":" IF(#REF!=\"\", \"\",#REF!)","v":{"$error":"#REF!"}},{"$f":" IF(#REF!=\"\", \"\",#REF!)","v":{"$error":"#REF!"}},{"$f":" IF(#REF!=\"\", \"\",#REF!)","v":{"$error":"#REF!"}},{"$f":" IF(#REF!=\"\", \"\",#REF!)","v":{"$error":"#REF!"}},{"$f":"IF(AE63=\"\", \"\", IF($L63=\"男\", VLOOKUP(AE63, データ!$B$2:$C$101, 2, FALSE), IF($L63=\"女\", VLOOKUP(AE63, データ!$F$2:$H$101, 2, FALSE), \"\")))","v":{"$error":"#REF!"}},{"$f":"IF(A63=\"\",\"\", IF(#REF!=\"\", \"\",#REF!))","v":{"$error":"#REF!"}},{"$f":" IF(#REF!=\"\", \"\",#REF!)","v":{"$error":"#REF!"}},{"$f":" IF(#REF!=\"\", \"\",#REF!)","v":{"$error":"#REF!"}},{"$f":" IF(#REF!=\"\", \"\",#REF!)","v":{"$error":"#REF!"}},{"$f":" IF(#REF!=\"\", \"\",#REF!)","v":{"$error":"#REF!"}},{"$f":"IF(AK63=\"\", \"\", IF($L63=\"男\", VLOOKUP(AK63, データ!$B$2:$C$101, 2, FALSE), IF($L63=\"女\", VLOOKUP(AK63, データ!$F$2:$H$101, 2, FALSE), \"\")))","v":{"$error":"#REF!"}},{"$f":"IF(A63=\"\",\"\", IF(#REF!=\"\", \"\",#REF!))","v":{"$error":"#REF!"}},{"$f":" IF(#REF!=\"\", \"\",#REF!)","v":{"$error":"#REF!"}},{"$f":" IF(#REF!=\"\", \"\",#REF!)","v":{"$error":"#REF!"}},{"$f":" IF(#REF!=\"\", \"\",#REF!)","v":{"$error":"#REF!"}},{"$f":" IF(#REF!=\"\", \"\",#REF!)","v":{"$error":"#REF!"}},{"$f":"IF(AQ63=\"\", \"\", IF($L63=\"男\", VLOOKUP(AQ63, データ!$B$2:$C$101, 2, FALSE), IF($L63=\"女\", VLOOKUP(AQ63, データ!$F$2:$H$101, 2, FALSE), \"\")))","v":{"$error":"#REF!"}},{"$f":"IF(A63=\"\",\"\", IF(#REF!=\"\", \"\",#REF!))","v":{"$error":"#REF!"}},{"$f":" IF(#REF!=\"\", \"\",#REF!)","v":{"$error":"#REF!"}},{"$f":" IF(#REF!=\"\", \"\",#REF!)","v":{"$error":"#REF!"}},{"$f":" IF(#REF!=\"\", \"\",#REF!)","v":{"$error":"#REF!"}},{"$f":" IF(#REF!=\"\", \"\",#REF!)","v":{"$error":"#REF!"}},{"$f":"IF(AW63=\"\", \"\", IF($L63=\"男\", VLOOKUP(AW63, データ!$B$2:$C$101, 2, FALSE), IF($L63=\"女\", VLOOKUP(AW63, データ!$F$2:$H$101, 2, FALSE), \"\")))","v":{"$error":"#REF!"}},{"$f":"IF(A63=\"\",\"\", IF(#REF!=\"\", \"\",#REF!))","v":{"$error":"#REF!"}},{"$f":" IF(#REF!=\"\", \"\",#REF!)","v":{"$error":"#REF!"}},{"$f":" IF(#REF!=\"\", \"\",#REF!)","v":{"$error":"#REF!"}},{"$f":" IF(#REF!=\"\", \"\",#REF!)","v":{"$error":"#REF!"}},{"$f":" IF(#REF!=\"\", \"\",#REF!)","v":{"$error":"#REF!"}},{"$error":"#REF!"}]
[{"$f":"#REF!","v":{"$error":"#REF!"}},{"$f":" IF(#REF!=\"\", \"\",#REF!)","v":{"$error":"#REF!"}},{"$f":" IF(#REF!=\"\", \"\",#REF!)","v":{"$error":"#REF!"}},{"$f":" IF(#REF!=\"\", \"\",#REF!)","v":{"$error":"#REF!"}},{"$error":"#REF!"},{"$error":"#REF!"},{"$error":"#REF!"},{"$error":"#REF!"},{"$f":" IF(#REF!=\"\", \"\",#REF!)","v":{"$error":"#REF!"}},{"$f":" IF(#REF!=\"\", \"\",#REF!)","v":{"$error":"#REF!"}},{"$f":" IF(#REF!=\"\", \"\",#REF!)","v":{"$error":"#REF!"}},{"$f":" IF(#REF!=\"\", \"\",#REF!)","v":{"$error":"#REF!"}},{"$f":" IF(#REF!=\"\", \"\",#REF!)","v":{"$error":"#REF!"}},{"$f":" IF(#REF!=\"\", \"\",#REF!)","v":{"$error":"#REF!"}},{"$f":" IF(#REF!=\"\", \"\",#REF!)","v":{"$error":"#REF!"}},{"$f":" IF(#REF!=\"\", \"\",#REF!)","v":{"$error":"#REF!"}},{"$f":"IF(A64=\"\",\"\",#REF!)","v":{"$error":"#REF!"}},{"$f":" IF(Q64=\"\", \"\",#REF!)","v":{"$error":"#REF!"}},{"$f":" IF(Q64=\"\", \"\",#REF!)","v":{"$error":"#REF!"}},{"$f":" IF(Q64=\"\", \"\",#REF!)","v":{"$error":"#REF!"}},{"$f":" IF(Q64=\"\", \"\",#REF!)","v":{"$error":"#REF!"}},{"$f":" IF(#REF!=\"\", \"\",#REF!)","v":{"$error":"#REF!"}},{"$f":" IF(#REF!=\"\", \"\",#REF!)","v":{"$error":"#REF!"}},{"$f":"IF(Y64=\"\", \"\", IF($L64=\"男\", VLOOKUP(Y64, データ!$B$2:$C$101, 2, FALSE), IF($L64=\"女\", VLOOKUP(Y64, データ!$F$2:$H$101, 2, FALSE), \"\")))","v":{"$error":"#REF!"}},{"$f":"IF(A64=\"\",\"\", IF(#REF!=\"\", \"\",#REF!))","v":{"$error":"#REF!"}},{"$f":" IF(#REF!=\"\", \"\",#REF!)","v":{"$error":"#REF!"}},{"$f":" IF(#REF!=\"\", \"\",#REF!)","v":{"$error":"#REF!"}},{"$f":" IF(#REF!=\"\", \"\",#REF!)","v":{"$error":"#REF!"}},{"$f":" IF(#REF!=\"\", \"\",#REF!)","v":{"$error":"#REF!"}},{"$f":"IF(AE64=\"\", \"\", IF($L64=\"男\", VLOOKUP(AE64, データ!$B$2:$C$101, 2, FALSE), IF($L64=\"女\", VLOOKUP(AE64, データ!$F$2:$H$101, 2, FALSE), \"\")))","v":{"$error":"#REF!"}},{"$f":"IF(A64=\"\",\"\", IF(#REF!=\"\", \"\",#REF!))","v":{"$error":"#REF!"}},{"$f":" IF(#REF!=\"\", \"\",#REF!)","v":{"$error":"#REF!"}},{"$f":" IF(#REF!=\"\", \"\",#REF!)","v":{"$error":"#REF!"}},{"$f":" IF(#REF!=\"\", \"\",#REF!)","v":{"$error":"#REF!"}},{"$f":" IF(#REF!=\"\", \"\",#REF!)","v":{"$error":"#REF!"}},{"$f":"IF(AK64=\"\", \"\", IF($L64=\"男\", VLOOKUP(AK64, データ!$B$2:$C$101, 2, FALSE), IF($L64=\"女\", VLOOKUP(AK64, データ!$F$2:$H$101, 2, FALSE), \"\")))","v":{"$error":"#REF!"}},{"$f":"IF(A64=\"\",\"\", IF(#REF!=\"\", \"\",#REF!))","v":{"$error":"#REF!"}},{"$f":" IF(#REF!=\"\", \"\",#REF!)","v":{"$error":"#REF!"}},{"$f":" IF(#REF!=\"\", \"\",#REF!)","v":{"$error":"#REF!"}},{"$f":" IF(#REF!=\"\", \"\",#REF!)","v":{"$error":"#REF!"}},{"$f":" IF(#REF!=\"\", \"\",#REF!)","v":{"$error":"#REF!"}},{"$f":"IF(AQ64=\"\", \"\", IF($L64=\"男\", VLOOKUP(AQ64, データ!$B$2:$C$101, 2, FALSE), IF($L64=\"女\", VLOOKUP(AQ64, データ!$F$2:$H$101, 2, FALSE), \"\")))","v":{"$error":"#REF!"}},{"$f":"IF(A64=\"\",\"\", IF(#REF!=\"\", \"\",#REF!))","v":{"$error":"#REF!"}},{"$f":" IF(#REF!=\"\", \"\",#REF!)","v":{"$error":"#REF!"}},{"$f":" IF(#REF!=\"\", \"\",#REF!)","v":{"$error":"#REF!"}},{"$f":" IF(#REF!=\"\", \"\",#REF!)","v":{"$error":"#REF!"}},{"$f":" IF(#REF!=\"\", \"\",#REF!)","v":{"$error":"#REF!"}},{"$f":"IF(AW64=\"\", \"\", IF($L64=\"男\", VLOOKUP(AW64, データ!$B$2:$C$101, 2, FALSE), IF($L64=\"女\", VLOOKUP(AW64, データ!$F$2:$H$101, 2, FALSE), \"\")))","v":{"$error":"#REF!"}},{"$f":"IF(A64=\"\",\"\", IF(#REF!=\"\", \"\",#REF!))","v":{"$error":"#REF!"}},{"$f":" IF(#REF!=\"\", \"\",#REF!)","v":{"$error":"#REF!"}},{"$f":" IF(#REF!=\"\", \"\",#REF!)","v":{"$error":"#REF!"}},{"$f":" IF(#REF!=\"\", \"\",#REF!)","v":{"$error":"#REF!"}},{"$f":" IF(#REF!=\"\", \"\",#REF!)","v":{"$error":"#REF!"}},{"$error":"#REF!"}]
[{"$f":"#REF!","v":{"$error":"#REF!"}},{"$f":" IF(#REF!=\"\", \"\",#REF!)","v":{"$error":"#REF!"}},{"$f":" IF(#REF!=\"\", \"\",#REF!)","v":{"$error":"#REF!"}},{"$f":" IF(#REF!=\"\", \"\",#REF!)","v":{"$error":"#REF!"}},{"$error":"#REF!"},{"$error":"#REF!"},{"$error":"#REF!"},{"$error":"#REF!"},{"$f":" IF(#REF!=\"\", \"\",#REF!)","v":{"$error":"#REF!"}},{"$f":" IF(#REF!=\"\", \"\",#REF!)","v":{"$error":"#REF!"}},{"$f":" IF(#REF!=\"\", \"\",#REF!)","v":{"$error":"#REF!"}},{"$f":" IF(#REF!=\"\", \"\",#REF!)","v":{"$error":"#REF!"}},{"$f":" IF(#REF!=\"\", \"\",#REF!)","v":{"$error":"#REF!"}},{"$f":" IF(#REF!=\"\", \"\",#REF!)","v":{"$error":"#REF!"}},{"$f":" IF(#REF!=\"\", \"\",#REF!)","v":{"$error":"#REF!"}},{"$f":" IF(#REF!=\"\", \"\",#REF!)","v":{"$error":"#REF!"}},{"$f":"IF(A65=\"\",\"\",#REF!)","v":{"$error":"#REF!"}},{"$f":" IF(Q65=\"\", \"\",#REF!)","v":{"$error":"#REF!"}},{"$f":" IF(Q65=\"\", \"\",#REF!)","v":{"$error":"#REF!"}},{"$f":" IF(Q65=\"\", \"\",#REF!)","v":{"$error":"#REF!"}},{"$f":" IF(Q65=\"\", \"\",#REF!)","v":{"$error":"#REF!"}},{"$f":" IF(#REF!=\"\", \"\",#REF!)","v":{"$error":"#REF!"}},{"$f":" IF(#REF!=\"\", \"\",#REF!)","v":{"$error":"#REF!"}},{"$f":"IF(Y65=\"\", \"\", IF($L65=\"男\", VLOOKUP(Y65, データ!$B$2:$C$101, 2, FALSE), IF($L65=\"女\", VLOOKUP(Y65, データ!$F$2:$H$101, 2, FALSE), \"\")))","v":{"$error":"#REF!"}},{"$f":"IF(A65=\"\",\"\", IF(#REF!=\"\", \"\",#REF!))","v":{"$error":"#REF!"}},{"$f":" IF(#REF!=\"\", \"\",#REF!)","v":{"$error":"#REF!"}},{"$f":" IF(#REF!=\"\", \"\",#REF!)","v":{"$error":"#REF!"}},{"$f":" IF(#REF!=\"\", \"\",#REF!)","v":{"$error":"#REF!"}},{"$f":" IF(#REF!=\"\", \"\",#REF!)","v":{"$error":"#REF!"}},{"$f":"IF(AE65=\"\", \"\", IF($L65=\"男\", VLOOKUP(AE65, データ!$B$2:$C$101, 2, FALSE), IF($L65=\"女\", VLOOKUP(AE65, データ!$F$2:$H$101, 2, FALSE), \"\")))","v":{"$error":"#REF!"}},{"$f":"IF(A65=\"\",\"\", IF(#REF!=\"\", \"\",#REF!))","v":{"$error":"#REF!"}},{"$f":" IF(#REF!=\"\", \"\",#REF!)","v":{"$error":"#REF!"}},{"$f":" IF(#REF!=\"\", \"\",#REF!)","v":{"$error":"#REF!"}},{"$f":" IF(#REF!=\"\", \"\",#REF!)","v":{"$error":"#REF!"}},{"$f":" IF(#REF!=\"\", \"\",#REF!)","v":{"$error":"#REF!"}},{"$f":"IF(AK65=\"\", \"\", IF($L65=\"男\", VLOOKUP(AK65, データ!$B$2:$C$101, 2, FALSE), IF($L65=\"女\", VLOOKUP(AK65, データ!$F$2:$H$101, 2, FALSE), \"\")))","v":{"$error":"#REF!"}},{"$f":"IF(A65=\"\",\"\", IF(#REF!=\"\", \"\",#REF!))","v":{"$error":"#REF!"}},{"$f":" IF(#REF!=\"\", \"\",#REF!)","v":{"$error":"#REF!"}},{"$f":" IF(#REF!=\"\", \"\",#REF!)","v":{"$error":"#REF!"}},{"$f":" IF(#REF!=\"\", \"\",#REF!)","v":{"$error":"#REF!"}},{"$f":" IF(#REF!=\"\", \"\",#REF!)","v":{"$error":"#REF!"}},{"$f":"IF(AQ65=\"\", \"\", IF($L65=\"男\", VLOOKUP(AQ65, データ!$B$2:$C$101, 2, FALSE), IF($L65=\"女\", VLOOKUP(AQ65, データ!$F$2:$H$101, 2, FALSE), \"\")))","v":{"$error":"#REF!"}},{"$f":"IF(A65=\"\",\"\", IF(#REF!=\"\", \"\",#REF!))","v":{"$error":"#REF!"}},{"$f":" IF(#REF!=\"\", \"\",#REF!)","v":{"$error":"#REF!"}},{"$f":" IF(#REF!=\"\", \"\",#REF!)","v":{"$error":"#REF!"}},{"$f":" IF(#REF!=\"\", \"\",#REF!)","v":{"$error":"#REF!"}},{"$f":" IF(#REF!=\"\", \"\",#REF!)","v":{"$error":"#REF!"}},{"$f":"IF(AW65=\"\", \"\", IF($L65=\"男\", VLOOKUP(AW65, データ!$B$2:$C$101, 2, FALSE), IF($L65=\"女\", VLOOKUP(AW65, データ!$F$2:$H$101, 2, FALSE), \"\")))","v":{"$error":"#REF!"}},{"$f":"IF(A65=\"\",\"\", IF(#REF!=\"\", \"\",#REF!))","v":{"$error":"#REF!"}},{"$f":" IF(#REF!=\"\", \"\",#REF!)","v":{"$error":"#REF!"}},{"$f":" IF(#REF!=\"\", \"\",#REF!)","v":{"$error":"#REF!"}},{"$f":" IF(#REF!=\"\", \"\",#REF!)","v":{"$error":"#REF!"}},{"$f":" IF(#REF!=\"\", \"\",#REF!)","v":{"$error":"#REF!"}},{"$error":"#REF!"}]
[{"$f":"#REF!","v":{"$error":"#REF!"}},{"$f":" IF(#REF!=\"\", \"\",#REF!)","v":{"$error":"#REF!"}},{"$f":" IF(#REF!=\"\", \"\",#REF!)","v":{"$error":"#REF!"}},{"$f":" IF(#REF!=\"\", \"\",#REF!)","v":{"$error":"#REF!"}},{"$error":"#REF!"},{"$error":"#REF!"},{"$error":"#REF!"},{"$error":"#REF!"},{"$f":" IF(#REF!=\"\", \"\",#REF!)","v":{"$error":"#REF!"}},{"$f":" IF(#REF!=\"\", \"\",#REF!)","v":{"$error":"#REF!"}},{"$f":" IF(#REF!=\"\", \"\",#REF!)","v":{"$error":"#REF!"}},{"$f":" IF(#REF!=\"\", \"\",#REF!)","v":{"$error":"#REF!"}},{"$f":" IF(#REF!=\"\", \"\",#REF!)","v":{"$error":"#REF!"}},{"$f":" IF(#REF!=\"\", \"\",#REF!)","v":{"$error":"#REF!"}},{"$f":" IF(#REF!=\"\", \"\",#REF!)","v":{"$error":"#REF!"}},{"$f":" IF(#REF!=\"\", \"\",#REF!)","v":{"$error":"#REF!"}},{"$f":"IF(A66=\"\",\"\",#REF!)","v":{"$error":"#REF!"}},{"$f":" IF(Q66=\"\", \"\",#REF!)","v":{"$error":"#REF!"}},{"$f":" IF(Q66=\"\", \"\",#REF!)","v":{"$error":"#REF!"}},{"$f":" IF(Q66=\"\", \"\",#REF!)","v":{"$error":"#REF!"}},{"$f":" IF(Q66=\"\", \"\",#REF!)","v":{"$error":"#REF!"}},{"$f":" IF(#REF!=\"\", \"\",#REF!)","v":{"$error":"#REF!"}},{"$f":" IF(#REF!=\"\", \"\",#REF!)","v":{"$error":"#REF!"}},{"$f":"IF(Y66=\"\", \"\", IF($L66=\"男\", VLOOKUP(Y66, データ!$B$2:$C$101, 2, FALSE), IF($L66=\"女\", VLOOKUP(Y66, データ!$F$2:$H$101, 2, FALSE), \"\")))","v":{"$error":"#REF!"}},{"$f":"IF(A66=\"\",\"\", IF(#REF!=\"\", \"\",#REF!))","v":{"$error":"#REF!"}},{"$f":" IF(#REF!=\"\", \"\",#REF!)","v":{"$error":"#REF!"}},{"$f":" IF(#REF!=\"\", \"\",#REF!)","v":{"$error":"#REF!"}},{"$f":" IF(#REF!=\"\", \"\",#REF!)","v":{"$error":"#REF!"}},{"$f":" IF(#REF!=\"\", \"\",#REF!)","v":{"$error":"#REF!"}},{"$f":"IF(AE66=\"\", \"\", IF($L66=\"男\", VLOOKUP(AE66, データ!$B$2:$C$101, 2, FALSE), IF($L66=\"女\", VLOOKUP(AE66, データ!$F$2:$H$101, 2, FALSE), \"\")))","v":{"$error":"#REF!"}},{"$f":"IF(A66=\"\",\"\", IF(#REF!=\"\", \"\",#REF!))","v":{"$error":"#REF!"}},{"$f":" IF(#REF!=\"\", \"\",#REF!)","v":{"$error":"#REF!"}},{"$f":" IF(#REF!=\"\", \"\",#REF!)","v":{"$error":"#REF!"}},{"$f":" IF(#REF!=\"\", \"\",#REF!)","v":{"$error":"#REF!"}},{"$f":" IF(#REF!=\"\", \"\",#REF!)","v":{"$error":"#REF!"}},{"$f":"IF(AK66=\"\", \"\", IF($L66=\"男\", VLOOKUP(AK66, データ!$B$2:$C$101, 2, FALSE), IF($L66=\"女\", VLOOKUP(AK66, データ!$F$2:$H$101, 2, FALSE), \"\")))","v":{"$error":"#REF!"}},{"$f":"IF(A66=\"\",\"\", IF(#REF!=\"\", \"\",#REF!))","v":{"$error":"#REF!"}},{"$f":" IF(#REF!=\"\", \"\",#REF!)","v":{"$error":"#REF!"}},{"$f":" IF(#REF!=\"\", \"\",#REF!)","v":{"$error":"#REF!"}},{"$f":" IF(#REF!=\"\", \"\",#REF!)","v":{"$error":"#REF!"}},{"$f":" IF(#REF!=\"\", \"\",#REF!)","v":{"$error":"#REF!"}},{"$f":"IF(AQ66=\"\", \"\", IF($L66=\"男\", VLOOKUP(AQ66, データ!$B$2:$C$101, 2, FALSE), IF($L66=\"女\", VLOOKUP(AQ66, データ!$F$2:$H$101, 2, FALSE), \"\")))","v":{"$error":"#REF!"}},{"$f":"IF(A66=\"\",\"\", IF(#REF!=\"\", \"\",#REF!))","v":{"$error":"#REF!"}},{"$f":" IF(#REF!=\"\", \"\",#REF!)","v":{"$error":"#REF!"}},{"$f":" IF(#REF!=\"\", \"\",#REF!)","v":{"$error":"#REF!"}},{"$f":" IF(#REF!=\"\", \"\",#REF!)","v":{"$error":"#REF!"}},{"$f":" IF(#REF!=\"\", \"\",#REF!)","v":{"$error":"#REF!"}},{"$f":"IF(AW66=\"\", \"\", IF($L66=\"男\", VLOOKUP(AW66, データ!$B$2:$C$101, 2, FALSE), IF($L66=\"女\", VLOOKUP(AW66, データ!$F$2:$H$101, 2, FALSE), \"\")))","v":{"$error":"#REF!"}},{"$f":"IF(A66=\"\",\"\", IF(#REF!=\"\", \"\",#REF!))","v":{"$error":"#REF!"}},{"$f":" IF(#REF!=\"\", \"\",#REF!)","v":{"$error":"#REF!"}},{"$f":" IF(#REF!=\"\", \"\",#REF!)","v":{"$error":"#REF!"}},{"$f":" IF(#REF!=\"\", \"\",#REF!)","v":{"$error":"#REF!"}},{"$f":" IF(#REF!=\"\", \"\",#REF!)","v":{"$error":"#REF!"}},{"$error":"#REF!"}]
[{"$f":"#REF!","v":{"$error":"#REF!"}},{"$f":" IF(#REF!=\"\", \"\",#REF!)","v":{"$error":"#REF!"}},{"$f":" IF(#REF!=\"\", \"\",#REF!)","v":{"$error":"#REF!"}},{"$f":" IF(#REF!=\"\", \"\",#REF!)","v":{"$error":"#REF!"}},{"$error":"#REF!"},{"$error":"#REF!"},{"$error":"#REF!"},{"$error":"#REF!"},{"$f":" IF(#REF!=\"\", \"\",#REF!)","v":{"$error":"#REF!"}},{"$f":" IF(#REF!=\"\", \"\",#REF!)","v":{"$error":"#REF!"}},{"$f":" IF(#REF!=\"\", \"\",#REF!)","v":{"$error":"#REF!"}},{"$f":" IF(#REF!=\"\", \"\",#REF!)","v":{"$error":"#REF!"}},{"$f":" IF(#REF!=\"\", \"\",#REF!)","v":{"$error":"#REF!"}},{"$f":" IF(#REF!=\"\", \"\",#REF!)","v":{"$error":"#REF!"}},{"$f":" IF(#REF!=\"\", \"\",#REF!)","v":{"$error":"#REF!"}},{"$f":" IF(#REF!=\"\", \"\",#REF!)","v":{"$error":"#REF!"}},{"$f":"IF(A67=\"\",\"\",#REF!)","v":{"$error":"#REF!"}},{"$f":" IF(Q67=\"\", \"\",#REF!)","v":{"$error":"#REF!"}},{"$f":" IF(Q67=\"\", \"\",#REF!)","v":{"$error":"#REF!"}},{"$f":" IF(Q67=\"\", \"\",#REF!)","v":{"$error":"#REF!"}},{"$f":" IF(Q67=\"\", \"\",#REF!)","v":{"$error":"#REF!"}},{"$f":" IF(#REF!=\"\", \"\",#REF!)","v":{"$error":"#REF!"}},{"$f":" IF(#REF!=\"\", \"\",#REF!)","v":{"$error":"#REF!"}},{"$f":"IF(Y67=\"\", \"\", IF($L67=\"男\", VLOOKUP(Y67, データ!$B$2:$C$101, 2, FALSE), IF($L67=\"女\", VLOOKUP(Y67, データ!$F$2:$H$101, 2, FALSE), \"\")))","v":{"$error":"#REF!"}},{"$f":"IF(A67=\"\",\"\", IF(#REF!=\"\", \"\",#REF!))","v":{"$error":"#REF!"}},{"$f":" IF(#REF!=\"\", \"\",#REF!)","v":{"$error":"#REF!"}},{"$f":" IF(#REF!=\"\", \"\",#REF!)","v":{"$error":"#REF!"}},{"$f":" IF(#REF!=\"\", \"\",#REF!)","v":{"$error":"#REF!"}},{"$f":" IF(#REF!=\"\", \"\",#REF!)","v":{"$error":"#REF!"}},{"$f":"IF(AE67=\"\", \"\", IF($L67=\"男\", VLOOKUP(AE67, データ!$B$2:$C$101, 2, FALSE), IF($L67=\"女\", VLOOKUP(AE67, データ!$F$2:$H$101, 2, FALSE), \"\")))","v":{"$error":"#REF!"}},{"$f":"IF(A67=\"\",\"\", IF(#REF!=\"\", \"\",#REF!))","v":{"$error":"#REF!"}},{"$f":" IF(#REF!=\"\", \"\",#REF!)","v":{"$error":"#REF!"}},{"$f":" IF(#REF!=\"\", \"\",#REF!)","v":{"$error":"#REF!"}},{"$f":" IF(#REF!=\"\", \"\",#REF!)","v":{"$error":"#REF!"}},{"$f":" IF(#REF!=\"\", \"\",#REF!)","v":{"$error":"#REF!"}},{"$f":"IF(AK67=\"\", \"\", IF($L67=\"男\", VLOOKUP(AK67, データ!$B$2:$C$101, 2, FALSE), IF($L67=\"女\", VLOOKUP(AK67, データ!$F$2:$H$101, 2, FALSE), \"\")))","v":{"$error":"#REF!"}},{"$f":"IF(A67=\"\",\"\", IF(#REF!=\"\", \"\",#REF!))","v":{"$error":"#REF!"}},{"$f":" IF(#REF!=\"\", \"\",#REF!)","v":{"$error":"#REF!"}},{"$f":" IF(#REF!=\"\", \"\",#REF!)","v":{"$error":"#REF!"}},{"$f":" IF(#REF!=\"\", \"\",#REF!)","v":{"$error":"#REF!"}},{"$f":" IF(#REF!=\"\", \"\",#REF!)","v":{"$error":"#REF!"}},{"$f":"IF(AQ67=\"\", \"\", IF($L67=\"男\", VLOOKUP(AQ67, データ!$B$2:$C$101, 2, FALSE), IF($L67=\"女\", VLOOKUP(AQ67, データ!$F$2:$H$101, 2, FALSE), \"\")))","v":{"$error":"#REF!"}},{"$f":"IF(A67=\"\",\"\", IF(#REF!=\"\", \"\",#REF!))","v":{"$error":"#REF!"}},{"$f":" IF(#REF!=\"\", \"\",#REF!)","v":{"$error":"#REF!"}},{"$f":" IF(#REF!=\"\", \"\",#REF!)","v":{"$error":"#REF!"}},{"$f":" IF(#REF!=\"\", \"\",#REF!)","v":{"$error":"#REF!"}},{"$f":" IF(#REF!=\"\", \"\",#REF!)","v":{"$error":"#REF!"}},{"$f":"IF(AW67=\"\", \"\", IF($L67=\"男\", VLOOKUP(AW67, データ!$B$2:$C$101, 2, FALSE), IF($L67=\"女\", VLOOKUP(AW67, データ!$F$2:$H$101, 2, FALSE), \"\")))","v":{"$error":"#REF!"}},{"$f":"IF(A67=\"\",\"\", IF(#REF!=\"\", \"\",#REF!))","v":{"$error":"#REF!"}},{"$f":" IF(#REF!=\"\", \"\",#REF!)","v":{"$error":"#REF!"}},{"$f":" IF(#REF!=\"\", \"\",#REF!)","v":{"$error":"#REF!"}},{"$f":" IF(#REF!=\"\", \"\",#REF!)","v":{"$error":"#REF!"}},{"$f":" IF(#REF!=\"\", \"\",#REF!)","v":{"$error":"#REF!"}},{"$error":"#REF!"}]
[{"$f":"#REF!","v":{"$error":"#REF!"}},{"$f":" IF(#REF!=\"\", \"\",#REF!)","v":{"$error":"#REF!"}},{"$f":" IF(#REF!=\"\", \"\",#REF!)","v":{"$error":"#REF!"}},{"$f":" IF(#REF!=\"\", \"\",#REF!)","v":{"$error":"#REF!"}},{"$f":"IF(C68=\"\", \"\", C68)","v":{"$error":"#REF!"}},{"$f":"IF(D68=\"\", \"\", D68)","v":{"$error":"#REF!"}},{"$f":"IF(C68=\"\", \"\", C68)","v":{"$error":"#REF!"}},{"$f":"IF(D68=\"\", \"\", D68)","v":{"$error":"#REF!"}},{"$f":" IF(#REF!=\"\", \"\",#REF!)","v":{"$error":"#REF!"}},{"$f":" IF(#REF!=\"\", \"\",#REF!)","v":{"$error":"#REF!"}},{"$f":" IF(#REF!=\"\", \"\",#REF!)","v":{"$error":"#REF!"}},{"$f":" IF(#REF!=\"\", \"\",#REF!)","v":{"$error":"#REF!"}},{"$f":" IF(#REF!=\"\", \"\",#REF!)","v":{"$error":"#REF!"}},{"$f":" IF(#REF!=\"\", \"\",#REF!)","v":{"$error":"#REF!"}},{"$f":" IF(#REF!=\"\", \"\",#REF!)","v":{"$error":"#REF!"}},{"$f":" IF(#REF!=\"\", \"\",#REF!)","v":{"$error":"#REF!"}},{"$f":"IF(A68=\"\",\"\",#REF!)","v":{"$error":"#REF!"}},{"$f":" IF(Q68=\"\", \"\",#REF!)","v":{"$error":"#REF!"}},{"$f":" IF(Q68=\"\", \"\",#REF!)","v":{"$error":"#REF!"}},{"$f":" IF(Q68=\"\", \"\",#REF!)","v":{"$error":"#REF!"}},{"$f":" IF(Q68=\"\", \"\",#REF!)","v":{"$error":"#REF!"}},{"$f":" IF(#REF!=\"\", \"\",#REF!)","v":{"$error":"#REF!"}},{"$f":" IF(#REF!=\"\", \"\",#REF!)","v":{"$error":"#REF!"}},{"$f":"IF(Y68=\"\", \"\", IF($L68=\"男\", VLOOKUP(Y68, データ!$B$2:$C$101, 2, FALSE), IF($L68=\"女\", VLOOKUP(Y68, データ!$F$2:$H$101, 2, FALSE), \"\")))","v":{"$error":"#REF!"}},{"$f":"IF(A68=\"\",\"\", IF(#REF!=\"\", \"\",#REF!))","v":{"$error":"#REF!"}},{"$f":" IF(#REF!=\"\", \"\",#REF!)","v":{"$error":"#REF!"}},{"$f":" IF(#REF!=\"\", \"\",#REF!)","v":{"$error":"#REF!"}},{"$f":" IF(#REF!=\"\", \"\",#REF!)","v":{"$error":"#REF!"}},{"$f":" IF(#REF!=\"\", \"\",#REF!)","v":{"$error":"#REF!"}},{"$f":"IF(AE68=\"\", \"\", IF($L68=\"男\", VLOOKUP(AE68, データ!$B$2:$C$101, 2, FALSE), IF($L68=\"女\", VLOOKUP(AE68, データ!$F$2:$H$101, 2, FALSE), \"\")))","v":{"$error":"#REF!"}},{"$f":"IF(A68=\"\",\"\", IF(#REF!=\"\", \"\",#REF!))","v":{"$error":"#REF!"}},{"$f":" IF(#REF!=\"\", \"\",#REF!)","v":{"$error":"#REF!"}},{"$f":" IF(#REF!=\"\", \"\",#REF!)","v":{"$error":"#REF!"}},{"$f":" IF(#REF!=\"\", \"\",#REF!)","v":{"$error":"#REF!"}},{"$f":" IF(#REF!=\"\", \"\",#REF!)","v":{"$error":"#REF!"}},{"$f":"IF(AK68=\"\", \"\", IF($L68=\"男\", VLOOKUP(AK68, データ!$B$2:$C$101, 2, FALSE), IF($L68=\"女\", VLOOKUP(AK68, データ!$F$2:$H$101, 2, FALSE), \"\")))","v":{"$error":"#REF!"}},{"$f":"IF(A68=\"\",\"\", IF(#REF!=\"\", \"\",#REF!))","v":{"$error":"#REF!"}},{"$f":" IF(#REF!=\"\", \"\",#REF!)","v":{"$error":"#REF!"}},{"$f":" IF(#REF!=\"\", \"\",#REF!)","v":{"$error":"#REF!"}},{"$f":" IF(#REF!=\"\", \"\",#REF!)","v":{"$error":"#REF!"}},{"$f":" IF(#REF!=\"\", \"\",#REF!)","v":{"$error":"#REF!"}},{"$f":"IF(AQ68=\"\", \"\", IF($L68=\"男\", VLOOKUP(AQ68, データ!$B$2:$C$101, 2, FALSE), IF($L68=\"女\", VLOOKUP(AQ68, データ!$F$2:$H$101, 2, FALSE), \"\")))","v":{"$error":"#REF!"}},{"$f":"IF(A68=\"\",\"\", IF(#REF!=\"\", \"\",#REF!))","v":{"$error":"#REF!"}},{"$f":" IF(#REF!=\"\", \"\",#REF!)","v":{"$error":"#REF!"}},{"$f":" IF(#REF!=\"\", \"\",#REF!)","v":{"$error":"#REF!"}},{"$f":" IF(#REF!=\"\", \"\",#REF!)","v":{"$error":"#REF!"}},{"$f":" IF(#REF!=\"\", \"\",#REF!)","v":{"$error":"#REF!"}},{"$f":"IF(AW68=\"\", \"\", IF($L68=\"男\", VLOOKUP(AW68, データ!$B$2:$C$101, 2, FALSE), IF($L68=\"女\", VLOOKUP(AW68, データ!$F$2:$H$101, 2, FALSE), \"\")))","v":{"$error":"#REF!"}},{"$f":"IF(A68=\"\",\"\", IF(#REF!=\"\", \"\",#REF!))","v":{"$error":"#REF!"}},{"$f":" IF(#REF!=\"\", \"\",#REF!)","v":{"$error":"#REF!"}},{"$f":" IF(#REF!=\"\", \"\",#REF!)","v":{"$error":"#REF!"}},{"$f":" IF(#REF!=\"\", \"\",#REF!)","v":{"$error":"#REF!"}},{"$f":" IF(#REF!=\"\", \"\",#REF!)","v":{"$error":"#REF!"}},{"$f":"IF(A68=\"\",\"\",IF(LEN(C68)+LEN(D68)=2,C68&\"　　　\"&D68,IF(LEN(C68)+LEN(D68)=3,C68&\"　　\"&D68,IF(LEN(C68)+LEN(D68)=4,C68&\"　\"&D68,IF(LEN(C68)+LEN(D68)>4,C68&D68,\"\")))))","v":{"$error":"#REF!"}}]
[{"$f":"#REF!","v":{"$error":"#REF!"}},{"$f":" IF(#REF!=\"\", \"\",#REF!)","v":{"$error":"#REF!"}},{"$f":" IF(#REF!=\"\", \"\",#REF!)","v":{"$error":"#REF!"}},{"$f":" IF(#REF!=\"\", \"\",#REF!)","v":{"$error":"#REF!"}},{"$error":"#REF!"},{"$error":"#REF!"},{"$error":"#REF!"},{"$error":"#REF!"},{"$f":" IF(#REF!=\"\", \"\",#REF!)","v":{"$error":"#REF!"}},{"$f":" IF(#REF!=\"\", \"\",#REF!)","v":{"$error":"#REF!"}},{"$f":" IF(#REF!=\"\", \"\",#REF!)","v":{"$error":"#REF!"}},{"$f":" IF(#REF!=\"\", \"\",#REF!)","v":{"$error":"#REF!"}},{"$f":" IF(#REF!=\"\", \"\",#REF!)","v":{"$error":"#REF!"}},{"$f":" IF(#REF!=\"\", \"\",#REF!)","v":{"$error":"#REF!"}},{"$f":" IF(#REF!=\"\", \"\",#REF!)","v":{"$error":"#REF!"}},{"$f":" IF(#REF!=\"\", \"\",#REF!)","v":{"$error":"#REF!"}},{"$f":"IF(A69=\"\",\"\",#REF!)","v":{"$error":"#REF!"}},{"$f":" IF(Q69=\"\", \"\",#REF!)","v":{"$error":"#REF!"}},{"$f":" IF(Q69=\"\", \"\",#REF!)","v":{"$error":"#REF!"}},{"$f":" IF(Q69=\"\", \"\",#REF!)","v":{"$error":"#REF!"}},{"$f":" IF(Q69=\"\", \"\",#REF!)","v":{"$error":"#REF!"}},{"$f":" IF(#REF!=\"\", \"\",#REF!)","v":{"$error":"#REF!"}},{"$f":" IF(#REF!=\"\", \"\",#REF!)","v":{"$error":"#REF!"}},{"$f":"IF(Y69=\"\", \"\", IF($L69=\"男\", VLOOKUP(Y69, データ!$B$2:$C$101, 2, FALSE), IF($L69=\"女\", VLOOKUP(Y69, データ!$F$2:$H$101, 2, FALSE), \"\")))","v":{"$error":"#REF!"}},{"$f":"IF(A69=\"\",\"\", IF(#REF!=\"\", \"\",#REF!))","v":{"$error":"#REF!"}},{"$f":" IF(#REF!=\"\", \"\",#REF!)","v":{"$error":"#REF!"}},{"$f":" IF(#REF!=\"\", \"\",#REF!)","v":{"$error":"#REF!"}},{"$f":" IF(#REF!=\"\", \"\",#REF!)","v":{"$error":"#REF!"}},{"$f":" IF(#REF!=\"\", \"\",#REF!)","v":{"$error":"#REF!"}},{"$f":"IF(AE69=\"\", \"\", IF($L69=\"男\", VLOOKUP(AE69, データ!$B$2:$C$101, 2, FALSE), IF($L69=\"女\", VLOOKUP(AE69, データ!$F$2:$H$101, 2, FALSE), \"\")))","v":{"$error":"#REF!"}},{"$f":"IF(A69=\"\",\"\", IF(#REF!=\"\", \"\",#REF!))","v":{"$error":"#REF!"}},{"$f":" IF(#REF!=\"\", \"\",#REF!)","v":{"$error":"#REF!"}},{"$f":" IF(#REF!=\"\", \"\",#REF!)","v":{"$error":"#REF!"}},{"$f":" IF(#REF!=\"\", \"\",#REF!)","v":{"$error":"#REF!"}},{"$f":" IF(#REF!=\"\", \"\",#REF!)","v":{"$error":"#REF!"}},{"$f":"IF(AK69=\"\", \"\", IF($L69=\"男\", VLOOKUP(AK69, データ!$B$2:$C$101, 2, FALSE), IF($L69=\"女\", VLOOKUP(AK69, データ!$F$2:$H$101, 2, FALSE), \"\")))","v":{"$error":"#REF!"}},{"$f":"IF(A69=\"\",\"\", IF(#REF!=\"\", \"\",#REF!))","v":{"$error":"#REF!"}},{"$f":" IF(#REF!=\"\", \"\",#REF!)","v":{"$error":"#REF!"}},{"$f":" IF(#REF!=\"\", \"\",#REF!)","v":{"$error":"#REF!"}},{"$f":" IF(#REF!=\"\", \"\",#REF!)","v":{"$error":"#REF!"}},{"$f":" IF(#REF!=\"\", \"\",#REF!)","v":{"$error":"#REF!"}},{"$f":"IF(AQ69=\"\", \"\", IF($L69=\"男\", VLOOKUP(AQ69, データ!$B$2:$C$101, 2, FALSE), IF($L69=\"女\", VLOOKUP(AQ69, データ!$F$2:$H$101, 2, FALSE), \"\")))","v":{"$error":"#REF!"}},{"$f":"IF(A69=\"\",\"\", IF(#REF!=\"\", \"\",#REF!))","v":{"$error":"#REF!"}},{"$f":" IF(#REF!=\"\", \"\",#REF!)","v":{"$error":"#REF!"}},{"$f":" IF(#REF!=\"\", \"\",#REF!)","v":{"$error":"#REF!"}},{"$f":" IF(#REF!=\"\", \"\",#REF!)","v":{"$error":"#REF!"}},{"$f":" IF(#REF!=\"\", \"\",#REF!)","v":{"$error":"#REF!"}},{"$f":"IF(AW69=\"\", \"\", IF($L69=\"男\", VLOOKUP(AW69, データ!$B$2:$C$101, 2, FALSE), IF($L69=\"女\", VLOOKUP(AW69, データ!$F$2:$H$101, 2, FALSE), \"\")))","v":{"$error":"#REF!"}},{"$f":"IF(A69=\"\",\"\", IF(#REF!=\"\", \"\",#REF!))","v":{"$error":"#REF!"}},{"$f":" IF(#REF!=\"\", \"\",#REF!)","v":{"$error":"#REF!"}},{"$f":" IF(#REF!=\"\", \"\",#REF!)","v":{"$error":"#REF!"}},{"$f":" IF(#REF!=\"\", \"\",#REF!)","v":{"$error":"#REF!"}},{"$f":" IF(#REF!=\"\", \"\",#REF!)","v":{"$error":"#REF!"}},{"$error":"#REF!"}]
[{"$f":"#REF!","v":{"$error":"#REF!"}},{"$f":" IF(#REF!=\"\", \"\",#REF!)","v":{"$error":"#REF!"}},{"$f":" IF(#REF!=\"\", \"\",#REF!)","v":{"$error":"#REF!"}},{"$f":" IF(#REF!=\"\", \"\",#REF!)","v":{"$error":"#REF!"}},{"$error":"#REF!"},{"$error":"#REF!"},{"$error":"#REF!"},{"$error":"#REF!"},{"$f":" IF(#REF!=\"\", \"\",#REF!)","v":{"$error":"#REF!"}},{"$f":" IF(#REF!=\"\", \"\",#REF!)","v":{"$error":"#REF!"}},{"$f":" IF(#REF!=\"\", \"\",#REF!)","v":{"$error":"#REF!"}},{"$f":" IF(#REF!=\"\", \"\",#REF!)","v":{"$error":"#REF!"}},{"$f":" IF(#REF!=\"\", \"\",#REF!)","v":{"$error":"#REF!"}},{"$f":" IF(#REF!=\"\", \"\",#REF!)","v":{"$error":"#REF!"}},{"$f":" IF(#REF!=\"\", \"\",#REF!)","v":{"$error":"#REF!"}},{"$f":" IF(#REF!=\"\", \"\",#REF!)","v":{"$error":"#REF!"}},{"$f":"IF(A70=\"\",\"\",#REF!)","v":{"$error":"#REF!"}},{"$f":" IF(Q70=\"\", \"\",#REF!)","v":{"$error":"#REF!"}},{"$f":" IF(Q70=\"\", \"\",#REF!)","v":{"$error":"#REF!"}},{"$f":" IF(Q70=\"\", \"\",#REF!)","v":{"$error":"#REF!"}},{"$f":" IF(Q70=\"\", \"\",#REF!)","v":{"$error":"#REF!"}},{"$f":" IF(#REF!=\"\", \"\",#REF!)","v":{"$error":"#REF!"}},{"$f":" IF(#REF!=\"\", \"\",#REF!)","v":{"$error":"#REF!"}},{"$f":"IF(Y70=\"\", \"\", IF($L70=\"男\", VLOOKUP(Y70, データ!$B$2:$C$101, 2, FALSE), IF($L70=\"女\", VLOOKUP(Y70, データ!$F$2:$H$101, 2, FALSE), \"\")))","v":{"$error":"#REF!"}},{"$f":"IF(A70=\"\",\"\", IF(#REF!=\"\", \"\",#REF!))","v":{"$error":"#REF!"}},{"$f":" IF(#REF!=\"\", \"\",#REF!)","v":{"$error":"#REF!"}},{"$f":" IF(#REF!=\"\", \"\",#REF!)","v":{"$error":"#REF!"}},{"$f":" IF(#REF!=\"\", \"\",#REF!)","v":{"$error":"#REF!"}},{"$f":" IF(#REF!=\"\", \"\",#REF!)","v":{"$error":"#REF!"}},{"$f":"IF(AE70=\"\", \"\", IF($L70=\"男\", VLOOKUP(AE70, データ!$B$2:$C$101, 2, FALSE), IF($L70=\"女\", VLOOKUP(AE70, データ!$F$2:$H$101, 2, FALSE), \"\")))","v":{"$error":"#REF!"}},{"$f":"IF(A70=\"\",\"\", IF(#REF!=\"\", \"\",#REF!))","v":{"$error":"#REF!"}},{"$f":" IF(#REF!=\"\", \"\",#REF!)","v":{"$error":"#REF!"}},{"$f":" IF(#REF!=\"\", \"\",#REF!)","v":{"$error":"#REF!"}},{"$f":" IF(#REF!=\"\", \"\",#REF!)","v":{"$error":"#REF!"}},{"$f":" IF(#REF!=\"\", \"\",#REF!)","v":{"$error":"#REF!"}},{"$f":"IF(AK70=\"\", \"\", IF($L70=\"男\", VLOOKUP(AK70, データ!$B$2:$C$101, 2, FALSE), IF($L70=\"女\", VLOOKUP(AK70, データ!$F$2:$H$101, 2, FALSE), \"\")))","v":{"$error":"#REF!"}},{"$f":"IF(A70=\"\",\"\", IF(#REF!=\"\", \"\",#REF!))","v":{"$error":"#REF!"}},{"$f":" IF(#REF!=\"\", \"\",#REF!)","v":{"$error":"#REF!"}},{"$f":" IF(#REF!=\"\", \"\",#REF!)","v":{"$error":"#REF!"}},{"$f":" IF(#REF!=\"\", \"\",#REF!)","v":{"$error":"#REF!"}},{"$f":" IF(#REF!=\"\", \"\",#REF!)","v":{"$error":"#REF!"}},{"$f":"IF(AQ70=\"\", \"\", IF($L70=\"男\", VLOOKUP(AQ70, データ!$B$2:$C$101, 2, FALSE), IF($L70=\"女\", VLOOKUP(AQ70, データ!$F$2:$H$101, 2, FALSE), \"\")))","v":{"$error":"#REF!"}},{"$f":"IF(A70=\"\",\"\", IF(#REF!=\"\", \"\",#REF!))","v":{"$error":"#REF!"}},{"$f":" IF(#REF!=\"\", \"\",#REF!)","v":{"$error":"#REF!"}},{"$f":" IF(#REF!=\"\", \"\",#REF!)","v":{"$error":"#REF!"}},{"$f":" IF(#REF!=\"\", \"\",#REF!)","v":{"$error":"#REF!"}},{"$f":" IF(#REF!=\"\", \"\",#REF!)","v":{"$error":"#REF!"}},{"$f":"IF(AW70=\"\", \"\", IF($L70=\"男\", VLOOKUP(AW70, データ!$B$2:$C$101, 2, FALSE), IF($L70=\"女\", VLOOKUP(AW70, データ!$F$2:$H$101, 2, FALSE), \"\")))","v":{"$error":"#REF!"}},{"$f":"IF(A70=\"\",\"\", IF(#REF!=\"\", \"\",#REF!))","v":{"$error":"#REF!"}},{"$f":" IF(#REF!=\"\", \"\",#REF!)","v":{"$error":"#REF!"}},{"$f":" IF(#REF!=\"\", \"\",#REF!)","v":{"$error":"#REF!"}},{"$f":" IF(#REF!=\"\", \"\",#REF!)","v":{"$error":"#REF!"}},{"$f":" IF(#REF!=\"\", \"\",#REF!)","v":{"$error":"#REF!"}},{"$error":"#REF!"}]
[{"$f":"#REF!","v":{"$error":"#REF!"}},{"$f":" IF(#REF!=\"\", \"\",#REF!)","v":{"$error":"#REF!"}},{"$f":" IF(#REF!=\"\", \"\",#REF!)","v":{"$error":"#REF!"}},{"$f":" IF(#REF!=\"\", \"\",#REF!)","v":{"$error":"#REF!"}},{"$error":"#REF!"},{"$error":"#REF!"},{"$error":"#REF!"},{"$error":"#REF!"},{"$f":" IF(#REF!=\"\", \"\",#REF!)","v":{"$error":"#REF!"}},{"$f":" IF(#REF!=\"\", \"\",#REF!)","v":{"$error":"#REF!"}},{"$f":" IF(#REF!=\"\", \"\",#REF!)","v":{"$error":"#REF!"}},{"$f":" IF(#REF!=\"\", \"\",#REF!)","v":{"$error":"#REF!"}},{"$f":" IF(#REF!=\"\", \"\",#REF!)","v":{"$error":"#REF!"}},{"$f":" IF(#REF!=\"\", \"\",#REF!)","v":{"$error":"#REF!"}},{"$f":" IF(#REF!=\"\", \"\",#REF!)","v":{"$error":"#REF!"}},{"$f":" IF(#REF!=\"\", \"\",#REF!)","v":{"$error":"#REF!"}},{"$f":"IF(A71=\"\",\"\",#REF!)","v":{"$error":"#REF!"}},{"$f":" IF(Q71=\"\", \"\",#REF!)","v":{"$error":"#REF!"}},{"$f":" IF(Q71=\"\", \"\",#REF!)","v":{"$error":"#REF!"}},{"$f":" IF(Q71=\"\", \"\",#REF!)","v":{"$error":"#REF!"}},{"$f":" IF(Q71=\"\", \"\",#REF!)","v":{"$error":"#REF!"}},{"$f":" IF(#REF!=\"\", \"\",#REF!)","v":{"$error":"#REF!"}},{"$f":" IF(#REF!=\"\", \"\",#REF!)","v":{"$error":"#REF!"}},{"$f":"IF(Y71=\"\", \"\", IF($L71=\"男\", VLOOKUP(Y71, データ!$B$2:$C$101, 2, FALSE), IF($L71=\"女\", VLOOKUP(Y71, データ!$F$2:$H$101, 2, FALSE), \"\")))","v":{"$error":"#REF!"}},{"$f":"IF(A71=\"\",\"\", IF(#REF!=\"\", \"\",#REF!))","v":{"$error":"#REF!"}},{"$f":" IF(#REF!=\"\", \"\",#REF!)","v":{"$error":"#REF!"}},{"$f":" IF(#REF!=\"\", \"\",#REF!)","v":{"$error":"#REF!"}},{"$f":" IF(#REF!=\"\", \"\",#REF!)","v":{"$error":"#REF!"}},{"$f":" IF(#REF!=\"\", \"\",#REF!)","v":{"$error":"#REF!"}},{"$f":"IF(AE71=\"\", \"\", IF($L71=\"男\", VLOOKUP(AE71, データ!$B$2:$C$101, 2, FALSE), IF($L71=\"女\", VLOOKUP(AE71, データ!$F$2:$H$101, 2, FALSE), \"\")))","v":{"$error":"#REF!"}},{"$f":"IF(A71=\"\",\"\", IF(#REF!=\"\", \"\",#REF!))","v":{"$error":"#REF!"}},{"$f":" IF(#REF!=\"\", \"\",#REF!)","v":{"$error":"#REF!"}},{"$f":" IF(#REF!=\"\", \"\",#REF!)","v":{"$error":"#REF!"}},{"$f":" IF(#REF!=\"\", \"\",#REF!)","v":{"$error":"#REF!"}},{"$f":" IF(#REF!=\"\", \"\",#REF!)","v":{"$error":"#REF!"}},{"$f":"IF(AK71=\"\", \"\", IF($L71=\"男\", VLOOKUP(AK71, データ!$B$2:$C$101, 2, FALSE), IF($L71=\"女\", VLOOKUP(AK71, データ!$F$2:$H$101, 2, FALSE), \"\")))","v":{"$error":"#REF!"}},{"$f":"IF(A71=\"\",\"\", IF(#REF!=\"\", \"\",#REF!))","v":{"$error":"#REF!"}},{"$f":" IF(#REF!=\"\", \"\",#REF!)","v":{"$error":"#REF!"}},{"$f":" IF(#REF!=\"\", \"\",#REF!)","v":{"$error":"#REF!"}},{"$f":" IF(#REF!=\"\", \"\",#REF!)","v":{"$error":"#REF!"}},{"$f":" IF(#REF!=\"\", \"\",#REF!)","v":{"$error":"#REF!"}},{"$f":"IF(AQ71=\"\", \"\", IF($L71=\"男\", VLOOKUP(AQ71, データ!$B$2:$C$101, 2, FALSE), IF($L71=\"女\", VLOOKUP(AQ71, データ!$F$2:$H$101, 2, FALSE), \"\")))","v":{"$error":"#REF!"}},{"$f":"IF(A71=\"\",\"\", IF(#REF!=\"\", \"\",#REF!))","v":{"$error":"#REF!"}},{"$f":" IF(#REF!=\"\", \"\",#REF!)","v":{"$error":"#REF!"}},{"$f":" IF(#REF!=\"\", \"\",#REF!)","v":{"$error":"#REF!"}},{"$f":" IF(#REF!=\"\", \"\",#REF!)","v":{"$error":"#REF!"}},{"$f":" IF(#REF!=\"\", \"\",#REF!)","v":{"$error":"#REF!"}},{"$f":"IF(AW71=\"\", \"\", IF($L71=\"男\", VLOOKUP(AW71, データ!$B$2:$C$101, 2, FALSE), IF($L71=\"女\", VLOOKUP(AW71, データ!$F$2:$H$101, 2, FALSE), \"\")))","v":{"$error":"#REF!"}},{"$f":"IF(A71=\"\",\"\", IF(#REF!=\"\", \"\",#REF!))","v":{"$error":"#REF!"}},{"$f":" IF(#REF!=\"\", \"\",#REF!)","v":{"$error":"#REF!"}},{"$f":" IF(#REF!=\"\", \"\",#REF!)","v":{"$error":"#REF!"}},{"$f":" IF(#REF!=\"\", \"\",#REF!)","v":{"$error":"#REF!"}},{"$f":" IF(#REF!=\"\", \"\",#REF!)","v":{"$error":"#REF!"}},{"$error":"#REF!"}]
[{"$f":"#REF!","v":{"$error":"#REF!"}},{"$f":" IF(#REF!=\"\", \"\",#REF!)","v":{"$error":"#REF!"}},{"$f":" IF(#REF!=\"\", \"\",#REF!)","v":{"$error":"#REF!"}},{"$f":" IF(#REF!=\"\", \"\",#REF!)","v":{"$error":"#REF!"}},{"$error":"#REF!"},{"$error":"#REF!"},{"$error":"#REF!"},{"$error":"#REF!"},{"$f":" IF(#REF!=\"\", \"\",#REF!)","v":{"$error":"#REF!"}},{"$f":" IF(#REF!=\"\", \"\",#REF!)","v":{"$error":"#REF!"}},{"$f":" IF(#REF!=\"\", \"\",#REF!)","v":{"$error":"#REF!"}},{"$f":" IF(#REF!=\"\", \"\",#REF!)","v":{"$error":"#REF!"}},{"$f":" IF(#REF!=\"\", \"\",#REF!)","v":{"$error":"#REF!"}},{"$f":" IF(#REF!=\"\", \"\",#REF!)","v":{"$error":"#REF!"}},{"$f":" IF(#REF!=\"\", \"\",#REF!)","v":{"$error":"#REF!"}},{"$f":" IF(#REF!=\"\", \"\",#REF!)","v":{"$error":"#REF!"}},{"$f":"IF(A72=\"\",\"\",#REF!)","v":{"$error":"#REF!"}},{"$f":" IF(Q72=\"\", \"\",#REF!)","v":{"$error":"#REF!"}},{"$f":" IF(Q72=\"\", \"\",#REF!)","v":{"$error":"#REF!"}},{"$f":" IF(Q72=\"\", \"\",#REF!)","v":{"$error":"#REF!"}},{"$f":" IF(Q72=\"\", \"\",#REF!)","v":{"$error":"#REF!"}},{"$f":" IF(#REF!=\"\", \"\",#REF!)","v":{"$error":"#REF!"}},{"$f":" IF(#REF!=\"\", \"\",#REF!)","v":{"$error":"#REF!"}},{"$f":"IF(Y72=\"\", \"\", IF($L72=\"男\", VLOOKUP(Y72, データ!$B$2:$C$101, 2, FALSE), IF($L72=\"女\", VLOOKUP(Y72, データ!$F$2:$H$101, 2, FALSE), \"\")))","v":{"$error":"#REF!"}},{"$f":"IF(A72=\"\",\"\", IF(#REF!=\"\", \"\",#REF!))","v":{"$error":"#REF!"}},{"$f":" IF(#REF!=\"\", \"\",#REF!)","v":{"$error":"#REF!"}},{"$f":" IF(#REF!=\"\", \"\",#REF!)","v":{"$error":"#REF!"}},{"$f":" IF(#REF!=\"\", \"\",#REF!)","v":{"$error":"#REF!"}},{"$f":" IF(#REF!=\"\", \"\",#REF!)","v":{"$error":"#REF!"}},{"$f":"IF(AE72=\"\", \"\", IF($L72=\"男\", VLOOKUP(AE72, データ!$B$2:$C$101, 2, FALSE), IF($L72=\"女\", VLOOKUP(AE72, データ!$F$2:$H$101, 2, FALSE), \"\")))","v":{"$error":"#REF!"}},{"$f":"IF(A72=\"\",\"\", IF(#REF!=\"\", \"\",#REF!))","v":{"$error":"#REF!"}},{"$f":" IF(#REF!=\"\", \"\",#REF!)","v":{"$error":"#REF!"}},{"$f":" IF(#REF!=\"\", \"\",#REF!)","v":{"$error":"#REF!"}},{"$f":" IF(#REF!=\"\", \"\",#REF!)","v":{"$error":"#REF!"}},{"$f":" IF(#REF!=\"\", \"\",#REF!)","v":{"$error":"#REF!"}},{"$f":"IF(AK72=\"\", \"\", IF($L72=\"男\", VLOOKUP(AK72, データ!$B$2:$C$101, 2, FALSE), IF($L72=\"女\", VLOOKUP(AK72, データ!$F$2:$H$101, 2, FALSE), \"\")))","v":{"$error":"#REF!"}},{"$f":"IF(A72=\"\",\"\", IF(#REF!=\"\", \"\",#REF!))","v":{"$error":"#REF!"}},{"$f":" IF(#REF!=\"\", \"\",#REF!)","v":{"$error":"#REF!"}},{"$f":" IF(#REF!=\"\", \"\",#REF!)","v":{"$error":"#REF!"}},{"$f":" IF(#REF!=\"\", \"\",#REF!)","v":{"$error":"#REF!"}},{"$f":" IF(#REF!=\"\", \"\",#REF!)","v":{"$error":"#REF!"}},{"$f":"IF(AQ72=\"\", \"\", IF($L72=\"男\", VLOOKUP(AQ72, データ!$B$2:$C$101, 2, FALSE), IF($L72=\"女\", VLOOKUP(AQ72, データ!$F$2:$H$101, 2, FALSE), \"\")))","v":{"$error":"#REF!"}},{"$f":"IF(A72=\"\",\"\", IF(#REF!=\"\", \"\",#REF!))","v":{"$error":"#REF!"}},{"$f":" IF(#REF!=\"\", \"\",#REF!)","v":{"$error":"#REF!"}},{"$f":" IF(#REF!=\"\", \"\",#REF!)","v":{"$error":"#REF!"}},{"$f":" IF(#REF!=\"\", \"\",#REF!)","v":{"$error":"#REF!"}},{"$f":" IF(#REF!=\"\", \"\",#REF!)","v":{"$error":"#REF!"}},{"$f":"IF(AW72=\"\", \"\", IF($L72=\"男\", VLOOKUP(AW72, データ!$B$2:$C$101, 2, FALSE), IF($L72=\"女\", VLOOKUP(AW72, データ!$F$2:$H$101, 2, FALSE), \"\")))","v":{"$error":"#REF!"}},{"$f":"IF(A72=\"\",\"\", IF(#REF!=\"\", \"\",#REF!))","v":{"$error":"#REF!"}},{"$f":" IF(#REF!=\"\", \"\",#REF!)","v":{"$error":"#REF!"}},{"$f":" IF(#REF!=\"\", \"\",#REF!)","v":{"$error":"#REF!"}},{"$f":" IF(#REF!=\"\", \"\",#REF!)","v":{"$error":"#REF!"}},{"$f":" IF(#REF!=\"\", \"\",#REF!)","v":{"$error":"#REF!"}},{"$error":"#REF!"}]
[{"$f":"#REF!","v":{"$error":"#REF!"}},{"$f":" IF(#REF!=\"\", \"\",#REF!)","v":{"$error":"#REF!"}},{"$f":" IF(#REF!=\"\", \"\",#REF!)","v":{"$error":"#REF!"}},{"$f":" IF(#REF!=\"\", \"\",#REF!)","v":{"$error":"#REF!"}},{"$error":"#REF!"},{"$error":"#REF!"},{"$error":"#REF!"},{"$error":"#REF!"},{"$f":" IF(#REF!=\"\", \"\",#REF!)","v":{"$error":"#REF!"}},{"$f":" IF(#REF!=\"\", \"\",#REF!)","v":{"$error":"#REF!"}},{"$f":" IF(#REF!=\"\", \"\",#REF!)","v":{"$error":"#REF!"}},{"$f":" IF(#REF!=\"\", \"\",#REF!)","v":{"$error":"#REF!"}},{"$f":" IF(#REF!=\"\", \"\",#REF!)","v":{"$error":"#REF!"}},{"$f":" IF(#REF!=\"\", \"\",#REF!)","v":{"$error":"#REF!"}},{"$f":" IF(#REF!=\"\", \"\",#REF!)","v":{"$error":"#REF!"}},{"$f":" IF(#REF!=\"\", \"\",#REF!)","v":{"$error":"#REF!"}},{"$f":"IF(A73=\"\",\"\",#REF!)","v":{"$error":"#REF!"}},{"$f":" IF(Q73=\"\", \"\",#REF!)","v":{"$error":"#REF!"}},{"$f":" IF(Q73=\"\", \"\",#REF!)","v":{"$error":"#REF!"}},{"$f":" IF(Q73=\"\", \"\",#REF!)","v":{"$error":"#REF!"}},{"$f":" IF(Q73=\"\", \"\",#REF!)","v":{"$error":"#REF!"}},{"$f":" IF(#REF!=\"\", \"\",#REF!)","v":{"$error":"#REF!"}},{"$f":" IF(#REF!=\"\", \"\",#REF!)","v":{"$error":"#REF!"}},{"$f":"IF(Y73=\"\", \"\", IF($L73=\"男\", VLOOKUP(Y73, データ!$B$2:$C$101, 2, FALSE), IF($L73=\"女\", VLOOKUP(Y73, データ!$F$2:$H$101, 2, FALSE), \"\")))","v":{"$error":"#REF!"}},{"$f":"IF(A73=\"\",\"\", IF(#REF!=\"\", \"\",#REF!))","v":{"$error":"#REF!"}},{"$f":" IF(#REF!=\"\", \"\",#REF!)","v":{"$error":"#REF!"}},{"$f":" IF(#REF!=\"\", \"\",#REF!)","v":{"$error":"#REF!"}},{"$f":" IF(#REF!=\"\", \"\",#REF!)","v":{"$error":"#REF!"}},{"$f":" IF(#REF!=\"\", \"\",#REF!)","v":{"$error":"#REF!"}},{"$f":"IF(AE73=\"\", \"\", IF($L73=\"男\", VLOOKUP(AE73, データ!$B$2:$C$101, 2, FALSE), IF($L73=\"女\", VLOOKUP(AE73, データ!$F$2:$H$101, 2, FALSE), \"\")))","v":{"$error":"#REF!"}},{"$f":"IF(A73=\"\",\"\", IF(#REF!=\"\", \"\",#REF!))","v":{"$error":"#REF!"}},{"$f":" IF(#REF!=\"\", \"\",#REF!)","v":{"$error":"#REF!"}},{"$f":" IF(#REF!=\"\", \"\",#REF!)","v":{"$error":"#REF!"}},{"$f":" IF(#REF!=\"\", \"\",#REF!)","v":{"$error":"#REF!"}},{"$f":" IF(#REF!=\"\", \"\",#REF!)","v":{"$error":"#REF!"}},{"$f":"IF(AK73=\"\", \"\", IF($L73=\"男\", VLOOKUP(AK73, データ!$B$2:$C$101, 2, FALSE), IF($L73=\"女\", VLOOKUP(AK73, データ!$F$2:$H$101, 2, FALSE), \"\")))","v":{"$error":"#REF!"}},{"$f":"IF(A73=\"\",\"\", IF(#REF!=\"\", \"\",#REF!))","v":{"$error":"#REF!"}},{"$f":" IF(#REF!=\"\", \"\",#REF!)","v":{"$error":"#REF!"}},{"$f":" IF(#REF!=\"\", \"\",#REF!)","v":{"$error":"#REF!"}},{"$f":" IF(#REF!=\"\", \"\",#REF!)","v":{"$error":"#REF!"}},{"$f":" IF(#REF!=\"\", \"\",#REF!)","v":{"$error":"#REF!"}},{"$f":"IF(AQ73=\"\", \"\", IF($L73=\"男\", VLOOKUP(AQ73, データ!$B$2:$C$101, 2, FALSE), IF($L73=\"女\", VLOOKUP(AQ73, データ!$F$2:$H$101, 2, FALSE), \"\")))","v":{"$error":"#REF!"}},{"$f":"IF(A73=\"\",\"\", IF(#REF!=\"\", \"\",#REF!))","v":{"$error":"#REF!"}},{"$f":" IF(#REF!=\"\", \"\",#REF!)","v":{"$error":"#REF!"}},{"$f":" IF(#REF!=\"\", \"\",#REF!)","v":{"$error":"#REF!"}},{"$f":" IF(#REF!=\"\", \"\",#REF!)","v":{"$error":"#REF!"}},{"$f":" IF(#REF!=\"\", \"\",#REF!)","v":{"$error":"#REF!"}},{"$f":"IF(AW73=\"\", \"\", IF($L73=\"男\", VLOOKUP(AW73, データ!$B$2:$C$101, 2, FALSE), IF($L73=\"女\", VLOOKUP(AW73, データ!$F$2:$H$101, 2, FALSE), \"\")))","v":{"$error":"#REF!"}},{"$f":"IF(A73=\"\",\"\", IF(#REF!=\"\", \"\",#REF!))","v":{"$error":"#REF!"}},{"$f":" IF(#REF!=\"\", \"\",#REF!)","v":{"$error":"#REF!"}},{"$f":" IF(#REF!=\"\", \"\",#REF!)","v":{"$error":"#REF!"}},{"$f":" IF(#REF!=\"\", \"\",#REF!)","v":{"$error":"#REF!"}},{"$f":" IF(#REF!=\"\", \"\",#REF!)","v":{"$error":"#REF!"}},{"$error":"#REF!"}]
[{"$f":"#REF!","v":{"$error":"#REF!"}},{"$f":" IF(#REF!=\"\", \"\",#REF!)","v":{"$error":"#REF!"}},{"$f":" IF(#REF!=\"\", \"\",#REF!)","v":{"$error":"#REF!"}},{"$f":" IF(#REF!=\"\", \"\",#REF!)","v":{"$error":"#REF!"}},{"$error":"#REF!"},{"$error":"#REF!"},{"$error":"#REF!"},{"$error":"#REF!"},{"$f":" IF(#REF!=\"\", \"\",#REF!)","v":{"$error":"#REF!"}},{"$f":" IF(#REF!=\"\", \"\",#REF!)","v":{"$error":"#REF!"}},{"$f":" IF(#REF!=\"\", \"\",#REF!)","v":{"$error":"#REF!"}},{"$f":" IF(#REF!=\"\", \"\",#REF!)","v":{"$error":"#REF!"}},{"$f":" IF(#REF!=\"\", \"\",#REF!)","v":{"$error":"#REF!"}},{"$f":" IF(#REF!=\"\", \"\",#REF!)","v":{"$error":"#REF!"}},{"$f":" IF(#REF!=\"\", \"\",#REF!)","v":{"$error":"#REF!"}},{"$f":" IF(#REF!=\"\", \"\",#REF!)","v":{"$error":"#REF!"}},{"$f":"IF(A74=\"\",\"\",#REF!)","v":{"$error":"#REF!"}},{"$f":" IF(Q74=\"\", \"\",#REF!)","v":{"$error":"#REF!"}},{"$f":" IF(Q74=\"\", \"\",#REF!)","v":{"$error":"#REF!"}},{"$f":" IF(Q74=\"\", \"\",#REF!)","v":{"$error":"#REF!"}},{"$f":" IF(Q74=\"\", \"\",#REF!)","v":{"$error":"#REF!"}},{"$f":" IF(#REF!=\"\", \"\",#REF!)","v":{"$error":"#REF!"}},{"$f":" IF(#REF!=\"\", \"\",#REF!)","v":{"$error":"#REF!"}},{"$f":"IF(Y74=\"\", \"\", IF($L74=\"男\", VLOOKUP(Y74, データ!$B$2:$C$101, 2, FALSE), IF($L74=\"女\", VLOOKUP(Y74, データ!$F$2:$H$101, 2, FALSE), \"\")))","v":{"$error":"#REF!"}},{"$f":"IF(A74=\"\",\"\", IF(#REF!=\"\", \"\",#REF!))","v":{"$error":"#REF!"}},{"$f":" IF(#REF!=\"\", \"\",#REF!)","v":{"$error":"#REF!"}},{"$f":" IF(#REF!=\"\", \"\",#REF!)","v":{"$error":"#REF!"}},{"$f":" IF(#REF!=\"\", \"\",#REF!)","v":{"$error":"#REF!"}},{"$f":" IF(#REF!=\"\", \"\",#REF!)","v":{"$error":"#REF!"}},{"$f":"IF(AE74=\"\", \"\", IF($L74=\"男\", VLOOKUP(AE74, データ!$B$2:$C$101, 2, FALSE), IF($L74=\"女\", VLOOKUP(AE74, データ!$F$2:$H$101, 2, FALSE), \"\")))","v":{"$error":"#REF!"}},{"$f":"IF(A74=\"\",\"\", IF(#REF!=\"\", \"\",#REF!))","v":{"$error":"#REF!"}},{"$f":" IF(#REF!=\"\", \"\",#REF!)","v":{"$error":"#REF!"}},{"$f":" IF(#REF!=\"\", \"\",#REF!)","v":{"$error":"#REF!"}},{"$f":" IF(#REF!=\"\", \"\",#REF!)","v":{"$error":"#REF!"}},{"$f":" IF(#REF!=\"\", \"\",#REF!)","v":{"$error":"#REF!"}},{"$f":"IF(AK74=\"\", \"\", IF($L74=\"男\", VLOOKUP(AK74, データ!$B$2:$C$101, 2, FALSE), IF($L74=\"女\", VLOOKUP(AK74, データ!$F$2:$H$101, 2, FALSE), \"\")))","v":{"$error":"#REF!"}},{"$f":"IF(A74=\"\",\"\", IF(#REF!=\"\", \"\",#REF!))","v":{"$error":"#REF!"}},{"$f":" IF(#REF!=\"\", \"\",#REF!)","v":{"$error":"#REF!"}},{"$f":" IF(#REF!=\"\", \"\",#REF!)","v":{"$error":"#REF!"}},{"$f":" IF(#REF!=\"\", \"\",#REF!)","v":{"$error":"#REF!"}},{"$f":" IF(#REF!=\"\", \"\",#REF!)","v":{"$error":"#REF!"}},{"$f":"IF(AQ74=\"\", \"\", IF($L74=\"男\", VLOOKUP(AQ74, データ!$B$2:$C$101, 2, FALSE), IF($L74=\"女\", VLOOKUP(AQ74, データ!$F$2:$H$101, 2, FALSE), \"\")))","v":{"$error":"#REF!"}},{"$f":"IF(A74=\"\",\"\", IF(#REF!=\"\", \"\",#REF!))","v":{"$error":"#REF!"}},{"$f":" IF(#REF!=\"\", \"\",#REF!)","v":{"$error":"#REF!"}},{"$f":" IF(#REF!=\"\", \"\",#REF!)","v":{"$error":"#REF!"}},{"$f":" IF(#REF!=\"\", \"\",#REF!)","v":{"$error":"#REF!"}},{"$f":" IF(#REF!=\"\", \"\",#REF!)","v":{"$error":"#REF!"}},{"$f":"IF(AW74=\"\", \"\", IF($L74=\"男\", VLOOKUP(AW74, データ!$B$2:$C$101, 2, FALSE), IF($L74=\"女\", VLOOKUP(AW74, データ!$F$2:$H$101, 2, FALSE), \"\")))","v":{"$error":"#REF!"}},{"$f":"IF(A74=\"\",\"\", IF(#REF!=\"\", \"\",#REF!))","v":{"$error":"#REF!"}},{"$f":" IF(#REF!=\"\", \"\",#REF!)","v":{"$error":"#REF!"}},{"$f":" IF(#REF!=\"\", \"\",#REF!)","v":{"$error":"#REF!"}},{"$f":" IF(#REF!=\"\", \"\",#REF!)","v":{"$error":"#REF!"}},{"$f":" IF(#REF!=\"\", \"\",#REF!)","v":{"$error":"#REF!"}},{"$error":"#REF!"}]
[{"$f":"#REF!","v":{"$error":"#REF!"}},{"$f":" IF(#REF!=\"\", \"\",#REF!)","v":{"$error":"#REF!"}},{"$f":" IF(#REF!=\"\", \"\",#REF!)","v":{"$error":"#REF!"}},{"$f":" IF(#REF!=\"\", \"\",#REF!)","v":{"$error":"#REF!"}},{"$error":"#REF!"},{"$error":"#REF!"},{"$error":"#REF!"},{"$error":"#REF!"},{"$f":" IF(#REF!=\"\", \"\",#REF!)","v":{"$error":"#REF!"}},{"$f":" IF(#REF!=\"\", \"\",#REF!)","v":{"$error":"#REF!"}},{"$f":" IF(#REF!=\"\", \"\",#REF!)","v":{"$error":"#REF!"}},{"$f":" IF(#REF!=\"\", \"\",#REF!)","v":{"$error":"#REF!"}},{"$f":" IF(#REF!=\"\", \"\",#REF!)","v":{"$error":"#REF!"}},{"$f":" IF(#REF!=\"\", \"\",#REF!)","v":{"$error":"#REF!"}},{"$f":" IF(#REF!=\"\", \"\",#REF!)","v":{"$error":"#REF!"}},{"$f":" IF(#REF!=\"\", \"\",#REF!)","v":{"$error":"#REF!"}},{"$f":"IF(A75=\"\",\"\",#REF!)","v":{"$error":"#REF!"}},{"$f":" IF(Q75=\"\", \"\",#REF!)","v":{"$error":"#REF!"}},{"$f":" IF(Q75=\"\", \"\",#REF!)","v":{"$error":"#REF!"}},{"$f":" IF(Q75=\"\", \"\",#REF!)","v":{"$error":"#REF!"}},{"$f":" IF(Q75=\"\", \"\",#REF!)","v":{"$error":"#REF!"}},{"$f":" IF(#REF!=\"\", \"\",#REF!)","v":{"$error":"#REF!"}},{"$f":" IF(#REF!=\"\", \"\",#REF!)","v":{"$error":"#REF!"}},{"$f":"IF(Y75=\"\", \"\", IF($L75=\"男\", VLOOKUP(Y75, データ!$B$2:$C$101, 2, FALSE), IF($L75=\"女\", VLOOKUP(Y75, データ!$F$2:$H$101, 2, FALSE), \"\")))","v":{"$error":"#REF!"}},{"$f":"IF(A75=\"\",\"\", IF(#REF!=\"\", \"\",#REF!))","v":{"$error":"#REF!"}},{"$f":" IF(#REF!=\"\", \"\",#REF!)","v":{"$error":"#REF!"}},{"$f":" IF(#REF!=\"\", \"\",#REF!)","v":{"$error":"#REF!"}},{"$f":" IF(#REF!=\"\", \"\",#REF!)","v":{"$error":"#REF!"}},{"$f":" IF(#REF!=\"\", \"\",#REF!)","v":{"$error":"#REF!"}},{"$f":"IF(AE75=\"\", \"\", IF($L75=\"男\", VLOOKUP(AE75, データ!$B$2:$C$101, 2, FALSE), IF($L75=\"女\", VLOOKUP(AE75, データ!$F$2:$H$101, 2, FALSE), \"\")))","v":{"$error":"#REF!"}},{"$f":"IF(A75=\"\",\"\", IF(#REF!=\"\", \"\",#REF!))","v":{"$error":"#REF!"}},{"$f":" IF(#REF!=\"\", \"\",#REF!)","v":{"$error":"#REF!"}},{"$f":" IF(#REF!=\"\", \"\",#REF!)","v":{"$error":"#REF!"}},{"$f":" IF(#REF!=\"\", \"\",#REF!)","v":{"$error":"#REF!"}},{"$f":" IF(#REF!=\"\", \"\",#REF!)","v":{"$error":"#REF!"}},{"$f":"IF(AK75=\"\", \"\", IF($L75=\"男\", VLOOKUP(AK75, データ!$B$2:$C$101, 2, FALSE), IF($L75=\"女\", VLOOKUP(AK75, データ!$F$2:$H$101, 2, FALSE), \"\")))","v":{"$error":"#REF!"}},{"$f":"IF(A75=\"\",\"\", IF(#REF!=\"\", \"\",#REF!))","v":{"$error":"#REF!"}},{"$f":" IF(#REF!=\"\", \"\",#REF!)","v":{"$error":"#REF!"}},{"$f":" IF(#REF!=\"\", \"\",#REF!)","v":{"$error":"#REF!"}},{"$f":" IF(#REF!=\"\", \"\",#REF!)","v":{"$error":"#REF!"}},{"$f":" IF(#REF!=\"\", \"\",#REF!)","v":{"$error":"#REF!"}},{"$f":"IF(AQ75=\"\", \"\", IF($L75=\"男\", VLOOKUP(AQ75, データ!$B$2:$C$101, 2, FALSE), IF($L75=\"女\", VLOOKUP(AQ75, データ!$F$2:$H$101, 2, FALSE), \"\")))","v":{"$error":"#REF!"}},{"$f":"IF(A75=\"\",\"\", IF(#REF!=\"\", \"\",#REF!))","v":{"$error":"#REF!"}},{"$f":" IF(#REF!=\"\", \"\",#REF!)","v":{"$error":"#REF!"}},{"$f":" IF(#REF!=\"\", \"\",#REF!)","v":{"$error":"#REF!"}},{"$f":" IF(#REF!=\"\", \"\",#REF!)","v":{"$error":"#REF!"}},{"$f":" IF(#REF!=\"\", \"\",#REF!)","v":{"$error":"#REF!"}},{"$f":"IF(AW75=\"\", \"\", IF($L75=\"男\", VLOOKUP(AW75, データ!$B$2:$C$101, 2, FALSE), IF($L75=\"女\", VLOOKUP(AW75, データ!$F$2:$H$101, 2, FALSE), \"\")))","v":{"$error":"#REF!"}},{"$f":"IF(A75=\"\",\"\", IF(#REF!=\"\", \"\",#REF!))","v":{"$error":"#REF!"}},{"$f":" IF(#REF!=\"\", \"\",#REF!)","v":{"$error":"#REF!"}},{"$f":" IF(#REF!=\"\", \"\",#REF!)","v":{"$error":"#REF!"}},{"$f":" IF(#REF!=\"\", \"\",#REF!)","v":{"$error":"#REF!"}},{"$f":" IF(#REF!=\"\", \"\",#REF!)","v":{"$error":"#REF!"}},{"$error":"#REF!"}]
[{"$f":"#REF!","v":{"$error":"#REF!"}},{"$f":" IF(#REF!=\"\", \"\",#REF!)","v":{"$error":"#REF!"}},{"$f":" IF(#REF!=\"\", \"\",#REF!)","v":{"$error":"#REF!"}},{"$f":" IF(#REF!=\"\", \"\",#REF!)","v":{"$error":"#REF!"}},{"$error":"#REF!"},{"$error":"#REF!"},{"$error":"#REF!"},{"$error":"#REF!"},{"$f":" IF(#REF!=\"\", \"\",#REF!)","v":{"$error":"#REF!"}},{"$f":" IF(#REF!=\"\", \"\",#REF!)","v":{"$error":"#REF!"}},{"$f":" IF(#REF!=\"\", \"\",#REF!)","v":{"$error":"#REF!"}},{"$f":" IF(#REF!=\"\", \"\",#REF!)","v":{"$error":"#REF!"}},{"$f":" IF(#REF!=\"\", \"\",#REF!)","v":{"$error":"#REF!"}},{"$f":" IF(#REF!=\"\", \"\",#REF!)","v":{"$error":"#REF!"}},{"$f":" IF(#REF!=\"\", \"\",#REF!)","v":{"$error":"#REF!"}},{"$f":" IF(#REF!=\"\", \"\",#REF!)","v":{"$error":"#REF!"}},{"$f":"IF(A76=\"\",\"\",#REF!)","v":{"$error":"#REF!"}},{"$f":" IF(Q76=\"\", \"\",#REF!)","v":{"$error":"#REF!"}},{"$f":" IF(Q76=\"\", \"\",#REF!)","v":{"$error":"#REF!"}},{"$f":" IF(Q76=\"\", \"\",#REF!)","v":{"$error":"#REF!"}},{"$f":" IF(Q76=\"\", \"\",#REF!)","v":{"$error":"#REF!"}},{"$f":" IF(#REF!=\"\", \"\",#REF!)","v":{"$error":"#REF!"}},{"$f":" IF(#REF!=\"\", \"\",#REF!)","v":{"$error":"#REF!"}},{"$f":"IF(Y76=\"\", \"\", IF($L76=\"男\", VLOOKUP(Y76, データ!$B$2:$C$101, 2, FALSE), IF($L76=\"女\", VLOOKUP(Y76, データ!$F$2:$H$101, 2, FALSE), \"\")))","v":{"$error":"#REF!"}},{"$f":"IF(A76=\"\",\"\", IF(#REF!=\"\", \"\",#REF!))","v":{"$error":"#REF!"}},{"$f":" IF(#REF!=\"\", \"\",#REF!)","v":{"$error":"#REF!"}},{"$f":" IF(#REF!=\"\", \"\",#REF!)","v":{"$error":"#REF!"}},{"$f":" IF(#REF!=\"\", \"\",#REF!)","v":{"$error":"#REF!"}},{"$f":" IF(#REF!=\"\", \"\",#REF!)","v":{"$error":"#REF!"}},{"$f":"IF(AE76=\"\", \"\", IF($L76=\"男\", VLOOKUP(AE76, データ!$B$2:$C$101, 2, FALSE), IF($L76=\"女\", VLOOKUP(AE76, データ!$F$2:$H$101, 2, FALSE), \"\")))","v":{"$error":"#REF!"}},{"$f":"IF(A76=\"\",\"\", IF(#REF!=\"\", \"\",#REF!))","v":{"$error":"#REF!"}},{"$f":" IF(#REF!=\"\", \"\",#REF!)","v":{"$error":"#REF!"}},{"$f":" IF(#REF!=\"\", \"\",#REF!)","v":{"$error":"#REF!"}},{"$f":" IF(#REF!=\"\", \"\",#REF!)","v":{"$error":"#REF!"}},{"$f":" IF(#REF!=\"\", \"\",#REF!)","v":{"$error":"#REF!"}},{"$f":"IF(AK76=\"\", \"\", IF($L76=\"男\", VLOOKUP(AK76, データ!$B$2:$C$101, 2, FALSE), IF($L76=\"女\", VLOOKUP(AK76, データ!$F$2:$H$101, 2, FALSE), \"\")))","v":{"$error":"#REF!"}},{"$f":"IF(A76=\"\",\"\", IF(#REF!=\"\", \"\",#REF!))","v":{"$error":"#REF!"}},{"$f":" IF(#REF!=\"\", \"\",#REF!)","v":{"$error":"#REF!"}},{"$f":" IF(#REF!=\"\", \"\",#REF!)","v":{"$error":"#REF!"}},{"$f":" IF(#REF!=\"\", \"\",#REF!)","v":{"$error":"#REF!"}},{"$f":" IF(#REF!=\"\", \"\",#REF!)","v":{"$error":"#REF!"}},{"$f":"IF(AQ76=\"\", \"\", IF($L76=\"男\", VLOOKUP(AQ76, データ!$B$2:$C$101, 2, FALSE), IF($L76=\"女\", VLOOKUP(AQ76, データ!$F$2:$H$101, 2, FALSE), \"\")))","v":{"$error":"#REF!"}},{"$f":"IF(A76=\"\",\"\", IF(#REF!=\"\", \"\",#REF!))","v":{"$error":"#REF!"}},{"$f":" IF(#REF!=\"\", \"\",#REF!)","v":{"$error":"#REF!"}},{"$f":" IF(#REF!=\"\", \"\",#REF!)","v":{"$error":"#REF!"}},{"$f":" IF(#REF!=\"\", \"\",#REF!)","v":{"$error":"#REF!"}},{"$f":" IF(#REF!=\"\", \"\",#REF!)","v":{"$error":"#REF!"}},{"$f":"IF(AW76=\"\", \"\", IF($L76=\"男\", VLOOKUP(AW76, データ!$B$2:$C$101, 2, FALSE), IF($L76=\"女\", VLOOKUP(AW76, データ!$F$2:$H$101, 2, FALSE), \"\")))","v":{"$error":"#REF!"}},{"$f":"IF(A76=\"\",\"\", IF(#REF!=\"\", \"\",#REF!))","v":{"$error":"#REF!"}},{"$f":" IF(#REF!=\"\", \"\",#REF!)","v":{"$error":"#REF!"}},{"$f":" IF(#REF!=\"\", \"\",#REF!)","v":{"$error":"#REF!"}},{"$f":" IF(#REF!=\"\", \"\",#REF!)","v":{"$error":"#REF!"}},{"$f":" IF(#REF!=\"\", \"\",#REF!)","v":{"$error":"#REF!"}},{"$error":"#REF!"}]
[{"$f":"#REF!","v":{"$error":"#REF!"}},{"$f":" IF(#REF!=\"\", \"\",#REF!)","v":{"$error":"#REF!"}},{"$f":" IF(#REF!=\"\", \"\",#REF!)","v":{"$error":"#REF!"}},{"$f":" IF(#REF!=\"\", \"\",#REF!)","v":{"$error":"#REF!"}},{"$error":"#REF!"},{"$error":"#REF!"},{"$error":"#REF!"},{"$error":"#REF!"},{"$f":" IF(#REF!=\"\", \"\",#REF!)","v":{"$error":"#REF!"}},{"$f":" IF(#REF!=\"\", \"\",#REF!)","v":{"$error":"#REF!"}},{"$f":" IF(#REF!=\"\", \"\",#REF!)","v":{"$error":"#REF!"}},{"$f":" IF(#REF!=\"\", \"\",#REF!)","v":{"$error":"#REF!"}},{"$f":" IF(#REF!=\"\", \"\",#REF!)","v":{"$error":"#REF!"}},{"$f":" IF(#REF!=\"\", \"\",#REF!)","v":{"$error":"#REF!"}},{"$f":" IF(#REF!=\"\", \"\",#REF!)","v":{"$error":"#REF!"}},{"$f":" IF(#REF!=\"\", \"\",#REF!)","v":{"$error":"#REF!"}},{"$f":"IF(A77=\"\",\"\",#REF!)","v":{"$error":"#REF!"}},{"$f":" IF(Q77=\"\", \"\",#REF!)","v":{"$error":"#REF!"}},{"$f":" IF(Q77=\"\", \"\",#REF!)","v":{"$error":"#REF!"}},{"$f":" IF(Q77=\"\", \"\",#REF!)","v":{"$error":"#REF!"}},{"$f":" IF(Q77=\"\", \"\",#REF!)","v":{"$error":"#REF!"}},{"$f":" IF(#REF!=\"\", \"\",#REF!)","v":{"$error":"#REF!"}},{"$f":" IF(#REF!=\"\", \"\",#REF!)","v":{"$error":"#REF!"}},{"$f":"IF(Y77=\"\", \"\", IF($L77=\"男\", VLOOKUP(Y77, データ!$B$2:$C$101, 2, FALSE), IF($L77=\"女\", VLOOKUP(Y77, データ!$F$2:$H$101, 2, FALSE), \"\")))","v":{"$error":"#REF!"}},{"$f":"IF(A77=\"\",\"\", IF(#REF!=\"\", \"\",#REF!))","v":{"$error":"#REF!"}},{"$f":" IF(#REF!=\"\", \"\",#REF!)","v":{"$error":"#REF!"}},{"$f":" IF(#REF!=\"\", \"\",#REF!)","v":{"$error":"#REF!"}},{"$f":" IF(#REF!=\"\", \"\",#REF!)","v":{"$error":"#REF!"}},{"$f":" IF(#REF!=\"\", \"\",#REF!)","v":{"$error":"#REF!"}},{"$f":"IF(AE77=\"\", \"\", IF($L77=\"男\", VLOOKUP(AE77, データ!$B$2:$C$101, 2, FALSE), IF($L77=\"女\", VLOOKUP(AE77, データ!$F$2:$H$101, 2, FALSE), \"\")))","v":{"$error":"#REF!"}},{"$f":"IF(A77=\"\",\"\", IF(#REF!=\"\", \"\",#REF!))","v":{"$error":"#REF!"}},{"$f":" IF(#REF!=\"\", \"\",#REF!)","v":{"$error":"#REF!"}},{"$f":" IF(#REF!=\"\", \"\",#REF!)","v":{"$error":"#REF!"}},{"$f":" IF(#REF!=\"\", \"\",#REF!)","v":{"$error":"#REF!"}},{"$f":" IF(#REF!=\"\", \"\",#REF!)","v":{"$error":"#REF!"}},{"$f":"IF(AK77=\"\", \"\", IF($L77=\"男\", VLOOKUP(AK77, データ!$B$2:$C$101, 2, FALSE), IF($L77=\"女\", VLOOKUP(AK77, データ!$F$2:$H$101, 2, FALSE), \"\")))","v":{"$error":"#REF!"}},{"$f":"IF(A77=\"\",\"\", IF(#REF!=\"\", \"\",#REF!))","v":{"$error":"#REF!"}},{"$f":" IF(#REF!=\"\", \"\",#REF!)","v":{"$error":"#REF!"}},{"$f":" IF(#REF!=\"\", \"\",#REF!)","v":{"$error":"#REF!"}},{"$f":" IF(#REF!=\"\", \"\",#REF!)","v":{"$error":"#REF!"}},{"$f":" IF(#REF!=\"\", \"\",#REF!)","v":{"$error":"#REF!"}},{"$f":"IF(AQ77=\"\", \"\", IF($L77=\"男\", VLOOKUP(AQ77, データ!$B$2:$C$101, 2, FALSE), IF($L77=\"女\", VLOOKUP(AQ77, データ!$F$2:$H$101, 2, FALSE), \"\")))","v":{"$error":"#REF!"}},{"$f":"IF(A77=\"\",\"\", IF(#REF!=\"\", \"\",#REF!))","v":{"$error":"#REF!"}},{"$f":" IF(#REF!=\"\", \"\",#REF!)","v":{"$error":"#REF!"}},{"$f":" IF(#REF!=\"\", \"\",#REF!)","v":{"$error":"#REF!"}},{"$f":" IF(#REF!=\"\", \"\",#REF!)","v":{"$error":"#REF!"}},{"$f":" IF(#REF!=\"\", \"\",#REF!)","v":{"$error":"#REF!"}},{"$f":"IF(AW77=\"\", \"\", IF($L77=\"男\", VLOOKUP(AW77, データ!$B$2:$C$101, 2, FALSE), IF($L77=\"女\", VLOOKUP(AW77, データ!$F$2:$H$101, 2, FALSE), \"\")))","v":{"$error":"#REF!"}},{"$f":"IF(A77=\"\",\"\", IF(#REF!=\"\", \"\",#REF!))","v":{"$error":"#REF!"}},{"$f":" IF(#REF!=\"\", \"\",#REF!)","v":{"$error":"#REF!"}},{"$f":" IF(#REF!=\"\", \"\",#REF!)","v":{"$error":"#REF!"}},{"$f":" IF(#REF!=\"\", \"\",#REF!)","v":{"$error":"#REF!"}},{"$f":" IF(#REF!=\"\", \"\",#REF!)","v":{"$error":"#REF!"}},{"$error":"#REF!"}]
[{"$f":"#REF!","v":{"$error":"#REF!"}},{"$f":" IF(#REF!=\"\", \"\",#REF!)","v":{"$error":"#REF!"}},{"$f":" IF(#REF!=\"\", \"\",#REF!)","v":{"$error":"#REF!"}},{"$f":" IF(#REF!=\"\", \"\",#REF!)","v":{"$error":"#REF!"}},{"$error":"#REF!"},{"$error":"#REF!"},{"$error":"#REF!"},{"$error":"#REF!"},{"$f":" IF(#REF!=\"\", \"\",#REF!)","v":{"$error":"#REF!"}},{"$f":" IF(#REF!=\"\", \"\",#REF!)","v":{"$error":"#REF!"}},{"$f":" IF(#REF!=\"\", \"\",#REF!)","v":{"$error":"#REF!"}},{"$f":" IF(#REF!=\"\", \"\",#REF!)","v":{"$error":"#REF!"}},{"$f":" IF(#REF!=\"\", \"\",#REF!)","v":{"$error":"#REF!"}},{"$f":" IF(#REF!=\"\", \"\",#REF!)","v":{"$error":"#REF!"}},{"$f":" IF(#REF!=\"\", \"\",#REF!)","v":{"$error":"#REF!"}},{"$f":" IF(#REF!=\"\", \"\",#REF!)","v":{"$error":"#REF!"}},{"$f":"IF(A78=\"\",\"\",#REF!)","v":{"$error":"#REF!"}},{"$f":" IF(Q78=\"\", \"\",#REF!)","v":{"$error":"#REF!"}},{"$f":" IF(Q78=\"\", \"\",#REF!)","v":{"$error":"#REF!"}},{"$f":" IF(Q78=\"\", \"\",#REF!)","v":{"$error":"#REF!"}},{"$f":" IF(Q78=\"\", \"\",#REF!)","v":{"$error":"#REF!"}},{"$f":" IF(#REF!=\"\", \"\",#REF!)","v":{"$error":"#REF!"}},{"$f":" IF(#REF!=\"\", \"\",#REF!)","v":{"$error":"#REF!"}},{"$f":"IF(Y78=\"\", \"\", IF($L78=\"男\", VLOOKUP(Y78, データ!$B$2:$C$101, 2, FALSE), IF($L78=\"女\", VLOOKUP(Y78, データ!$F$2:$H$101, 2, FALSE), \"\")))","v":{"$error":"#REF!"}},{"$f":"IF(A78=\"\",\"\", IF(#REF!=\"\", \"\",#REF!))","v":{"$error":"#REF!"}},{"$f":" IF(#REF!=\"\", \"\",#REF!)","v":{"$error":"#REF!"}},{"$f":" IF(#REF!=\"\", \"\",#REF!)","v":{"$error":"#REF!"}},{"$f":" IF(#REF!=\"\", \"\",#REF!)","v":{"$error":"#REF!"}},{"$f":" IF(#REF!=\"\", \"\",#REF!)","v":{"$error":"#REF!"}},{"$f":"IF(AE78=\"\", \"\", IF($L78=\"男\", VLOOKUP(AE78, データ!$B$2:$C$101, 2, FALSE), IF($L78=\"女\", VLOOKUP(AE78, データ!$F$2:$H$101, 2, FALSE), \"\")))","v":{"$error":"#REF!"}},{"$f":"IF(A78=\"\",\"\", IF(#REF!=\"\", \"\",#REF!))","v":{"$error":"#REF!"}},{"$f":" IF(#REF!=\"\", \"\",#REF!)","v":{"$error":"#REF!"}},{"$f":" IF(#REF!=\"\", \"\",#REF!)","v":{"$error":"#REF!"}},{"$f":" IF(#REF!=\"\", \"\",#REF!)","v":{"$error":"#REF!"}},{"$f":" IF(#REF!=\"\", \"\",#REF!)","v":{"$error":"#REF!"}},{"$f":"IF(AK78=\"\", \"\", IF($L78=\"男\", VLOOKUP(AK78, データ!$B$2:$C$101, 2, FALSE), IF($L78=\"女\", VLOOKUP(AK78, データ!$F$2:$H$101, 2, FALSE), \"\")))","v":{"$error":"#REF!"}},{"$f":"IF(A78=\"\",\"\", IF(#REF!=\"\", \"\",#REF!))","v":{"$error":"#REF!"}},{"$f":" IF(#REF!=\"\", \"\",#REF!)","v":{"$error":"#REF!"}},{"$f":" IF(#REF!=\"\", \"\",#REF!)","v":{"$error":"#REF!"}},{"$f":" IF(#REF!=\"\", \"\",#REF!)","v":{"$error":"#REF!"}},{"$f":" IF(#REF!=\"\", \"\",#REF!)","v":{"$error":"#REF!"}},{"$f":"IF(AQ78=\"\", \"\", IF($L78=\"男\", VLOOKUP(AQ78, データ!$B$2:$C$101, 2, FALSE), IF($L78=\"女\", VLOOKUP(AQ78, データ!$F$2:$H$101, 2, FALSE), \"\")))","v":{"$error":"#REF!"}},{"$f":"IF(A78=\"\",\"\", IF(#REF!=\"\", \"\",#REF!))","v":{"$error":"#REF!"}},{"$f":" IF(#REF!=\"\", \"\",#REF!)","v":{"$error":"#REF!"}},{"$f":" IF(#REF!=\"\", \"\",#REF!)","v":{"$error":"#REF!"}},{"$f":" IF(#REF!=\"\", \"\",#REF!)","v":{"$error":"#REF!"}},{"$f":" IF(#REF!=\"\", \"\",#REF!)","v":{"$error":"#REF!"}},{"$f":"IF(AW78=\"\", \"\", IF($L78=\"男\", VLOOKUP(AW78, データ!$B$2:$C$101, 2, FALSE), IF($L78=\"女\", VLOOKUP(AW78, データ!$F$2:$H$101, 2, FALSE), \"\")))","v":{"$error":"#REF!"}},{"$f":"IF(A78=\"\",\"\", IF(#REF!=\"\", \"\",#REF!))","v":{"$error":"#REF!"}},{"$f":" IF(#REF!=\"\", \"\",#REF!)","v":{"$error":"#REF!"}},{"$f":" IF(#REF!=\"\", \"\",#REF!)","v":{"$error":"#REF!"}},{"$f":" IF(#REF!=\"\", \"\",#REF!)","v":{"$error":"#REF!"}},{"$f":" IF(#REF!=\"\", \"\",#REF!)","v":{"$error":"#REF!"}},{"$error":"#REF!"}]
[{"$f":"#REF!","v":{"$error":"#REF!"}},{"$f":" IF(#REF!=\"\", \"\",#REF!)","v":{"$error":"#REF!"}},{"$f":" IF(#REF!=\"\", \"\",#REF!)","v":{"$error":"#REF!"}},{"$f":" IF(#REF!=\"\", \"\",#REF!)","v":{"$error":"#REF!"}},{"$error":"#REF!"},{"$error":"#REF!"},{"$error":"#REF!"},{"$error":"#REF!"},{"$f":" IF(#REF!=\"\", \"\",#REF!)","v":{"$error":"#REF!"}},{"$f":" IF(#REF!=\"\", \"\",#REF!)","v":{"$error":"#REF!"}},{"$f":" IF(#REF!=\"\", \"\",#REF!)","v":{"$error":"#REF!"}},{"$f":" IF(#REF!=\"\", \"\",#REF!)","v":{"$error":"#REF!"}},{"$f":" IF(#REF!=\"\", \"\",#REF!)","v":{"$error":"#REF!"}},{"$f":" IF(#REF!=\"\", \"\",#REF!)","v":{"$error":"#REF!"}},{"$f":" IF(#REF!=\"\", \"\",#REF!)","v":{"$error":"#REF!"}},{"$f":" IF(#REF!=\"\", \"\",#REF!)","v":{"$error":"#REF!"}},{"$f":"IF(A79=\"\",\"\",#REF!)","v":{"$error":"#REF!"}},{"$f":" IF(Q79=\"\", \"\",#REF!)","v":{"$error":"#REF!"}},{"$f":" IF(Q79=\"\", \"\",#REF!)","v":{"$error":"#REF!"}},{"$f":" IF(Q79=\"\", \"\",#REF!)","v":{"$error":"#REF!"}},{"$f":" IF(Q79=\"\", \"\",#REF!)","v":{"$error":"#REF!"}},{"$f":" IF(#REF!=\"\", \"\",#REF!)","v":{"$error":"#REF!"}},{"$f":" IF(#REF!=\"\", \"\",#REF!)","v":{"$error":"#REF!"}},{"$f":"IF(Y79=\"\", \"\", IF($L79=\"男\", VLOOKUP(Y79, データ!$B$2:$C$101, 2, FALSE), IF($L79=\"女\", VLOOKUP(Y79, データ!$F$2:$H$101, 2, FALSE), \"\")))","v":{"$error":"#REF!"}},{"$f":"IF(A79=\"\",\"\", IF(#REF!=\"\", \"\",#REF!))","v":{"$error":"#REF!"}},{"$f":" IF(#REF!=\"\", \"\",#REF!)","v":{"$error":"#REF!"}},{"$f":" IF(#REF!=\"\", \"\",#REF!)","v":{"$error":"#REF!"}},{"$f":" IF(#REF!=\"\", \"\",#REF!)","v":{"$error":"#REF!"}},{"$f":" IF(#REF!=\"\", \"\",#REF!)","v":{"$error":"#REF!"}},{"$f":"IF(AE79=\"\", \"\", IF($L79=\"男\", VLOOKUP(AE79, データ!$B$2:$C$101, 2, FALSE), IF($L79=\"女\", VLOOKUP(AE79, データ!$F$2:$H$101, 2, FALSE), \"\")))","v":{"$error":"#REF!"}},{"$f":"IF(A79=\"\",\"\", IF(#REF!=\"\", \"\",#REF!))","v":{"$error":"#REF!"}},{"$f":" IF(#REF!=\"\", \"\",#REF!)","v":{"$error":"#REF!"}},{"$f":" IF(#REF!=\"\", \"\",#REF!)","v":{"$error":"#REF!"}},{"$f":" IF(#REF!=\"\", \"\",#REF!)","v":{"$error":"#REF!"}},{"$f":" IF(#REF!=\"\", \"\",#REF!)","v":{"$error":"#REF!"}},{"$f":"IF(AK79=\"\", \"\", IF($L79=\"男\", VLOOKUP(AK79, データ!$B$2:$C$101, 2, FALSE), IF($L79=\"女\", VLOOKUP(AK79, データ!$F$2:$H$101, 2, FALSE), \"\")))","v":{"$error":"#REF!"}},{"$f":"IF(A79=\"\",\"\", IF(#REF!=\"\", \"\",#REF!))","v":{"$error":"#REF!"}},{"$f":" IF(#REF!=\"\", \"\",#REF!)","v":{"$error":"#REF!"}},{"$f":" IF(#REF!=\"\", \"\",#REF!)","v":{"$error":"#REF!"}},{"$f":" IF(#REF!=\"\", \"\",#REF!)","v":{"$error":"#REF!"}},{"$f":" IF(#REF!=\"\", \"\",#REF!)","v":{"$error":"#REF!"}},{"$f":"IF(AQ79=\"\", \"\", IF($L79=\"男\", VLOOKUP(AQ79, データ!$B$2:$C$101, 2, FALSE), IF($L79=\"女\", VLOOKUP(AQ79, データ!$F$2:$H$101, 2, FALSE), \"\")))","v":{"$error":"#REF!"}},{"$f":"IF(A79=\"\",\"\", IF(#REF!=\"\", \"\",#REF!))","v":{"$error":"#REF!"}},{"$f":" IF(#REF!=\"\", \"\",#REF!)","v":{"$error":"#REF!"}},{"$f":" IF(#REF!=\"\", \"\",#REF!)","v":{"$error":"#REF!"}},{"$f":" IF(#REF!=\"\", \"\",#REF!)","v":{"$error":"#REF!"}},{"$f":" IF(#REF!=\"\", \"\",#REF!)","v":{"$error":"#REF!"}},{"$f":"IF(AW79=\"\", \"\", IF($L79=\"男\", VLOOKUP(AW79, データ!$B$2:$C$101, 2, FALSE), IF($L79=\"女\", VLOOKUP(AW79, データ!$F$2:$H$101, 2, FALSE), \"\")))","v":{"$error":"#REF!"}},{"$f":"IF(A79=\"\",\"\", IF(#REF!=\"\", \"\",#REF!))","v":{"$error":"#REF!"}},{"$f":" IF(#REF!=\"\", \"\",#REF!)","v":{"$error":"#REF!"}},{"$f":" IF(#REF!=\"\", \"\",#REF!)","v":{"$error":"#REF!"}},{"$f":" IF(#REF!=\"\", \"\",#REF!)","v":{"$error":"#REF!"}},{"$f":" IF(#REF!=\"\", \"\",#REF!)","v":{"$error":"#REF!"}},{"$error":"#REF!"}]
[{"$f":"#REF!","v":{"$error":"#REF!"}},{"$f":" IF(#REF!=\"\", \"\",#REF!)","v":{"$error":"#REF!"}},{"$f":" IF(#REF!=\"\", \"\",#REF!)","v":{"$error":"#REF!"}},{"$f":" IF(#REF!=\"\", \"\",#REF!)","v":{"$error":"#REF!"}},{"$error":"#REF!"},{"$error":"#REF!"},{"$error":"#REF!"},{"$error":"#REF!"},{"$f":" IF(#REF!=\"\", \"\",#REF!)","v":{"$error":"#REF!"}},{"$f":" IF(#REF!=\"\", \"\",#REF!)","v":{"$error":"#REF!"}},{"$f":" IF(#REF!=\"\", \"\",#REF!)","v":{"$error":"#REF!"}},{"$f":" IF(#REF!=\"\", \"\",#REF!)","v":{"$error":"#REF!"}},{"$f":" IF(#REF!=\"\", \"\",#REF!)","v":{"$error":"#REF!"}},{"$f":" IF(#REF!=\"\", \"\",#REF!)","v":{"$error":"#REF!"}},{"$f":" IF(#REF!=\"\", \"\",#REF!)","v":{"$error":"#REF!"}},{"$f":" IF(#REF!=\"\", \"\",#REF!)","v":{"$error":"#REF!"}},{"$f":"IF(A80=\"\",\"\",#REF!)","v":{"$error":"#REF!"}},{"$f":" IF(Q80=\"\", \"\",#REF!)","v":{"$error":"#REF!"}},{"$f":" IF(Q80=\"\", \"\",#REF!)","v":{"$error":"#REF!"}},{"$f":" IF(Q80=\"\", \"\",#REF!)","v":{"$error":"#REF!"}},{"$f":" IF(Q80=\"\", \"\",#REF!)","v":{"$error":"#REF!"}},{"$f":" IF(#REF!=\"\", \"\",#REF!)","v":{"$error":"#REF!"}},{"$f":" IF(#REF!=\"\", \"\",#REF!)","v":{"$error":"#REF!"}},{"$f":"IF(Y80=\"\", \"\", IF($L80=\"男\", VLOOKUP(Y80, データ!$B$2:$C$101, 2, FALSE), IF($L80=\"女\", VLOOKUP(Y80, データ!$F$2:$H$101, 2, FALSE), \"\")))","v":{"$error":"#REF!"}},{"$f":"IF(A80=\"\",\"\", IF(#REF!=\"\", \"\",#REF!))","v":{"$error":"#REF!"}},{"$f":" IF(#REF!=\"\", \"\",#REF!)","v":{"$error":"#REF!"}},{"$f":" IF(#REF!=\"\", \"\",#REF!)","v":{"$error":"#REF!"}},{"$f":" IF(#REF!=\"\", \"\",#REF!)","v":{"$error":"#REF!"}},{"$f":" IF(#REF!=\"\", \"\",#REF!)","v":{"$error":"#REF!"}},{"$f":"IF(AE80=\"\", \"\", IF($L80=\"男\", VLOOKUP(AE80, データ!$B$2:$C$101, 2, FALSE), IF($L80=\"女\", VLOOKUP(AE80, データ!$F$2:$H$101, 2, FALSE), \"\")))","v":{"$error":"#REF!"}},{"$f":"IF(A80=\"\",\"\", IF(#REF!=\"\", \"\",#REF!))","v":{"$error":"#REF!"}},{"$f":" IF(#REF!=\"\", \"\",#REF!)","v":{"$error":"#REF!"}},{"$f":" IF(#REF!=\"\", \"\",#REF!)","v":{"$error":"#REF!"}},{"$f":" IF(#REF!=\"\", \"\",#REF!)","v":{"$error":"#REF!"}},{"$f":" IF(#REF!=\"\", \"\",#REF!)","v":{"$error":"#REF!"}},{"$f":"IF(AK80=\"\", \"\", IF($L80=\"男\", VLOOKUP(AK80, データ!$B$2:$C$101, 2, FALSE), IF($L80=\"女\", VLOOKUP(AK80, データ!$F$2:$H$101, 2, FALSE), \"\")))","v":{"$error":"#REF!"}},{"$f":"IF(A80=\"\",\"\", IF(#REF!=\"\", \"\",#REF!))","v":{"$error":"#REF!"}},{"$f":" IF(#REF!=\"\", \"\",#REF!)","v":{"$error":"#REF!"}},{"$f":" IF(#REF!=\"\", \"\",#REF!)","v":{"$error":"#REF!"}},{"$f":" IF(#REF!=\"\", \"\",#REF!)","v":{"$error":"#REF!"}},{"$f":" IF(#REF!=\"\", \"\",#REF!)","v":{"$error":"#REF!"}},{"$f":"IF(AQ80=\"\", \"\", IF($L80=\"男\", VLOOKUP(AQ80, データ!$B$2:$C$101, 2, FALSE), IF($L80=\"女\", VLOOKUP(AQ80, データ!$F$2:$H$101, 2, FALSE), \"\")))","v":{"$error":"#REF!"}},{"$f":"IF(A80=\"\",\"\", IF(#REF!=\"\", \"\",#REF!))","v":{"$error":"#REF!"}},{"$f":" IF(#REF!=\"\", \"\",#REF!)","v":{"$error":"#REF!"}},{"$f":" IF(#REF!=\"\", \"\",#REF!)","v":{"$error":"#REF!"}},{"$f":" IF(#REF!=\"\", \"\",#REF!)","v":{"$error":"#REF!"}},{"$f":" IF(#REF!=\"\", \"\",#REF!)","v":{"$error":"#REF!"}},{"$f":"IF(AW80=\"\", \"\", IF($L80=\"男\", VLOOKUP(AW80, データ!$B$2:$C$101, 2, FALSE), IF($L80=\"女\", VLOOKUP(AW80, データ!$F$2:$H$101, 2, FALSE), \"\")))","v":{"$error":"#REF!"}},{"$f":"IF(A80=\"\",\"\", IF(#REF!=\"\", \"\",#REF!))","v":{"$error":"#REF!"}},{"$f":" IF(#REF!=\"\", \"\",#REF!)","v":{"$error":"#REF!"}},{"$f":" IF(#REF!=\"\", \"\",#REF!)","v":{"$error":"#REF!"}},{"$f":" IF(#REF!=\"\", \"\",#REF!)","v":{"$error":"#REF!"}},{"$f":" IF(#REF!=\"\", \"\",#REF!)","v":{"$error":"#REF!"}},{"$error":"#REF!"}]
[{"$f":"#REF!","v":{"$error":"#REF!"}},{"$f":" IF(#REF!=\"\", \"\",#REF!)","v":{"$error":"#REF!"}},{"$f":" IF(#REF!=\"\", \"\",#REF!)","v":{"$error":"#REF!"}},{"$f":" IF(#REF!=\"\", \"\",#REF!)","v":{"$error":"#REF!"}},{"$error":"#REF!"},{"$error":"#REF!"},{"$error":"#REF!"},{"$error":"#REF!"},{"$f":" IF(#REF!=\"\", \"\",#REF!)","v":{"$error":"#REF!"}},{"$f":" IF(#REF!=\"\", \"\",#REF!)","v":{"$error":"#REF!"}},{"$f":" IF(#REF!=\"\", \"\",#REF!)","v":{"$error":"#REF!"}},{"$f":" IF(#REF!=\"\", \"\",#REF!)","v":{"$error":"#REF!"}},{"$f":" IF(#REF!=\"\", \"\",#REF!)","v":{"$error":"#REF!"}},{"$f":" IF(#REF!=\"\", \"\",#REF!)","v":{"$error":"#REF!"}},{"$f":" IF(#REF!=\"\", \"\",#REF!)","v":{"$error":"#REF!"}},{"$f":" IF(#REF!=\"\", \"\",#REF!)","v":{"$error":"#REF!"}},{"$f":"IF(A81=\"\",\"\",#REF!)","v":{"$error":"#REF!"}},{"$f":" IF(Q81=\"\", \"\",#REF!)","v":{"$error":"#REF!"}},{"$f":" IF(Q81=\"\", \"\",#REF!)","v":{"$error":"#REF!"}},{"$f":" IF(Q81=\"\", \"\",#REF!)","v":{"$error":"#REF!"}},{"$f":" IF(Q81=\"\", \"\",#REF!)","v":{"$error":"#REF!"}},{"$f":" IF(#REF!=\"\", \"\",#REF!)","v":{"$error":"#REF!"}},{"$f":" IF(#REF!=\"\", \"\",#REF!)","v":{"$error":"#REF!"}},{"$f":"IF(Y81=\"\", \"\", IF($L81=\"男\", VLOOKUP(Y81, データ!$B$2:$C$101, 2, FALSE), IF($L81=\"女\", VLOOKUP(Y81, データ!$F$2:$H$101, 2, FALSE), \"\")))","v":{"$error":"#REF!"}},{"$f":"IF(A81=\"\",\"\", IF(#REF!=\"\", \"\",#REF!))","v":{"$error":"#REF!"}},{"$f":" IF(#REF!=\"\", \"\",#REF!)","v":{"$error":"#REF!"}},{"$f":" IF(#REF!=\"\", \"\",#REF!)","v":{"$error":"#REF!"}},{"$f":" IF(#REF!=\"\", \"\",#REF!)","v":{"$error":"#REF!"}},{"$f":" IF(#REF!=\"\", \"\",#REF!)","v":{"$error":"#REF!"}},{"$f":"IF(AE81=\"\", \"\", IF($L81=\"男\", VLOOKUP(AE81, データ!$B$2:$C$101, 2, FALSE), IF($L81=\"女\", VLOOKUP(AE81, データ!$F$2:$H$101, 2, FALSE), \"\")))","v":{"$error":"#REF!"}},{"$f":"IF(A81=\"\",\"\", IF(#REF!=\"\", \"\",#REF!))","v":{"$error":"#REF!"}},{"$f":" IF(#REF!=\"\", \"\",#REF!)","v":{"$error":"#REF!"}},{"$f":" IF(#REF!=\"\", \"\",#REF!)","v":{"$error":"#REF!"}},{"$f":" IF(#REF!=\"\", \"\",#REF!)","v":{"$error":"#REF!"}},{"$f":" IF(#REF!=\"\", \"\",#REF!)","v":{"$error":"#REF!"}},{"$f":"IF(AK81=\"\", \"\", IF($L81=\"男\", VLOOKUP(AK81, データ!$B$2:$C$101, 2, FALSE), IF($L81=\"女\", VLOOKUP(AK81, データ!$F$2:$H$101, 2, FALSE), \"\")))","v":{"$error":"#REF!"}},{"$f":"IF(A81=\"\",\"\", IF(#REF!=\"\", \"\",#REF!))","v":{"$error":"#REF!"}},{"$f":" IF(#REF!=\"\", \"\",#REF!)","v":{"$error":"#REF!"}},{"$f":" IF(#REF!=\"\", \"\",#REF!)","v":{"$error":"#REF!"}},{"$f":" IF(#REF!=\"\", \"\",#REF!)","v":{"$error":"#REF!"}},{"$f":" IF(#REF!=\"\", \"\",#REF!)","v":{"$error":"#REF!"}},{"$f":"IF(AQ81=\"\", \"\", IF($L81=\"男\", VLOOKUP(AQ81, データ!$B$2:$C$101, 2, FALSE), IF($L81=\"女\", VLOOKUP(AQ81, データ!$F$2:$H$101, 2, FALSE), \"\")))","v":{"$error":"#REF!"}},{"$f":"IF(A81=\"\",\"\", IF(#REF!=\"\", \"\",#REF!))","v":{"$error":"#REF!"}},{"$f":" IF(#REF!=\"\", \"\",#REF!)","v":{"$error":"#REF!"}},{"$f":" IF(#REF!=\"\", \"\",#REF!)","v":{"$error":"#REF!"}},{"$f":" IF(#REF!=\"\", \"\",#REF!)","v":{"$error":"#REF!"}},{"$f":" IF(#REF!=\"\", \"\",#REF!)","v":{"$error":"#REF!"}},{"$f":"IF(AW81=\"\", \"\", IF($L81=\"男\", VLOOKUP(AW81, データ!$B$2:$C$101, 2, FALSE), IF($L81=\"女\", VLOOKUP(AW81, データ!$F$2:$H$101, 2, FALSE), \"\")))","v":{"$error":"#REF!"}},{"$f":"IF(A81=\"\",\"\", IF(#REF!=\"\", \"\",#REF!))","v":{"$error":"#REF!"}},{"$f":" IF(#REF!=\"\", \"\",#REF!)","v":{"$error":"#REF!"}},{"$f":" IF(#REF!=\"\", \"\",#REF!)","v":{"$error":"#REF!"}},{"$f":" IF(#REF!=\"\", \"\",#REF!)","v":{"$error":"#REF!"}},{"$f":" IF(#REF!=\"\", \"\",#REF!)","v":{"$error":"#REF!"}},{"$error":"#REF!"}]
[{"$f":"#REF!","v":{"$error":"#REF!"}},{"$f":" IF(#REF!=\"\", \"\",#REF!)","v":{"$error":"#REF!"}},{"$f":" IF(#REF!=\"\", \"\",#REF!)","v":{"$error":"#REF!"}},{"$f":" IF(#REF!=\"\", \"\",#REF!)","v":{"$error":"#REF!"}},{"$error":"#REF!"},{"$error":"#REF!"},{"$error":"#REF!"},{"$error":"#REF!"},{"$f":" IF(#REF!=\"\", \"\",#REF!)","v":{"$error":"#REF!"}},{"$f":" IF(#REF!=\"\", \"\",#REF!)","v":{"$error":"#REF!"}},{"$f":" IF(#REF!=\"\", \"\",#REF!)","v":{"$error":"#REF!"}},{"$f":" IF(#REF!=\"\", \"\",#REF!)","v":{"$error":"#REF!"}},{"$f":" IF(#REF!=\"\", \"\",#REF!)","v":{"$error":"#REF!"}},{"$f":" IF(#REF!=\"\", \"\",#REF!)","v":{"$error":"#REF!"}},{"$f":" IF(#REF!=\"\", \"\",#REF!)","v":{"$error":"#REF!"}},{"$f":" IF(#REF!=\"\", \"\",#REF!)","v":{"$error":"#REF!"}},{"$f":"IF(A82=\"\",\"\",#REF!)","v":{"$error":"#REF!"}},{"$f":" IF(Q82=\"\", \"\",#REF!)","v":{"$error":"#REF!"}},{"$f":" IF(Q82=\"\", \"\",#REF!)","v":{"$error":"#REF!"}},{"$f":" IF(Q82=\"\", \"\",#REF!)","v":{"$error":"#REF!"}},{"$f":" IF(Q82=\"\", \"\",#REF!)","v":{"$error":"#REF!"}},{"$f":" IF(#REF!=\"\", \"\",#REF!)","v":{"$error":"#REF!"}},{"$f":" IF(#REF!=\"\", \"\",#REF!)","v":{"$error":"#REF!"}},{"$f":"IF(Y82=\"\", \"\", IF($L82=\"男\", VLOOKUP(Y82, データ!$B$2:$C$101, 2, FALSE), IF($L82=\"女\", VLOOKUP(Y82, データ!$F$2:$H$101, 2, FALSE), \"\")))","v":{"$error":"#REF!"}},{"$f":"IF(A82=\"\",\"\", IF(#REF!=\"\", \"\",#REF!))","v":{"$error":"#REF!"}},{"$f":" IF(#REF!=\"\", \"\",#REF!)","v":{"$error":"#REF!"}},{"$f":" IF(#REF!=\"\", \"\",#REF!)","v":{"$error":"#REF!"}},{"$f":" IF(#REF!=\"\", \"\",#REF!)","v":{"$error":"#REF!"}},{"$f":" IF(#REF!=\"\", \"\",#REF!)","v":{"$error":"#REF!"}},{"$f":"IF(AE82=\"\", \"\", IF($L82=\"男\", VLOOKUP(AE82, データ!$B$2:$C$101, 2, FALSE), IF($L82=\"女\", VLOOKUP(AE82, データ!$F$2:$H$101, 2, FALSE), \"\")))","v":{"$error":"#REF!"}},{"$f":"IF(A82=\"\",\"\", IF(#REF!=\"\", \"\",#REF!))","v":{"$error":"#REF!"}},{"$f":" IF(#REF!=\"\", \"\",#REF!)","v":{"$error":"#REF!"}},{"$f":" IF(#REF!=\"\", \"\",#REF!)","v":{"$error":"#REF!"}},{"$f":" IF(#REF!=\"\", \"\",#REF!)","v":{"$error":"#REF!"}},{"$f":" IF(#REF!=\"\", \"\",#REF!)","v":{"$error":"#REF!"}},{"$f":"IF(AK82=\"\", \"\", IF($L82=\"男\", VLOOKUP(AK82, データ!$B$2:$C$101, 2, FALSE), IF($L82=\"女\", VLOOKUP(AK82, データ!$F$2:$H$101, 2, FALSE), \"\")))","v":{"$error":"#REF!"}},{"$f":"IF(A82=\"\",\"\", IF(#REF!=\"\", \"\",#REF!))","v":{"$error":"#REF!"}},{"$f":" IF(#REF!=\"\", \"\",#REF!)","v":{"$error":"#REF!"}},{"$f":" IF(#REF!=\"\", \"\",#REF!)","v":{"$error":"#REF!"}},{"$f":" IF(#REF!=\"\", \"\",#REF!)","v":{"$error":"#REF!"}},{"$f":" IF(#REF!=\"\", \"\",#REF!)","v":{"$error":"#REF!"}},{"$f":"IF(AQ82=\"\", \"\", IF($L82=\"男\", VLOOKUP(AQ82, データ!$B$2:$C$101, 2, FALSE), IF($L82=\"女\", VLOOKUP(AQ82, データ!$F$2:$H$101, 2, FALSE), \"\")))","v":{"$error":"#REF!"}},{"$f":"IF(A82=\"\",\"\", IF(#REF!=\"\", \"\",#REF!))","v":{"$error":"#REF!"}},{"$f":" IF(#REF!=\"\", \"\",#REF!)","v":{"$error":"#REF!"}},{"$f":" IF(#REF!=\"\", \"\",#REF!)","v":{"$error":"#REF!"}},{"$f":" IF(#REF!=\"\", \"\",#REF!)","v":{"$error":"#REF!"}},{"$f":" IF(#REF!=\"\", \"\",#REF!)","v":{"$error":"#REF!"}},{"$f":"IF(AW82=\"\", \"\", IF($L82=\"男\", VLOOKUP(AW82, データ!$B$2:$C$101, 2, FALSE), IF($L82=\"女\", VLOOKUP(AW82, データ!$F$2:$H$101, 2, FALSE), \"\")))","v":{"$error":"#REF!"}},{"$f":"IF(A82=\"\",\"\", IF(#REF!=\"\", \"\",#REF!))","v":{"$error":"#REF!"}},{"$f":" IF(#REF!=\"\", \"\",#REF!)","v":{"$error":"#REF!"}},{"$f":" IF(#REF!=\"\", \"\",#REF!)","v":{"$error":"#REF!"}},{"$f":" IF(#REF!=\"\", \"\",#REF!)","v":{"$error":"#REF!"}},{"$f":" IF(#REF!=\"\", \"\",#REF!)","v":{"$error":"#REF!"}},{"$error":"#REF!"}]
[{"$f":"#REF!","v":{"$error":"#REF!"}},{"$f":" IF(#REF!=\"\", \"\",#REF!)","v":{"$error":"#REF!"}},{"$f":" IF(#REF!=\"\", \"\",#REF!)","v":{"$error":"#REF!"}},{"$f":" IF(#REF!=\"\", \"\",#REF!)","v":{"$error":"#REF!"}},{"$error":"#REF!"},{"$error":"#REF!"},{"$error":"#REF!"},{"$error":"#REF!"},{"$f":" IF(#REF!=\"\", \"\",#REF!)","v":{"$error":"#REF!"}},{"$f":" IF(#REF!=\"\", \"\",#REF!)","v":{"$error":"#REF!"}},{"$f":" IF(#REF!=\"\", \"\",#REF!)","v":{"$error":"#REF!"}},{"$f":" IF(#REF!=\"\", \"\",#REF!)","v":{"$error":"#REF!"}},{"$f":" IF(#REF!=\"\", \"\",#REF!)","v":{"$error":"#REF!"}},{"$f":" IF(#REF!=\"\", \"\",#REF!)","v":{"$error":"#REF!"}},{"$f":" IF(#REF!=\"\", \"\",#REF!)","v":{"$error":"#REF!"}},{"$f":" IF(#REF!=\"\", \"\",#REF!)","v":{"$error":"#REF!"}},{"$f":"IF(A83=\"\",\"\",#REF!)","v":{"$error":"#REF!"}},{"$f":" IF(Q83=\"\", \"\",#REF!)","v":{"$error":"#REF!"}},{"$f":" IF(Q83=\"\", \"\",#REF!)","v":{"$error":"#REF!"}},{"$f":" IF(Q83=\"\", \"\",#REF!)","v":{"$error":"#REF!"}},{"$f":" IF(Q83=\"\", \"\",#REF!)","v":{"$error":"#REF!"}},{"$f":" IF(#REF!=\"\", \"\",#REF!)","v":{"$error":"#REF!"}},{"$f":" IF(#REF!=\"\", \"\",#REF!)","v":{"$error":"#REF!"}},{"$f":"IF(Y83=\"\", \"\", IF($L83=\"男\", VLOOKUP(Y83, データ!$B$2:$C$101, 2, FALSE), IF($L83=\"女\", VLOOKUP(Y83, データ!$F$2:$H$101, 2, FALSE), \"\")))","v":{"$error":"#REF!"}},{"$f":"IF(A83=\"\",\"\", IF(#REF!=\"\", \"\",#REF!))","v":{"$error":"#REF!"}},{"$f":" IF(#REF!=\"\", \"\",#REF!)","v":{"$error":"#REF!"}},{"$f":" IF(#REF!=\"\", \"\",#REF!)","v":{"$error":"#REF!"}},{"$f":" IF(#REF!=\"\", \"\",#REF!)","v":{"$error":"#REF!"}},{"$f":" IF(#REF!=\"\", \"\",#REF!)","v":{"$error":"#REF!"}},{"$f":"IF(AE83=\"\", \"\", IF($L83=\"男\", VLOOKUP(AE83, データ!$B$2:$C$101, 2, FALSE), IF($L83=\"女\", VLOOKUP(AE83, データ!$F$2:$H$101, 2, FALSE), \"\")))","v":{"$error":"#REF!"}},{"$f":"IF(A83=\"\",\"\", IF(#REF!=\"\", \"\",#REF!))","v":{"$error":"#REF!"}},{"$f":" IF(#REF!=\"\", \"\",#REF!)","v":{"$error":"#REF!"}},{"$f":" IF(#REF!=\"\", \"\",#REF!)","v":{"$error":"#REF!"}},{"$f":" IF(#REF!=\"\", \"\",#REF!)","v":{"$error":"#REF!"}},{"$f":" IF(#REF!=\"\", \"\",#REF!)","v":{"$error":"#REF!"}},{"$f":"IF(AK83=\"\", \"\", IF($L83=\"男\", VLOOKUP(AK83, データ!$B$2:$C$101, 2, FALSE), IF($L83=\"女\", VLOOKUP(AK83, データ!$F$2:$H$101, 2, FALSE), \"\")))","v":{"$error":"#REF!"}},{"$f":"IF(A83=\"\",\"\", IF(#REF!=\"\", \"\",#REF!))","v":{"$error":"#REF!"}},{"$f":" IF(#REF!=\"\", \"\",#REF!)","v":{"$error":"#REF!"}},{"$f":" IF(#REF!=\"\", \"\",#REF!)","v":{"$error":"#REF!"}},{"$f":" IF(#REF!=\"\", \"\",#REF!)","v":{"$error":"#REF!"}},{"$f":" IF(#REF!=\"\", \"\",#REF!)","v":{"$error":"#REF!"}},{"$f":"IF(AQ83=\"\", \"\", IF($L83=\"男\", VLOOKUP(AQ83, データ!$B$2:$C$101, 2, FALSE), IF($L83=\"女\", VLOOKUP(AQ83, データ!$F$2:$H$101, 2, FALSE), \"\")))","v":{"$error":"#REF!"}},{"$f":"IF(A83=\"\",\"\", IF(#REF!=\"\", \"\",#REF!))","v":{"$error":"#REF!"}},{"$f":" IF(#REF!=\"\", \"\",#REF!)","v":{"$error":"#REF!"}},{"$f":" IF(#REF!=\"\", \"\",#REF!)","v":{"$error":"#REF!"}},{"$f":" IF(#REF!=\"\", \"\",#REF!)","v":{"$error":"#REF!"}},{"$f":" IF(#REF!=\"\", \"\",#REF!)","v":{"$error":"#REF!"}},{"$f":"IF(AW83=\"\", \"\", IF($L83=\"男\", VLOOKUP(AW83, データ!$B$2:$C$101, 2, FALSE), IF($L83=\"女\", VLOOKUP(AW83, データ!$F$2:$H$101, 2, FALSE), \"\")))","v":{"$error":"#REF!"}},{"$f":"IF(A83=\"\",\"\", IF(#REF!=\"\", \"\",#REF!))","v":{"$error":"#REF!"}},{"$f":" IF(#REF!=\"\", \"\",#REF!)","v":{"$error":"#REF!"}},{"$f":" IF(#REF!=\"\", \"\",#REF!)","v":{"$error":"#REF!"}},{"$f":" IF(#REF!=\"\", \"\",#REF!)","v":{"$error":"#REF!"}},{"$f":" IF(#REF!=\"\", \"\",#REF!)","v":{"$error":"#REF!"}},{"$error":"#REF!"}]
[{"$f":"#REF!","v":{"$error":"#REF!"}},{"$f":" IF(#REF!=\"\", \"\",#REF!)","v":{"$error":"#REF!"}},{"$f":" IF(#REF!=\"\", \"\",#REF!)","v":{"$error":"#REF!"}},{"$f":" IF(#REF!=\"\", \"\",#REF!)","v":{"$error":"#REF!"}},{"$error":"#REF!"},{"$error":"#REF!"},{"$error":"#REF!"},{"$error":"#REF!"},{"$f":" IF(#REF!=\"\", \"\",#REF!)","v":{"$error":"#REF!"}},{"$f":" IF(#REF!=\"\", \"\",#REF!)","v":{"$error":"#REF!"}},{"$f":" IF(#REF!=\"\", \"\",#REF!)","v":{"$error":"#REF!"}},{"$f":" IF(#REF!=\"\", \"\",#REF!)","v":{"$error":"#REF!"}},{"$f":" IF(#REF!=\"\", \"\",#REF!)","v":{"$error":"#REF!"}},{"$f":" IF(#REF!=\"\", \"\",#REF!)","v":{"$error":"#REF!"}},{"$f":" IF(#REF!=\"\", \"\",#REF!)","v":{"$error":"#REF!"}},{"$f":" IF(#REF!=\"\", \"\",#REF!)","v":{"$error":"#REF!"}},{"$f":"IF(A84=\"\",\"\",#REF!)","v":{"$error":"#REF!"}},{"$f":" IF(Q84=\"\", \"\",#REF!)","v":{"$error":"#REF!"}},{"$f":" IF(Q84=\"\", \"\",#REF!)","v":{"$error":"#REF!"}},{"$f":" IF(Q84=\"\", \"\",#REF!)","v":{"$error":"#REF!"}},{"$f":" IF(Q84=\"\", \"\",#REF!)","v":{"$error":"#REF!"}},{"$f":" IF(#REF!=\"\", \"\",#REF!)","v":{"$error":"#REF!"}},{"$f":" IF(#REF!=\"\", \"\",#REF!)","v":{"$error":"#REF!"}},{"$f":"IF(Y84=\"\", \"\", IF($L84=\"男\", VLOOKUP(Y84, データ!$B$2:$C$101, 2, FALSE), IF($L84=\"女\", VLOOKUP(Y84, データ!$F$2:$H$101, 2, FALSE), \"\")))","v":{"$error":"#REF!"}},{"$f":"IF(A84=\"\",\"\", IF(#REF!=\"\", \"\",#REF!))","v":{"$error":"#REF!"}},{"$f":" IF(#REF!=\"\", \"\",#REF!)","v":{"$error":"#REF!"}},{"$f":" IF(#REF!=\"\", \"\",#REF!)","v":{"$error":"#REF!"}},{"$f":" IF(#REF!=\"\", \"\",#REF!)","v":{"$error":"#REF!"}},{"$f":" IF(#REF!=\"\", \"\",#REF!)","v":{"$error":"#REF!"}},{"$f":"IF(AE84=\"\", \"\", IF($L84=\"男\", VLOOKUP(AE84, データ!$B$2:$C$101, 2, FALSE), IF($L84=\"女\", VLOOKUP(AE84, データ!$F$2:$H$101, 2, FALSE), \"\")))","v":{"$error":"#REF!"}},{"$f":"IF(A84=\"\",\"\", IF(#REF!=\"\", \"\",#REF!))","v":{"$error":"#REF!"}},{"$f":" IF(#REF!=\"\", \"\",#REF!)","v":{"$error":"#REF!"}},{"$f":" IF(#REF!=\"\", \"\",#REF!)","v":{"$error":"#REF!"}},{"$f":" IF(#REF!=\"\", \"\",#REF!)","v":{"$error":"#REF!"}},{"$f":" IF(#REF!=\"\", \"\",#REF!)","v":{"$error":"#REF!"}},{"$f":"IF(AK84=\"\", \"\", IF($L84=\"男\", VLOOKUP(AK84, データ!$B$2:$C$101, 2, FALSE), IF($L84=\"女\", VLOOKUP(AK84, データ!$F$2:$H$101, 2, FALSE), \"\")))","v":{"$error":"#REF!"}},{"$f":"IF(A84=\"\",\"\", IF(#REF!=\"\", \"\",#REF!))","v":{"$error":"#REF!"}},{"$f":" IF(#REF!=\"\", \"\",#REF!)","v":{"$error":"#REF!"}},{"$f":" IF(#REF!=\"\", \"\",#REF!)","v":{"$error":"#REF!"}},{"$f":" IF(#REF!=\"\", \"\",#REF!)","v":{"$error":"#REF!"}},{"$f":" IF(#REF!=\"\", \"\",#REF!)","v":{"$error":"#REF!"}},{"$f":"IF(AQ84=\"\", \"\", IF($L84=\"男\", VLOOKUP(AQ84, データ!$B$2:$C$101, 2, FALSE), IF($L84=\"女\", VLOOKUP(AQ84, データ!$F$2:$H$101, 2, FALSE), \"\")))","v":{"$error":"#REF!"}},{"$f":"IF(A84=\"\",\"\", IF(#REF!=\"\", \"\",#REF!))","v":{"$error":"#REF!"}},{"$f":" IF(#REF!=\"\", \"\",#REF!)","v":{"$error":"#REF!"}},{"$f":" IF(#REF!=\"\", \"\",#REF!)","v":{"$error":"#REF!"}},{"$f":" IF(#REF!=\"\", \"\",#REF!)","v":{"$error":"#REF!"}},{"$f":" IF(#REF!=\"\", \"\",#REF!)","v":{"$error":"#REF!"}},{"$f":"IF(AW84=\"\", \"\", IF($L84=\"男\", VLOOKUP(AW84, データ!$B$2:$C$101, 2, FALSE), IF($L84=\"女\", VLOOKUP(AW84, データ!$F$2:$H$101, 2, FALSE), \"\")))","v":{"$error":"#REF!"}},{"$f":"IF(A84=\"\",\"\", IF(#REF!=\"\", \"\",#REF!))","v":{"$error":"#REF!"}},{"$f":" IF(#REF!=\"\", \"\",#REF!)","v":{"$error":"#REF!"}},{"$f":" IF(#REF!=\"\", \"\",#REF!)","v":{"$error":"#REF!"}},{"$f":" IF(#REF!=\"\", \"\",#REF!)","v":{"$error":"#REF!"}},{"$f":" IF(#REF!=\"\", \"\",#REF!)","v":{"$error":"#REF!"}},{"$error":"#REF!"}]
[{"$f":"#REF!","v":{"$error":"#REF!"}},{"$f":" IF(#REF!=\"\", \"\",#REF!)","v":{"$error":"#REF!"}},{"$f":" IF(#REF!=\"\", \"\",#REF!)","v":{"$error":"#REF!"}},{"$f":" IF(#REF!=\"\", \"\",#REF!)","v":{"$error":"#REF!"}},{"$error":"#REF!"},{"$error":"#REF!"},{"$error":"#REF!"},{"$error":"#REF!"},{"$f":" IF(#REF!=\"\", \"\",#REF!)","v":{"$error":"#REF!"}},{"$f":" IF(#REF!=\"\", \"\",#REF!)","v":{"$error":"#REF!"}},{"$f":" IF(#REF!=\"\", \"\",#REF!)","v":{"$error":"#REF!"}},{"$f":" IF(#REF!=\"\", \"\",#REF!)","v":{"$error":"#REF!"}},{"$f":" IF(#REF!=\"\", \"\",#REF!)","v":{"$error":"#REF!"}},{"$f":" IF(#REF!=\"\", \"\",#REF!)","v":{"$error":"#REF!"}},{"$f":" IF(#REF!=\"\", \"\",#REF!)","v":{"$error":"#REF!"}},{"$f":" IF(#REF!=\"\", \"\",#REF!)","v":{"$error":"#REF!"}},{"$f":"IF(A85=\"\",\"\",#REF!)","v":{"$error":"#REF!"}},{"$f":" IF(Q85=\"\", \"\",#REF!)","v":{"$error":"#REF!"}},{"$f":" IF(Q85=\"\", \"\",#REF!)","v":{"$error":"#REF!"}},{"$f":" IF(Q85=\"\", \"\",#REF!)","v":{"$error":"#REF!"}},{"$f":" IF(Q85=\"\", \"\",#REF!)","v":{"$error":"#REF!"}},{"$f":" IF(#REF!=\"\", \"\",#REF!)","v":{"$error":"#REF!"}},{"$f":" IF(#REF!=\"\", \"\",#REF!)","v":{"$error":"#REF!"}},{"$f":"IF(Y85=\"\", \"\", IF($L85=\"男\", VLOOKUP(Y85, データ!$B$2:$C$101, 2, FALSE), IF($L85=\"女\", VLOOKUP(Y85, データ!$F$2:$H$101, 2, FALSE), \"\")))","v":{"$error":"#REF!"}},{"$f":"IF(A85=\"\",\"\", IF(#REF!=\"\", \"\",#REF!))","v":{"$error":"#REF!"}},{"$f":" IF(#REF!=\"\", \"\",#REF!)","v":{"$error":"#REF!"}},{"$f":" IF(#REF!=\"\", \"\",#REF!)","v":{"$error":"#REF!"}},{"$f":" IF(#REF!=\"\", \"\",#REF!)","v":{"$error":"#REF!"}},{"$f":" IF(#REF!=\"\", \"\",#REF!)","v":{"$error":"#REF!"}},{"$f":"IF(AE85=\"\", \"\", IF($L85=\"男\", VLOOKUP(AE85, データ!$B$2:$C$101, 2, FALSE), IF($L85=\"女\", VLOOKUP(AE85, データ!$F$2:$H$101, 2, FALSE), \"\")))","v":{"$error":"#REF!"}},{"$f":"IF(A85=\"\",\"\", IF(#REF!=\"\", \"\",#REF!))","v":{"$error":"#REF!"}},{"$f":" IF(#REF!=\"\", \"\",#REF!)","v":{"$error":"#REF!"}},{"$f":" IF(#REF!=\"\", \"\",#REF!)","v":{"$error":"#REF!"}},{"$f":" IF(#REF!=\"\", \"\",#REF!)","v":{"$error":"#REF!"}},{"$f":" IF(#REF!=\"\", \"\",#REF!)","v":{"$error":"#REF!"}},{"$f":"IF(AK85=\"\", \"\", IF($L85=\"男\", VLOOKUP(AK85, データ!$B$2:$C$101, 2, FALSE), IF($L85=\"女\", VLOOKUP(AK85, データ!$F$2:$H$101, 2, FALSE), \"\")))","v":{"$error":"#REF!"}},{"$f":"IF(A85=\"\",\"\", IF(#REF!=\"\", \"\",#REF!))","v":{"$error":"#REF!"}},{"$f":" IF(#REF!=\"\", \"\",#REF!)","v":{"$error":"#REF!"}},{"$f":" IF(#REF!=\"\", \"\",#REF!)","v":{"$error":"#REF!"}},{"$f":" IF(#REF!=\"\", \"\",#REF!)","v":{"$error":"#REF!"}},{"$f":" IF(#REF!=\"\", \"\",#REF!)","v":{"$error":"#REF!"}},{"$f":"IF(AQ85=\"\", \"\", IF($L85=\"男\", VLOOKUP(AQ85, データ!$B$2:$C$101, 2, FALSE), IF($L85=\"女\", VLOOKUP(AQ85, データ!$F$2:$H$101, 2, FALSE), \"\")))","v":{"$error":"#REF!"}},{"$f":"IF(A85=\"\",\"\", IF(#REF!=\"\", \"\",#REF!))","v":{"$error":"#REF!"}},{"$f":" IF(#REF!=\"\", \"\",#REF!)","v":{"$error":"#REF!"}},{"$f":" IF(#REF!=\"\", \"\",#REF!)","v":{"$error":"#REF!"}},{"$f":" IF(#REF!=\"\", \"\",#REF!)","v":{"$error":"#REF!"}},{"$f":" IF(#REF!=\"\", \"\",#REF!)","v":{"$error":"#REF!"}},{"$f":"IF(AW85=\"\", \"\", IF($L85=\"男\", VLOOKUP(AW85, データ!$B$2:$C$101, 2, FALSE), IF($L85=\"女\", VLOOKUP(AW85, データ!$F$2:$H$101, 2, FALSE), \"\")))","v":{"$error":"#REF!"}},{"$f":"IF(A85=\"\",\"\", IF(#REF!=\"\", \"\",#REF!))","v":{"$error":"#REF!"}},{"$f":" IF(#REF!=\"\", \"\",#REF!)","v":{"$error":"#REF!"}},{"$f":" IF(#REF!=\"\", \"\",#REF!)","v":{"$error":"#REF!"}},{"$f":" IF(#REF!=\"\", \"\",#REF!)","v":{"$error":"#REF!"}},{"$f":" IF(#REF!=\"\", \"\",#REF!)","v":{"$error":"#REF!"}},{"$error":"#REF!"}]
[{"$f":"#REF!","v":{"$error":"#REF!"}},{"$f":" IF(#REF!=\"\", \"\",#REF!)","v":{"$error":"#REF!"}},{"$f":" IF(#REF!=\"\", \"\",#REF!)","v":{"$error":"#REF!"}},{"$f":" IF(#REF!=\"\", \"\",#REF!)","v":{"$error":"#REF!"}},{"$error":"#REF!"},{"$error":"#REF!"},{"$error":"#REF!"},{"$error":"#REF!"},{"$f":" IF(#REF!=\"\", \"\",#REF!)","v":{"$error":"#REF!"}},{"$f":" IF(#REF!=\"\", \"\",#REF!)","v":{"$error":"#REF!"}},{"$f":" IF(#REF!=\"\", \"\",#REF!)","v":{"$error":"#REF!"}},{"$f":" IF(#REF!=\"\", \"\",#REF!)","v":{"$error":"#REF!"}},{"$f":" IF(#REF!=\"\", \"\",#REF!)","v":{"$error":"#REF!"}},{"$f":" IF(#REF!=\"\", \"\",#REF!)","v":{"$error":"#REF!"}},{"$f":" IF(#REF!=\"\", \"\",#REF!)","v":{"$error":"#REF!"}},{"$f":" IF(#REF!=\"\", \"\",#REF!)","v":{"$error":"#REF!"}},{"$f":"IF(A86=\"\",\"\",#REF!)","v":{"$error":"#REF!"}},{"$f":" IF(Q86=\"\", \"\",#REF!)","v":{"$error":"#REF!"}},{"$f":" IF(Q86=\"\", \"\",#REF!)","v":{"$error":"#REF!"}},{"$f":" IF(Q86=\"\", \"\",#REF!)","v":{"$error":"#REF!"}},{"$f":" IF(Q86=\"\", \"\",#REF!)","v":{"$error":"#REF!"}},{"$f":" IF(#REF!=\"\", \"\",#REF!)","v":{"$error":"#REF!"}},{"$f":" IF(#REF!=\"\", \"\",#REF!)","v":{"$error":"#REF!"}},{"$f":"IF(Y86=\"\", \"\", IF($L86=\"男\", VLOOKUP(Y86, データ!$B$2:$C$101, 2, FALSE), IF($L86=\"女\", VLOOKUP(Y86, データ!$F$2:$H$101, 2, FALSE), \"\")))","v":{"$error":"#REF!"}},{"$f":"IF(A86=\"\",\"\", IF(#REF!=\"\", \"\",#REF!))","v":{"$error":"#REF!"}},{"$f":" IF(#REF!=\"\", \"\",#REF!)","v":{"$error":"#REF!"}},{"$f":" IF(#REF!=\"\", \"\",#REF!)","v":{"$error":"#REF!"}},{"$f":" IF(#REF!=\"\", \"\",#REF!)","v":{"$error":"#REF!"}},{"$f":" IF(#REF!=\"\", \"\",#REF!)","v":{"$error":"#REF!"}},{"$f":"IF(AE86=\"\", \"\", IF($L86=\"男\", VLOOKUP(AE86, データ!$B$2:$C$101, 2, FALSE), IF($L86=\"女\", VLOOKUP(AE86, データ!$F$2:$H$101, 2, FALSE), \"\")))","v":{"$error":"#REF!"}},{"$f":"IF(A86=\"\",\"\", IF(#REF!=\"\", \"\",#REF!))","v":{"$error":"#REF!"}},{"$f":" IF(#REF!=\"\", \"\",#REF!)","v":{"$error":"#REF!"}},{"$f":" IF(#REF!=\"\", \"\",#REF!)","v":{"$error":"#REF!"}},{"$f":" IF(#REF!=\"\", \"\",#REF!)","v":{"$error":"#REF!"}},{"$f":" IF(#REF!=\"\", \"\",#REF!)","v":{"$error":"#REF!"}},{"$f":"IF(AK86=\"\", \"\", IF($L86=\"男\", VLOOKUP(AK86, データ!$B$2:$C$101, 2, FALSE), IF($L86=\"女\", VLOOKUP(AK86, データ!$F$2:$H$101, 2, FALSE), \"\")))","v":{"$error":"#REF!"}},{"$f":"IF(A86=\"\",\"\", IF(#REF!=\"\", \"\",#REF!))","v":{"$error":"#REF!"}},{"$f":" IF(#REF!=\"\", \"\",#REF!)","v":{"$error":"#REF!"}},{"$f":" IF(#REF!=\"\", \"\",#REF!)","v":{"$error":"#REF!"}},{"$f":" IF(#REF!=\"\", \"\",#REF!)","v":{"$error":"#REF!"}},{"$f":" IF(#REF!=\"\", \"\",#REF!)","v":{"$error":"#REF!"}},{"$f":"IF(AQ86=\"\", \"\", IF($L86=\"男\", VLOOKUP(AQ86, データ!$B$2:$C$101, 2, FALSE), IF($L86=\"女\", VLOOKUP(AQ86, データ!$F$2:$H$101, 2, FALSE), \"\")))","v":{"$error":"#REF!"}},{"$f":"IF(A86=\"\",\"\", IF(#REF!=\"\", \"\",#REF!))","v":{"$error":"#REF!"}},{"$f":" IF(#REF!=\"\", \"\",#REF!)","v":{"$error":"#REF!"}},{"$f":" IF(#REF!=\"\", \"\",#REF!)","v":{"$error":"#REF!"}},{"$f":" IF(#REF!=\"\", \"\",#REF!)","v":{"$error":"#REF!"}},{"$f":" IF(#REF!=\"\", \"\",#REF!)","v":{"$error":"#REF!"}},{"$f":"IF(AW86=\"\", \"\", IF($L86=\"男\", VLOOKUP(AW86, データ!$B$2:$C$101, 2, FALSE), IF($L86=\"女\", VLOOKUP(AW86, データ!$F$2:$H$101, 2, FALSE), \"\")))","v":{"$error":"#REF!"}},{"$f":"IF(A86=\"\",\"\", IF(#REF!=\"\", \"\",#REF!))","v":{"$error":"#REF!"}},{"$f":" IF(#REF!=\"\", \"\",#REF!)","v":{"$error":"#REF!"}},{"$f":" IF(#REF!=\"\", \"\",#REF!)","v":{"$error":"#REF!"}},{"$f":" IF(#REF!=\"\", \"\",#REF!)","v":{"$error":"#REF!"}},{"$f":" IF(#REF!=\"\", \"\",#REF!)","v":{"$error":"#REF!"}},{"$error":"#REF!"}]
[{"$f":"#REF!","v":{"$error":"#REF!"}},{"$f":" IF(#REF!=\"\", \"\",#REF!)","v":{"$error":"#REF!"}},{"$f":" IF(#REF!=\"\", \"\",#REF!)","v":{"$error":"#REF!"}},{"$f":" IF(#REF!=\"\", \"\",#REF!)","v":{"$error":"#REF!"}},{"$error":"#REF!"},{"$error":"#REF!"},{"$error":"#REF!"},{"$error":"#REF!"},{"$f":" IF(#REF!=\"\", \"\",#REF!)","v":{"$error":"#REF!"}},{"$f":" IF(#REF!=\"\", \"\",#REF!)","v":{"$error":"#REF!"}},{"$f":" IF(#REF!=\"\", \"\",#REF!)","v":{"$error":"#REF!"}},{"$f":" IF(#REF!=\"\", \"\",#REF!)","v":{"$error":"#REF!"}},{"$f":" IF(#REF!=\"\", \"\",#REF!)","v":{"$error":"#REF!"}},{"$f":" IF(#REF!=\"\", \"\",#REF!)","v":{"$error":"#REF!"}},{"$f":" IF(#REF!=\"\", \"\",#REF!)","v":{"$error":"#REF!"}},{"$f":" IF(#REF!=\"\", \"\",#REF!)","v":{"$error":"#REF!"}},{"$f":"IF(A87=\"\",\"\",#REF!)","v":{"$error":"#REF!"}},{"$f":" IF(Q87=\"\", \"\",#REF!)","v":{"$error":"#REF!"}},{"$f":" IF(Q87=\"\", \"\",#REF!)","v":{"$error":"#REF!"}},{"$f":" IF(Q87=\"\", \"\",#REF!)","v":{"$error":"#REF!"}},{"$f":" IF(Q87=\"\", \"\",#REF!)","v":{"$error":"#REF!"}},{"$f":" IF(#REF!=\"\", \"\",#REF!)","v":{"$error":"#REF!"}},{"$f":" IF(#REF!=\"\", \"\",#REF!)","v":{"$error":"#REF!"}},{"$f":"IF(Y87=\"\", \"\", IF($L87=\"男\", VLOOKUP(Y87, データ!$B$2:$C$101, 2, FALSE), IF($L87=\"女\", VLOOKUP(Y87, データ!$F$2:$H$101, 2, FALSE), \"\")))","v":{"$error":"#REF!"}},{"$f":"IF(A87=\"\",\"\", IF(#REF!=\"\", \"\",#REF!))","v":{"$error":"#REF!"}},{"$f":" IF(#REF!=\"\", \"\",#REF!)","v":{"$error":"#REF!"}},{"$f":" IF(#REF!=\"\", \"\",#REF!)","v":{"$error":"#REF!"}},{"$f":" IF(#REF!=\"\", \"\",#REF!)","v":{"$error":"#REF!"}},{"$f":" IF(#REF!=\"\", \"\",#REF!)","v":{"$error":"#REF!"}},{"$f":"IF(AE87=\"\", \"\", IF($L87=\"男\", VLOOKUP(AE87, データ!$B$2:$C$101, 2, FALSE), IF($L87=\"女\", VLOOKUP(AE87, データ!$F$2:$H$101, 2, FALSE), \"\")))","v":{"$error":"#REF!"}},{"$f":"IF(A87=\"\",\"\", IF(#REF!=\"\", \"\",#REF!))","v":{"$error":"#REF!"}},{"$f":" IF(#REF!=\"\", \"\",#REF!)","v":{"$error":"#REF!"}},{"$f":" IF(#REF!=\"\", \"\",#REF!)","v":{"$error":"#REF!"}},{"$f":" IF(#REF!=\"\", \"\",#REF!)","v":{"$error":"#REF!"}},{"$f":" IF(#REF!=\"\", \"\",#REF!)","v":{"$error":"#REF!"}},{"$f":"IF(AK87=\"\", \"\", IF($L87=\"男\", VLOOKUP(AK87, データ!$B$2:$C$101, 2, FALSE), IF($L87=\"女\", VLOOKUP(AK87, データ!$F$2:$H$101, 2, FALSE), \"\")))","v":{"$error":"#REF!"}},{"$f":"IF(A87=\"\",\"\", IF(#REF!=\"\", \"\",#REF!))","v":{"$error":"#REF!"}},{"$f":" IF(#REF!=\"\", \"\",#REF!)","v":{"$error":"#REF!"}},{"$f":" IF(#REF!=\"\", \"\",#REF!)","v":{"$error":"#REF!"}},{"$f":" IF(#REF!=\"\", \"\",#REF!)","v":{"$error":"#REF!"}},{"$f":" IF(#REF!=\"\", \"\",#REF!)","v":{"$error":"#REF!"}},{"$f":"IF(AQ87=\"\", \"\", IF($L87=\"男\", VLOOKUP(AQ87, データ!$B$2:$C$101, 2, FALSE), IF($L87=\"女\", VLOOKUP(AQ87, データ!$F$2:$H$101, 2, FALSE), \"\")))","v":{"$error":"#REF!"}},{"$f":"IF(A87=\"\",\"\", IF(#REF!=\"\", \"\",#REF!))","v":{"$error":"#REF!"}},{"$f":" IF(#REF!=\"\", \"\",#REF!)","v":{"$error":"#REF!"}},{"$f":" IF(#REF!=\"\", \"\",#REF!)","v":{"$error":"#REF!"}},{"$f":" IF(#REF!=\"\", \"\",#REF!)","v":{"$error":"#REF!"}},{"$f":" IF(#REF!=\"\", \"\",#REF!)","v":{"$error":"#REF!"}},{"$f":"IF(AW87=\"\", \"\", IF($L87=\"男\", VLOOKUP(AW87, データ!$B$2:$C$101, 2, FALSE), IF($L87=\"女\", VLOOKUP(AW87, データ!$F$2:$H$101, 2, FALSE), \"\")))","v":{"$error":"#REF!"}},{"$f":"IF(A87=\"\",\"\", IF(#REF!=\"\", \"\",#REF!))","v":{"$error":"#REF!"}},{"$f":" IF(#REF!=\"\", \"\",#REF!)","v":{"$error":"#REF!"}},{"$f":" IF(#REF!=\"\", \"\",#REF!)","v":{"$error":"#REF!"}},{"$f":" IF(#REF!=\"\", \"\",#REF!)","v":{"$error":"#REF!"}},{"$f":" IF(#REF!=\"\", \"\",#REF!)","v":{"$error":"#REF!"}},{"$error":"#REF!"}]
[{"$f":"#REF!","v":{"$error":"#REF!"}},{"$f":" IF(#REF!=\"\", \"\",#REF!)","v":{"$error":"#REF!"}},{"$f":" IF(#REF!=\"\", \"\",#REF!)","v":{"$error":"#REF!"}},{"$f":" IF(#REF!=\"\", \"\",#REF!)","v":{"$error":"#REF!"}},{"$error":"#REF!"},{"$error":"#REF!"},{"$error":"#REF!"},{"$error":"#REF!"},{"$f":" IF(#REF!=\"\", \"\",#REF!)","v":{"$error":"#REF!"}},{"$f":" IF(#REF!=\"\", \"\",#REF!)","v":{"$error":"#REF!"}},{"$f":" IF(#REF!=\"\", \"\",#REF!)","v":{"$error":"#REF!"}},{"$f":" IF(#REF!=\"\", \"\",#REF!)","v":{"$error":"#REF!"}},{"$f":" IF(#REF!=\"\", \"\",#REF!)","v":{"$error":"#REF!"}},{"$f":" IF(#REF!=\"\", \"\",#REF!)","v":{"$error":"#REF!"}},{"$f":" IF(#REF!=\"\", \"\",#REF!)","v":{"$error":"#REF!"}},{"$f":" IF(#REF!=\"\", \"\",#REF!)","v":{"$error":"#REF!"}},{"$f":"IF(A88=\"\",\"\",#REF!)","v":{"$error":"#REF!"}},{"$f":" IF(Q88=\"\", \"\",#REF!)","v":{"$error":"#REF!"}},{"$f":" IF(Q88=\"\", \"\",#REF!)","v":{"$error":"#REF!"}},{"$f":" IF(Q88=\"\", \"\",#REF!)","v":{"$error":"#REF!"}},{"$f":" IF(Q88=\"\", \"\",#REF!)","v":{"$error":"#REF!"}},{"$f":" IF(#REF!=\"\", \"\",#REF!)","v":{"$error":"#REF!"}},{"$f":" IF(#REF!=\"\", \"\",#REF!)","v":{"$error":"#REF!"}},{"$f":"IF(Y88=\"\", \"\", IF($L88=\"男\", VLOOKUP(Y88, データ!$B$2:$C$101, 2, FALSE), IF($L88=\"女\", VLOOKUP(Y88, データ!$F$2:$H$101, 2, FALSE), \"\")))","v":{"$error":"#REF!"}},{"$f":"IF(A88=\"\",\"\", IF(#REF!=\"\", \"\",#REF!))","v":{"$error":"#REF!"}},{"$f":" IF(#REF!=\"\", \"\",#REF!)","v":{"$error":"#REF!"}},{"$f":" IF(#REF!=\"\", \"\",#REF!)","v":{"$error":"#REF!"}},{"$f":" IF(#REF!=\"\", \"\",#REF!)","v":{"$error":"#REF!"}},{"$f":" IF(#REF!=\"\", \"\",#REF!)","v":{"$error":"#REF!"}},{"$f":"IF(AE88=\"\", \"\", IF($L88=\"男\", VLOOKUP(AE88, データ!$B$2:$C$101, 2, FALSE), IF($L88=\"女\", VLOOKUP(AE88, データ!$F$2:$H$101, 2, FALSE), \"\")))","v":{"$error":"#REF!"}},{"$f":"IF(A88=\"\",\"\", IF(#REF!=\"\", \"\",#REF!))","v":{"$error":"#REF!"}},{"$f":" IF(#REF!=\"\", \"\",#REF!)","v":{"$error":"#REF!"}},{"$f":" IF(#REF!=\"\", \"\",#REF!)","v":{"$error":"#REF!"}},{"$f":" IF(#REF!=\"\", \"\",#REF!)","v":{"$error":"#REF!"}},{"$f":" IF(#REF!=\"\", \"\",#REF!)","v":{"$error":"#REF!"}},{"$f":"IF(AK88=\"\", \"\", IF($L88=\"男\", VLOOKUP(AK88, データ!$B$2:$C$101, 2, FALSE), IF($L88=\"女\", VLOOKUP(AK88, データ!$F$2:$H$101, 2, FALSE), \"\")))","v":{"$error":"#REF!"}},{"$f":"IF(A88=\"\",\"\", IF(#REF!=\"\", \"\",#REF!))","v":{"$error":"#REF!"}},{"$f":" IF(#REF!=\"\", \"\",#REF!)","v":{"$error":"#REF!"}},{"$f":" IF(#REF!=\"\", \"\",#REF!)","v":{"$error":"#REF!"}},{"$f":" IF(#REF!=\"\", \"\",#REF!)","v":{"$error":"#REF!"}},{"$f":" IF(#REF!=\"\", \"\",#REF!)","v":{"$error":"#REF!"}},{"$f":"IF(AQ88=\"\", \"\", IF($L88=\"男\", VLOOKUP(AQ88, データ!$B$2:$C$101, 2, FALSE), IF($L88=\"女\", VLOOKUP(AQ88, データ!$F$2:$H$101, 2, FALSE), \"\")))","v":{"$error":"#REF!"}},{"$f":"IF(A88=\"\",\"\", IF(#REF!=\"\", \"\",#REF!))","v":{"$error":"#REF!"}},{"$f":" IF(#REF!=\"\", \"\",#REF!)","v":{"$error":"#REF!"}},{"$f":" IF(#REF!=\"\", \"\",#REF!)","v":{"$error":"#REF!"}},{"$f":" IF(#REF!=\"\", \"\",#REF!)","v":{"$error":"#REF!"}},{"$f":" IF(#REF!=\"\", \"\",#REF!)","v":{"$error":"#REF!"}},{"$f":"IF(AW88=\"\", \"\", IF($L88=\"男\", VLOOKUP(AW88, データ!$B$2:$C$101, 2, FALSE), IF($L88=\"女\", VLOOKUP(AW88, データ!$F$2:$H$101, 2, FALSE), \"\")))","v":{"$error":"#REF!"}},{"$f":"IF(A88=\"\",\"\", IF(#REF!=\"\", \"\",#REF!))","v":{"$error":"#REF!"}},{"$f":" IF(#REF!=\"\", \"\",#REF!)","v":{"$error":"#REF!"}},{"$f":" IF(#REF!=\"\", \"\",#REF!)","v":{"$error":"#REF!"}},{"$f":" IF(#REF!=\"\", \"\",#REF!)","v":{"$error":"#REF!"}},{"$f":" IF(#REF!=\"\", \"\",#REF!)","v":{"$error":"#REF!"}},{"$error":"#REF!"}]
[{"$f":"#REF!","v":{"$error":"#REF!"}},{"$f":" IF(#REF!=\"\", \"\",#REF!)","v":{"$error":"#REF!"}},{"$f":" IF(#REF!=\"\", \"\",#REF!)","v":{"$error":"#REF!"}},{"$f":" IF(#REF!=\"\", \"\",#REF!)","v":{"$error":"#REF!"}},{"$error":"#REF!"},{"$error":"#REF!"},{"$error":"#REF!"},{"$error":"#REF!"},{"$f":" IF(#REF!=\"\", \"\",#REF!)","v":{"$error":"#REF!"}},{"$f":" IF(#REF!=\"\", \"\",#REF!)","v":{"$error":"#REF!"}},{"$f":" IF(#REF!=\"\", \"\",#REF!)","v":{"$error":"#REF!"}},{"$f":" IF(#REF!=\"\", \"\",#REF!)","v":{"$error":"#REF!"}},{"$f":" IF(#REF!=\"\", \"\",#REF!)","v":{"$error":"#REF!"}},{"$f":" IF(#REF!=\"\", \"\",#REF!)","v":{"$error":"#REF!"}},{"$f":" IF(#REF!=\"\", \"\",#REF!)","v":{"$error":"#REF!"}},{"$f":" IF(#REF!=\"\", \"\",#REF!)","v":{"$error":"#REF!"}},{"$f":"IF(A89=\"\",\"\",#REF!)","v":{"$error":"#REF!"}},{"$f":" IF(Q89=\"\", \"\",#REF!)","v":{"$error":"#REF!"}},{"$f":" IF(Q89=\"\", \"\",#REF!)","v":{"$error":"#REF!"}},{"$f":" IF(Q89=\"\", \"\",#REF!)","v":{"$error":"#REF!"}},{"$f":" IF(Q89=\"\", \"\",#REF!)","v":{"$error":"#REF!"}},{"$f":" IF(#REF!=\"\", \"\",#REF!)","v":{"$error":"#REF!"}},{"$f":" IF(#REF!=\"\", \"\",#REF!)","v":{"$error":"#REF!"}},{"$f":"IF(Y89=\"\", \"\", IF($L89=\"男\", VLOOKUP(Y89, データ!$B$2:$C$101, 2, FALSE), IF($L89=\"女\", VLOOKUP(Y89, データ!$F$2:$H$101, 2, FALSE), \"\")))","v":{"$error":"#REF!"}},{"$f":"IF(A89=\"\",\"\", IF(#REF!=\"\", \"\",#REF!))","v":{"$error":"#REF!"}},{"$f":" IF(#REF!=\"\", \"\",#REF!)","v":{"$error":"#REF!"}},{"$f":" IF(#REF!=\"\", \"\",#REF!)","v":{"$error":"#REF!"}},{"$f":" IF(#REF!=\"\", \"\",#REF!)","v":{"$error":"#REF!"}},{"$f":" IF(#REF!=\"\", \"\",#REF!)","v":{"$error":"#REF!"}},{"$f":"IF(AE89=\"\", \"\", IF($L89=\"男\", VLOOKUP(AE89, データ!$B$2:$C$101, 2, FALSE), IF($L89=\"女\", VLOOKUP(AE89, データ!$F$2:$H$101, 2, FALSE), \"\")))","v":{"$error":"#REF!"}},{"$f":"IF(A89=\"\",\"\", IF(#REF!=\"\", \"\",#REF!))","v":{"$error":"#REF!"}},{"$f":" IF(#REF!=\"\", \"\",#REF!)","v":{"$error":"#REF!"}},{"$f":" IF(#REF!=\"\", \"\",#REF!)","v":{"$error":"#REF!"}},{"$f":" IF(#REF!=\"\", \"\",#REF!)","v":{"$error":"#REF!"}},{"$f":" IF(#REF!=\"\", \"\",#REF!)","v":{"$error":"#REF!"}},{"$f":"IF(AK89=\"\", \"\", IF($L89=\"男\", VLOOKUP(AK89, データ!$B$2:$C$101, 2, FALSE), IF($L89=\"女\", VLOOKUP(AK89, データ!$F$2:$H$101, 2, FALSE), \"\")))","v":{"$error":"#REF!"}},{"$f":"IF(A89=\"\",\"\", IF(#REF!=\"\", \"\",#REF!))","v":{"$error":"#REF!"}},{"$f":" IF(#REF!=\"\", \"\",#REF!)","v":{"$error":"#REF!"}},{"$f":" IF(#REF!=\"\", \"\",#REF!)","v":{"$error":"#REF!"}},{"$f":" IF(#REF!=\"\", \"\",#REF!)","v":{"$error":"#REF!"}},{"$f":" IF(#REF!=\"\", \"\",#REF!)","v":{"$error":"#REF!"}},{"$f":"IF(AQ89=\"\", \"\", IF($L89=\"男\", VLOOKUP(AQ89, データ!$B$2:$C$101, 2, FALSE), IF($L89=\"女\", VLOOKUP(AQ89, データ!$F$2:$H$101, 2, FALSE), \"\")))","v":{"$error":"#REF!"}},{"$f":"IF(A89=\"\",\"\", IF(#REF!=\"\", \"\",#REF!))","v":{"$error":"#REF!"}},{"$f":" IF(#REF!=\"\", \"\",#REF!)","v":{"$error":"#REF!"}},{"$f":" IF(#REF!=\"\", \"\",#REF!)","v":{"$error":"#REF!"}},{"$f":" IF(#REF!=\"\", \"\",#REF!)","v":{"$error":"#REF!"}},{"$f":" IF(#REF!=\"\", \"\",#REF!)","v":{"$error":"#REF!"}},{"$f":"IF(AW89=\"\", \"\", IF($L89=\"男\", VLOOKUP(AW89, データ!$B$2:$C$101, 2, FALSE), IF($L89=\"女\", VLOOKUP(AW89, データ!$F$2:$H$101, 2, FALSE), \"\")))","v":{"$error":"#REF!"}},{"$f":"IF(A89=\"\",\"\", IF(#REF!=\"\", \"\",#REF!))","v":{"$error":"#REF!"}},{"$f":" IF(#REF!=\"\", \"\",#REF!)","v":{"$error":"#REF!"}},{"$f":" IF(#REF!=\"\", \"\",#REF!)","v":{"$error":"#REF!"}},{"$f":" IF(#REF!=\"\", \"\",#REF!)","v":{"$error":"#REF!"}},{"$f":" IF(#REF!=\"\", \"\",#REF!)","v":{"$error":"#REF!"}},{"$error":"#REF!"}]
[{"$f":"#REF!","v":{"$error":"#REF!"}},{"$f":" IF(#REF!=\"\", \"\",#REF!)","v":{"$error":"#REF!"}},{"$f":" IF(#REF!=\"\", \"\",#REF!)","v":{"$error":"#REF!"}},{"$f":" IF(#REF!=\"\", \"\",#REF!)","v":{"$error":"#REF!"}},{"$error":"#REF!"},{"$error":"#REF!"},{"$error":"#REF!"},{"$error":"#REF!"},{"$f":" IF(#REF!=\"\", \"\",#REF!)","v":{"$error":"#REF!"}},{"$f":" IF(#REF!=\"\", \"\",#REF!)","v":{"$error":"#REF!"}},{"$f":" IF(#REF!=\"\", \"\",#REF!)","v":{"$error":"#REF!"}},{"$f":" IF(#REF!=\"\", \"\",#REF!)","v":{"$error":"#REF!"}},{"$f":" IF(#REF!=\"\", \"\",#REF!)","v":{"$error":"#REF!"}},{"$f":" IF(#REF!=\"\", \"\",#REF!)","v":{"$error":"#REF!"}},{"$f":" IF(#REF!=\"\", \"\",#REF!)","v":{"$error":"#REF!"}},{"$f":" IF(#REF!=\"\", \"\",#REF!)","v":{"$error":"#REF!"}},{"$f":"IF(A90=\"\",\"\",#REF!)","v":{"$error":"#REF!"}},{"$f":" IF(Q90=\"\", \"\",#REF!)","v":{"$error":"#REF!"}},{"$f":" IF(Q90=\"\", \"\",#REF!)","v":{"$error":"#REF!"}},{"$f":" IF(Q90=\"\", \"\",#REF!)","v":{"$error":"#REF!"}},{"$f":" IF(Q90=\"\", \"\",#REF!)","v":{"$error":"#REF!"}},{"$f":" IF(#REF!=\"\", \"\",#REF!)","v":{"$error":"#REF!"}},{"$f":" IF(#REF!=\"\", \"\",#REF!)","v":{"$error":"#REF!"}},{"$f":"IF(Y90=\"\", \"\", IF($L90=\"男\", VLOOKUP(Y90, データ!$B$2:$C$101, 2, FALSE), IF($L90=\"女\", VLOOKUP(Y90, データ!$F$2:$H$101, 2, FALSE), \"\")))","v":{"$error":"#REF!"}},{"$f":"IF(A90=\"\",\"\", IF(#REF!=\"\", \"\",#REF!))","v":{"$error":"#REF!"}},{"$f":" IF(#REF!=\"\", \"\",#REF!)","v":{"$error":"#REF!"}},{"$f":" IF(#REF!=\"\", \"\",#REF!)","v":{"$error":"#REF!"}},{"$f":" IF(#REF!=\"\", \"\",#REF!)","v":{"$error":"#REF!"}},{"$f":" IF(#REF!=\"\", \"\",#REF!)","v":{"$error":"#REF!"}},{"$f":"IF(AE90=\"\", \"\", IF($L90=\"男\", VLOOKUP(AE90, データ!$B$2:$C$101, 2, FALSE), IF($L90=\"女\", VLOOKUP(AE90, データ!$F$2:$H$101, 2, FALSE), \"\")))","v":{"$error":"#REF!"}},{"$f":"IF(A90=\"\",\"\", IF(#REF!=\"\", \"\",#REF!))","v":{"$error":"#REF!"}},{"$f":" IF(#REF!=\"\", \"\",#REF!)","v":{"$error":"#REF!"}},{"$f":" IF(#REF!=\"\", \"\",#REF!)","v":{"$error":"#REF!"}},{"$f":" IF(#REF!=\"\", \"\",#REF!)","v":{"$error":"#REF!"}},{"$f":" IF(#REF!=\"\", \"\",#REF!)","v":{"$error":"#REF!"}},{"$f":"IF(AK90=\"\", \"\", IF($L90=\"男\", VLOOKUP(AK90, データ!$B$2:$C$101, 2, FALSE), IF($L90=\"女\", VLOOKUP(AK90, データ!$F$2:$H$101, 2, FALSE), \"\")))","v":{"$error":"#REF!"}},{"$f":"IF(A90=\"\",\"\", IF(#REF!=\"\", \"\",#REF!))","v":{"$error":"#REF!"}},{"$f":" IF(#REF!=\"\", \"\",#REF!)","v":{"$error":"#REF!"}},{"$f":" IF(#REF!=\"\", \"\",#REF!)","v":{"$error":"#REF!"}},{"$f":" IF(#REF!=\"\", \"\",#REF!)","v":{"$error":"#REF!"}},{"$f":" IF(#REF!=\"\", \"\",#REF!)","v":{"$error":"#REF!"}},{"$f":"IF(AQ90=\"\", \"\", IF($L90=\"男\", VLOOKUP(AQ90, データ!$B$2:$C$101, 2, FALSE), IF($L90=\"女\", VLOOKUP(AQ90, データ!$F$2:$H$101, 2, FALSE), \"\")))","v":{"$error":"#REF!"}},{"$f":"IF(A90=\"\",\"\", IF(#REF!=\"\", \"\",#REF!))","v":{"$error":"#REF!"}},{"$f":" IF(#REF!=\"\", \"\",#REF!)","v":{"$error":"#REF!"}},{"$f":" IF(#REF!=\"\", \"\",#REF!)","v":{"$error":"#REF!"}},{"$f":" IF(#REF!=\"\", \"\",#REF!)","v":{"$error":"#REF!"}},{"$f":" IF(#REF!=\"\", \"\",#REF!)","v":{"$error":"#REF!"}},{"$f":"IF(AW90=\"\", \"\", IF($L90=\"男\", VLOOKUP(AW90, データ!$B$2:$C$101, 2, FALSE), IF($L90=\"女\", VLOOKUP(AW90, データ!$F$2:$H$101, 2, FALSE), \"\")))","v":{"$error":"#REF!"}},{"$f":"IF(A90=\"\",\"\", IF(#REF!=\"\", \"\",#REF!))","v":{"$error":"#REF!"}},{"$f":" IF(#REF!=\"\", \"\",#REF!)","v":{"$error":"#REF!"}},{"$f":" IF(#REF!=\"\", \"\",#REF!)","v":{"$error":"#REF!"}},{"$f":" IF(#REF!=\"\", \"\",#REF!)","v":{"$error":"#REF!"}},{"$f":" IF(#REF!=\"\", \"\",#REF!)","v":{"$error":"#REF!"}},{"$error":"#REF!"}]
[{"$f":"#REF!","v":{"$error":"#REF!"}},{"$f":" IF(#REF!=\"\", \"\",#REF!)","v":{"$error":"#REF!"}},{"$f":" IF(#REF!=\"\", \"\",#REF!)","v":{"$error":"#REF!"}},{"$f":" IF(#REF!=\"\", \"\",#REF!)","v":{"$error":"#REF!"}},{"$error":"#REF!"},{"$error":"#REF!"},{"$error":"#REF!"},{"$error":"#REF!"},{"$f":" IF(#REF!=\"\", \"\",#REF!)","v":{"$error":"#REF!"}},{"$f":" IF(#REF!=\"\", \"\",#REF!)","v":{"$error":"#REF!"}},{"$f":" IF(#REF!=\"\", \"\",#REF!)","v":{"$error":"#REF!"}},{"$f":" IF(#REF!=\"\", \"\",#REF!)","v":{"$error":"#REF!"}},{"$f":" IF(#REF!=\"\", \"\",#REF!)","v":{"$error":"#REF!"}},{"$f":" IF(#REF!=\"\", \"\",#REF!)","v":{"$error":"#REF!"}},{"$f":" IF(#REF!=\"\", \"\",#REF!)","v":{"$error":"#REF!"}},{"$f":" IF(#REF!=\"\", \"\",#REF!)","v":{"$error":"#REF!"}},{"$f":"IF(A91=\"\",\"\",#REF!)","v":{"$error":"#REF!"}},{"$f":" IF(Q91=\"\", \"\",#REF!)","v":{"$error":"#REF!"}},{"$f":" IF(Q91=\"\", \"\",#REF!)","v":{"$error":"#REF!"}},{"$f":" IF(Q91=\"\", \"\",#REF!)","v":{"$error":"#REF!"}},{"$f":" IF(Q91=\"\", \"\",#REF!)","v":{"$error":"#REF!"}},{"$f":" IF(#REF!=\"\", \"\",#REF!)","v":{"$error":"#REF!"}},{"$f":" IF(#REF!=\"\", \"\",#REF!)","v":{"$error":"#REF!"}},{"$f":"IF(Y91=\"\", \"\", IF($L91=\"男\", VLOOKUP(Y91, データ!$B$2:$C$101, 2, FALSE), IF($L91=\"女\", VLOOKUP(Y91, データ!$F$2:$H$101, 2, FALSE), \"\")))","v":{"$error":"#REF!"}},{"$f":"IF(A91=\"\",\"\", IF(#REF!=\"\", \"\",#REF!))","v":{"$error":"#REF!"}},{"$f":" IF(#REF!=\"\", \"\",#REF!)","v":{"$error":"#REF!"}},{"$f":" IF(#REF!=\"\", \"\",#REF!)","v":{"$error":"#REF!"}},{"$f":" IF(#REF!=\"\", \"\",#REF!)","v":{"$error":"#REF!"}},{"$f":" IF(#REF!=\"\", \"\",#REF!)","v":{"$error":"#REF!"}},{"$f":"IF(AE91=\"\", \"\", IF($L91=\"男\", VLOOKUP(AE91, データ!$B$2:$C$101, 2, FALSE), IF($L91=\"女\", VLOOKUP(AE91, データ!$F$2:$H$101, 2, FALSE), \"\")))","v":{"$error":"#REF!"}},{"$f":"IF(A91=\"\",\"\", IF(#REF!=\"\", \"\",#REF!))","v":{"$error":"#REF!"}},{"$f":" IF(#REF!=\"\", \"\",#REF!)","v":{"$error":"#REF!"}},{"$f":" IF(#REF!=\"\", \"\",#REF!)","v":{"$error":"#REF!"}},{"$f":" IF(#REF!=\"\", \"\",#REF!)","v":{"$error":"#REF!"}},{"$f":" IF(#REF!=\"\", \"\",#REF!)","v":{"$error":"#REF!"}},{"$f":"IF(AK91=\"\", \"\", IF($L91=\"男\", VLOOKUP(AK91, データ!$B$2:$C$101, 2, FALSE), IF($L91=\"女\", VLOOKUP(AK91, データ!$F$2:$H$101, 2, FALSE), \"\")))","v":{"$error":"#REF!"}},{"$f":"IF(A91=\"\",\"\", IF(#REF!=\"\", \"\",#REF!))","v":{"$error":"#REF!"}},{"$f":" IF(#REF!=\"\", \"\",#REF!)","v":{"$error":"#REF!"}},{"$f":" IF(#REF!=\"\", \"\",#REF!)","v":{"$error":"#REF!"}},{"$f":" IF(#REF!=\"\", \"\",#REF!)","v":{"$error":"#REF!"}},{"$f":" IF(#REF!=\"\", \"\",#REF!)","v":{"$error":"#REF!"}},{"$f":"IF(AQ91=\"\", \"\", IF($L91=\"男\", VLOOKUP(AQ91, データ!$B$2:$C$101, 2, FALSE), IF($L91=\"女\", VLOOKUP(AQ91, データ!$F$2:$H$101, 2, FALSE), \"\")))","v":{"$error":"#REF!"}},{"$f":"IF(A91=\"\",\"\", IF(#REF!=\"\", \"\",#REF!))","v":{"$error":"#REF!"}},{"$f":" IF(#REF!=\"\", \"\",#REF!)","v":{"$error":"#REF!"}},{"$f":" IF(#REF!=\"\", \"\",#REF!)","v":{"$error":"#REF!"}},{"$f":" IF(#REF!=\"\", \"\",#REF!)","v":{"$error":"#REF!"}},{"$f":" IF(#REF!=\"\", \"\",#REF!)","v":{"$error":"#REF!"}},{"$f":"IF(AW91=\"\", \"\", IF($L91=\"男\", VLOOKUP(AW91, データ!$B$2:$C$101, 2, FALSE), IF($L91=\"女\", VLOOKUP(AW91, データ!$F$2:$H$101, 2, FALSE), \"\")))","v":{"$error":"#REF!"}},{"$f":"IF(A91=\"\",\"\", IF(#REF!=\"\", \"\",#REF!))","v":{"$error":"#REF!"}},{"$f":" IF(#REF!=\"\", \"\",#REF!)","v":{"$error":"#REF!"}},{"$f":" IF(#REF!=\"\", \"\",#REF!)","v":{"$error":"#REF!"}},{"$f":" IF(#REF!=\"\", \"\",#REF!)","v":{"$error":"#REF!"}},{"$f":" IF(#REF!=\"\", \"\",#REF!)","v":{"$error":"#REF!"}},{"$error":"#REF!"}]
[{"$f":"#REF!","v":{"$error":"#REF!"}},{"$f":" IF(#REF!=\"\", \"\",#REF!)","v":{"$error":"#REF!"}},{"$f":" IF(#REF!=\"\", \"\",#REF!)","v":{"$error":"#REF!"}},{"$f":" IF(#REF!=\"\", \"\",#REF!)","v":{"$error":"#REF!"}},{"$error":"#REF!"},{"$error":"#REF!"},{"$error":"#REF!"},{"$error":"#REF!"},{"$f":" IF(#REF!=\"\", \"\",#REF!)","v":{"$error":"#REF!"}},{"$f":" IF(#REF!=\"\", \"\",#REF!)","v":{"$error":"#REF!"}},{"$f":" IF(#REF!=\"\", \"\",#REF!)","v":{"$error":"#REF!"}},{"$f":" IF(#REF!=\"\", \"\",#REF!)","v":{"$error":"#REF!"}},{"$f":" IF(#REF!=\"\", \"\",#REF!)","v":{"$error":"#REF!"}},{"$f":" IF(#REF!=\"\", \"\",#REF!)","v":{"$error":"#REF!"}},{"$f":" IF(#REF!=\"\", \"\",#REF!)","v":{"$error":"#REF!"}},{"$f":" IF(#REF!=\"\", \"\",#REF!)","v":{"$error":"#REF!"}},{"$f":"IF(A92=\"\",\"\",#REF!)","v":{"$error":"#REF!"}},{"$f":" IF(Q92=\"\", \"\",#REF!)","v":{"$error":"#REF!"}},{"$f":" IF(Q92=\"\", \"\",#REF!)","v":{"$error":"#REF!"}},{"$f":" IF(Q92=\"\", \"\",#REF!)","v":{"$error":"#REF!"}},{"$f":" IF(Q92=\"\", \"\",#REF!)","v":{"$error":"#REF!"}},{"$f":" IF(#REF!=\"\", \"\",#REF!)","v":{"$error":"#REF!"}},{"$f":" IF(#REF!=\"\", \"\",#REF!)","v":{"$error":"#REF!"}},{"$f":"IF(Y92=\"\", \"\", IF($L92=\"男\", VLOOKUP(Y92, データ!$B$2:$C$101, 2, FALSE), IF($L92=\"女\", VLOOKUP(Y92, データ!$F$2:$H$101, 2, FALSE), \"\")))","v":{"$error":"#REF!"}},{"$f":"IF(A92=\"\",\"\", IF(#REF!=\"\", \"\",#REF!))","v":{"$error":"#REF!"}},{"$f":" IF(#REF!=\"\", \"\",#REF!)","v":{"$error":"#REF!"}},{"$f":" IF(#REF!=\"\", \"\",#REF!)","v":{"$error":"#REF!"}},{"$f":" IF(#REF!=\"\", \"\",#REF!)","v":{"$error":"#REF!"}},{"$f":" IF(#REF!=\"\", \"\",#REF!)","v":{"$error":"#REF!"}},{"$f":"IF(AE92=\"\", \"\", IF($L92=\"男\", VLOOKUP(AE92, データ!$B$2:$C$101, 2, FALSE), IF($L92=\"女\", VLOOKUP(AE92, データ!$F$2:$H$101, 2, FALSE), \"\")))","v":{"$error":"#REF!"}},{"$f":"IF(A92=\"\",\"\", IF(#REF!=\"\", \"\",#REF!))","v":{"$error":"#REF!"}},{"$f":" IF(#REF!=\"\", \"\",#REF!)","v":{"$error":"#REF!"}},{"$f":" IF(#REF!=\"\", \"\",#REF!)","v":{"$error":"#REF!"}},{"$f":" IF(#REF!=\"\", \"\",#REF!)","v":{"$error":"#REF!"}},{"$f":" IF(#REF!=\"\", \"\",#REF!)","v":{"$error":"#REF!"}},{"$f":"IF(AK92=\"\", \"\", IF($L92=\"男\", VLOOKUP(AK92, データ!$B$2:$C$101, 2, FALSE), IF($L92=\"女\", VLOOKUP(AK92, データ!$F$2:$H$101, 2, FALSE), \"\")))","v":{"$error":"#REF!"}},{"$f":"IF(A92=\"\",\"\", IF(#REF!=\"\", \"\",#REF!))","v":{"$error":"#REF!"}},{"$f":" IF(#REF!=\"\", \"\",#REF!)","v":{"$error":"#REF!"}},{"$f":" IF(#REF!=\"\", \"\",#REF!)","v":{"$error":"#REF!"}},{"$f":" IF(#REF!=\"\", \"\",#REF!)","v":{"$error":"#REF!"}},{"$f":" IF(#REF!=\"\", \"\",#REF!)","v":{"$error":"#REF!"}},{"$f":"IF(AQ92=\"\", \"\", IF($L92=\"男\", VLOOKUP(AQ92, データ!$B$2:$C$101, 2, FALSE), IF($L92=\"女\", VLOOKUP(AQ92, データ!$F$2:$H$101, 2, FALSE), \"\")))","v":{"$error":"#REF!"}},{"$f":"IF(A92=\"\",\"\", IF(#REF!=\"\", \"\",#REF!))","v":{"$error":"#REF!"}},{"$f":" IF(#REF!=\"\", \"\",#REF!)","v":{"$error":"#REF!"}},{"$f":" IF(#REF!=\"\", \"\",#REF!)","v":{"$error":"#REF!"}},{"$f":" IF(#REF!=\"\", \"\",#REF!)","v":{"$error":"#REF!"}},{"$f":" IF(#REF!=\"\", \"\",#REF!)","v":{"$error":"#REF!"}},{"$f":"IF(AW92=\"\", \"\", IF($L92=\"男\", VLOOKUP(AW92, データ!$B$2:$C$101, 2, FALSE), IF($L92=\"女\", VLOOKUP(AW92, データ!$F$2:$H$101, 2, FALSE), \"\")))","v":{"$error":"#REF!"}},{"$f":"IF(A92=\"\",\"\", IF(#REF!=\"\", \"\",#REF!))","v":{"$error":"#REF!"}},{"$f":" IF(#REF!=\"\", \"\",#REF!)","v":{"$error":"#REF!"}},{"$f":" IF(#REF!=\"\", \"\",#REF!)","v":{"$error":"#REF!"}},{"$f":" IF(#REF!=\"\", \"\",#REF!)","v":{"$error":"#REF!"}},{"$f":" IF(#REF!=\"\", \"\",#REF!)","v":{"$error":"#REF!"}},{"$error":"#REF!"}]
[{"$f":"#REF!","v":{"$error":"#REF!"}},{"$f":" IF(#REF!=\"\", \"\",#REF!)","v":{"$error":"#REF!"}},{"$f":" IF(#REF!=\"\", \"\",#REF!)","v":{"$error":"#REF!"}},{"$f":" IF(#REF!=\"\", \"\",#REF!)","v":{"$error":"#REF!"}},{"$error":"#REF!"},{"$error":"#REF!"},{"$error":"#REF!"},{"$error":"#REF!"},{"$f":" IF(#REF!=\"\", \"\",#REF!)","v":{"$error":"#REF!"}},{"$f":" IF(#REF!=\"\", \"\",#REF!)","v":{"$error":"#REF!"}},{"$f":" IF(#REF!=\"\", \"\",#REF!)","v":{"$error":"#REF!"}},{"$f":" IF(#REF!=\"\", \"\",#REF!)","v":{"$error":"#REF!"}},{"$f":" IF(#REF!=\"\", \"\",#REF!)","v":{"$error":"#REF!"}},{"$f":" IF(#REF!=\"\", \"\",#REF!)","v":{"$error":"#REF!"}},{"$f":" IF(#REF!=\"\", \"\",#REF!)","v":{"$error":"#REF!"}},{"$f":" IF(#REF!=\"\", \"\",#REF!)","v":{"$error":"#REF!"}},{"$f":"IF(A93=\"\",\"\",#REF!)","v":{"$error":"#REF!"}},{"$f":" IF(Q93=\"\", \"\",#REF!)","v":{"$error":"#REF!"}},{"$f":" IF(Q93=\"\", \"\",#REF!)","v":{"$error":"#REF!"}},{"$f":" IF(Q93=\"\", \"\",#REF!)","v":{"$error":"#REF!"}},{"$f":" IF(Q93=\"\", \"\",#REF!)","v":{"$error":"#REF!"}},{"$f":" IF(#REF!=\"\", \"\",#REF!)","v":{"$error":"#REF!"}},{"$f":" IF(#REF!=\"\", \"\",#REF!)","v":{"$error":"#REF!"}},{"$f":"IF(Y93=\"\", \"\", IF($L93=\"男\", VLOOKUP(Y93, データ!$B$2:$C$101, 2, FALSE), IF($L93=\"女\", VLOOKUP(Y93, データ!$F$2:$H$101, 2, FALSE), \"\")))","v":{"$error":"#REF!"}},{"$f":"IF(A93=\"\",\"\", IF(#REF!=\"\", \"\",#REF!))","v":{"$error":"#REF!"}},{"$f":" IF(#REF!=\"\", \"\",#REF!)","v":{"$error":"#REF!"}},{"$f":" IF(#REF!=\"\", \"\",#REF!)","v":{"$error":"#REF!"}},{"$f":" IF(#REF!=\"\", \"\",#REF!)","v":{"$error":"#REF!"}},{"$f":" IF(#REF!=\"\", \"\",#REF!)","v":{"$error":"#REF!"}},{"$f":"IF(AE93=\"\", \"\", IF($L93=\"男\", VLOOKUP(AE93, データ!$B$2:$C$101, 2, FALSE), IF($L93=\"女\", VLOOKUP(AE93, データ!$F$2:$H$101, 2, FALSE), \"\")))","v":{"$error":"#REF!"}},{"$f":"IF(A93=\"\",\"\", IF(#REF!=\"\", \"\",#REF!))","v":{"$error":"#REF!"}},{"$f":" IF(#REF!=\"\", \"\",#REF!)","v":{"$error":"#REF!"}},{"$f":" IF(#REF!=\"\", \"\",#REF!)","v":{"$error":"#REF!"}},{"$f":" IF(#REF!=\"\", \"\",#REF!)","v":{"$error":"#REF!"}},{"$f":" IF(#REF!=\"\", \"\",#REF!)","v":{"$error":"#REF!"}},{"$f":"IF(AK93=\"\", \"\", IF($L93=\"男\", VLOOKUP(AK93, データ!$B$2:$C$101, 2, FALSE), IF($L93=\"女\", VLOOKUP(AK93, データ!$F$2:$H$101, 2, FALSE), \"\")))","v":{"$error":"#REF!"}},{"$f":"IF(A93=\"\",\"\", IF(#REF!=\"\", \"\",#REF!))","v":{"$error":"#REF!"}},{"$f":" IF(#REF!=\"\", \"\",#REF!)","v":{"$error":"#REF!"}},{"$f":" IF(#REF!=\"\", \"\",#REF!)","v":{"$error":"#REF!"}},{"$f":" IF(#REF!=\"\", \"\",#REF!)","v":{"$error":"#REF!"}},{"$f":" IF(#REF!=\"\", \"\",#REF!)","v":{"$error":"#REF!"}},{"$f":"IF(AQ93=\"\", \"\", IF($L93=\"男\", VLOOKUP(AQ93, データ!$B$2:$C$101, 2, FALSE), IF($L93=\"女\", VLOOKUP(AQ93, データ!$F$2:$H$101, 2, FALSE), \"\")))","v":{"$error":"#REF!"}},{"$f":"IF(A93=\"\",\"\", IF(#REF!=\"\", \"\",#REF!))","v":{"$error":"#REF!"}},{"$f":" IF(#REF!=\"\", \"\",#REF!)","v":{"$error":"#REF!"}},{"$f":" IF(#REF!=\"\", \"\",#REF!)","v":{"$error":"#REF!"}},{"$f":" IF(#REF!=\"\", \"\",#REF!)","v":{"$error":"#REF!"}},{"$f":" IF(#REF!=\"\", \"\",#REF!)","v":{"$error":"#REF!"}},{"$f":"IF(AW93=\"\", \"\", IF($L93=\"男\", VLOOKUP(AW93, データ!$B$2:$C$101, 2, FALSE), IF($L93=\"女\", VLOOKUP(AW93, データ!$F$2:$H$101, 2, FALSE), \"\")))","v":{"$error":"#REF!"}},{"$f":"IF(A93=\"\",\"\", IF(#REF!=\"\", \"\",#REF!))","v":{"$error":"#REF!"}},{"$f":" IF(#REF!=\"\", \"\",#REF!)","v":{"$error":"#REF!"}},{"$f":" IF(#REF!=\"\", \"\",#REF!)","v":{"$error":"#REF!"}},{"$f":" IF(#REF!=\"\", \"\",#REF!)","v":{"$error":"#REF!"}},{"$f":" IF(#REF!=\"\", \"\",#REF!)","v":{"$error":"#REF!"}},{"$error":"#REF!"}]
[{"$f":"#REF!","v":{"$error":"#REF!"}},{"$f":" IF(#REF!=\"\", \"\",#REF!)","v":{"$error":"#REF!"}},{"$f":" IF(#REF!=\"\", \"\",#REF!)","v":{"$error":"#REF!"}},{"$f":" IF(#REF!=\"\", \"\",#REF!)","v":{"$error":"#REF!"}},{"$error":"#REF!"},{"$error":"#REF!"},{"$error":"#REF!"},{"$error":"#REF!"},{"$f":" IF(#REF!=\"\", \"\",#REF!)","v":{"$error":"#REF!"}},{"$f":" IF(#REF!=\"\", \"\",#REF!)","v":{"$error":"#REF!"}},{"$f":" IF(#REF!=\"\", \"\",#REF!)","v":{"$error":"#REF!"}},{"$f":" IF(#REF!=\"\", \"\",#REF!)","v":{"$error":"#REF!"}},{"$f":" IF(#REF!=\"\", \"\",#REF!)","v":{"$error":"#REF!"}},{"$f":" IF(#REF!=\"\", \"\",#REF!)","v":{"$error":"#REF!"}},{"$f":" IF(#REF!=\"\", \"\",#REF!)","v":{"$error":"#REF!"}},{"$f":" IF(#REF!=\"\", \"\",#REF!)","v":{"$error":"#REF!"}},{"$f":"IF(A94=\"\",\"\",#REF!)","v":{"$error":"#REF!"}},{"$f":" IF(Q94=\"\", \"\",#REF!)","v":{"$error":"#REF!"}},{"$f":" IF(Q94=\"\", \"\",#REF!)","v":{"$error":"#REF!"}},{"$f":" IF(Q94=\"\", \"\",#REF!)","v":{"$error":"#REF!"}},{"$f":" IF(Q94=\"\", \"\",#REF!)","v":{"$error":"#REF!"}},{"$f":" IF(#REF!=\"\", \"\",#REF!)","v":{"$error":"#REF!"}},{"$f":" IF(#REF!=\"\", \"\",#REF!)","v":{"$error":"#REF!"}},{"$f":"IF(Y94=\"\", \"\", IF($L94=\"男\", VLOOKUP(Y94, データ!$B$2:$C$101, 2, FALSE), IF($L94=\"女\", VLOOKUP(Y94, データ!$F$2:$H$101, 2, FALSE), \"\")))","v":{"$error":"#REF!"}},{"$f":"IF(A94=\"\",\"\", IF(#REF!=\"\", \"\",#REF!))","v":{"$error":"#REF!"}},{"$f":" IF(#REF!=\"\", \"\",#REF!)","v":{"$error":"#REF!"}},{"$f":" IF(#REF!=\"\", \"\",#REF!)","v":{"$error":"#REF!"}},{"$f":" IF(#REF!=\"\", \"\",#REF!)","v":{"$error":"#REF!"}},{"$f":" IF(#REF!=\"\", \"\",#REF!)","v":{"$error":"#REF!"}},{"$f":"IF(AE94=\"\", \"\", IF($L94=\"男\", VLOOKUP(AE94, データ!$B$2:$C$101, 2, FALSE), IF($L94=\"女\", VLOOKUP(AE94, データ!$F$2:$H$101, 2, FALSE), \"\")))","v":{"$error":"#REF!"}},{"$f":"IF(A94=\"\",\"\", IF(#REF!=\"\", \"\",#REF!))","v":{"$error":"#REF!"}},{"$f":" IF(#REF!=\"\", \"\",#REF!)","v":{"$error":"#REF!"}},{"$f":" IF(#REF!=\"\", \"\",#REF!)","v":{"$error":"#REF!"}},{"$f":" IF(#REF!=\"\", \"\",#REF!)","v":{"$error":"#REF!"}},{"$f":" IF(#REF!=\"\", \"\",#REF!)","v":{"$error":"#REF!"}},{"$f":"IF(AK94=\"\", \"\", IF($L94=\"男\", VLOOKUP(AK94, データ!$B$2:$C$101, 2, FALSE), IF($L94=\"女\", VLOOKUP(AK94, データ!$F$2:$H$101, 2, FALSE), \"\")))","v":{"$error":"#REF!"}},{"$f":"IF(A94=\"\",\"\", IF(#REF!=\"\", \"\",#REF!))","v":{"$error":"#REF!"}},{"$f":" IF(#REF!=\"\", \"\",#REF!)","v":{"$error":"#REF!"}},{"$f":" IF(#REF!=\"\", \"\",#REF!)","v":{"$error":"#REF!"}},{"$f":" IF(#REF!=\"\", \"\",#REF!)","v":{"$error":"#REF!"}},{"$f":" IF(#REF!=\"\", \"\",#REF!)","v":{"$error":"#REF!"}},{"$f":"IF(AQ94=\"\", \"\", IF($L94=\"男\", VLOOKUP(AQ94, データ!$B$2:$C$101, 2, FALSE), IF($L94=\"女\", VLOOKUP(AQ94, データ!$F$2:$H$101, 2, FALSE), \"\")))","v":{"$error":"#REF!"}},{"$f":"IF(A94=\"\",\"\", IF(#REF!=\"\", \"\",#REF!))","v":{"$error":"#REF!"}},{"$f":" IF(#REF!=\"\", \"\",#REF!)","v":{"$error":"#REF!"}},{"$f":" IF(#REF!=\"\", \"\",#REF!)","v":{"$error":"#REF!"}},{"$f":" IF(#REF!=\"\", \"\",#REF!)","v":{"$error":"#REF!"}},{"$f":" IF(#REF!=\"\", \"\",#REF!)","v":{"$error":"#REF!"}},{"$f":"IF(AW94=\"\", \"\", IF($L94=\"男\", VLOOKUP(AW94, データ!$B$2:$C$101, 2, FALSE), IF($L94=\"女\", VLOOKUP(AW94, データ!$F$2:$H$101, 2, FALSE), \"\")))","v":{"$error":"#REF!"}},{"$f":"IF(A94=\"\",\"\", IF(#REF!=\"\", \"\",#REF!))","v":{"$error":"#REF!"}},{"$f":" IF(#REF!=\"\", \"\",#REF!)","v":{"$error":"#REF!"}},{"$f":" IF(#REF!=\"\", \"\",#REF!)","v":{"$error":"#REF!"}},{"$f":" IF(#REF!=\"\", \"\",#REF!)","v":{"$error":"#REF!"}},{"$f":" IF(#REF!=\"\", \"\",#REF!)","v":{"$error":"#REF!"}},{"$error":"#REF!"}]
[{"$f":"#REF!","v":{"$error":"#REF!"}},{"$f":" IF(#REF!=\"\", \"\",#REF!)","v":{"$error":"#REF!"}},{"$f":" IF(#REF!=\"\", \"\",#REF!)","v":{"$error":"#REF!"}},{"$f":" IF(#REF!=\"\", \"\",#REF!)","v":{"$error":"#REF!"}},{"$error":"#REF!"},{"$error":"#REF!"},{"$error":"#REF!"},{"$error":"#REF!"},{"$f":" IF(#REF!=\"\", \"\",#REF!)","v":{"$error":"#REF!"}},{"$f":" IF(#REF!=\"\", \"\",#REF!)","v":{"$error":"#REF!"}},{"$f":" IF(#REF!=\"\", \"\",#REF!)","v":{"$error":"#REF!"}},{"$f":" IF(#REF!=\"\", \"\",#REF!)","v":{"$error":"#REF!"}},{"$f":" IF(#REF!=\"\", \"\",#REF!)","v":{"$error":"#REF!"}},{"$f":" IF(#REF!=\"\", \"\",#REF!)","v":{"$error":"#REF!"}},{"$f":" IF(#REF!=\"\", \"\",#REF!)","v":{"$error":"#REF!"}},{"$f":" IF(#REF!=\"\", \"\",#REF!)","v":{"$error":"#REF!"}},{"$f":"IF(A95=\"\",\"\",#REF!)","v":{"$error":"#REF!"}},{"$f":" IF(Q95=\"\", \"\",#REF!)","v":{"$error":"#REF!"}},{"$f":" IF(Q95=\"\", \"\",#REF!)","v":{"$error":"#REF!"}},{"$f":" IF(Q95=\"\", \"\",#REF!)","v":{"$error":"#REF!"}},{"$f":" IF(Q95=\"\", \"\",#REF!)","v":{"$error":"#REF!"}},{"$f":" IF(#REF!=\"\", \"\",#REF!)","v":{"$error":"#REF!"}},{"$f":" IF(#REF!=\"\", \"\",#REF!)","v":{"$error":"#REF!"}},{"$f":"IF(Y95=\"\", \"\", IF($L95=\"男\", VLOOKUP(Y95, データ!$B$2:$C$101, 2, FALSE), IF($L95=\"女\", VLOOKUP(Y95, データ!$F$2:$H$101, 2, FALSE), \"\")))","v":{"$error":"#REF!"}},{"$f":"IF(A95=\"\",\"\", IF(#REF!=\"\", \"\",#REF!))","v":{"$error":"#REF!"}},{"$f":" IF(#REF!=\"\", \"\",#REF!)","v":{"$error":"#REF!"}},{"$f":" IF(#REF!=\"\", \"\",#REF!)","v":{"$error":"#REF!"}},{"$f":" IF(#REF!=\"\", \"\",#REF!)","v":{"$error":"#REF!"}},{"$f":" IF(#REF!=\"\", \"\",#REF!)","v":{"$error":"#REF!"}},{"$f":"IF(AE95=\"\", \"\", IF($L95=\"男\", VLOOKUP(AE95, データ!$B$2:$C$101, 2, FALSE), IF($L95=\"女\", VLOOKUP(AE95, データ!$F$2:$H$101, 2, FALSE), \"\")))","v":{"$error":"#REF!"}},{"$f":"IF(A95=\"\",\"\", IF(#REF!=\"\", \"\",#REF!))","v":{"$error":"#REF!"}},{"$f":" IF(#REF!=\"\", \"\",#REF!)","v":{"$error":"#REF!"}},{"$f":" IF(#REF!=\"\", \"\",#REF!)","v":{"$error":"#REF!"}},{"$f":" IF(#REF!=\"\", \"\",#REF!)","v":{"$error":"#REF!"}},{"$f":" IF(#REF!=\"\", \"\",#REF!)","v":{"$error":"#REF!"}},{"$f":"IF(AK95=\"\", \"\", IF($L95=\"男\", VLOOKUP(AK95, データ!$B$2:$C$101, 2, FALSE), IF($L95=\"女\", VLOOKUP(AK95, データ!$F$2:$H$101, 2, FALSE), \"\")))","v":{"$error":"#REF!"}},{"$f":"IF(A95=\"\",\"\", IF(#REF!=\"\", \"\",#REF!))","v":{"$error":"#REF!"}},{"$f":" IF(#REF!=\"\", \"\",#REF!)","v":{"$error":"#REF!"}},{"$f":" IF(#REF!=\"\", \"\",#REF!)","v":{"$error":"#REF!"}},{"$f":" IF(#REF!=\"\", \"\",#REF!)","v":{"$error":"#REF!"}},{"$f":" IF(#REF!=\"\", \"\",#REF!)","v":{"$error":"#REF!"}},{"$f":"IF(AQ95=\"\", \"\", IF($L95=\"男\", VLOOKUP(AQ95, データ!$B$2:$C$101, 2, FALSE), IF($L95=\"女\", VLOOKUP(AQ95, データ!$F$2:$H$101, 2, FALSE), \"\")))","v":{"$error":"#REF!"}},{"$f":"IF(A95=\"\",\"\", IF(#REF!=\"\", \"\",#REF!))","v":{"$error":"#REF!"}},{"$f":" IF(#REF!=\"\", \"\",#REF!)","v":{"$error":"#REF!"}},{"$f":" IF(#REF!=\"\", \"\",#REF!)","v":{"$error":"#REF!"}},{"$f":" IF(#REF!=\"\", \"\",#REF!)","v":{"$error":"#REF!"}},{"$f":" IF(#REF!=\"\", \"\",#REF!)","v":{"$error":"#REF!"}},{"$f":"IF(AW95=\"\", \"\", IF($L95=\"男\", VLOOKUP(AW95, データ!$B$2:$C$101, 2, FALSE), IF($L95=\"女\", VLOOKUP(AW95, データ!$F$2:$H$101, 2, FALSE), \"\")))","v":{"$error":"#REF!"}},{"$f":"IF(A95=\"\",\"\", IF(#REF!=\"\", \"\",#REF!))","v":{"$error":"#REF!"}},{"$f":" IF(#REF!=\"\", \"\",#REF!)","v":{"$error":"#REF!"}},{"$f":" IF(#REF!=\"\", \"\",#REF!)","v":{"$error":"#REF!"}},{"$f":" IF(#REF!=\"\", \"\",#REF!)","v":{"$error":"#REF!"}},{"$f":" IF(#REF!=\"\", \"\",#REF!)","v":{"$error":"#REF!"}},{"$error":"#REF!"}]
[{"$f":"#REF!","v":{"$error":"#REF!"}},{"$f":" IF(#REF!=\"\", \"\",#REF!)","v":{"$error":"#REF!"}},{"$f":" IF(#REF!=\"\", \"\",#REF!)","v":{"$error":"#REF!"}},{"$f":" IF(#REF!=\"\", \"\",#REF!)","v":{"$error":"#REF!"}},{"$error":"#REF!"},{"$error":"#REF!"},{"$error":"#REF!"},{"$error":"#REF!"},{"$f":" IF(#REF!=\"\", \"\",#REF!)","v":{"$error":"#REF!"}},{"$f":" IF(#REF!=\"\", \"\",#REF!)","v":{"$error":"#REF!"}},{"$f":" IF(#REF!=\"\", \"\",#REF!)","v":{"$error":"#REF!"}},{"$f":" IF(#REF!=\"\", \"\",#REF!)","v":{"$error":"#REF!"}},{"$f":" IF(#REF!=\"\", \"\",#REF!)","v":{"$error":"#REF!"}},{"$f":" IF(#REF!=\"\", \"\",#REF!)","v":{"$error":"#REF!"}},{"$f":" IF(#REF!=\"\", \"\",#REF!)","v":{"$error":"#REF!"}},{"$f":" IF(#REF!=\"\", \"\",#REF!)","v":{"$error":"#REF!"}},{"$f":"IF(A96=\"\",\"\",#REF!)","v":{"$error":"#REF!"}},{"$f":" IF(Q96=\"\", \"\",#REF!)","v":{"$error":"#REF!"}},{"$f":" IF(Q96=\"\", \"\",#REF!)","v":{"$error":"#REF!"}},{"$f":" IF(Q96=\"\", \"\",#REF!)","v":{"$error":"#REF!"}},{"$f":" IF(Q96=\"\", \"\",#REF!)","v":{"$error":"#REF!"}},{"$f":" IF(#REF!=\"\", \"\",#REF!)","v":{"$error":"#REF!"}},{"$f":" IF(#REF!=\"\", \"\",#REF!)","v":{"$error":"#REF!"}},{"$f":"IF(Y96=\"\", \"\", IF($L96=\"男\", VLOOKUP(Y96, データ!$B$2:$C$101, 2, FALSE), IF($L96=\"女\", VLOOKUP(Y96, データ!$F$2:$H$101, 2, FALSE), \"\")))","v":{"$error":"#REF!"}},{"$f":"IF(A96=\"\",\"\", IF(#REF!=\"\", \"\",#REF!))","v":{"$error":"#REF!"}},{"$f":" IF(#REF!=\"\", \"\",#REF!)","v":{"$error":"#REF!"}},{"$f":" IF(#REF!=\"\", \"\",#REF!)","v":{"$error":"#REF!"}},{"$f":" IF(#REF!=\"\", \"\",#REF!)","v":{"$error":"#REF!"}},{"$f":" IF(#REF!=\"\", \"\",#REF!)","v":{"$error":"#REF!"}},{"$f":"IF(AE96=\"\", \"\", IF($L96=\"男\", VLOOKUP(AE96, データ!$B$2:$C$101, 2, FALSE), IF($L96=\"女\", VLOOKUP(AE96, データ!$F$2:$H$101, 2, FALSE), \"\")))","v":{"$error":"#REF!"}},{"$f":"IF(A96=\"\",\"\", IF(#REF!=\"\", \"\",#REF!))","v":{"$error":"#REF!"}},{"$f":" IF(#REF!=\"\", \"\",#REF!)","v":{"$error":"#REF!"}},{"$f":" IF(#REF!=\"\", \"\",#REF!)","v":{"$error":"#REF!"}},{"$f":" IF(#REF!=\"\", \"\",#REF!)","v":{"$error":"#REF!"}},{"$f":" IF(#REF!=\"\", \"\",#REF!)","v":{"$error":"#REF!"}},{"$f":"IF(AK96=\"\", \"\", IF($L96=\"男\", VLOOKUP(AK96, データ!$B$2:$C$101, 2, FALSE), IF($L96=\"女\", VLOOKUP(AK96, データ!$F$2:$H$101, 2, FALSE), \"\")))","v":{"$error":"#REF!"}},{"$f":"IF(A96=\"\",\"\", IF(#REF!=\"\", \"\",#REF!))","v":{"$error":"#REF!"}},{"$f":" IF(#REF!=\"\", \"\",#REF!)","v":{"$error":"#REF!"}},{"$f":" IF(#REF!=\"\", \"\",#REF!)","v":{"$error":"#REF!"}},{"$f":" IF(#REF!=\"\", \"\",#REF!)","v":{"$error":"#REF!"}},{"$f":" IF(#REF!=\"\", \"\",#REF!)","v":{"$error":"#REF!"}},{"$f":"IF(AQ96=\"\", \"\", IF($L96=\"男\", VLOOKUP(AQ96, データ!$B$2:$C$101, 2, FALSE), IF($L96=\"女\", VLOOKUP(AQ96, データ!$F$2:$H$101, 2, FALSE), \"\")))","v":{"$error":"#REF!"}},{"$f":"IF(A96=\"\",\"\", IF(#REF!=\"\", \"\",#REF!))","v":{"$error":"#REF!"}},{"$f":" IF(#REF!=\"\", \"\",#REF!)","v":{"$error":"#REF!"}},{"$f":" IF(#REF!=\"\", \"\",#REF!)","v":{"$error":"#REF!"}},{"$f":" IF(#REF!=\"\", \"\",#REF!)","v":{"$error":"#REF!"}},{"$f":" IF(#REF!=\"\", \"\",#REF!)","v":{"$error":"#REF!"}},{"$f":"IF(AW96=\"\", \"\", IF($L96=\"男\", VLOOKUP(AW96, データ!$B$2:$C$101, 2, FALSE), IF($L96=\"女\", VLOOKUP(AW96, データ!$F$2:$H$101, 2, FALSE), \"\")))","v":{"$error":"#REF!"}},{"$f":"IF(A96=\"\",\"\", IF(#REF!=\"\", \"\",#REF!))","v":{"$error":"#REF!"}},{"$f":" IF(#REF!=\"\", \"\",#REF!)","v":{"$error":"#REF!"}},{"$f":" IF(#REF!=\"\", \"\",#REF!)","v":{"$error":"#REF!"}},{"$f":" IF(#REF!=\"\", \"\",#REF!)","v":{"$error":"#REF!"}},{"$f":" IF(#REF!=\"\", \"\",#REF!)","v":{"$error":"#REF!"}},{"$error":"#REF!"}]
[{"$f":"#REF!","v":{"$error":"#REF!"}},{"$f":" IF(#REF!=\"\", \"\",#REF!)","v":{"$error":"#REF!"}},{"$f":" IF(#REF!=\"\", \"\",#REF!)","v":{"$error":"#REF!"}},{"$f":" IF(#REF!=\"\", \"\",#REF!)","v":{"$error":"#REF!"}},{"$error":"#REF!"},{"$error":"#REF!"},{"$error":"#REF!"},{"$error":"#REF!"},{"$f":" IF(#REF!=\"\", \"\",#REF!)","v":{"$error":"#REF!"}},{"$f":" IF(#REF!=\"\", \"\",#REF!)","v":{"$error":"#REF!"}},{"$f":" IF(#REF!=\"\", \"\",#REF!)","v":{"$error":"#REF!"}},{"$f":" IF(#REF!=\"\", \"\",#REF!)","v":{"$error":"#REF!"}},{"$f":" IF(#REF!=\"\", \"\",#REF!)","v":{"$error":"#REF!"}},{"$f":" IF(#REF!=\"\", \"\",#REF!)","v":{"$error":"#REF!"}},{"$f":" IF(#REF!=\"\", \"\",#REF!)","v":{"$error":"#REF!"}},{"$f":" IF(#REF!=\"\", \"\",#REF!)","v":{"$error":"#REF!"}},{"$f":"IF(A97=\"\",\"\",#REF!)","v":{"$error":"#REF!"}},{"$f":" IF(Q97=\"\", \"\",#REF!)","v":{"$error":"#REF!"}},{"$f":" IF(Q97=\"\", \"\",#REF!)","v":{"$error":"#REF!"}},{"$f":" IF(Q97=\"\", \"\",#REF!)","v":{"$error":"#REF!"}},{"$f":" IF(Q97=\"\", \"\",#REF!)","v":{"$error":"#REF!"}},{"$f":" IF(#REF!=\"\", \"\",#REF!)","v":{"$error":"#REF!"}},{"$f":" IF(#REF!=\"\", \"\",#REF!)","v":{"$error":"#REF!"}},{"$f":"IF(Y97=\"\", \"\", IF($L97=\"男\", VLOOKUP(Y97, データ!$B$2:$C$101, 2, FALSE), IF($L97=\"女\", VLOOKUP(Y97, データ!$F$2:$H$101, 2, FALSE), \"\")))","v":{"$error":"#REF!"}},{"$f":"IF(A97=\"\",\"\", IF(#REF!=\"\", \"\",#REF!))","v":{"$error":"#REF!"}},{"$f":" IF(#REF!=\"\", \"\",#REF!)","v":{"$error":"#REF!"}},{"$f":" IF(#REF!=\"\", \"\",#REF!)","v":{"$error":"#REF!"}},{"$f":" IF(#REF!=\"\", \"\",#REF!)","v":{"$error":"#REF!"}},{"$f":" IF(#REF!=\"\", \"\",#REF!)","v":{"$error":"#REF!"}},{"$f":"IF(AE97=\"\", \"\", IF($L97=\"男\", VLOOKUP(AE97, データ!$B$2:$C$101, 2, FALSE), IF($L97=\"女\", VLOOKUP(AE97, データ!$F$2:$H$101, 2, FALSE), \"\")))","v":{"$error":"#REF!"}},{"$f":"IF(A97=\"\",\"\", IF(#REF!=\"\", \"\",#REF!))","v":{"$error":"#REF!"}},{"$f":" IF(#REF!=\"\", \"\",#REF!)","v":{"$error":"#REF!"}},{"$f":" IF(#REF!=\"\", \"\",#REF!)","v":{"$error":"#REF!"}},{"$f":" IF(#REF!=\"\", \"\",#REF!)","v":{"$error":"#REF!"}},{"$f":" IF(#REF!=\"\", \"\",#REF!)","v":{"$error":"#REF!"}},{"$f":"IF(AK97=\"\", \"\", IF($L97=\"男\", VLOOKUP(AK97, データ!$B$2:$C$101, 2, FALSE), IF($L97=\"女\", VLOOKUP(AK97, データ!$F$2:$H$101, 2, FALSE), \"\")))","v":{"$error":"#REF!"}},{"$f":"IF(A97=\"\",\"\", IF(#REF!=\"\", \"\",#REF!))","v":{"$error":"#REF!"}},{"$f":" IF(#REF!=\"\", \"\",#REF!)","v":{"$error":"#REF!"}},{"$f":" IF(#REF!=\"\", \"\",#REF!)","v":{"$error":"#REF!"}},{"$f":" IF(#REF!=\"\", \"\",#REF!)","v":{"$error":"#REF!"}},{"$f":" IF(#REF!=\"\", \"\",#REF!)","v":{"$error":"#REF!"}},{"$f":"IF(AQ97=\"\", \"\", IF($L97=\"男\", VLOOKUP(AQ97, データ!$B$2:$C$101, 2, FALSE), IF($L97=\"女\", VLOOKUP(AQ97, データ!$F$2:$H$101, 2, FALSE), \"\")))","v":{"$error":"#REF!"}},{"$f":"IF(A97=\"\",\"\", IF(#REF!=\"\", \"\",#REF!))","v":{"$error":"#REF!"}},{"$f":" IF(#REF!=\"\", \"\",#REF!)","v":{"$error":"#REF!"}},{"$f":" IF(#REF!=\"\", \"\",#REF!)","v":{"$error":"#REF!"}},{"$f":" IF(#REF!=\"\", \"\",#REF!)","v":{"$error":"#REF!"}},{"$f":" IF(#REF!=\"\", \"\",#REF!)","v":{"$error":"#REF!"}},{"$f":"IF(AW97=\"\", \"\", IF($L97=\"男\", VLOOKUP(AW97, データ!$B$2:$C$101, 2, FALSE), IF($L97=\"女\", VLOOKUP(AW97, データ!$F$2:$H$101, 2, FALSE), \"\")))","v":{"$error":"#REF!"}},{"$f":"IF(A97=\"\",\"\", IF(#REF!=\"\", \"\",#REF!))","v":{"$error":"#REF!"}},{"$f":" IF(#REF!=\"\", \"\",#REF!)","v":{"$error":"#REF!"}},{"$f":" IF(#REF!=\"\", \"\",#REF!)","v":{"$error":"#REF!"}},{"$f":" IF(#REF!=\"\", \"\",#REF!)","v":{"$error":"#REF!"}},{"$f":" IF(#REF!=\"\", \"\",#REF!)","v":{"$error":"#REF!"}},{"$error":"#REF!"}]
[{"$f":"#REF!","v":{"$error":"#REF!"}},{"$f":" IF(#REF!=\"\", \"\",#REF!)","v":{"$error":"#REF!"}},{"$f":" IF(#REF!=\"\", \"\",#REF!)","v":{"$error":"#REF!"}},{"$f":" IF(#REF!=\"\", \"\",#REF!)","v":{"$error":"#REF!"}},{"$error":"#REF!"},{"$error":"#REF!"},{"$error":"#REF!"},{"$error":"#REF!"},{"$f":" IF(#REF!=\"\", \"\",#REF!)","v":{"$error":"#REF!"}},{"$f":" IF(#REF!=\"\", \"\",#REF!)","v":{"$error":"#REF!"}},{"$f":" IF(#REF!=\"\", \"\",#REF!)","v":{"$error":"#REF!"}},{"$f":" IF(#REF!=\"\", \"\",#REF!)","v":{"$error":"#REF!"}},{"$f":" IF(#REF!=\"\", \"\",#REF!)","v":{"$error":"#REF!"}},{"$f":" IF(#REF!=\"\", \"\",#REF!)","v":{"$error":"#REF!"}},{"$f":" IF(#REF!=\"\", \"\",#REF!)","v":{"$error":"#REF!"}},{"$f":" IF(#REF!=\"\", \"\",#REF!)","v":{"$error":"#REF!"}},{"$f":"IF(A98=\"\",\"\",#REF!)","v":{"$error":"#REF!"}},{"$f":" IF(Q98=\"\", \"\",#REF!)","v":{"$error":"#REF!"}},{"$f":" IF(Q98=\"\", \"\",#REF!)","v":{"$error":"#REF!"}},{"$f":" IF(Q98=\"\", \"\",#REF!)","v":{"$error":"#REF!"}},{"$f":" IF(Q98=\"\", \"\",#REF!)","v":{"$error":"#REF!"}},{"$f":" IF(#REF!=\"\", \"\",#REF!)","v":{"$error":"#REF!"}},{"$f":" IF(#REF!=\"\", \"\",#REF!)","v":{"$error":"#REF!"}},{"$f":"IF(Y98=\"\", \"\", IF($L98=\"男\", VLOOKUP(Y98, データ!$B$2:$C$101, 2, FALSE), IF($L98=\"女\", VLOOKUP(Y98, データ!$F$2:$H$101, 2, FALSE), \"\")))","v":{"$error":"#REF!"}},{"$f":"IF(A98=\"\",\"\", IF(#REF!=\"\", \"\",#REF!))","v":{"$error":"#REF!"}},{"$f":" IF(#REF!=\"\", \"\",#REF!)","v":{"$error":"#REF!"}},{"$f":" IF(#REF!=\"\", \"\",#REF!)","v":{"$error":"#REF!"}},{"$f":" IF(#REF!=\"\", \"\",#REF!)","v":{"$error":"#REF!"}},{"$f":" IF(#REF!=\"\", \"\",#REF!)","v":{"$error":"#REF!"}},{"$f":"IF(AE98=\"\", \"\", IF($L98=\"男\", VLOOKUP(AE98, データ!$B$2:$C$101, 2, FALSE), IF($L98=\"女\", VLOOKUP(AE98, データ!$F$2:$H$101, 2, FALSE), \"\")))","v":{"$error":"#REF!"}},{"$f":"IF(A98=\"\",\"\", IF(#REF!=\"\", \"\",#REF!))","v":{"$error":"#REF!"}},{"$f":" IF(#REF!=\"\", \"\",#REF!)","v":{"$error":"#REF!"}},{"$f":" IF(#REF!=\"\", \"\",#REF!)","v":{"$error":"#REF!"}},{"$f":" IF(#REF!=\"\", \"\",#REF!)","v":{"$error":"#REF!"}},{"$f":" IF(#REF!=\"\", \"\",#REF!)","v":{"$error":"#REF!"}},{"$f":"IF(AK98=\"\", \"\", IF($L98=\"男\", VLOOKUP(AK98, データ!$B$2:$C$101, 2, FALSE), IF($L98=\"女\", VLOOKUP(AK98, データ!$F$2:$H$101, 2, FALSE), \"\")))","v":{"$error":"#REF!"}},{"$f":"IF(A98=\"\",\"\", IF(#REF!=\"\", \"\",#REF!))","v":{"$error":"#REF!"}},{"$f":" IF(#REF!=\"\", \"\",#REF!)","v":{"$error":"#REF!"}},{"$f":" IF(#REF!=\"\", \"\",#REF!)","v":{"$error":"#REF!"}},{"$f":" IF(#REF!=\"\", \"\",#REF!)","v":{"$error":"#REF!"}},{"$f":" IF(#REF!=\"\", \"\",#REF!)","v":{"$error":"#REF!"}},{"$f":"IF(AQ98=\"\", \"\", IF($L98=\"男\", VLOOKUP(AQ98, データ!$B$2:$C$101, 2, FALSE), IF($L98=\"女\", VLOOKUP(AQ98, データ!$F$2:$H$101, 2, FALSE), \"\")))","v":{"$error":"#REF!"}},{"$f":"IF(A98=\"\",\"\", IF(#REF!=\"\", \"\",#REF!))","v":{"$error":"#REF!"}},{"$f":" IF(#REF!=\"\", \"\",#REF!)","v":{"$error":"#REF!"}},{"$f":" IF(#REF!=\"\", \"\",#REF!)","v":{"$error":"#REF!"}},{"$f":" IF(#REF!=\"\", \"\",#REF!)","v":{"$error":"#REF!"}},{"$f":" IF(#REF!=\"\", \"\",#REF!)","v":{"$error":"#REF!"}},{"$f":"IF(AW98=\"\", \"\", IF($L98=\"男\", VLOOKUP(AW98, データ!$B$2:$C$101, 2, FALSE), IF($L98=\"女\", VLOOKUP(AW98, データ!$F$2:$H$101, 2, FALSE), \"\")))","v":{"$error":"#REF!"}},{"$f":"IF(A98=\"\",\"\", IF(#REF!=\"\", \"\",#REF!))","v":{"$error":"#REF!"}},{"$f":" IF(#REF!=\"\", \"\",#REF!)","v":{"$error":"#REF!"}},{"$f":" IF(#REF!=\"\", \"\",#REF!)","v":{"$error":"#REF!"}},{"$f":" IF(#REF!=\"\", \"\",#REF!)","v":{"$error":"#REF!"}},{"$f":" IF(#REF!=\"\", \"\",#REF!)","v":{"$error":"#REF!"}},{"$error":"#REF!"}]
[{"$f":"#REF!","v":{"$error":"#REF!"}},{"$f":" IF(#REF!=\"\", \"\",#REF!)","v":{"$error":"#REF!"}},{"$f":" IF(#REF!=\"\", \"\",#REF!)","v":{"$error":"#REF!"}},{"$f":" IF(#REF!=\"\", \"\",#REF!)","v":{"$error":"#REF!"}},{"$error":"#REF!"},{"$error":"#REF!"},{"$error":"#REF!"},{"$error":"#REF!"},{"$f":" IF(#REF!=\"\", \"\",#REF!)","v":{"$error":"#REF!"}},{"$f":" IF(#REF!=\"\", \"\",#REF!)","v":{"$error":"#REF!"}},{"$f":" IF(#REF!=\"\", \"\",#REF!)","v":{"$error":"#REF!"}},{"$f":" IF(#REF!=\"\", \"\",#REF!)","v":{"$error":"#REF!"}},{"$f":" IF(#REF!=\"\", \"\",#REF!)","v":{"$error":"#REF!"}},{"$f":" IF(#REF!=\"\", \"\",#REF!)","v":{"$error":"#REF!"}},{"$f":" IF(#REF!=\"\", \"\",#REF!)","v":{"$error":"#REF!"}},{"$f":" IF(#REF!=\"\", \"\",#REF!)","v":{"$error":"#REF!"}},{"$f":"IF(A99=\"\",\"\",#REF!)","v":{"$error":"#REF!"}},{"$f":" IF(Q99=\"\", \"\",#REF!)","v":{"$error":"#REF!"}},{"$f":" IF(Q99=\"\", \"\",#REF!)","v":{"$error":"#REF!"}},{"$f":" IF(Q99=\"\", \"\",#REF!)","v":{"$error":"#REF!"}},{"$f":" IF(Q99=\"\", \"\",#REF!)","v":{"$error":"#REF!"}},{"$f":" IF(#REF!=\"\", \"\",#REF!)","v":{"$error":"#REF!"}},{"$f":" IF(#REF!=\"\", \"\",#REF!)","v":{"$error":"#REF!"}},{"$f":"IF(Y99=\"\", \"\", IF($L99=\"男\", VLOOKUP(Y99, データ!$B$2:$C$101, 2, FALSE), IF($L99=\"女\", VLOOKUP(Y99, データ!$F$2:$H$101, 2, FALSE), \"\")))","v":{"$error":"#REF!"}},{"$f":"IF(A99=\"\",\"\", IF(#REF!=\"\", \"\",#REF!))","v":{"$error":"#REF!"}},{"$f":" IF(#REF!=\"\", \"\",#REF!)","v":{"$error":"#REF!"}},{"$f":" IF(#REF!=\"\", \"\",#REF!)","v":{"$error":"#REF!"}},{"$f":" IF(#REF!=\"\", \"\",#REF!)","v":{"$error":"#REF!"}},{"$f":" IF(#REF!=\"\", \"\",#REF!)","v":{"$error":"#REF!"}},{"$f":"IF(AE99=\"\", \"\", IF($L99=\"男\", VLOOKUP(AE99, データ!$B$2:$C$101, 2, FALSE), IF($L99=\"女\", VLOOKUP(AE99, データ!$F$2:$H$101, 2, FALSE), \"\")))","v":{"$error":"#REF!"}},{"$f":"IF(A99=\"\",\"\", IF(#REF!=\"\", \"\",#REF!))","v":{"$error":"#REF!"}},{"$f":" IF(#REF!=\"\", \"\",#REF!)","v":{"$error":"#REF!"}},{"$f":" IF(#REF!=\"\", \"\",#REF!)","v":{"$error":"#REF!"}},{"$f":" IF(#REF!=\"\", \"\",#REF!)","v":{"$error":"#REF!"}},{"$f":" IF(#REF!=\"\", \"\",#REF!)","v":{"$error":"#REF!"}},{"$f":"IF(AK99=\"\", \"\", IF($L99=\"男\", VLOOKUP(AK99, データ!$B$2:$C$101, 2, FALSE), IF($L99=\"女\", VLOOKUP(AK99, データ!$F$2:$H$101, 2, FALSE), \"\")))","v":{"$error":"#REF!"}},{"$f":"IF(A99=\"\",\"\", IF(#REF!=\"\", \"\",#REF!))","v":{"$error":"#REF!"}},{"$f":" IF(#REF!=\"\", \"\",#REF!)","v":{"$error":"#REF!"}},{"$f":" IF(#REF!=\"\", \"\",#REF!)","v":{"$error":"#REF!"}},{"$f":" IF(#REF!=\"\", \"\",#REF!)","v":{"$error":"#REF!"}},{"$f":" IF(#REF!=\"\", \"\",#REF!)","v":{"$error":"#REF!"}},{"$f":"IF(AQ99=\"\", \"\", IF($L99=\"男\", VLOOKUP(AQ99, データ!$B$2:$C$101, 2, FALSE), IF($L99=\"女\", VLOOKUP(AQ99, データ!$F$2:$H$101, 2, FALSE), \"\")))","v":{"$error":"#REF!"}},{"$f":"IF(A99=\"\",\"\", IF(#REF!=\"\", \"\",#REF!))","v":{"$error":"#REF!"}},{"$f":" IF(#REF!=\"\", \"\",#REF!)","v":{"$error":"#REF!"}},{"$f":" IF(#REF!=\"\", \"\",#REF!)","v":{"$error":"#REF!"}},{"$f":" IF(#REF!=\"\", \"\",#REF!)","v":{"$error":"#REF!"}},{"$f":" IF(#REF!=\"\", \"\",#REF!)","v":{"$error":"#REF!"}},{"$f":"IF(AW99=\"\", \"\", IF($L99=\"男\", VLOOKUP(AW99, データ!$B$2:$C$101, 2, FALSE), IF($L99=\"女\", VLOOKUP(AW99, データ!$F$2:$H$101, 2, FALSE), \"\")))","v":{"$error":"#REF!"}},{"$f":"IF(A99=\"\",\"\", IF(#REF!=\"\", \"\",#REF!))","v":{"$error":"#REF!"}},{"$f":" IF(#REF!=\"\", \"\",#REF!)","v":{"$error":"#REF!"}},{"$f":" IF(#REF!=\"\", \"\",#REF!)","v":{"$error":"#REF!"}},{"$f":" IF(#REF!=\"\", \"\",#REF!)","v":{"$error":"#REF!"}},{"$f":" IF(#REF!=\"\", \"\",#REF!)","v":{"$error":"#REF!"}},{"$error":"#REF!"}]
[{"$f":"#REF!","v":{"$error":"#REF!"}},{"$f":" IF(#REF!=\"\", \"\",#REF!)","v":{"$error":"#REF!"}},{"$f":" IF(#REF!=\"\", \"\",#REF!)","v":{"$error":"#REF!"}},{"$f":" IF(#REF!=\"\", \"\",#REF!)","v":{"$error":"#REF!"}},{"$error":"#REF!"},{"$error":"#REF!"},{"$error":"#REF!"},{"$error":"#REF!"},{"$f":" IF(#REF!=\"\", \"\",#REF!)","v":{"$error":"#REF!"}},{"$f":" IF(#REF!=\"\", \"\",#REF!)","v":{"$error":"#REF!"}},{"$f":" IF(#REF!=\"\", \"\",#REF!)","v":{"$error":"#REF!"}},{"$f":" IF(#REF!=\"\", \"\",#REF!)","v":{"$error":"#REF!"}},{"$f":" IF(#REF!=\"\", \"\",#REF!)","v":{"$error":"#REF!"}},{"$f":" IF(#REF!=\"\", \"\",#REF!)","v":{"$error":"#REF!"}},{"$f":" IF(#REF!=\"\", \"\",#REF!)","v":{"$error":"#REF!"}},{"$f":" IF(#REF!=\"\", \"\",#REF!)","v":{"$error":"#REF!"}},{"$f":"IF(A100=\"\",\"\",#REF!)","v":{"$error":"#REF!"}},{"$f":" IF(Q100=\"\", \"\",#REF!)","v":{"$error":"#REF!"}},{"$f":" IF(Q100=\"\", \"\",#REF!)","v":{"$error":"#REF!"}},{"$f":" IF(Q100=\"\", \"\",#REF!)","v":{"$error":"#REF!"}},{"$f":" IF(Q100=\"\", \"\",#REF!)","v":{"$error":"#REF!"}},{"$f":" IF(#REF!=\"\", \"\",#REF!)","v":{"$error":"#REF!"}},{"$f":" IF(#REF!=\"\", \"\",#REF!)","v":{"$error":"#REF!"}},{"$f":"IF(Y100=\"\", \"\", IF($L100=\"男\", VLOOKUP(Y100, データ!$B$2:$C$101, 2, FALSE), IF($L100=\"女\", VLOOKUP(Y100, データ!$F$2:$H$101, 2, FALSE), \"\")))","v":{"$error":"#REF!"}},{"$f":"IF(A100=\"\",\"\", IF(#REF!=\"\", \"\",#REF!))","v":{"$error":"#REF!"}},{"$f":" IF(#REF!=\"\", \"\",#REF!)","v":{"$error":"#REF!"}},{"$f":" IF(#REF!=\"\", \"\",#REF!)","v":{"$error":"#REF!"}},{"$f":" IF(#REF!=\"\", \"\",#REF!)","v":{"$error":"#REF!"}},{"$f":" IF(#REF!=\"\", \"\",#REF!)","v":{"$error":"#REF!"}},{"$f":"IF(AE100=\"\", \"\", IF($L100=\"男\", VLOOKUP(AE100, データ!$B$2:$C$101, 2, FALSE), IF($L100=\"女\", VLOOKUP(AE100, データ!$F$2:$H$101, 2, FALSE), \"\")))","v":{"$error":"#REF!"}},{"$f":"IF(A100=\"\",\"\", IF(#REF!=\"\", \"\",#REF!))","v":{"$error":"#REF!"}},{"$f":" IF(#REF!=\"\", \"\",#REF!)","v":{"$error":"#REF!"}},{"$f":" IF(#REF!=\"\", \"\",#REF!)","v":{"$error":"#REF!"}},{"$f":" IF(#REF!=\"\", \"\",#REF!)","v":{"$error":"#REF!"}},{"$f":" IF(#REF!=\"\", \"\",#REF!)","v":{"$error":"#REF!"}},{"$f":"IF(AK100=\"\", \"\", IF($L100=\"男\", VLOOKUP(AK100, データ!$B$2:$C$101, 2, FALSE), IF($L100=\"女\", VLOOKUP(AK100, データ!$F$2:$H$101, 2, FALSE), \"\")))","v":{"$error":"#REF!"}},{"$f":"IF(A100=\"\",\"\", IF(#REF!=\"\", \"\",#REF!))","v":{"$error":"#REF!"}},{"$f":" IF(#REF!=\"\", \"\",#REF!)","v":{"$error":"#REF!"}},{"$f":" IF(#REF!=\"\", \"\",#REF!)","v":{"$error":"#REF!"}},{"$f":" IF(#REF!=\"\", \"\",#REF!)","v":{"$error":"#REF!"}},{"$f":" IF(#REF!=\"\", \"\",#REF!)","v":{"$error":"#REF!"}},{"$f":"IF(AQ100=\"\", \"\", IF($L100=\"男\", VLOOKUP(AQ100, データ!$B$2:$C$101, 2, FALSE), IF($L100=\"女\", VLOOKUP(AQ100, データ!$F$2:$H$101, 2, FALSE), \"\")))","v":{"$error":"#REF!"}},{"$f":"IF(A100=\"\",\"\", IF(#REF!=\"\", \"\",#REF!))","v":{"$error":"#REF!"}},{"$f":" IF(#REF!=\"\", \"\",#REF!)","v":{"$error":"#REF!"}},{"$f":" IF(#REF!=\"\", \"\",#REF!)","v":{"$error":"#REF!"}},{"$f":" IF(#REF!=\"\", \"\",#REF!)","v":{"$error":"#REF!"}},{"$f":" IF(#REF!=\"\", \"\",#REF!)","v":{"$error":"#REF!"}},{"$f":"IF(AW100=\"\", \"\", IF($L100=\"男\", VLOOKUP(AW100, データ!$B$2:$C$101, 2, FALSE), IF($L100=\"女\", VLOOKUP(AW100, データ!$F$2:$H$101, 2, FALSE), \"\")))","v":{"$error":"#REF!"}},{"$f":"IF(A100=\"\",\"\", IF(#REF!=\"\", \"\",#REF!))","v":{"$error":"#REF!"}},{"$f":" IF(#REF!=\"\", \"\",#REF!)","v":{"$error":"#REF!"}},{"$f":" IF(#REF!=\"\", \"\",#REF!)","v":{"$error":"#REF!"}},{"$f":" IF(#REF!=\"\", \"\",#REF!)","v":{"$error":"#REF!"}},{"$f":" IF(#REF!=\"\", \"\",#REF!)","v":{"$error":"#REF!"}},{"$error":"#REF!"}]
[{"$f":"#REF!","v":{"$error":"#REF!"}},{"$f":" IF(#REF!=\"\", \"\",#REF!)","v":{"$error":"#REF!"}},{"$f":" IF(#REF!=\"\", \"\",#REF!)","v":{"$error":"#REF!"}},{"$f":" IF(#REF!=\"\", \"\",#REF!)","v":{"$error":"#REF!"}},{"$error":"#REF!"},{"$error":"#REF!"},{"$error":"#REF!"},{"$error":"#REF!"},{"$f":" IF(#REF!=\"\", \"\",#REF!)","v":{"$error":"#REF!"}},{"$f":" IF(#REF!=\"\", \"\",#REF!)","v":{"$error":"#REF!"}},{"$f":" IF(#REF!=\"\", \"\",#REF!)","v":{"$error":"#REF!"}},{"$f":" IF(#REF!=\"\", \"\",#REF!)","v":{"$error":"#REF!"}},{"$f":" IF(#REF!=\"\", \"\",#REF!)","v":{"$error":"#REF!"}},{"$f":" IF(#REF!=\"\", \"\",#REF!)","v":{"$error":"#REF!"}},{"$f":" IF(#REF!=\"\", \"\",#REF!)","v":{"$error":"#REF!"}},{"$f":" IF(#REF!=\"\", \"\",#REF!)","v":{"$error":"#REF!"}},{"$f":"IF(A101=\"\",\"\",#REF!)","v":{"$error":"#REF!"}},{"$f":" IF(Q101=\"\", \"\",#REF!)","v":{"$error":"#REF!"}},{"$f":" IF(Q101=\"\", \"\",#REF!)","v":{"$error":"#REF!"}},{"$f":" IF(Q101=\"\", \"\",#REF!)","v":{"$error":"#REF!"}},{"$f":" IF(Q101=\"\", \"\",#REF!)","v":{"$error":"#REF!"}},{"$f":" IF(#REF!=\"\", \"\",#REF!)","v":{"$error":"#REF!"}},{"$f":" IF(#REF!=\"\", \"\",#REF!)","v":{"$error":"#REF!"}},{"$f":"IF(Y101=\"\", \"\", IF($L101=\"男\", VLOOKUP(Y101, データ!$B$2:$C$101, 2, FALSE), IF($L101=\"女\", VLOOKUP(Y101, データ!$F$2:$H$101, 2, FALSE), \"\")))","v":{"$error":"#REF!"}},{"$f":"IF(A101=\"\",\"\", IF(#REF!=\"\", \"\",#REF!))","v":{"$error":"#REF!"}},{"$f":" IF(#REF!=\"\", \"\",#REF!)","v":{"$error":"#REF!"}},{"$f":" IF(#REF!=\"\", \"\",#REF!)","v":{"$error":"#REF!"}},{"$f":" IF(#REF!=\"\", \"\",#REF!)","v":{"$error":"#REF!"}},{"$f":" IF(#REF!=\"\", \"\",#REF!)","v":{"$error":"#REF!"}},{"$f":"IF(AE101=\"\", \"\", IF($L101=\"男\", VLOOKUP(AE101, データ!$B$2:$C$101, 2, FALSE), IF($L101=\"女\", VLOOKUP(AE101, データ!$F$2:$H$101, 2, FALSE), \"\")))","v":{"$error":"#REF!"}},{"$f":"IF(A101=\"\",\"\", IF(#REF!=\"\", \"\",#REF!))","v":{"$error":"#REF!"}},{"$f":" IF(#REF!=\"\", \"\",#REF!)","v":{"$error":"#REF!"}},{"$f":" IF(#REF!=\"\", \"\",#REF!)","v":{"$error":"#REF!"}},{"$f":" IF(#REF!=\"\", \"\",#REF!)","v":{"$error":"#REF!"}},{"$f":" IF(#REF!=\"\", \"\",#REF!)","v":{"$error":"#REF!"}},{"$f":"IF(AK101=\"\", \"\", IF($L101=\"男\", VLOOKUP(AK101, データ!$B$2:$C$101, 2, FALSE), IF($L101=\"女\", VLOOKUP(AK101, データ!$F$2:$H$101, 2, FALSE), \"\")))","v":{"$error":"#REF!"}},{"$f":"IF(A101=\"\",\"\", IF(#REF!=\"\", \"\",#REF!))","v":{"$error":"#REF!"}},{"$f":" IF(#REF!=\"\", \"\",#REF!)","v":{"$error":"#REF!"}},{"$f":" IF(#REF!=\"\", \"\",#REF!)","v":{"$error":"#REF!"}},{"$f":" IF(#REF!=\"\", \"\",#REF!)","v":{"$error":"#REF!"}},{"$f":" IF(#REF!=\"\", \"\",#REF!)","v":{"$error":"#REF!"}},{"$f":"IF(AQ101=\"\", \"\", IF($L101=\"男\", VLOOKUP(AQ101, データ!$B$2:$C$101, 2, FALSE), IF($L101=\"女\", VLOOKUP(AQ101, データ!$F$2:$H$101, 2, FALSE), \"\")))","v":{"$error":"#REF!"}},{"$f":"IF(A101=\"\",\"\", IF(#REF!=\"\", \"\",#REF!))","v":{"$error":"#REF!"}},{"$f":" IF(#REF!=\"\", \"\",#REF!)","v":{"$error":"#REF!"}},{"$f":" IF(#REF!=\"\", \"\",#REF!)","v":{"$error":"#REF!"}},{"$f":" IF(#REF!=\"\", \"\",#REF!)","v":{"$error":"#REF!"}},{"$f":" IF(#REF!=\"\", \"\",#REF!)","v":{"$error":"#REF!"}},{"$f":"IF(AW101=\"\", \"\", IF($L101=\"男\", VLOOKUP(AW101, データ!$B$2:$C$101, 2, FALSE), IF($L101=\"女\", VLOOKUP(AW101, データ!$F$2:$H$101, 2, FALSE), \"\")))","v":{"$error":"#REF!"}},{"$f":"IF(A101=\"\",\"\", IF(#REF!=\"\", \"\",#REF!))","v":{"$error":"#REF!"}},{"$f":" IF(#REF!=\"\", \"\",#REF!)","v":{"$error":"#REF!"}},{"$f":" IF(#REF!=\"\", \"\",#REF!)","v":{"$error":"#REF!"}},{"$f":" IF(#REF!=\"\", \"\",#REF!)","v":{"$error":"#REF!"}},{"$f":" IF(#REF!=\"\", \"\",#REF!)","v":{"$error":"#REF!"}},{"$error":"#REF!"}]
[{"$f":"#REF!","v":{"$error":"#REF!"}},{"$f":" IF(#REF!=\"\", \"\",#REF!)","v":{"$error":"#REF!"}},{"$f":" IF(#REF!=\"\", \"\",#REF!)","v":{"$error":"#REF!"}},{"$f":" IF(#REF!=\"\", \"\",#REF!)","v":{"$error":"#REF!"}},{"$error":"#REF!"},{"$error":"#REF!"},{"$error":"#REF!"},{"$error":"#REF!"},{"$f":" IF(#REF!=\"\", \"\",#REF!)","v":{"$error":"#REF!"}},{"$f":" IF(#REF!=\"\", \"\",#REF!)","v":{"$error":"#REF!"}},{"$f":" IF(#REF!=\"\", \"\",#REF!)","v":{"$error":"#REF!"}},{"$f":" IF(#REF!=\"\", \"\",#REF!)","v":{"$error":"#REF!"}},{"$f":" IF(#REF!=\"\", \"\",#REF!)","v":{"$error":"#REF!"}},{"$f":" IF(#REF!=\"\", \"\",#REF!)","v":{"$error":"#REF!"}},{"$f":" IF(#REF!=\"\", \"\",#REF!)","v":{"$error":"#REF!"}},{"$f":" IF(#REF!=\"\", \"\",#REF!)","v":{"$error":"#REF!"}},{"$f":"IF(A102=\"\",\"\",#REF!)","v":{"$error":"#REF!"}},{"$f":" IF(Q102=\"\", \"\",#REF!)","v":{"$error":"#REF!"}},{"$f":" IF(Q102=\"\", \"\",#REF!)","v":{"$error":"#REF!"}},{"$f":" IF(Q102=\"\", \"\",#REF!)","v":{"$error":"#REF!"}},{"$f":" IF(Q102=\"\", \"\",#REF!)","v":{"$error":"#REF!"}},{"$f":" IF(#REF!=\"\", \"\",#REF!)","v":{"$error":"#REF!"}},{"$f":" IF(#REF!=\"\", \"\",#REF!)","v":{"$error":"#REF!"}},{"$f":"IF(Y102=\"\", \"\", IF($L102=\"男\", VLOOKUP(Y102, データ!$B$2:$C$101, 2, FALSE), IF($L102=\"女\", VLOOKUP(Y102, データ!$F$2:$H$101, 2, FALSE), \"\")))","v":{"$error":"#REF!"}},{"$f":"IF(A102=\"\",\"\", IF(#REF!=\"\", \"\",#REF!))","v":{"$error":"#REF!"}},{"$f":" IF(#REF!=\"\", \"\",#REF!)","v":{"$error":"#REF!"}},{"$f":" IF(#REF!=\"\", \"\",#REF!)","v":{"$error":"#REF!"}},{"$f":" IF(#REF!=\"\", \"\",#REF!)","v":{"$error":"#REF!"}},{"$f":" IF(#REF!=\"\", \"\",#REF!)","v":{"$error":"#REF!"}},{"$f":"IF(AE102=\"\", \"\", IF($L102=\"男\", VLOOKUP(AE102, データ!$B$2:$C$101, 2, FALSE), IF($L102=\"女\", VLOOKUP(AE102, データ!$F$2:$H$101, 2, FALSE), \"\")))","v":{"$error":"#REF!"}},{"$f":"IF(A102=\"\",\"\", IF(#REF!=\"\", \"\",#REF!))","v":{"$error":"#REF!"}},{"$f":" IF(#REF!=\"\", \"\",#REF!)","v":{"$error":"#REF!"}},{"$f":" IF(#REF!=\"\", \"\",#REF!)","v":{"$error":"#REF!"}},{"$f":" IF(#REF!=\"\", \"\",#REF!)","v":{"$error":"#REF!"}},{"$f":" IF(#REF!=\"\", \"\",#REF!)","v":{"$error":"#REF!"}},{"$f":"IF(AK102=\"\", \"\", IF($L102=\"男\", VLOOKUP(AK102, データ!$B$2:$C$101, 2, FALSE), IF($L102=\"女\", VLOOKUP(AK102, データ!$F$2:$H$101, 2, FALSE), \"\")))","v":{"$error":"#REF!"}},{"$f":"IF(A102=\"\",\"\", IF(#REF!=\"\", \"\",#REF!))","v":{"$error":"#REF!"}},{"$f":" IF(#REF!=\"\", \"\",#REF!)","v":{"$error":"#REF!"}},{"$f":" IF(#REF!=\"\", \"\",#REF!)","v":{"$error":"#REF!"}},{"$f":" IF(#REF!=\"\", \"\",#REF!)","v":{"$error":"#REF!"}},{"$f":" IF(#REF!=\"\", \"\",#REF!)","v":{"$error":"#REF!"}},{"$f":"IF(AQ102=\"\", \"\", IF($L102=\"男\", VLOOKUP(AQ102, データ!$B$2:$C$101, 2, FALSE), IF($L102=\"女\", VLOOKUP(AQ102, データ!$F$2:$H$101, 2, FALSE), \"\")))","v":{"$error":"#REF!"}},{"$f":"IF(A102=\"\",\"\", IF(#REF!=\"\", \"\",#REF!))","v":{"$error":"#REF!"}},{"$f":" IF(#REF!=\"\", \"\",#REF!)","v":{"$error":"#REF!"}},{"$f":" IF(#REF!=\"\", \"\",#REF!)","v":{"$error":"#REF!"}},{"$f":" IF(#REF!=\"\", \"\",#REF!)","v":{"$error":"#REF!"}},{"$f":" IF(#REF!=\"\", \"\",#REF!)","v":{"$error":"#REF!"}},{"$f":"IF(AW102=\"\", \"\", IF($L102=\"男\", VLOOKUP(AW102, データ!$B$2:$C$101, 2, FALSE), IF($L102=\"女\", VLOOKUP(AW102, データ!$F$2:$H$101, 2, FALSE), \"\")))","v":{"$error":"#REF!"}},{"$f":"IF(A102=\"\",\"\", IF(#REF!=\"\", \"\",#REF!))","v":{"$error":"#REF!"}},{"$f":" IF(#REF!=\"\", \"\",#REF!)","v":{"$error":"#REF!"}},{"$f":" IF(#REF!=\"\", \"\",#REF!)","v":{"$error":"#REF!"}},{"$f":" IF(#REF!=\"\", \"\",#REF!)","v":{"$error":"#REF!"}},{"$f":" IF(#REF!=\"\", \"\",#REF!)","v":{"$error":"#REF!"}},{"$error":"#REF!"}]
[{"$f":"#REF!","v":{"$error":"#REF!"}},{"$f":" IF(#REF!=\"\", \"\",#REF!)","v":{"$error":"#REF!"}},{"$f":" IF(#REF!=\"\", \"\",#REF!)","v":{"$error":"#REF!"}},{"$f":" IF(#REF!=\"\", \"\",#REF!)","v":{"$error":"#REF!"}},{"$error":"#REF!"},{"$error":"#REF!"},{"$error":"#REF!"},{"$error":"#REF!"},{"$f":" IF(#REF!=\"\", \"\",#REF!)","v":{"$error":"#REF!"}},{"$f":" IF(#REF!=\"\", \"\",#REF!)","v":{"$error":"#REF!"}},{"$f":" IF(#REF!=\"\", \"\",#REF!)","v":{"$error":"#REF!"}},{"$f":" IF(#REF!=\"\", \"\",#REF!)","v":{"$error":"#REF!"}},{"$f":" IF(#REF!=\"\", \"\",#REF!)","v":{"$error":"#REF!"}},{"$f":" IF(#REF!=\"\", \"\",#REF!)","v":{"$error":"#REF!"}},{"$f":" IF(#REF!=\"\", \"\",#REF!)","v":{"$error":"#REF!"}},{"$f":" IF(#REF!=\"\", \"\",#REF!)","v":{"$error":"#REF!"}},{"$f":"IF(A103=\"\",\"\",#REF!)","v":{"$error":"#REF!"}},{"$f":" IF(Q103=\"\", \"\",#REF!)","v":{"$error":"#REF!"}},{"$f":" IF(Q103=\"\", \"\",#REF!)","v":{"$error":"#REF!"}},{"$f":" IF(Q103=\"\", \"\",#REF!)","v":{"$error":"#REF!"}},{"$f":" IF(Q103=\"\", \"\",#REF!)","v":{"$error":"#REF!"}},{"$f":" IF(#REF!=\"\", \"\",#REF!)","v":{"$error":"#REF!"}},{"$f":" IF(#REF!=\"\", \"\",#REF!)","v":{"$error":"#REF!"}},{"$f":"IF(Y103=\"\", \"\", IF($L103=\"男\", VLOOKUP(Y103, データ!$B$2:$C$101, 2, FALSE), IF($L103=\"女\", VLOOKUP(Y103, データ!$F$2:$H$101, 2, FALSE), \"\")))","v":{"$error":"#REF!"}},{"$f":"IF(A103=\"\",\"\", IF(#REF!=\"\", \"\",#REF!))","v":{"$error":"#REF!"}},{"$f":" IF(#REF!=\"\", \"\",#REF!)","v":{"$error":"#REF!"}},{"$f":" IF(#REF!=\"\", \"\",#REF!)","v":{"$error":"#REF!"}},{"$f":" IF(#REF!=\"\", \"\",#REF!)","v":{"$error":"#REF!"}},{"$f":" IF(#REF!=\"\", \"\",#REF!)","v":{"$error":"#REF!"}},{"$f":"IF(AE103=\"\", \"\", IF($L103=\"男\", VLOOKUP(AE103, データ!$B$2:$C$101, 2, FALSE), IF($L103=\"女\", VLOOKUP(AE103, データ!$F$2:$H$101, 2, FALSE), \"\")))","v":{"$error":"#REF!"}},{"$f":"IF(A103=\"\",\"\", IF(#REF!=\"\", \"\",#REF!))","v":{"$error":"#REF!"}},{"$f":" IF(#REF!=\"\", \"\",#REF!)","v":{"$error":"#REF!"}},{"$f":" IF(#REF!=\"\", \"\",#REF!)","v":{"$error":"#REF!"}},{"$f":" IF(#REF!=\"\", \"\",#REF!)","v":{"$error":"#REF!"}},{"$f":" IF(#REF!=\"\", \"\",#REF!)","v":{"$error":"#REF!"}},{"$f":"IF(AK103=\"\", \"\", IF($L103=\"男\", VLOOKUP(AK103, データ!$B$2:$C$101, 2, FALSE), IF($L103=\"女\", VLOOKUP(AK103, データ!$F$2:$H$101, 2, FALSE), \"\")))","v":{"$error":"#REF!"}},{"$f":"IF(A103=\"\",\"\", IF(#REF!=\"\", \"\",#REF!))","v":{"$error":"#REF!"}},{"$f":" IF(#REF!=\"\", \"\",#REF!)","v":{"$error":"#REF!"}},{"$f":" IF(#REF!=\"\", \"\",#REF!)","v":{"$error":"#REF!"}},{"$f":" IF(#REF!=\"\", \"\",#REF!)","v":{"$error":"#REF!"}},{"$f":" IF(#REF!=\"\", \"\",#REF!)","v":{"$error":"#REF!"}},{"$f":"IF(AQ103=\"\", \"\", IF($L103=\"男\", VLOOKUP(AQ103, データ!$B$2:$C$101, 2, FALSE), IF($L103=\"女\", VLOOKUP(AQ103, データ!$F$2:$H$101, 2, FALSE), \"\")))","v":{"$error":"#REF!"}},{"$f":"IF(A103=\"\",\"\", IF(#REF!=\"\", \"\",#REF!))","v":{"$error":"#REF!"}},{"$f":" IF(#REF!=\"\", \"\",#REF!)","v":{"$error":"#REF!"}},{"$f":" IF(#REF!=\"\", \"\",#REF!)","v":{"$error":"#REF!"}},{"$f":" IF(#REF!=\"\", \"\",#REF!)","v":{"$error":"#REF!"}},{"$f":" IF(#REF!=\"\", \"\",#REF!)","v":{"$error":"#REF!"}},{"$f":"IF(AW103=\"\", \"\", IF($L103=\"男\", VLOOKUP(AW103, データ!$B$2:$C$101, 2, FALSE), IF($L103=\"女\", VLOOKUP(AW103, データ!$F$2:$H$101, 2, FALSE), \"\")))","v":{"$error":"#REF!"}},{"$f":"IF(A103=\"\",\"\", IF(#REF!=\"\", \"\",#REF!))","v":{"$error":"#REF!"}},{"$f":" IF(#REF!=\"\", \"\",#REF!)","v":{"$error":"#REF!"}},{"$f":" IF(#REF!=\"\", \"\",#REF!)","v":{"$error":"#REF!"}},{"$f":" IF(#REF!=\"\", \"\",#REF!)","v":{"$error":"#REF!"}},{"$f":" IF(#REF!=\"\", \"\",#REF!)","v":{"$error":"#REF!"}},{"$error":"#REF!"}]
[{"$f":"#REF!","v":{"$error":"#REF!"}},{"$f":" IF(#REF!=\"\", \"\",#REF!)","v":{"$error":"#REF!"}},{"$f":" IF(#REF!=\"\", \"\",#REF!)","v":{"$error":"#REF!"}},{"$f":" IF(#REF!=\"\", \"\",#REF!)","v":{"$error":"#REF!"}},{"$error":"#REF!"},{"$error":"#REF!"},{"$error":"#REF!"},{"$error":"#REF!"},{"$f":" IF(#REF!=\"\", \"\",#REF!)","v":{"$error":"#REF!"}},{"$f":" IF(#REF!=\"\", \"\",#REF!)","v":{"$error":"#REF!"}},{"$f":" IF(#REF!=\"\", \"\",#REF!)","v":{"$error":"#REF!"}},{"$f":" IF(#REF!=\"\", \"\",#REF!)","v":{"$error":"#REF!"}},{"$f":" IF(#REF!=\"\", \"\",#REF!)","v":{"$error":"#REF!"}},{"$f":" IF(#REF!=\"\", \"\",#REF!)","v":{"$error":"#REF!"}},{"$f":" IF(#REF!=\"\", \"\",#REF!)","v":{"$error":"#REF!"}},{"$f":" IF(#REF!=\"\", \"\",#REF!)","v":{"$error":"#REF!"}},{"$f":"IF(A104=\"\",\"\",#REF!)","v":{"$error":"#REF!"}},{"$f":" IF(Q104=\"\", \"\",#REF!)","v":{"$error":"#REF!"}},{"$f":" IF(Q104=\"\", \"\",#REF!)","v":{"$error":"#REF!"}},{"$f":" IF(Q104=\"\", \"\",#REF!)","v":{"$error":"#REF!"}},{"$f":" IF(Q104=\"\", \"\",#REF!)","v":{"$error":"#REF!"}},{"$f":" IF(#REF!=\"\", \"\",#REF!)","v":{"$error":"#REF!"}},{"$f":" IF(#REF!=\"\", \"\",#REF!)","v":{"$error":"#REF!"}},{"$f":"IF(Y104=\"\", \"\", IF($L104=\"男\", VLOOKUP(Y104, データ!$B$2:$C$101, 2, FALSE), IF($L104=\"女\", VLOOKUP(Y104, データ!$F$2:$H$101, 2, FALSE), \"\")))","v":{"$error":"#REF!"}},{"$f":"IF(A104=\"\",\"\", IF(#REF!=\"\", \"\",#REF!))","v":{"$error":"#REF!"}},{"$f":" IF(#REF!=\"\", \"\",#REF!)","v":{"$error":"#REF!"}},{"$f":" IF(#REF!=\"\", \"\",#REF!)","v":{"$error":"#REF!"}},{"$f":" IF(#REF!=\"\", \"\",#REF!)","v":{"$error":"#REF!"}},{"$f":" IF(#REF!=\"\", \"\",#REF!)","v":{"$error":"#REF!"}},{"$f":"IF(AE104=\"\", \"\", IF($L104=\"男\", VLOOKUP(AE104, データ!$B$2:$C$101, 2, FALSE), IF($L104=\"女\", VLOOKUP(AE104, データ!$F$2:$H$101, 2, FALSE), \"\")))","v":{"$error":"#REF!"}},{"$f":"IF(A104=\"\",\"\", IF(#REF!=\"\", \"\",#REF!))","v":{"$error":"#REF!"}},{"$f":" IF(#REF!=\"\", \"\",#REF!)","v":{"$error":"#REF!"}},{"$f":" IF(#REF!=\"\", \"\",#REF!)","v":{"$error":"#REF!"}},{"$f":" IF(#REF!=\"\", \"\",#REF!)","v":{"$error":"#REF!"}},{"$f":" IF(#REF!=\"\", \"\",#REF!)","v":{"$error":"#REF!"}},{"$f":"IF(AK104=\"\", \"\", IF($L104=\"男\", VLOOKUP(AK104, データ!$B$2:$C$101, 2, FALSE), IF($L104=\"女\", VLOOKUP(AK104, データ!$F$2:$H$101, 2, FALSE), \"\")))","v":{"$error":"#REF!"}},{"$f":"IF(A104=\"\",\"\", IF(#REF!=\"\", \"\",#REF!))","v":{"$error":"#REF!"}},{"$f":" IF(#REF!=\"\", \"\",#REF!)","v":{"$error":"#REF!"}},{"$f":" IF(#REF!=\"\", \"\",#REF!)","v":{"$error":"#REF!"}},{"$f":" IF(#REF!=\"\", \"\",#REF!)","v":{"$error":"#REF!"}},{"$f":" IF(#REF!=\"\", \"\",#REF!)","v":{"$error":"#REF!"}},{"$f":"IF(AQ104=\"\", \"\", IF($L104=\"男\", VLOOKUP(AQ104, データ!$B$2:$C$101, 2, FALSE), IF($L104=\"女\", VLOOKUP(AQ104, データ!$F$2:$H$101, 2, FALSE), \"\")))","v":{"$error":"#REF!"}},{"$f":"IF(A104=\"\",\"\", IF(#REF!=\"\", \"\",#REF!))","v":{"$error":"#REF!"}},{"$f":" IF(#REF!=\"\", \"\",#REF!)","v":{"$error":"#REF!"}},{"$f":" IF(#REF!=\"\", \"\",#REF!)","v":{"$error":"#REF!"}},{"$f":" IF(#REF!=\"\", \"\",#REF!)","v":{"$error":"#REF!"}},{"$f":" IF(#REF!=\"\", \"\",#REF!)","v":{"$error":"#REF!"}},{"$f":"IF(AW104=\"\", \"\", IF($L104=\"男\", VLOOKUP(AW104, データ!$B$2:$C$101, 2, FALSE), IF($L104=\"女\", VLOOKUP(AW104, データ!$F$2:$H$101, 2, FALSE), \"\")))","v":{"$error":"#REF!"}},{"$f":"IF(A104=\"\",\"\", IF(#REF!=\"\", \"\",#REF!))","v":{"$error":"#REF!"}},{"$f":" IF(#REF!=\"\", \"\",#REF!)","v":{"$error":"#REF!"}},{"$f":" IF(#REF!=\"\", \"\",#REF!)","v":{"$error":"#REF!"}},{"$f":" IF(#REF!=\"\", \"\",#REF!)","v":{"$error":"#REF!"}},{"$f":" IF(#REF!=\"\", \"\",#REF!)","v":{"$error":"#REF!"}},{"$error":"#REF!"}]
[{"$f":"#REF!","v":{"$error":"#REF!"}},{"$f":" IF(#REF!=\"\", \"\",#REF!)","v":{"$error":"#REF!"}},{"$f":" IF(#REF!=\"\", \"\",#REF!)","v":{"$error":"#REF!"}},{"$f":" IF(#REF!=\"\", \"\",#REF!)","v":{"$error":"#REF!"}},{"$error":"#REF!"},{"$error":"#REF!"},{"$error":"#REF!"},{"$error":"#REF!"},{"$f":" IF(#REF!=\"\", \"\",#REF!)","v":{"$error":"#REF!"}},{"$f":" IF(#REF!=\"\", \"\",#REF!)","v":{"$error":"#REF!"}},{"$f":" IF(#REF!=\"\", \"\",#REF!)","v":{"$error":"#REF!"}},{"$f":" IF(#REF!=\"\", \"\",#REF!)","v":{"$error":"#REF!"}},{"$f":" IF(#REF!=\"\", \"\",#REF!)","v":{"$error":"#REF!"}},{"$f":" IF(#REF!=\"\", \"\",#REF!)","v":{"$error":"#REF!"}},{"$f":" IF(#REF!=\"\", \"\",#REF!)","v":{"$error":"#REF!"}},{"$f":" IF(#REF!=\"\", \"\",#REF!)","v":{"$error":"#REF!"}},{"$f":"IF(A105=\"\",\"\",#REF!)","v":{"$error":"#REF!"}},{"$f":" IF(Q105=\"\", \"\",#REF!)","v":{"$error":"#REF!"}},{"$f":" IF(Q105=\"\", \"\",#REF!)","v":{"$error":"#REF!"}},{"$f":" IF(Q105=\"\", \"\",#REF!)","v":{"$error":"#REF!"}},{"$f":" IF(Q105=\"\", \"\",#REF!)","v":{"$error":"#REF!"}},{"$f":" IF(#REF!=\"\", \"\",#REF!)","v":{"$error":"#REF!"}},{"$f":" IF(#REF!=\"\", \"\",#REF!)","v":{"$error":"#REF!"}},{"$f":"IF(Y105=\"\", \"\", IF($L105=\"男\", VLOOKUP(Y105, データ!$B$2:$C$101, 2, FALSE), IF($L105=\"女\", VLOOKUP(Y105, データ!$F$2:$H$101, 2, FALSE), \"\")))","v":{"$error":"#REF!"}},{"$f":"IF(A105=\"\",\"\", IF(#REF!=\"\", \"\",#REF!))","v":{"$error":"#REF!"}},{"$f":" IF(#REF!=\"\", \"\",#REF!)","v":{"$error":"#REF!"}},{"$f":" IF(#REF!=\"\", \"\",#REF!)","v":{"$error":"#REF!"}},{"$f":" IF(#REF!=\"\", \"\",#REF!)","v":{"$error":"#REF!"}},{"$f":" IF(#REF!=\"\", \"\",#REF!)","v":{"$error":"#REF!"}},{"$f":"IF(AE105=\"\", \"\", IF($L105=\"男\", VLOOKUP(AE105, データ!$B$2:$C$101, 2, FALSE), IF($L105=\"女\", VLOOKUP(AE105, データ!$F$2:$H$101, 2, FALSE), \"\")))","v":{"$error":"#REF!"}},{"$f":"IF(A105=\"\",\"\", IF(#REF!=\"\", \"\",#REF!))","v":{"$error":"#REF!"}},{"$f":" IF(#REF!=\"\", \"\",#REF!)","v":{"$error":"#REF!"}},{"$f":" IF(#REF!=\"\", \"\",#REF!)","v":{"$error":"#REF!"}},{"$f":" IF(#REF!=\"\", \"\",#REF!)","v":{"$error":"#REF!"}},{"$f":" IF(#REF!=\"\", \"\",#REF!)","v":{"$error":"#REF!"}},{"$f":"IF(AK105=\"\", \"\", IF($L105=\"男\", VLOOKUP(AK105, データ!$B$2:$C$101, 2, FALSE), IF($L105=\"女\", VLOOKUP(AK105, データ!$F$2:$H$101, 2, FALSE), \"\")))","v":{"$error":"#REF!"}},{"$f":"IF(A105=\"\",\"\", IF(#REF!=\"\", \"\",#REF!))","v":{"$error":"#REF!"}},{"$f":" IF(#REF!=\"\", \"\",#REF!)","v":{"$error":"#REF!"}},{"$f":" IF(#REF!=\"\", \"\",#REF!)","v":{"$error":"#REF!"}},{"$f":" IF(#REF!=\"\", \"\",#REF!)","v":{"$error":"#REF!"}},{"$f":" IF(#REF!=\"\", \"\",#REF!)","v":{"$error":"#REF!"}},{"$f":"IF(AQ105=\"\", \"\", IF($L105=\"男\", VLOOKUP(AQ105, データ!$B$2:$C$101, 2, FALSE), IF($L105=\"女\", VLOOKUP(AQ105, データ!$F$2:$H$101, 2, FALSE), \"\")))","v":{"$error":"#REF!"}},{"$f":"IF(A105=\"\",\"\", IF(#REF!=\"\", \"\",#REF!))","v":{"$error":"#REF!"}},{"$f":" IF(#REF!=\"\", \"\",#REF!)","v":{"$error":"#REF!"}},{"$f":" IF(#REF!=\"\", \"\",#REF!)","v":{"$error":"#REF!"}},{"$f":" IF(#REF!=\"\", \"\",#REF!)","v":{"$error":"#REF!"}},{"$f":" IF(#REF!=\"\", \"\",#REF!)","v":{"$error":"#REF!"}},{"$f":"IF(AW105=\"\", \"\", IF($L105=\"男\", VLOOKUP(AW105, データ!$B$2:$C$101, 2, FALSE), IF($L105=\"女\", VLOOKUP(AW105, データ!$F$2:$H$101, 2, FALSE), \"\")))","v":{"$error":"#REF!"}},{"$f":"IF(A105=\"\",\"\", IF(#REF!=\"\", \"\",#REF!))","v":{"$error":"#REF!"}},{"$f":" IF(#REF!=\"\", \"\",#REF!)","v":{"$error":"#REF!"}},{"$f":" IF(#REF!=\"\", \"\",#REF!)","v":{"$error":"#REF!"}},{"$f":" IF(#REF!=\"\", \"\",#REF!)","v":{"$error":"#REF!"}},{"$f":" IF(#REF!=\"\", \"\",#REF!)","v":{"$error":"#REF!"}},{"$error":"#REF!"}]
[{"$f":"#REF!","v":{"$error":"#REF!"}},{"$f":" IF(#REF!=\"\", \"\",#REF!)","v":{"$error":"#REF!"}},{"$f":" IF(#REF!=\"\", \"\",#REF!)","v":{"$error":"#REF!"}},{"$f":" IF(#REF!=\"\", \"\",#REF!)","v":{"$error":"#REF!"}},{"$error":"#REF!"},{"$error":"#REF!"},{"$error":"#REF!"},{"$error":"#REF!"},{"$f":" IF(#REF!=\"\", \"\",#REF!)","v":{"$error":"#REF!"}},{"$f":" IF(#REF!=\"\", \"\",#REF!)","v":{"$error":"#REF!"}},{"$f":" IF(#REF!=\"\", \"\",#REF!)","v":{"$error":"#REF!"}},{"$f":" IF(#REF!=\"\", \"\",#REF!)","v":{"$error":"#REF!"}},{"$f":" IF(#REF!=\"\", \"\",#REF!)","v":{"$error":"#REF!"}},{"$f":" IF(#REF!=\"\", \"\",#REF!)","v":{"$error":"#REF!"}},{"$f":" IF(#REF!=\"\", \"\",#REF!)","v":{"$error":"#REF!"}},{"$f":" IF(#REF!=\"\", \"\",#REF!)","v":{"$error":"#REF!"}},{"$f":"IF(A106=\"\",\"\",#REF!)","v":{"$error":"#REF!"}},{"$f":" IF(Q106=\"\", \"\",#REF!)","v":{"$error":"#REF!"}},{"$f":" IF(Q106=\"\", \"\",#REF!)","v":{"$error":"#REF!"}},{"$f":" IF(Q106=\"\", \"\",#REF!)","v":{"$error":"#REF!"}},{"$f":" IF(Q106=\"\", \"\",#REF!)","v":{"$error":"#REF!"}},{"$f":" IF(#REF!=\"\", \"\",#REF!)","v":{"$error":"#REF!"}},{"$f":" IF(#REF!=\"\", \"\",#REF!)","v":{"$error":"#REF!"}},{"$f":"IF(Y106=\"\", \"\", IF($L106=\"男\", VLOOKUP(Y106, データ!$B$2:$C$101, 2, FALSE), IF($L106=\"女\", VLOOKUP(Y106, データ!$F$2:$H$101, 2, FALSE), \"\")))","v":{"$error":"#REF!"}},{"$f":"IF(A106=\"\",\"\", IF(#REF!=\"\", \"\",#REF!))","v":{"$error":"#REF!"}},{"$f":" IF(#REF!=\"\", \"\",#REF!)","v":{"$error":"#REF!"}},{"$f":" IF(#REF!=\"\", \"\",#REF!)","v":{"$error":"#REF!"}},{"$f":" IF(#REF!=\"\", \"\",#REF!)","v":{"$error":"#REF!"}},{"$f":" IF(#REF!=\"\", \"\",#REF!)","v":{"$error":"#REF!"}},{"$f":"IF(AE106=\"\", \"\", IF($L106=\"男\", VLOOKUP(AE106, データ!$B$2:$C$101, 2, FALSE), IF($L106=\"女\", VLOOKUP(AE106, データ!$F$2:$H$101, 2, FALSE), \"\")))","v":{"$error":"#REF!"}},{"$f":"IF(A106=\"\",\"\", IF(#REF!=\"\", \"\",#REF!))","v":{"$error":"#REF!"}},{"$f":" IF(#REF!=\"\", \"\",#REF!)","v":{"$error":"#REF!"}},{"$f":" IF(#REF!=\"\", \"\",#REF!)","v":{"$error":"#REF!"}},{"$f":" IF(#REF!=\"\", \"\",#REF!)","v":{"$error":"#REF!"}},{"$f":" IF(#REF!=\"\", \"\",#REF!)","v":{"$error":"#REF!"}},{"$f":"IF(AK106=\"\", \"\", IF($L106=\"男\", VLOOKUP(AK106, データ!$B$2:$C$101, 2, FALSE), IF($L106=\"女\", VLOOKUP(AK106, データ!$F$2:$H$101, 2, FALSE), \"\")))","v":{"$error":"#REF!"}},{"$f":"IF(A106=\"\",\"\", IF(#REF!=\"\", \"\",#REF!))","v":{"$error":"#REF!"}},{"$f":" IF(#REF!=\"\", \"\",#REF!)","v":{"$error":"#REF!"}},{"$f":" IF(#REF!=\"\", \"\",#REF!)","v":{"$error":"#REF!"}},{"$f":" IF(#REF!=\"\", \"\",#REF!)","v":{"$error":"#REF!"}},{"$f":" IF(#REF!=\"\", \"\",#REF!)","v":{"$error":"#REF!"}},{"$f":"IF(AQ106=\"\", \"\", IF($L106=\"男\", VLOOKUP(AQ106, データ!$B$2:$C$101, 2, FALSE), IF($L106=\"女\", VLOOKUP(AQ106, データ!$F$2:$H$101, 2, FALSE), \"\")))","v":{"$error":"#REF!"}},{"$f":"IF(A106=\"\",\"\", IF(#REF!=\"\", \"\",#REF!))","v":{"$error":"#REF!"}},{"$f":" IF(#REF!=\"\", \"\",#REF!)","v":{"$error":"#REF!"}},{"$f":" IF(#REF!=\"\", \"\",#REF!)","v":{"$error":"#REF!"}},{"$f":" IF(#REF!=\"\", \"\",#REF!)","v":{"$error":"#REF!"}},{"$f":" IF(#REF!=\"\", \"\",#REF!)","v":{"$error":"#REF!"}},{"$f":"IF(AW106=\"\", \"\", IF($L106=\"男\", VLOOKUP(AW106, データ!$B$2:$C$101, 2, FALSE), IF($L106=\"女\", VLOOKUP(AW106, データ!$F$2:$H$101, 2, FALSE), \"\")))","v":{"$error":"#REF!"}},{"$f":"IF(A106=\"\",\"\", IF(#REF!=\"\", \"\",#REF!))","v":{"$error":"#REF!"}},{"$f":" IF(#REF!=\"\", \"\",#REF!)","v":{"$error":"#REF!"}},{"$f":" IF(#REF!=\"\", \"\",#REF!)","v":{"$error":"#REF!"}},{"$f":" IF(#REF!=\"\", \"\",#REF!)","v":{"$error":"#REF!"}},{"$f":" IF(#REF!=\"\", \"\",#REF!)","v":{"$error":"#REF!"}},{"$error":"#REF!"}]
[{"$f":"#REF!","v":{"$error":"#REF!"}},{"$f":" IF(#REF!=\"\", \"\",#REF!)","v":{"$error":"#REF!"}},{"$f":" IF(#REF!=\"\", \"\",#REF!)","v":{"$error":"#REF!"}},{"$f":" IF(#REF!=\"\", \"\",#REF!)","v":{"$error":"#REF!"}},{"$error":"#REF!"},{"$error":"#REF!"},{"$error":"#REF!"},{"$error":"#REF!"},{"$f":" IF(#REF!=\"\", \"\",#REF!)","v":{"$error":"#REF!"}},{"$f":" IF(#REF!=\"\", \"\",#REF!)","v":{"$error":"#REF!"}},{"$f":" IF(#REF!=\"\", \"\",#REF!)","v":{"$error":"#REF!"}},{"$f":" IF(#REF!=\"\", \"\",#REF!)","v":{"$error":"#REF!"}},{"$f":" IF(#REF!=\"\", \"\",#REF!)","v":{"$error":"#REF!"}},{"$f":" IF(#REF!=\"\", \"\",#REF!)","v":{"$error":"#REF!"}},{"$f":" IF(#REF!=\"\", \"\",#REF!)","v":{"$error":"#REF!"}},{"$f":" IF(#REF!=\"\", \"\",#REF!)","v":{"$error":"#REF!"}},{"$f":"IF(A107=\"\",\"\",#REF!)","v":{"$error":"#REF!"}},{"$f":" IF(Q107=\"\", \"\",#REF!)","v":{"$error":"#REF!"}},{"$f":" IF(Q107=\"\", \"\",#REF!)","v":{"$error":"#REF!"}},{"$f":" IF(Q107=\"\", \"\",#REF!)","v":{"$error":"#REF!"}},{"$f":" IF(Q107=\"\", \"\",#REF!)","v":{"$error":"#REF!"}},{"$f":" IF(#REF!=\"\", \"\",#REF!)","v":{"$error":"#REF!"}},{"$f":" IF(#REF!=\"\", \"\",#REF!)","v":{"$error":"#REF!"}},{"$f":"IF(Y107=\"\", \"\", IF($L107=\"男\", VLOOKUP(Y107, データ!$B$2:$C$101, 2, FALSE), IF($L107=\"女\", VLOOKUP(Y107, データ!$F$2:$H$101, 2, FALSE), \"\")))","v":{"$error":"#REF!"}},{"$f":"IF(A107=\"\",\"\", IF(#REF!=\"\", \"\",#REF!))","v":{"$error":"#REF!"}},{"$f":" IF(#REF!=\"\", \"\",#REF!)","v":{"$error":"#REF!"}},{"$f":" IF(#REF!=\"\", \"\",#REF!)","v":{"$error":"#REF!"}},{"$f":" IF(#REF!=\"\", \"\",#REF!)","v":{"$error":"#REF!"}},{"$f":" IF(#REF!=\"\", \"\",#REF!)","v":{"$error":"#REF!"}},{"$f":"IF(AE107=\"\", \"\", IF($L107=\"男\", VLOOKUP(AE107, データ!$B$2:$C$101, 2, FALSE), IF($L107=\"女\", VLOOKUP(AE107, データ!$F$2:$H$101, 2, FALSE), \"\")))","v":{"$error":"#REF!"}},{"$f":"IF(A107=\"\",\"\", IF(#REF!=\"\", \"\",#REF!))","v":{"$error":"#REF!"}},{"$f":" IF(#REF!=\"\", \"\",#REF!)","v":{"$error":"#REF!"}},{"$f":" IF(#REF!=\"\", \"\",#REF!)","v":{"$error":"#REF!"}},{"$f":" IF(#REF!=\"\", \"\",#REF!)","v":{"$error":"#REF!"}},{"$f":" IF(#REF!=\"\", \"\",#REF!)","v":{"$error":"#REF!"}},{"$f":"IF(AK107=\"\", \"\", IF($L107=\"男\", VLOOKUP(AK107, データ!$B$2:$C$101, 2, FALSE), IF($L107=\"女\", VLOOKUP(AK107, データ!$F$2:$H$101, 2, FALSE), \"\")))","v":{"$error":"#REF!"}},{"$f":"IF(A107=\"\",\"\", IF(#REF!=\"\", \"\",#REF!))","v":{"$error":"#REF!"}},{"$f":" IF(#REF!=\"\", \"\",#REF!)","v":{"$error":"#REF!"}},{"$f":" IF(#REF!=\"\", \"\",#REF!)","v":{"$error":"#REF!"}},{"$f":" IF(#REF!=\"\", \"\",#REF!)","v":{"$error":"#REF!"}},{"$f":" IF(#REF!=\"\", \"\",#REF!)","v":{"$error":"#REF!"}},{"$f":"IF(AQ107=\"\", \"\", IF($L107=\"男\", VLOOKUP(AQ107, データ!$B$2:$C$101, 2, FALSE), IF($L107=\"女\", VLOOKUP(AQ107, データ!$F$2:$H$101, 2, FALSE), \"\")))","v":{"$error":"#REF!"}},{"$f":"IF(A107=\"\",\"\", IF(#REF!=\"\", \"\",#REF!))","v":{"$error":"#REF!"}},{"$f":" IF(#REF!=\"\", \"\",#REF!)","v":{"$error":"#REF!"}},{"$f":" IF(#REF!=\"\", \"\",#REF!)","v":{"$error":"#REF!"}},{"$f":" IF(#REF!=\"\", \"\",#REF!)","v":{"$error":"#REF!"}},{"$f":" IF(#REF!=\"\", \"\",#REF!)","v":{"$error":"#REF!"}},{"$f":"IF(AW107=\"\", \"\", IF($L107=\"男\", VLOOKUP(AW107, データ!$B$2:$C$101, 2, FALSE), IF($L107=\"女\", VLOOKUP(AW107, データ!$F$2:$H$101, 2, FALSE), \"\")))","v":{"$error":"#REF!"}},{"$f":"IF(A107=\"\",\"\", IF(#REF!=\"\", \"\",#REF!))","v":{"$error":"#REF!"}},{"$f":" IF(#REF!=\"\", \"\",#REF!)","v":{"$error":"#REF!"}},{"$f":" IF(#REF!=\"\", \"\",#REF!)","v":{"$error":"#REF!"}},{"$f":" IF(#REF!=\"\", \"\",#REF!)","v":{"$error":"#REF!"}},{"$f":" IF(#REF!=\"\", \"\",#REF!)","v":{"$error":"#REF!"}},{"$error":"#REF!"}]
[{"$f":"#REF!","v":{"$error":"#REF!"}},{"$f":" IF(#REF!=\"\", \"\",#REF!)","v":{"$error":"#REF!"}},{"$f":" IF(#REF!=\"\", \"\",#REF!)","v":{"$error":"#REF!"}},{"$f":" IF(#REF!=\"\", \"\",#REF!)","v":{"$error":"#REF!"}},{"$error":"#REF!"},{"$error":"#REF!"},{"$error":"#REF!"},{"$error":"#REF!"},{"$f":" IF(#REF!=\"\", \"\",#REF!)","v":{"$error":"#REF!"}},{"$f":" IF(#REF!=\"\", \"\",#REF!)","v":{"$error":"#REF!"}},{"$f":" IF(#REF!=\"\", \"\",#REF!)","v":{"$error":"#REF!"}},{"$f":" IF(#REF!=\"\", \"\",#REF!)","v":{"$error":"#REF!"}},{"$f":" IF(#REF!=\"\", \"\",#REF!)","v":{"$error":"#REF!"}},{"$f":" IF(#REF!=\"\", \"\",#REF!)","v":{"$error":"#REF!"}},{"$f":" IF(#REF!=\"\", \"\",#REF!)","v":{"$error":"#REF!"}},{"$f":" IF(#REF!=\"\", \"\",#REF!)","v":{"$error":"#REF!"}},{"$f":"IF(A108=\"\",\"\",#REF!)","v":{"$error":"#REF!"}},{"$f":" IF(Q108=\"\", \"\",#REF!)","v":{"$error":"#REF!"}},{"$f":" IF(Q108=\"\", \"\",#REF!)","v":{"$error":"#REF!"}},{"$f":" IF(Q108=\"\", \"\",#REF!)","v":{"$error":"#REF!"}},{"$f":" IF(Q108=\"\", \"\",#REF!)","v":{"$error":"#REF!"}},{"$f":" IF(#REF!=\"\", \"\",#REF!)","v":{"$error":"#REF!"}},{"$f":" IF(#REF!=\"\", \"\",#REF!)","v":{"$error":"#REF!"}},{"$f":"IF(Y108=\"\", \"\", IF($L108=\"男\", VLOOKUP(Y108, データ!$B$2:$C$101, 2, FALSE), IF($L108=\"女\", VLOOKUP(Y108, データ!$F$2:$H$101, 2, FALSE), \"\")))","v":{"$error":"#REF!"}},{"$f":"IF(A108=\"\",\"\", IF(#REF!=\"\", \"\",#REF!))","v":{"$error":"#REF!"}},{"$f":" IF(#REF!=\"\", \"\",#REF!)","v":{"$error":"#REF!"}},{"$f":" IF(#REF!=\"\", \"\",#REF!)","v":{"$error":"#REF!"}},{"$f":" IF(#REF!=\"\", \"\",#REF!)","v":{"$error":"#REF!"}},{"$f":" IF(#REF!=\"\", \"\",#REF!)","v":{"$error":"#REF!"}},{"$f":"IF(AE108=\"\", \"\", IF($L108=\"男\", VLOOKUP(AE108, データ!$B$2:$C$101, 2, FALSE), IF($L108=\"女\", VLOOKUP(AE108, データ!$F$2:$H$101, 2, FALSE), \"\")))","v":{"$error":"#REF!"}},{"$f":"IF(A108=\"\",\"\", IF(#REF!=\"\", \"\",#REF!))","v":{"$error":"#REF!"}},{"$f":" IF(#REF!=\"\", \"\",#REF!)","v":{"$error":"#REF!"}},{"$f":" IF(#REF!=\"\", \"\",#REF!)","v":{"$error":"#REF!"}},{"$f":" IF(#REF!=\"\", \"\",#REF!)","v":{"$error":"#REF!"}},{"$f":" IF(#REF!=\"\", \"\",#REF!)","v":{"$error":"#REF!"}},{"$f":"IF(AK108=\"\", \"\", IF($L108=\"男\", VLOOKUP(AK108, データ!$B$2:$C$101, 2, FALSE), IF($L108=\"女\", VLOOKUP(AK108, データ!$F$2:$H$101, 2, FALSE), \"\")))","v":{"$error":"#REF!"}},{"$f":"IF(A108=\"\",\"\", IF(#REF!=\"\", \"\",#REF!))","v":{"$error":"#REF!"}},{"$f":" IF(#REF!=\"\", \"\",#REF!)","v":{"$error":"#REF!"}},{"$f":" IF(#REF!=\"\", \"\",#REF!)","v":{"$error":"#REF!"}},{"$f":" IF(#REF!=\"\", \"\",#REF!)","v":{"$error":"#REF!"}},{"$f":" IF(#REF!=\"\", \"\",#REF!)","v":{"$error":"#REF!"}},{"$f":"IF(AQ108=\"\", \"\", IF($L108=\"男\", VLOOKUP(AQ108, データ!$B$2:$C$101, 2, FALSE), IF($L108=\"女\", VLOOKUP(AQ108, データ!$F$2:$H$101, 2, FALSE), \"\")))","v":{"$error":"#REF!"}},{"$f":"IF(A108=\"\",\"\", IF(#REF!=\"\", \"\",#REF!))","v":{"$error":"#REF!"}},{"$f":" IF(#REF!=\"\", \"\",#REF!)","v":{"$error":"#REF!"}},{"$f":" IF(#REF!=\"\", \"\",#REF!)","v":{"$error":"#REF!"}},{"$f":" IF(#REF!=\"\", \"\",#REF!)","v":{"$error":"#REF!"}},{"$f":" IF(#REF!=\"\", \"\",#REF!)","v":{"$error":"#REF!"}},{"$f":"IF(AW108=\"\", \"\", IF($L108=\"男\", VLOOKUP(AW108, データ!$B$2:$C$101, 2, FALSE), IF($L108=\"女\", VLOOKUP(AW108, データ!$F$2:$H$101, 2, FALSE), \"\")))","v":{"$error":"#REF!"}},{"$f":"IF(A108=\"\",\"\", IF(#REF!=\"\", \"\",#REF!))","v":{"$error":"#REF!"}},{"$f":" IF(#REF!=\"\", \"\",#REF!)","v":{"$error":"#REF!"}},{"$f":" IF(#REF!=\"\", \"\",#REF!)","v":{"$error":"#REF!"}},{"$f":" IF(#REF!=\"\", \"\",#REF!)","v":{"$error":"#REF!"}},{"$f":" IF(#REF!=\"\", \"\",#REF!)","v":{"$error":"#REF!"}},{"$error":"#REF!"}]
[{"$f":"#REF!","v":{"$error":"#REF!"}},{"$f":" IF(#REF!=\"\", \"\",#REF!)","v":{"$error":"#REF!"}},{"$f":" IF(#REF!=\"\", \"\",#REF!)","v":{"$error":"#REF!"}},{"$f":" IF(#REF!=\"\", \"\",#REF!)","v":{"$error":"#REF!"}},{"$error":"#REF!"},{"$error":"#REF!"},{"$error":"#REF!"},{"$error":"#REF!"},{"$f":" IF(#REF!=\"\", \"\",#REF!)","v":{"$error":"#REF!"}},{"$f":" IF(#REF!=\"\", \"\",#REF!)","v":{"$error":"#REF!"}},{"$f":" IF(#REF!=\"\", \"\",#REF!)","v":{"$error":"#REF!"}},{"$f":" IF(#REF!=\"\", \"\",#REF!)","v":{"$error":"#REF!"}},{"$f":" IF(#REF!=\"\", \"\",#REF!)","v":{"$error":"#REF!"}},{"$f":" IF(#REF!=\"\", \"\",#REF!)","v":{"$error":"#REF!"}},{"$f":" IF(#REF!=\"\", \"\",#REF!)","v":{"$error":"#REF!"}},{"$f":" IF(#REF!=\"\", \"\",#REF!)","v":{"$error":"#REF!"}},{"$f":"IF(A109=\"\",\"\",#REF!)","v":{"$error":"#REF!"}},{"$f":" IF(Q109=\"\", \"\",#REF!)","v":{"$error":"#REF!"}},{"$f":" IF(Q109=\"\", \"\",#REF!)","v":{"$error":"#REF!"}},{"$f":" IF(Q109=\"\", \"\",#REF!)","v":{"$error":"#REF!"}},{"$f":" IF(Q109=\"\", \"\",#REF!)","v":{"$error":"#REF!"}},{"$f":" IF(#REF!=\"\", \"\",#REF!)","v":{"$error":"#REF!"}},{"$f":" IF(#REF!=\"\", \"\",#REF!)","v":{"$error":"#REF!"}},{"$f":"IF(Y109=\"\", \"\", IF($L109=\"男\", VLOOKUP(Y109, データ!$B$2:$C$101, 2, FALSE), IF($L109=\"女\", VLOOKUP(Y109, データ!$F$2:$H$101, 2, FALSE), \"\")))","v":{"$error":"#REF!"}},{"$f":"IF(A109=\"\",\"\", IF(#REF!=\"\", \"\",#REF!))","v":{"$error":"#REF!"}},{"$f":" IF(#REF!=\"\", \"\",#REF!)","v":{"$error":"#REF!"}},{"$f":" IF(#REF!=\"\", \"\",#REF!)","v":{"$error":"#REF!"}},{"$f":" IF(#REF!=\"\", \"\",#REF!)","v":{"$error":"#REF!"}},{"$f":" IF(#REF!=\"\", \"\",#REF!)","v":{"$error":"#REF!"}},{"$f":"IF(AE109=\"\", \"\", IF($L109=\"男\", VLOOKUP(AE109, データ!$B$2:$C$101, 2, FALSE), IF($L109=\"女\", VLOOKUP(AE109, データ!$F$2:$H$101, 2, FALSE), \"\")))","v":{"$error":"#REF!"}},{"$f":"IF(A109=\"\",\"\", IF(#REF!=\"\", \"\",#REF!))","v":{"$error":"#REF!"}},{"$f":" IF(#REF!=\"\", \"\",#REF!)","v":{"$error":"#REF!"}},{"$f":" IF(#REF!=\"\", \"\",#REF!)","v":{"$error":"#REF!"}},{"$f":" IF(#REF!=\"\", \"\",#REF!)","v":{"$error":"#REF!"}},{"$f":" IF(#REF!=\"\", \"\",#REF!)","v":{"$error":"#REF!"}},{"$f":"IF(AK109=\"\", \"\", IF($L109=\"男\", VLOOKUP(AK109, データ!$B$2:$C$101, 2, FALSE), IF($L109=\"女\", VLOOKUP(AK109, データ!$F$2:$H$101, 2, FALSE), \"\")))","v":{"$error":"#REF!"}},{"$f":"IF(A109=\"\",\"\", IF(#REF!=\"\", \"\",#REF!))","v":{"$error":"#REF!"}},{"$f":" IF(#REF!=\"\", \"\",#REF!)","v":{"$error":"#REF!"}},{"$f":" IF(#REF!=\"\", \"\",#REF!)","v":{"$error":"#REF!"}},{"$f":" IF(#REF!=\"\", \"\",#REF!)","v":{"$error":"#REF!"}},{"$f":" IF(#REF!=\"\", \"\",#REF!)","v":{"$error":"#REF!"}},{"$f":"IF(AQ109=\"\", \"\", IF($L109=\"男\", VLOOKUP(AQ109, データ!$B$2:$C$101, 2, FALSE), IF($L109=\"女\", VLOOKUP(AQ109, データ!$F$2:$H$101, 2, FALSE), \"\")))","v":{"$error":"#REF!"}},{"$f":"IF(A109=\"\",\"\", IF(#REF!=\"\", \"\",#REF!))","v":{"$error":"#REF!"}},{"$f":" IF(#REF!=\"\", \"\",#REF!)","v":{"$error":"#REF!"}},{"$f":" IF(#REF!=\"\", \"\",#REF!)","v":{"$error":"#REF!"}},{"$f":" IF(#REF!=\"\", \"\",#REF!)","v":{"$error":"#REF!"}},{"$f":" IF(#REF!=\"\", \"\",#REF!)","v":{"$error":"#REF!"}},{"$f":"IF(AW109=\"\", \"\", IF($L109=\"男\", VLOOKUP(AW109, データ!$B$2:$C$101, 2, FALSE), IF($L109=\"女\", VLOOKUP(AW109, データ!$F$2:$H$101, 2, FALSE), \"\")))","v":{"$error":"#REF!"}},{"$f":"IF(A109=\"\",\"\", IF(#REF!=\"\", \"\",#REF!))","v":{"$error":"#REF!"}},{"$f":" IF(#REF!=\"\", \"\",#REF!)","v":{"$error":"#REF!"}},{"$f":" IF(#REF!=\"\", \"\",#REF!)","v":{"$error":"#REF!"}},{"$f":" IF(#REF!=\"\", \"\",#REF!)","v":{"$error":"#REF!"}},{"$f":" IF(#REF!=\"\", \"\",#REF!)","v":{"$error":"#REF!"}},{"$error":"#REF!"}]
[{"$f":"#REF!","v":{"$error":"#REF!"}},{"$f":" IF(#REF!=\"\", \"\",#REF!)","v":{"$error":"#REF!"}},{"$f":" IF(#REF!=\"\", \"\",#REF!)","v":{"$error":"#REF!"}},{"$f":" IF(#REF!=\"\", \"\",#REF!)","v":{"$error":"#REF!"}},{"$error":"#REF!"},{"$error":"#REF!"},{"$error":"#REF!"},{"$error":"#REF!"},{"$f":" IF(#REF!=\"\", \"\",#REF!)","v":{"$error":"#REF!"}},{"$f":" IF(#REF!=\"\", \"\",#REF!)","v":{"$error":"#REF!"}},{"$f":" IF(#REF!=\"\", \"\",#REF!)","v":{"$error":"#REF!"}},{"$f":" IF(#REF!=\"\", \"\",#REF!)","v":{"$error":"#REF!"}},{"$f":" IF(#REF!=\"\", \"\",#REF!)","v":{"$error":"#REF!"}},{"$f":" IF(#REF!=\"\", \"\",#REF!)","v":{"$error":"#REF!"}},{"$f":" IF(#REF!=\"\", \"\",#REF!)","v":{"$error":"#REF!"}},{"$f":" IF(#REF!=\"\", \"\",#REF!)","v":{"$error":"#REF!"}},{"$f":"IF(A110=\"\",\"\",#REF!)","v":{"$error":"#REF!"}},{"$f":" IF(Q110=\"\", \"\",#REF!)","v":{"$error":"#REF!"}},{"$f":" IF(Q110=\"\", \"\",#REF!)","v":{"$error":"#REF!"}},{"$f":" IF(Q110=\"\", \"\",#REF!)","v":{"$error":"#REF!"}},{"$f":" IF(Q110=\"\", \"\",#REF!)","v":{"$error":"#REF!"}},{"$f":" IF(#REF!=\"\", \"\",#REF!)","v":{"$error":"#REF!"}},{"$f":" IF(#REF!=\"\", \"\",#REF!)","v":{"$error":"#REF!"}},{"$f":"IF(Y110=\"\", \"\", IF($L110=\"男\", VLOOKUP(Y110, データ!$B$2:$C$101, 2, FALSE), IF($L110=\"女\", VLOOKUP(Y110, データ!$F$2:$H$101, 2, FALSE), \"\")))","v":{"$error":"#REF!"}},{"$f":"IF(A110=\"\",\"\", IF(#REF!=\"\", \"\",#REF!))","v":{"$error":"#REF!"}},{"$f":" IF(#REF!=\"\", \"\",#REF!)","v":{"$error":"#REF!"}},{"$f":" IF(#REF!=\"\", \"\",#REF!)","v":{"$error":"#REF!"}},{"$f":" IF(#REF!=\"\", \"\",#REF!)","v":{"$error":"#REF!"}},{"$f":" IF(#REF!=\"\", \"\",#REF!)","v":{"$error":"#REF!"}},{"$f":"IF(AE110=\"\", \"\", IF($L110=\"男\", VLOOKUP(AE110, データ!$B$2:$C$101, 2, FALSE), IF($L110=\"女\", VLOOKUP(AE110, データ!$F$2:$H$101, 2, FALSE), \"\")))","v":{"$error":"#REF!"}},{"$f":"IF(A110=\"\",\"\", IF(#REF!=\"\", \"\",#REF!))","v":{"$error":"#REF!"}},{"$f":" IF(#REF!=\"\", \"\",#REF!)","v":{"$error":"#REF!"}},{"$f":" IF(#REF!=\"\", \"\",#REF!)","v":{"$error":"#REF!"}},{"$f":" IF(#REF!=\"\", \"\",#REF!)","v":{"$error":"#REF!"}},{"$f":" IF(#REF!=\"\", \"\",#REF!)","v":{"$error":"#REF!"}},{"$f":"IF(AK110=\"\", \"\", IF($L110=\"男\", VLOOKUP(AK110, データ!$B$2:$C$101, 2, FALSE), IF($L110=\"女\", VLOOKUP(AK110, データ!$F$2:$H$101, 2, FALSE), \"\")))","v":{"$error":"#REF!"}},{"$f":"IF(A110=\"\",\"\", IF(#REF!=\"\", \"\",#REF!))","v":{"$error":"#REF!"}},{"$f":" IF(#REF!=\"\", \"\",#REF!)","v":{"$error":"#REF!"}},{"$f":" IF(#REF!=\"\", \"\",#REF!)","v":{"$error":"#REF!"}},{"$f":" IF(#REF!=\"\", \"\",#REF!)","v":{"$error":"#REF!"}},{"$f":" IF(#REF!=\"\", \"\",#REF!)","v":{"$error":"#REF!"}},{"$f":"IF(AQ110=\"\", \"\", IF($L110=\"男\", VLOOKUP(AQ110, データ!$B$2:$C$101, 2, FALSE), IF($L110=\"女\", VLOOKUP(AQ110, データ!$F$2:$H$101, 2, FALSE), \"\")))","v":{"$error":"#REF!"}},{"$f":"IF(A110=\"\",\"\", IF(#REF!=\"\", \"\",#REF!))","v":{"$error":"#REF!"}},{"$f":" IF(#REF!=\"\", \"\",#REF!)","v":{"$error":"#REF!"}},{"$f":" IF(#REF!=\"\", \"\",#REF!)","v":{"$error":"#REF!"}},{"$f":" IF(#REF!=\"\", \"\",#REF!)","v":{"$error":"#REF!"}},{"$f":" IF(#REF!=\"\", \"\",#REF!)","v":{"$error":"#REF!"}},{"$f":"IF(AW110=\"\", \"\", IF($L110=\"男\", VLOOKUP(AW110, データ!$B$2:$C$101, 2, FALSE), IF($L110=\"女\", VLOOKUP(AW110, データ!$F$2:$H$101, 2, FALSE), \"\")))","v":{"$error":"#REF!"}},{"$f":"IF(A110=\"\",\"\", IF(#REF!=\"\", \"\",#REF!))","v":{"$error":"#REF!"}},{"$f":" IF(#REF!=\"\", \"\",#REF!)","v":{"$error":"#REF!"}},{"$f":" IF(#REF!=\"\", \"\",#REF!)","v":{"$error":"#REF!"}},{"$f":" IF(#REF!=\"\", \"\",#REF!)","v":{"$error":"#REF!"}},{"$f":" IF(#REF!=\"\", \"\",#REF!)","v":{"$error":"#REF!"}},{"$error":"#REF!"}]
[{"$f":"#REF!","v":{"$error":"#REF!"}},{"$f":" IF(#REF!=\"\", \"\",#REF!)","v":{"$error":"#REF!"}},{"$f":" IF(#REF!=\"\", \"\",#REF!)","v":{"$error":"#REF!"}},{"$f":" IF(#REF!=\"\", \"\",#REF!)","v":{"$error":"#REF!"}},{"$error":"#REF!"},{"$error":"#REF!"},{"$error":"#REF!"},{"$error":"#REF!"},{"$f":" IF(#REF!=\"\", \"\",#REF!)","v":{"$error":"#REF!"}},{"$f":" IF(#REF!=\"\", \"\",#REF!)","v":{"$error":"#REF!"}},{"$f":" IF(#REF!=\"\", \"\",#REF!)","v":{"$error":"#REF!"}},{"$f":" IF(#REF!=\"\", \"\",#REF!)","v":{"$error":"#REF!"}},{"$f":" IF(#REF!=\"\", \"\",#REF!)","v":{"$error":"#REF!"}},{"$f":" IF(#REF!=\"\", \"\",#REF!)","v":{"$error":"#REF!"}},{"$f":" IF(#REF!=\"\", \"\",#REF!)","v":{"$error":"#REF!"}},{"$f":" IF(#REF!=\"\", \"\",#REF!)","v":{"$error":"#REF!"}},{"$f":"IF(A111=\"\",\"\",#REF!)","v":{"$error":"#REF!"}},{"$f":" IF(Q111=\"\", \"\",#REF!)","v":{"$error":"#REF!"}},{"$f":" IF(Q111=\"\", \"\",#REF!)","v":{"$error":"#REF!"}},{"$f":" IF(Q111=\"\", \"\",#REF!)","v":{"$error":"#REF!"}},{"$f":" IF(Q111=\"\", \"\",#REF!)","v":{"$error":"#REF!"}},{"$f":" IF(#REF!=\"\", \"\",#REF!)","v":{"$error":"#REF!"}},{"$f":" IF(#REF!=\"\", \"\",#REF!)","v":{"$error":"#REF!"}},{"$f":"IF(Y111=\"\", \"\", IF($L111=\"男\", VLOOKUP(Y111, データ!$B$2:$C$101, 2, FALSE), IF($L111=\"女\", VLOOKUP(Y111, データ!$F$2:$H$101, 2, FALSE), \"\")))","v":{"$error":"#REF!"}},{"$f":"IF(A111=\"\",\"\", IF(#REF!=\"\", \"\",#REF!))","v":{"$error":"#REF!"}},{"$f":" IF(#REF!=\"\", \"\",#REF!)","v":{"$error":"#REF!"}},{"$f":" IF(#REF!=\"\", \"\",#REF!)","v":{"$error":"#REF!"}},{"$f":" IF(#REF!=\"\", \"\",#REF!)","v":{"$error":"#REF!"}},{"$f":" IF(#REF!=\"\", \"\",#REF!)","v":{"$error":"#REF!"}},{"$f":"IF(AE111=\"\", \"\", IF($L111=\"男\", VLOOKUP(AE111, データ!$B$2:$C$101, 2, FALSE), IF($L111=\"女\", VLOOKUP(AE111, データ!$F$2:$H$101, 2, FALSE), \"\")))","v":{"$error":"#REF!"}},{"$f":"IF(A111=\"\",\"\", IF(#REF!=\"\", \"\",#REF!))","v":{"$error":"#REF!"}},{"$f":" IF(#REF!=\"\", \"\",#REF!)","v":{"$error":"#REF!"}},{"$f":" IF(#REF!=\"\", \"\",#REF!)","v":{"$error":"#REF!"}},{"$f":" IF(#REF!=\"\", \"\",#REF!)","v":{"$error":"#REF!"}},{"$f":" IF(#REF!=\"\", \"\",#REF!)","v":{"$error":"#REF!"}},{"$f":"IF(AK111=\"\", \"\", IF($L111=\"男\", VLOOKUP(AK111, データ!$B$2:$C$101, 2, FALSE), IF($L111=\"女\", VLOOKUP(AK111, データ!$F$2:$H$101, 2, FALSE), \"\")))","v":{"$error":"#REF!"}},{"$f":"IF(A111=\"\",\"\", IF(#REF!=\"\", \"\",#REF!))","v":{"$error":"#REF!"}},{"$f":" IF(#REF!=\"\", \"\",#REF!)","v":{"$error":"#REF!"}},{"$f":" IF(#REF!=\"\", \"\",#REF!)","v":{"$error":"#REF!"}},{"$f":" IF(#REF!=\"\", \"\",#REF!)","v":{"$error":"#REF!"}},{"$f":" IF(#REF!=\"\", \"\",#REF!)","v":{"$error":"#REF!"}},{"$f":"IF(AQ111=\"\", \"\", IF($L111=\"男\", VLOOKUP(AQ111, データ!$B$2:$C$101, 2, FALSE), IF($L111=\"女\", VLOOKUP(AQ111, データ!$F$2:$H$101, 2, FALSE), \"\")))","v":{"$error":"#REF!"}},{"$f":"IF(A111=\"\",\"\", IF(#REF!=\"\", \"\",#REF!))","v":{"$error":"#REF!"}},{"$f":" IF(#REF!=\"\", \"\",#REF!)","v":{"$error":"#REF!"}},{"$f":" IF(#REF!=\"\", \"\",#REF!)","v":{"$error":"#REF!"}},{"$f":" IF(#REF!=\"\", \"\",#REF!)","v":{"$error":"#REF!"}},{"$f":" IF(#REF!=\"\", \"\",#REF!)","v":{"$error":"#REF!"}},{"$f":"IF(AW111=\"\", \"\", IF($L111=\"男\", VLOOKUP(AW111, データ!$B$2:$C$101, 2, FALSE), IF($L111=\"女\", VLOOKUP(AW111, データ!$F$2:$H$101, 2, FALSE), \"\")))","v":{"$error":"#REF!"}},{"$f":"IF(A111=\"\",\"\", IF(#REF!=\"\", \"\",#REF!))","v":{"$error":"#REF!"}},{"$f":" IF(#REF!=\"\", \"\",#REF!)","v":{"$error":"#REF!"}},{"$f":" IF(#REF!=\"\", \"\",#REF!)","v":{"$error":"#REF!"}},{"$f":" IF(#REF!=\"\", \"\",#REF!)","v":{"$error":"#REF!"}},{"$f":" IF(#REF!=\"\", \"\",#REF!)","v":{"$error":"#REF!"}},{"$error":"#REF!"}]
[{"$f":"#REF!","v":{"$error":"#REF!"}},{"$f":" IF(#REF!=\"\", \"\",#REF!)","v":{"$error":"#REF!"}},{"$f":" IF(#REF!=\"\", \"\",#REF!)","v":{"$error":"#REF!"}},{"$f":" IF(#REF!=\"\", \"\",#REF!)","v":{"$error":"#REF!"}},{"$error":"#REF!"},{"$error":"#REF!"},{"$error":"#REF!"},{"$error":"#REF!"},{"$f":" IF(#REF!=\"\", \"\",#REF!)","v":{"$error":"#REF!"}},{"$f":" IF(#REF!=\"\", \"\",#REF!)","v":{"$error":"#REF!"}},{"$f":" IF(#REF!=\"\", \"\",#REF!)","v":{"$error":"#REF!"}},{"$f":" IF(#REF!=\"\", \"\",#REF!)","v":{"$error":"#REF!"}},{"$f":" IF(#REF!=\"\", \"\",#REF!)","v":{"$error":"#REF!"}},{"$f":" IF(#REF!=\"\", \"\",#REF!)","v":{"$error":"#REF!"}},{"$f":" IF(#REF!=\"\", \"\",#REF!)","v":{"$error":"#REF!"}},{"$f":" IF(#REF!=\"\", \"\",#REF!)","v":{"$error":"#REF!"}},{"$f":"IF(A112=\"\",\"\",#REF!)","v":{"$error":"#REF!"}},{"$f":" IF(Q112=\"\", \"\",#REF!)","v":{"$error":"#REF!"}},{"$f":" IF(Q112=\"\", \"\",#REF!)","v":{"$error":"#REF!"}},{"$f":" IF(Q112=\"\", \"\",#REF!)","v":{"$error":"#REF!"}},{"$f":" IF(Q112=\"\", \"\",#REF!)","v":{"$error":"#REF!"}},{"$f":" IF(#REF!=\"\", \"\",#REF!)","v":{"$error":"#REF!"}},{"$f":" IF(#REF!=\"\", \"\",#REF!)","v":{"$error":"#REF!"}},{"$f":"IF(Y112=\"\", \"\", IF($L112=\"男\", VLOOKUP(Y112, データ!$B$2:$C$101, 2, FALSE), IF($L112=\"女\", VLOOKUP(Y112, データ!$F$2:$H$101, 2, FALSE), \"\")))","v":{"$error":"#REF!"}},{"$f":"IF(A112=\"\",\"\", IF(#REF!=\"\", \"\",#REF!))","v":{"$error":"#REF!"}},{"$f":" IF(#REF!=\"\", \"\",#REF!)","v":{"$error":"#REF!"}},{"$f":" IF(#REF!=\"\", \"\",#REF!)","v":{"$error":"#REF!"}},{"$f":" IF(#REF!=\"\", \"\",#REF!)","v":{"$error":"#REF!"}},{"$f":" IF(#REF!=\"\", \"\",#REF!)","v":{"$error":"#REF!"}},{"$f":"IF(AE112=\"\", \"\", IF($L112=\"男\", VLOOKUP(AE112, データ!$B$2:$C$101, 2, FALSE), IF($L112=\"女\", VLOOKUP(AE112, データ!$F$2:$H$101, 2, FALSE), \"\")))","v":{"$error":"#REF!"}},{"$f":"IF(A112=\"\",\"\", IF(#REF!=\"\", \"\",#REF!))","v":{"$error":"#REF!"}},{"$f":" IF(#REF!=\"\", \"\",#REF!)","v":{"$error":"#REF!"}},{"$f":" IF(#REF!=\"\", \"\",#REF!)","v":{"$error":"#REF!"}},{"$f":" IF(#REF!=\"\", \"\",#REF!)","v":{"$error":"#REF!"}},{"$f":" IF(#REF!=\"\", \"\",#REF!)","v":{"$error":"#REF!"}},{"$f":"IF(AK112=\"\", \"\", IF($L112=\"男\", VLOOKUP(AK112, データ!$B$2:$C$101, 2, FALSE), IF($L112=\"女\", VLOOKUP(AK112, データ!$F$2:$H$101, 2, FALSE), \"\")))","v":{"$error":"#REF!"}},{"$f":"IF(A112=\"\",\"\", IF(#REF!=\"\", \"\",#REF!))","v":{"$error":"#REF!"}},{"$f":" IF(#REF!=\"\", \"\",#REF!)","v":{"$error":"#REF!"}},{"$f":" IF(#REF!=\"\", \"\",#REF!)","v":{"$error":"#REF!"}},{"$f":" IF(#REF!=\"\", \"\",#REF!)","v":{"$error":"#REF!"}},{"$f":" IF(#REF!=\"\", \"\",#REF!)","v":{"$error":"#REF!"}},{"$f":"IF(AQ112=\"\", \"\", IF($L112=\"男\", VLOOKUP(AQ112, データ!$B$2:$C$101, 2, FALSE), IF($L112=\"女\", VLOOKUP(AQ112, データ!$F$2:$H$101, 2, FALSE), \"\")))","v":{"$error":"#REF!"}},{"$f":"IF(A112=\"\",\"\", IF(#REF!=\"\", \"\",#REF!))","v":{"$error":"#REF!"}},{"$f":" IF(#REF!=\"\", \"\",#REF!)","v":{"$error":"#REF!"}},{"$f":" IF(#REF!=\"\", \"\",#REF!)","v":{"$error":"#REF!"}},{"$f":" IF(#REF!=\"\", \"\",#REF!)","v":{"$error":"#REF!"}},{"$f":" IF(#REF!=\"\", \"\",#REF!)","v":{"$error":"#REF!"}},{"$f":"IF(AW112=\"\", \"\", IF($L112=\"男\", VLOOKUP(AW112, データ!$B$2:$C$101, 2, FALSE), IF($L112=\"女\", VLOOKUP(AW112, データ!$F$2:$H$101, 2, FALSE), \"\")))","v":{"$error":"#REF!"}},{"$f":"IF(A112=\"\",\"\", IF(#REF!=\"\", \"\",#REF!))","v":{"$error":"#REF!"}},{"$f":" IF(#REF!=\"\", \"\",#REF!)","v":{"$error":"#REF!"}},{"$f":" IF(#REF!=\"\", \"\",#REF!)","v":{"$error":"#REF!"}},{"$f":" IF(#REF!=\"\", \"\",#REF!)","v":{"$error":"#REF!"}},{"$f":" IF(#REF!=\"\", \"\",#REF!)","v":{"$error":"#REF!"}},{"$error":"#REF!"}]
[{"$f":"#REF!","v":{"$error":"#REF!"}},{"$f":" IF(#REF!=\"\", \"\",#REF!)","v":{"$error":"#REF!"}},{"$f":" IF(#REF!=\"\", \"\",#REF!)","v":{"$error":"#REF!"}},{"$f":" IF(#REF!=\"\", \"\",#REF!)","v":{"$error":"#REF!"}},{"$error":"#REF!"},{"$error":"#REF!"},{"$error":"#REF!"},{"$error":"#REF!"},{"$f":" IF(#REF!=\"\", \"\",#REF!)","v":{"$error":"#REF!"}},{"$f":" IF(#REF!=\"\", \"\",#REF!)","v":{"$error":"#REF!"}},{"$f":" IF(#REF!=\"\", \"\",#REF!)","v":{"$error":"#REF!"}},{"$f":" IF(#REF!=\"\", \"\",#REF!)","v":{"$error":"#REF!"}},{"$f":" IF(#REF!=\"\", \"\",#REF!)","v":{"$error":"#REF!"}},{"$f":" IF(#REF!=\"\", \"\",#REF!)","v":{"$error":"#REF!"}},{"$f":" IF(#REF!=\"\", \"\",#REF!)","v":{"$error":"#REF!"}},{"$f":" IF(#REF!=\"\", \"\",#REF!)","v":{"$error":"#REF!"}},{"$f":"IF(A113=\"\",\"\",#REF!)","v":{"$error":"#REF!"}},{"$f":" IF(Q113=\"\", \"\",#REF!)","v":{"$error":"#REF!"}},{"$f":" IF(Q113=\"\", \"\",#REF!)","v":{"$error":"#REF!"}},{"$f":" IF(Q113=\"\", \"\",#REF!)","v":{"$error":"#REF!"}},{"$f":" IF(Q113=\"\", \"\",#REF!)","v":{"$error":"#REF!"}},{"$f":" IF(#REF!=\"\", \"\",#REF!)","v":{"$error":"#REF!"}},{"$f":" IF(#REF!=\"\", \"\",#REF!)","v":{"$error":"#REF!"}},{"$f":"IF(Y113=\"\", \"\", IF($L113=\"男\", VLOOKUP(Y113, データ!$B$2:$C$101, 2, FALSE), IF($L113=\"女\", VLOOKUP(Y113, データ!$F$2:$H$101, 2, FALSE), \"\")))","v":{"$error":"#REF!"}},{"$f":"IF(A113=\"\",\"\", IF(#REF!=\"\", \"\",#REF!))","v":{"$error":"#REF!"}},{"$f":" IF(#REF!=\"\", \"\",#REF!)","v":{"$error":"#REF!"}},{"$f":" IF(#REF!=\"\", \"\",#REF!)","v":{"$error":"#REF!"}},{"$f":" IF(#REF!=\"\", \"\",#REF!)","v":{"$error":"#REF!"}},{"$f":" IF(#REF!=\"\", \"\",#REF!)","v":{"$error":"#REF!"}},{"$f":"IF(AE113=\"\", \"\", IF($L113=\"男\", VLOOKUP(AE113, データ!$B$2:$C$101, 2, FALSE), IF($L113=\"女\", VLOOKUP(AE113, データ!$F$2:$H$101, 2, FALSE), \"\")))","v":{"$error":"#REF!"}},{"$f":"IF(A113=\"\",\"\", IF(#REF!=\"\", \"\",#REF!))","v":{"$error":"#REF!"}},{"$f":" IF(#REF!=\"\", \"\",#REF!)","v":{"$error":"#REF!"}},{"$f":" IF(#REF!=\"\", \"\",#REF!)","v":{"$error":"#REF!"}},{"$f":" IF(#REF!=\"\", \"\",#REF!)","v":{"$error":"#REF!"}},{"$f":" IF(#REF!=\"\", \"\",#REF!)","v":{"$error":"#REF!"}},{"$f":"IF(AK113=\"\", \"\", IF($L113=\"男\", VLOOKUP(AK113, データ!$B$2:$C$101, 2, FALSE), IF($L113=\"女\", VLOOKUP(AK113, データ!$F$2:$H$101, 2, FALSE), \"\")))","v":{"$error":"#REF!"}},{"$f":"IF(A113=\"\",\"\", IF(#REF!=\"\", \"\",#REF!))","v":{"$error":"#REF!"}},{"$f":" IF(#REF!=\"\", \"\",#REF!)","v":{"$error":"#REF!"}},{"$f":" IF(#REF!=\"\", \"\",#REF!)","v":{"$error":"#REF!"}},{"$f":" IF(#REF!=\"\", \"\",#REF!)","v":{"$error":"#REF!"}},{"$f":" IF(#REF!=\"\", \"\",#REF!)","v":{"$error":"#REF!"}},{"$f":"IF(AQ113=\"\", \"\", IF($L113=\"男\", VLOOKUP(AQ113, データ!$B$2:$C$101, 2, FALSE), IF($L113=\"女\", VLOOKUP(AQ113, データ!$F$2:$H$101, 2, FALSE), \"\")))","v":{"$error":"#REF!"}},{"$f":"IF(A113=\"\",\"\", IF(#REF!=\"\", \"\",#REF!))","v":{"$error":"#REF!"}},{"$f":" IF(#REF!=\"\", \"\",#REF!)","v":{"$error":"#REF!"}},{"$f":" IF(#REF!=\"\", \"\",#REF!)","v":{"$error":"#REF!"}},{"$f":" IF(#REF!=\"\", \"\",#REF!)","v":{"$error":"#REF!"}},{"$f":" IF(#REF!=\"\", \"\",#REF!)","v":{"$error":"#REF!"}},{"$f":"IF(AW113=\"\", \"\", IF($L113=\"男\", VLOOKUP(AW113, データ!$B$2:$C$101, 2, FALSE), IF($L113=\"女\", VLOOKUP(AW113, データ!$F$2:$H$101, 2, FALSE), \"\")))","v":{"$error":"#REF!"}},{"$f":"IF(A113=\"\",\"\", IF(#REF!=\"\", \"\",#REF!))","v":{"$error":"#REF!"}},{"$f":" IF(#REF!=\"\", \"\",#REF!)","v":{"$error":"#REF!"}},{"$f":" IF(#REF!=\"\", \"\",#REF!)","v":{"$error":"#REF!"}},{"$f":" IF(#REF!=\"\", \"\",#REF!)","v":{"$error":"#REF!"}},{"$f":" IF(#REF!=\"\", \"\",#REF!)","v":{"$error":"#REF!"}},{"$error":"#REF!"}]
[{"$f":"#REF!","v":{"$error":"#REF!"}},{"$f":" IF(#REF!=\"\", \"\",#REF!)","v":{"$error":"#REF!"}},{"$f":" IF(#REF!=\"\", \"\",#REF!)","v":{"$error":"#REF!"}},{"$f":" IF(#REF!=\"\", \"\",#REF!)","v":{"$error":"#REF!"}},{"$error":"#REF!"},{"$error":"#REF!"},{"$error":"#REF!"},{"$error":"#REF!"},{"$f":" IF(#REF!=\"\", \"\",#REF!)","v":{"$error":"#REF!"}},{"$f":" IF(#REF!=\"\", \"\",#REF!)","v":{"$error":"#REF!"}},{"$f":" IF(#REF!=\"\", \"\",#REF!)","v":{"$error":"#REF!"}},{"$f":" IF(#REF!=\"\", \"\",#REF!)","v":{"$error":"#REF!"}},{"$f":" IF(#REF!=\"\", \"\",#REF!)","v":{"$error":"#REF!"}},{"$f":" IF(#REF!=\"\", \"\",#REF!)","v":{"$error":"#REF!"}},{"$f":" IF(#REF!=\"\", \"\",#REF!)","v":{"$error":"#REF!"}},{"$f":" IF(#REF!=\"\", \"\",#REF!)","v":{"$error":"#REF!"}},{"$f":"IF(A114=\"\",\"\",#REF!)","v":{"$error":"#REF!"}},{"$f":" IF(Q114=\"\", \"\",#REF!)","v":{"$error":"#REF!"}},{"$f":" IF(Q114=\"\", \"\",#REF!)","v":{"$error":"#REF!"}},{"$f":" IF(Q114=\"\", \"\",#REF!)","v":{"$error":"#REF!"}},{"$f":" IF(Q114=\"\", \"\",#REF!)","v":{"$error":"#REF!"}},{"$f":" IF(#REF!=\"\", \"\",#REF!)","v":{"$error":"#REF!"}},{"$f":" IF(#REF!=\"\", \"\",#REF!)","v":{"$error":"#REF!"}},{"$f":"IF(Y114=\"\", \"\", IF($L114=\"男\", VLOOKUP(Y114, データ!$B$2:$C$101, 2, FALSE), IF($L114=\"女\", VLOOKUP(Y114, データ!$F$2:$H$101, 2, FALSE), \"\")))","v":{"$error":"#REF!"}},{"$f":"IF(A114=\"\",\"\", IF(#REF!=\"\", \"\",#REF!))","v":{"$error":"#REF!"}},{"$f":" IF(#REF!=\"\", \"\",#REF!)","v":{"$error":"#REF!"}},{"$f":" IF(#REF!=\"\", \"\",#REF!)","v":{"$error":"#REF!"}},{"$f":" IF(#REF!=\"\", \"\",#REF!)","v":{"$error":"#REF!"}},{"$f":" IF(#REF!=\"\", \"\",#REF!)","v":{"$error":"#REF!"}},{"$f":"IF(AE114=\"\", \"\", IF($L114=\"男\", VLOOKUP(AE114, データ!$B$2:$C$101, 2, FALSE), IF($L114=\"女\", VLOOKUP(AE114, データ!$F$2:$H$101, 2, FALSE), \"\")))","v":{"$error":"#REF!"}},{"$f":"IF(A114=\"\",\"\", IF(#REF!=\"\", \"\",#REF!))","v":{"$error":"#REF!"}},{"$f":" IF(#REF!=\"\", \"\",#REF!)","v":{"$error":"#REF!"}},{"$f":" IF(#REF!=\"\", \"\",#REF!)","v":{"$error":"#REF!"}},{"$f":" IF(#REF!=\"\", \"\",#REF!)","v":{"$error":"#REF!"}},{"$f":" IF(#REF!=\"\", \"\",#REF!)","v":{"$error":"#REF!"}},{"$f":"IF(AK114=\"\", \"\", IF($L114=\"男\", VLOOKUP(AK114, データ!$B$2:$C$101, 2, FALSE), IF($L114=\"女\", VLOOKUP(AK114, データ!$F$2:$H$101, 2, FALSE), \"\")))","v":{"$error":"#REF!"}},{"$f":"IF(A114=\"\",\"\", IF(#REF!=\"\", \"\",#REF!))","v":{"$error":"#REF!"}},{"$f":" IF(#REF!=\"\", \"\",#REF!)","v":{"$error":"#REF!"}},{"$f":" IF(#REF!=\"\", \"\",#REF!)","v":{"$error":"#REF!"}},{"$f":" IF(#REF!=\"\", \"\",#REF!)","v":{"$error":"#REF!"}},{"$f":" IF(#REF!=\"\", \"\",#REF!)","v":{"$error":"#REF!"}},{"$f":"IF(AQ114=\"\", \"\", IF($L114=\"男\", VLOOKUP(AQ114, データ!$B$2:$C$101, 2, FALSE), IF($L114=\"女\", VLOOKUP(AQ114, データ!$F$2:$H$101, 2, FALSE), \"\")))","v":{"$error":"#REF!"}},{"$f":"IF(A114=\"\",\"\", IF(#REF!=\"\", \"\",#REF!))","v":{"$error":"#REF!"}},{"$f":" IF(#REF!=\"\", \"\",#REF!)","v":{"$error":"#REF!"}},{"$f":" IF(#REF!=\"\", \"\",#REF!)","v":{"$error":"#REF!"}},{"$f":" IF(#REF!=\"\", \"\",#REF!)","v":{"$error":"#REF!"}},{"$f":" IF(#REF!=\"\", \"\",#REF!)","v":{"$error":"#REF!"}},{"$f":"IF(AW114=\"\", \"\", IF($L114=\"男\", VLOOKUP(AW114, データ!$B$2:$C$101, 2, FALSE), IF($L114=\"女\", VLOOKUP(AW114, データ!$F$2:$H$101, 2, FALSE), \"\")))","v":{"$error":"#REF!"}},{"$f":"IF(A114=\"\",\"\", IF(#REF!=\"\", \"\",#REF!))","v":{"$error":"#REF!"}},{"$f":" IF(#REF!=\"\", \"\",#REF!)","v":{"$error":"#REF!"}},{"$f":" IF(#REF!=\"\", \"\",#REF!)","v":{"$error":"#REF!"}},{"$f":" IF(#REF!=\"\", \"\",#REF!)","v":{"$error":"#REF!"}},{"$f":" IF(#REF!=\"\", \"\",#REF!)","v":{"$error":"#REF!"}},{"$error":"#REF!"}]
[{"$f":"#REF!","v":{"$error":"#REF!"}},{"$f":" IF(#REF!=\"\", \"\",#REF!)","v":{"$error":"#REF!"}},{"$f":" IF(#REF!=\"\", \"\",#REF!)","v":{"$error":"#REF!"}},{"$f":" IF(#REF!=\"\", \"\",#REF!)","v":{"$error":"#REF!"}},{"$error":"#REF!"},{"$error":"#REF!"},{"$error":"#REF!"},{"$error":"#REF!"},{"$f":" IF(#REF!=\"\", \"\",#REF!)","v":{"$error":"#REF!"}},{"$f":" IF(#REF!=\"\", \"\",#REF!)","v":{"$error":"#REF!"}},{"$f":" IF(#REF!=\"\", \"\",#REF!)","v":{"$error":"#REF!"}},{"$f":" IF(#REF!=\"\", \"\",#REF!)","v":{"$error":"#REF!"}},{"$f":" IF(#REF!=\"\", \"\",#REF!)","v":{"$error":"#REF!"}},{"$f":" IF(#REF!=\"\", \"\",#REF!)","v":{"$error":"#REF!"}},{"$f":" IF(#REF!=\"\", \"\",#REF!)","v":{"$error":"#REF!"}},{"$f":" IF(#REF!=\"\", \"\",#REF!)","v":{"$error":"#REF!"}},{"$f":"IF(A115=\"\",\"\",#REF!)","v":{"$error":"#REF!"}},{"$f":" IF(Q115=\"\", \"\",#REF!)","v":{"$error":"#REF!"}},{"$f":" IF(Q115=\"\", \"\",#REF!)","v":{"$error":"#REF!"}},{"$f":" IF(Q115=\"\", \"\",#REF!)","v":{"$error":"#REF!"}},{"$f":" IF(Q115=\"\", \"\",#REF!)","v":{"$error":"#REF!"}},{"$f":" IF(#REF!=\"\", \"\",#REF!)","v":{"$error":"#REF!"}},{"$f":" IF(#REF!=\"\", \"\",#REF!)","v":{"$error":"#REF!"}},{"$f":"IF(Y115=\"\", \"\", IF($L115=\"男\", VLOOKUP(Y115, データ!$B$2:$C$101, 2, FALSE), IF($L115=\"女\", VLOOKUP(Y115, データ!$F$2:$H$101, 2, FALSE), \"\")))","v":{"$error":"#REF!"}},{"$f":"IF(A115=\"\",\"\", IF(#REF!=\"\", \"\",#REF!))","v":{"$error":"#REF!"}},{"$f":" IF(#REF!=\"\", \"\",#REF!)","v":{"$error":"#REF!"}},{"$f":" IF(#REF!=\"\", \"\",#REF!)","v":{"$error":"#REF!"}},{"$f":" IF(#REF!=\"\", \"\",#REF!)","v":{"$error":"#REF!"}},{"$f":" IF(#REF!=\"\", \"\",#REF!)","v":{"$error":"#REF!"}},{"$f":"IF(AE115=\"\", \"\", IF($L115=\"男\", VLOOKUP(AE115, データ!$B$2:$C$101, 2, FALSE), IF($L115=\"女\", VLOOKUP(AE115, データ!$F$2:$H$101, 2, FALSE), \"\")))","v":{"$error":"#REF!"}},{"$f":"IF(A115=\"\",\"\", IF(#REF!=\"\", \"\",#REF!))","v":{"$error":"#REF!"}},{"$f":" IF(#REF!=\"\", \"\",#REF!)","v":{"$error":"#REF!"}},{"$f":" IF(#REF!=\"\", \"\",#REF!)","v":{"$error":"#REF!"}},{"$f":" IF(#REF!=\"\", \"\",#REF!)","v":{"$error":"#REF!"}},{"$f":" IF(#REF!=\"\", \"\",#REF!)","v":{"$error":"#REF!"}},{"$f":"IF(AK115=\"\", \"\", IF($L115=\"男\", VLOOKUP(AK115, データ!$B$2:$C$101, 2, FALSE), IF($L115=\"女\", VLOOKUP(AK115, データ!$F$2:$H$101, 2, FALSE), \"\")))","v":{"$error":"#REF!"}},{"$f":"IF(A115=\"\",\"\", IF(#REF!=\"\", \"\",#REF!))","v":{"$error":"#REF!"}},{"$f":" IF(#REF!=\"\", \"\",#REF!)","v":{"$error":"#REF!"}},{"$f":" IF(#REF!=\"\", \"\",#REF!)","v":{"$error":"#REF!"}},{"$f":" IF(#REF!=\"\", \"\",#REF!)","v":{"$error":"#REF!"}},{"$f":" IF(#REF!=\"\", \"\",#REF!)","v":{"$error":"#REF!"}},{"$f":"IF(AQ115=\"\", \"\", IF($L115=\"男\", VLOOKUP(AQ115, データ!$B$2:$C$101, 2, FALSE), IF($L115=\"女\", VLOOKUP(AQ115, データ!$F$2:$H$101, 2, FALSE), \"\")))","v":{"$error":"#REF!"}},{"$f":"IF(A115=\"\",\"\", IF(#REF!=\"\", \"\",#REF!))","v":{"$error":"#REF!"}},{"$f":" IF(#REF!=\"\", \"\",#REF!)","v":{"$error":"#REF!"}},{"$f":" IF(#REF!=\"\", \"\",#REF!)","v":{"$error":"#REF!"}},{"$f":" IF(#REF!=\"\", \"\",#REF!)","v":{"$error":"#REF!"}},{"$f":" IF(#REF!=\"\", \"\",#REF!)","v":{"$error":"#REF!"}},{"$f":"IF(AW115=\"\", \"\", IF($L115=\"男\", VLOOKUP(AW115, データ!$B$2:$C$101, 2, FALSE), IF($L115=\"女\", VLOOKUP(AW115, データ!$F$2:$H$101, 2, FALSE), \"\")))","v":{"$error":"#REF!"}},{"$f":"IF(A115=\"\",\"\", IF(#REF!=\"\", \"\",#REF!))","v":{"$error":"#REF!"}},{"$f":" IF(#REF!=\"\", \"\",#REF!)","v":{"$error":"#REF!"}},{"$f":" IF(#REF!=\"\", \"\",#REF!)","v":{"$error":"#REF!"}},{"$f":" IF(#REF!=\"\", \"\",#REF!)","v":{"$error":"#REF!"}},{"$f":" IF(#REF!=\"\", \"\",#REF!)","v":{"$error":"#REF!"}},{"$error":"#REF!"}]
[{"$f":"#REF!","v":{"$error":"#REF!"}},{"$f":" IF(#REF!=\"\", \"\",#REF!)","v":{"$error":"#REF!"}},{"$f":" IF(#REF!=\"\", \"\",#REF!)","v":{"$error":"#REF!"}},{"$f":" IF(#REF!=\"\", \"\",#REF!)","v":{"$error":"#REF!"}},{"$error":"#REF!"},{"$error":"#REF!"},{"$error":"#REF!"},{"$error":"#REF!"},{"$f":" IF(#REF!=\"\", \"\",#REF!)","v":{"$error":"#REF!"}},{"$f":" IF(#REF!=\"\", \"\",#REF!)","v":{"$error":"#REF!"}},{"$f":" IF(#REF!=\"\", \"\",#REF!)","v":{"$error":"#REF!"}},{"$f":" IF(#REF!=\"\", \"\",#REF!)","v":{"$error":"#REF!"}},{"$f":" IF(#REF!=\"\", \"\",#REF!)","v":{"$error":"#REF!"}},{"$f":" IF(#REF!=\"\", \"\",#REF!)","v":{"$error":"#REF!"}},{"$f":" IF(#REF!=\"\", \"\",#REF!)","v":{"$error":"#REF!"}},{"$f":" IF(#REF!=\"\", \"\",#REF!)","v":{"$error":"#REF!"}},{"$f":"IF(A116=\"\",\"\",#REF!)","v":{"$error":"#REF!"}},{"$f":" IF(Q116=\"\", \"\",#REF!)","v":{"$error":"#REF!"}},{"$f":" IF(Q116=\"\", \"\",#REF!)","v":{"$error":"#REF!"}},{"$f":" IF(Q116=\"\", \"\",#REF!)","v":{"$error":"#REF!"}},{"$f":" IF(Q116=\"\", \"\",#REF!)","v":{"$error":"#REF!"}},{"$f":" IF(#REF!=\"\", \"\",#REF!)","v":{"$error":"#REF!"}},{"$f":" IF(#REF!=\"\", \"\",#REF!)","v":{"$error":"#REF!"}},{"$f":"IF(Y116=\"\", \"\", IF($L116=\"男\", VLOOKUP(Y116, データ!$B$2:$C$101, 2, FALSE), IF($L116=\"女\", VLOOKUP(Y116, データ!$F$2:$H$101, 2, FALSE), \"\")))","v":{"$error":"#REF!"}},{"$f":"IF(A116=\"\",\"\", IF(#REF!=\"\", \"\",#REF!))","v":{"$error":"#REF!"}},{"$f":" IF(#REF!=\"\", \"\",#REF!)","v":{"$error":"#REF!"}},{"$f":" IF(#REF!=\"\", \"\",#REF!)","v":{"$error":"#REF!"}},{"$f":" IF(#REF!=\"\", \"\",#REF!)","v":{"$error":"#REF!"}},{"$f":" IF(#REF!=\"\", \"\",#REF!)","v":{"$error":"#REF!"}},{"$f":"IF(AE116=\"\", \"\", IF($L116=\"男\", VLOOKUP(AE116, データ!$B$2:$C$101, 2, FALSE), IF($L116=\"女\", VLOOKUP(AE116, データ!$F$2:$H$101, 2, FALSE), \"\")))","v":{"$error":"#REF!"}},{"$f":"IF(A116=\"\",\"\", IF(#REF!=\"\", \"\",#REF!))","v":{"$error":"#REF!"}},{"$f":" IF(#REF!=\"\", \"\",#REF!)","v":{"$error":"#REF!"}},{"$f":" IF(#REF!=\"\", \"\",#REF!)","v":{"$error":"#REF!"}},{"$f":" IF(#REF!=\"\", \"\",#REF!)","v":{"$error":"#REF!"}},{"$f":" IF(#REF!=\"\", \"\",#REF!)","v":{"$error":"#REF!"}},{"$f":"IF(AK116=\"\", \"\", IF($L116=\"男\", VLOOKUP(AK116, データ!$B$2:$C$101, 2, FALSE), IF($L116=\"女\", VLOOKUP(AK116, データ!$F$2:$H$101, 2, FALSE), \"\")))","v":{"$error":"#REF!"}},{"$f":"IF(A116=\"\",\"\", IF(#REF!=\"\", \"\",#REF!))","v":{"$error":"#REF!"}},{"$f":" IF(#REF!=\"\", \"\",#REF!)","v":{"$error":"#REF!"}},{"$f":" IF(#REF!=\"\", \"\",#REF!)","v":{"$error":"#REF!"}},{"$f":" IF(#REF!=\"\", \"\",#REF!)","v":{"$error":"#REF!"}},{"$f":" IF(#REF!=\"\", \"\",#REF!)","v":{"$error":"#REF!"}},{"$f":"IF(AQ116=\"\", \"\", IF($L116=\"男\", VLOOKUP(AQ116, データ!$B$2:$C$101, 2, FALSE), IF($L116=\"女\", VLOOKUP(AQ116, データ!$F$2:$H$101, 2, FALSE), \"\")))","v":{"$error":"#REF!"}},{"$f":"IF(A116=\"\",\"\", IF(#REF!=\"\", \"\",#REF!))","v":{"$error":"#REF!"}},{"$f":" IF(#REF!=\"\", \"\",#REF!)","v":{"$error":"#REF!"}},{"$f":" IF(#REF!=\"\", \"\",#REF!)","v":{"$error":"#REF!"}},{"$f":" IF(#REF!=\"\", \"\",#REF!)","v":{"$error":"#REF!"}},{"$f":" IF(#REF!=\"\", \"\",#REF!)","v":{"$error":"#REF!"}},{"$f":"IF(AW116=\"\", \"\", IF($L116=\"男\", VLOOKUP(AW116, データ!$B$2:$C$101, 2, FALSE), IF($L116=\"女\", VLOOKUP(AW116, データ!$F$2:$H$101, 2, FALSE), \"\")))","v":{"$error":"#REF!"}},{"$f":"IF(A116=\"\",\"\", IF(#REF!=\"\", \"\",#REF!))","v":{"$error":"#REF!"}},{"$f":" IF(#REF!=\"\", \"\",#REF!)","v":{"$error":"#REF!"}},{"$f":" IF(#REF!=\"\", \"\",#REF!)","v":{"$error":"#REF!"}},{"$f":" IF(#REF!=\"\", \"\",#REF!)","v":{"$error":"#REF!"}},{"$f":" IF(#REF!=\"\", \"\",#REF!)","v":{"$error":"#REF!"}},{"$error":"#REF!"}]
[{"$f":"#REF!","v":{"$error":"#REF!"}},{"$f":" IF(#REF!=\"\", \"\",#REF!)","v":{"$error":"#REF!"}},{"$f":" IF(#REF!=\"\", \"\",#REF!)","v":{"$error":"#REF!"}},{"$f":" IF(#REF!=\"\", \"\",#REF!)","v":{"$error":"#REF!"}},{"$error":"#REF!"},{"$error":"#REF!"},{"$error":"#REF!"},{"$error":"#REF!"},{"$f":" IF(#REF!=\"\", \"\",#REF!)","v":{"$error":"#REF!"}},{"$f":" IF(#REF!=\"\", \"\",#REF!)","v":{"$error":"#REF!"}},{"$f":" IF(#REF!=\"\", \"\",#REF!)","v":{"$error":"#REF!"}},{"$f":" IF(#REF!=\"\", \"\",#REF!)","v":{"$error":"#REF!"}},{"$f":" IF(#REF!=\"\", \"\",#REF!)","v":{"$error":"#REF!"}},{"$f":" IF(#REF!=\"\", \"\",#REF!)","v":{"$error":"#REF!"}},{"$f":" IF(#REF!=\"\", \"\",#REF!)","v":{"$error":"#REF!"}},{"$f":" IF(#REF!=\"\", \"\",#REF!)","v":{"$error":"#REF!"}},{"$f":"IF(A117=\"\",\"\",#REF!)","v":{"$error":"#REF!"}},{"$f":" IF(Q117=\"\", \"\",#REF!)","v":{"$error":"#REF!"}},{"$f":" IF(Q117=\"\", \"\",#REF!)","v":{"$error":"#REF!"}},{"$f":" IF(Q117=\"\", \"\",#REF!)","v":{"$error":"#REF!"}},{"$f":" IF(Q117=\"\", \"\",#REF!)","v":{"$error":"#REF!"}},{"$f":" IF(#REF!=\"\", \"\",#REF!)","v":{"$error":"#REF!"}},{"$f":" IF(#REF!=\"\", \"\",#REF!)","v":{"$error":"#REF!"}},{"$f":"IF(Y117=\"\", \"\", IF($L117=\"男\", VLOOKUP(Y117, データ!$B$2:$C$101, 2, FALSE), IF($L117=\"女\", VLOOKUP(Y117, データ!$F$2:$H$101, 2, FALSE), \"\")))","v":{"$error":"#REF!"}},{"$f":"IF(A117=\"\",\"\", IF(#REF!=\"\", \"\",#REF!))","v":{"$error":"#REF!"}},{"$f":" IF(#REF!=\"\", \"\",#REF!)","v":{"$error":"#REF!"}},{"$f":" IF(#REF!=\"\", \"\",#REF!)","v":{"$error":"#REF!"}},{"$f":" IF(#REF!=\"\", \"\",#REF!)","v":{"$error":"#REF!"}},{"$f":" IF(#REF!=\"\", \"\",#REF!)","v":{"$error":"#REF!"}},{"$f":"IF(AE117=\"\", \"\", IF($L117=\"男\", VLOOKUP(AE117, データ!$B$2:$C$101, 2, FALSE), IF($L117=\"女\", VLOOKUP(AE117, データ!$F$2:$H$101, 2, FALSE), \"\")))","v":{"$error":"#REF!"}},{"$f":"IF(A117=\"\",\"\", IF(#REF!=\"\", \"\",#REF!))","v":{"$error":"#REF!"}},{"$f":" IF(#REF!=\"\", \"\",#REF!)","v":{"$error":"#REF!"}},{"$f":" IF(#REF!=\"\", \"\",#REF!)","v":{"$error":"#REF!"}},{"$f":" IF(#REF!=\"\", \"\",#REF!)","v":{"$error":"#REF!"}},{"$f":" IF(#REF!=\"\", \"\",#REF!)","v":{"$error":"#REF!"}},{"$f":"IF(AK117=\"\", \"\", IF($L117=\"男\", VLOOKUP(AK117, データ!$B$2:$C$101, 2, FALSE), IF($L117=\"女\", VLOOKUP(AK117, データ!$F$2:$H$101, 2, FALSE), \"\")))","v":{"$error":"#REF!"}},{"$f":"IF(A117=\"\",\"\", IF(#REF!=\"\", \"\",#REF!))","v":{"$error":"#REF!"}},{"$f":" IF(#REF!=\"\", \"\",#REF!)","v":{"$error":"#REF!"}},{"$f":" IF(#REF!=\"\", \"\",#REF!)","v":{"$error":"#REF!"}},{"$f":" IF(#REF!=\"\", \"\",#REF!)","v":{"$error":"#REF!"}},{"$f":" IF(#REF!=\"\", \"\",#REF!)","v":{"$error":"#REF!"}},{"$f":"IF(AQ117=\"\", \"\", IF($L117=\"男\", VLOOKUP(AQ117, データ!$B$2:$C$101, 2, FALSE), IF($L117=\"女\", VLOOKUP(AQ117, データ!$F$2:$H$101, 2, FALSE), \"\")))","v":{"$error":"#REF!"}},{"$f":"IF(A117=\"\",\"\", IF(#REF!=\"\", \"\",#REF!))","v":{"$error":"#REF!"}},{"$f":" IF(#REF!=\"\", \"\",#REF!)","v":{"$error":"#REF!"}},{"$f":" IF(#REF!=\"\", \"\",#REF!)","v":{"$error":"#REF!"}},{"$f":" IF(#REF!=\"\", \"\",#REF!)","v":{"$error":"#REF!"}},{"$f":" IF(#REF!=\"\", \"\",#REF!)","v":{"$error":"#REF!"}},{"$f":"IF(AW117=\"\", \"\", IF($L117=\"男\", VLOOKUP(AW117, データ!$B$2:$C$101, 2, FALSE), IF($L117=\"女\", VLOOKUP(AW117, データ!$F$2:$H$101, 2, FALSE), \"\")))","v":{"$error":"#REF!"}},{"$f":"IF(A117=\"\",\"\", IF(#REF!=\"\", \"\",#REF!))","v":{"$error":"#REF!"}},{"$f":" IF(#REF!=\"\", \"\",#REF!)","v":{"$error":"#REF!"}},{"$f":" IF(#REF!=\"\", \"\",#REF!)","v":{"$error":"#REF!"}},{"$f":" IF(#REF!=\"\", \"\",#REF!)","v":{"$error":"#REF!"}},{"$f":" IF(#REF!=\"\", \"\",#REF!)","v":{"$error":"#REF!"}},{"$error":"#REF!"}]
[{"$f":"#REF!","v":{"$error":"#REF!"}},{"$f":" IF(#REF!=\"\", \"\",#REF!)","v":{"$error":"#REF!"}},{"$f":" IF(#REF!=\"\", \"\",#REF!)","v":{"$error":"#REF!"}},{"$f":" IF(#REF!=\"\", \"\",#REF!)","v":{"$error":"#REF!"}},{"$error":"#REF!"},{"$error":"#REF!"},{"$error":"#REF!"},{"$error":"#REF!"},{"$f":" IF(#REF!=\"\", \"\",#REF!)","v":{"$error":"#REF!"}},{"$f":" IF(#REF!=\"\", \"\",#REF!)","v":{"$error":"#REF!"}},{"$f":" IF(#REF!=\"\", \"\",#REF!)","v":{"$error":"#REF!"}},{"$f":" IF(#REF!=\"\", \"\",#REF!)","v":{"$error":"#REF!"}},{"$f":" IF(#REF!=\"\", \"\",#REF!)","v":{"$error":"#REF!"}},{"$f":" IF(#REF!=\"\", \"\",#REF!)","v":{"$error":"#REF!"}},{"$f":" IF(#REF!=\"\", \"\",#REF!)","v":{"$error":"#REF!"}},{"$f":" IF(#REF!=\"\", \"\",#REF!)","v":{"$error":"#REF!"}},{"$f":"IF(A118=\"\",\"\",#REF!)","v":{"$error":"#REF!"}},{"$f":" IF(Q118=\"\", \"\",#REF!)","v":{"$error":"#REF!"}},{"$f":" IF(Q118=\"\", \"\",#REF!)","v":{"$error":"#REF!"}},{"$f":" IF(Q118=\"\", \"\",#REF!)","v":{"$error":"#REF!"}},{"$f":" IF(Q118=\"\", \"\",#REF!)","v":{"$error":"#REF!"}},{"$f":" IF(#REF!=\"\", \"\",#REF!)","v":{"$error":"#REF!"}},{"$f":" IF(#REF!=\"\", \"\",#REF!)","v":{"$error":"#REF!"}},{"$f":"IF(Y118=\"\", \"\", IF($L118=\"男\", VLOOKUP(Y118, データ!$B$2:$C$101, 2, FALSE), IF($L118=\"女\", VLOOKUP(Y118, データ!$F$2:$H$101, 2, FALSE), \"\")))","v":{"$error":"#REF!"}},{"$f":"IF(A118=\"\",\"\", IF(#REF!=\"\", \"\",#REF!))","v":{"$error":"#REF!"}},{"$f":" IF(#REF!=\"\", \"\",#REF!)","v":{"$error":"#REF!"}},{"$f":" IF(#REF!=\"\", \"\",#REF!)","v":{"$error":"#REF!"}},{"$f":" IF(#REF!=\"\", \"\",#REF!)","v":{"$error":"#REF!"}},{"$f":" IF(#REF!=\"\", \"\",#REF!)","v":{"$error":"#REF!"}},{"$f":"IF(AE118=\"\", \"\", IF($L118=\"男\", VLOOKUP(AE118, データ!$B$2:$C$101, 2, FALSE), IF($L118=\"女\", VLOOKUP(AE118, データ!$F$2:$H$101, 2, FALSE), \"\")))","v":{"$error":"#REF!"}},{"$f":"IF(A118=\"\",\"\", IF(#REF!=\"\", \"\",#REF!))","v":{"$error":"#REF!"}},{"$f":" IF(#REF!=\"\", \"\",#REF!)","v":{"$error":"#REF!"}},{"$f":" IF(#REF!=\"\", \"\",#REF!)","v":{"$error":"#REF!"}},{"$f":" IF(#REF!=\"\", \"\",#REF!)","v":{"$error":"#REF!"}},{"$f":" IF(#REF!=\"\", \"\",#REF!)","v":{"$error":"#REF!"}},{"$f":"IF(AK118=\"\", \"\", IF($L118=\"男\", VLOOKUP(AK118, データ!$B$2:$C$101, 2, FALSE), IF($L118=\"女\", VLOOKUP(AK118, データ!$F$2:$H$101, 2, FALSE), \"\")))","v":{"$error":"#REF!"}},{"$f":"IF(A118=\"\",\"\", IF(#REF!=\"\", \"\",#REF!))","v":{"$error":"#REF!"}},{"$f":" IF(#REF!=\"\", \"\",#REF!)","v":{"$error":"#REF!"}},{"$f":" IF(#REF!=\"\", \"\",#REF!)","v":{"$error":"#REF!"}},{"$f":" IF(#REF!=\"\", \"\",#REF!)","v":{"$error":"#REF!"}},{"$f":" IF(#REF!=\"\", \"\",#REF!)","v":{"$error":"#REF!"}},{"$f":"IF(AQ118=\"\", \"\", IF($L118=\"男\", VLOOKUP(AQ118, データ!$B$2:$C$101, 2, FALSE), IF($L118=\"女\", VLOOKUP(AQ118, データ!$F$2:$H$101, 2, FALSE), \"\")))","v":{"$error":"#REF!"}},{"$f":"IF(A118=\"\",\"\", IF(#REF!=\"\", \"\",#REF!))","v":{"$error":"#REF!"}},{"$f":" IF(#REF!=\"\", \"\",#REF!)","v":{"$error":"#REF!"}},{"$f":" IF(#REF!=\"\", \"\",#REF!)","v":{"$error":"#REF!"}},{"$f":" IF(#REF!=\"\", \"\",#REF!)","v":{"$error":"#REF!"}},{"$f":" IF(#REF!=\"\", \"\",#REF!)","v":{"$error":"#REF!"}},{"$f":"IF(AW118=\"\", \"\", IF($L118=\"男\", VLOOKUP(AW118, データ!$B$2:$C$101, 2, FALSE), IF($L118=\"女\", VLOOKUP(AW118, データ!$F$2:$H$101, 2, FALSE), \"\")))","v":{"$error":"#REF!"}},{"$f":"IF(A118=\"\",\"\", IF(#REF!=\"\", \"\",#REF!))","v":{"$error":"#REF!"}},{"$f":" IF(#REF!=\"\", \"\",#REF!)","v":{"$error":"#REF!"}},{"$f":" IF(#REF!=\"\", \"\",#REF!)","v":{"$error":"#REF!"}},{"$f":" IF(#REF!=\"\", \"\",#REF!)","v":{"$error":"#REF!"}},{"$f":" IF(#REF!=\"\", \"\",#REF!)","v":{"$error":"#REF!"}},{"$error":"#REF!"}]
[{"$f":"#REF!","v":{"$error":"#REF!"}},{"$f":" IF(#REF!=\"\", \"\",#REF!)","v":{"$error":"#REF!"}},{"$f":" IF(#REF!=\"\", \"\",#REF!)","v":{"$error":"#REF!"}},{"$f":" IF(#REF!=\"\", \"\",#REF!)","v":{"$error":"#REF!"}},{"$error":"#REF!"},{"$error":"#REF!"},{"$error":"#REF!"},{"$error":"#REF!"},{"$f":" IF(#REF!=\"\", \"\",#REF!)","v":{"$error":"#REF!"}},{"$f":" IF(#REF!=\"\", \"\",#REF!)","v":{"$error":"#REF!"}},{"$f":" IF(#REF!=\"\", \"\",#REF!)","v":{"$error":"#REF!"}},{"$f":" IF(#REF!=\"\", \"\",#REF!)","v":{"$error":"#REF!"}},{"$f":" IF(#REF!=\"\", \"\",#REF!)","v":{"$error":"#REF!"}},{"$f":" IF(#REF!=\"\", \"\",#REF!)","v":{"$error":"#REF!"}},{"$f":" IF(#REF!=\"\", \"\",#REF!)","v":{"$error":"#REF!"}},{"$f":" IF(#REF!=\"\", \"\",#REF!)","v":{"$error":"#REF!"}},{"$f":"IF(A119=\"\",\"\",#REF!)","v":{"$error":"#REF!"}},{"$f":" IF(Q119=\"\", \"\",#REF!)","v":{"$error":"#REF!"}},{"$f":" IF(Q119=\"\", \"\",#REF!)","v":{"$error":"#REF!"}},{"$f":" IF(Q119=\"\", \"\",#REF!)","v":{"$error":"#REF!"}},{"$f":" IF(Q119=\"\", \"\",#REF!)","v":{"$error":"#REF!"}},{"$f":" IF(#REF!=\"\", \"\",#REF!)","v":{"$error":"#REF!"}},{"$f":" IF(#REF!=\"\", \"\",#REF!)","v":{"$error":"#REF!"}},{"$f":"IF(Y119=\"\", \"\", IF($L119=\"男\", VLOOKUP(Y119, データ!$B$2:$C$101, 2, FALSE), IF($L119=\"女\", VLOOKUP(Y119, データ!$F$2:$H$101, 2, FALSE), \"\")))","v":{"$error":"#REF!"}},{"$f":"IF(A119=\"\",\"\", IF(#REF!=\"\", \"\",#REF!))","v":{"$error":"#REF!"}},{"$f":" IF(#REF!=\"\", \"\",#REF!)","v":{"$error":"#REF!"}},{"$f":" IF(#REF!=\"\", \"\",#REF!)","v":{"$error":"#REF!"}},{"$f":" IF(#REF!=\"\", \"\",#REF!)","v":{"$error":"#REF!"}},{"$f":" IF(#REF!=\"\", \"\",#REF!)","v":{"$error":"#REF!"}},{"$f":"IF(AE119=\"\", \"\", IF($L119=\"男\", VLOOKUP(AE119, データ!$B$2:$C$101, 2, FALSE), IF($L119=\"女\", VLOOKUP(AE119, データ!$F$2:$H$101, 2, FALSE), \"\")))","v":{"$error":"#REF!"}},{"$f":"IF(A119=\"\",\"\", IF(#REF!=\"\", \"\",#REF!))","v":{"$error":"#REF!"}},{"$f":" IF(#REF!=\"\", \"\",#REF!)","v":{"$error":"#REF!"}},{"$f":" IF(#REF!=\"\", \"\",#REF!)","v":{"$error":"#REF!"}},{"$f":" IF(#REF!=\"\", \"\",#REF!)","v":{"$error":"#REF!"}},{"$f":" IF(#REF!=\"\", \"\",#REF!)","v":{"$error":"#REF!"}},{"$f":"IF(AK119=\"\", \"\", IF($L119=\"男\", VLOOKUP(AK119, データ!$B$2:$C$101, 2, FALSE), IF($L119=\"女\", VLOOKUP(AK119, データ!$F$2:$H$101, 2, FALSE), \"\")))","v":{"$error":"#REF!"}},{"$f":"IF(A119=\"\",\"\", IF(#REF!=\"\", \"\",#REF!))","v":{"$error":"#REF!"}},{"$f":" IF(#REF!=\"\", \"\",#REF!)","v":{"$error":"#REF!"}},{"$f":" IF(#REF!=\"\", \"\",#REF!)","v":{"$error":"#REF!"}},{"$f":" IF(#REF!=\"\", \"\",#REF!)","v":{"$error":"#REF!"}},{"$f":" IF(#REF!=\"\", \"\",#REF!)","v":{"$error":"#REF!"}},{"$f":"IF(AQ119=\"\", \"\", IF($L119=\"男\", VLOOKUP(AQ119, データ!$B$2:$C$101, 2, FALSE), IF($L119=\"女\", VLOOKUP(AQ119, データ!$F$2:$H$101, 2, FALSE), \"\")))","v":{"$error":"#REF!"}},{"$f":"IF(A119=\"\",\"\", IF(#REF!=\"\", \"\",#REF!))","v":{"$error":"#REF!"}},{"$f":" IF(#REF!=\"\", \"\",#REF!)","v":{"$error":"#REF!"}},{"$f":" IF(#REF!=\"\", \"\",#REF!)","v":{"$error":"#REF!"}},{"$f":" IF(#REF!=\"\", \"\",#REF!)","v":{"$error":"#REF!"}},{"$f":" IF(#REF!=\"\", \"\",#REF!)","v":{"$error":"#REF!"}},{"$f":"IF(AW119=\"\", \"\", IF($L119=\"男\", VLOOKUP(AW119, データ!$B$2:$C$101, 2, FALSE), IF($L119=\"女\", VLOOKUP(AW119, データ!$F$2:$H$101, 2, FALSE), \"\")))","v":{"$error":"#REF!"}},{"$f":"IF(A119=\"\",\"\", IF(#REF!=\"\", \"\",#REF!))","v":{"$error":"#REF!"}},{"$f":" IF(#REF!=\"\", \"\",#REF!)","v":{"$error":"#REF!"}},{"$f":" IF(#REF!=\"\", \"\",#REF!)","v":{"$error":"#REF!"}},{"$f":" IF(#REF!=\"\", \"\",#REF!)","v":{"$error":"#REF!"}},{"$f":" IF(#REF!=\"\", \"\",#REF!)","v":{"$error":"#REF!"}},{"$error":"#REF!"}]
[{"$f":"#REF!","v":{"$error":"#REF!"}},{"$f":" IF(#REF!=\"\", \"\",#REF!)","v":{"$error":"#REF!"}},{"$f":" IF(#REF!=\"\", \"\",#REF!)","v":{"$error":"#REF!"}},{"$f":" IF(#REF!=\"\", \"\",#REF!)","v":{"$error":"#REF!"}},{"$error":"#REF!"},{"$error":"#REF!"},{"$error":"#REF!"},{"$error":"#REF!"},{"$f":" IF(#REF!=\"\", \"\",#REF!)","v":{"$error":"#REF!"}},{"$f":" IF(#REF!=\"\", \"\",#REF!)","v":{"$error":"#REF!"}},{"$f":" IF(#REF!=\"\", \"\",#REF!)","v":{"$error":"#REF!"}},{"$f":" IF(#REF!=\"\", \"\",#REF!)","v":{"$error":"#REF!"}},{"$f":" IF(#REF!=\"\", \"\",#REF!)","v":{"$error":"#REF!"}},{"$f":" IF(#REF!=\"\", \"\",#REF!)","v":{"$error":"#REF!"}},{"$f":" IF(#REF!=\"\", \"\",#REF!)","v":{"$error":"#REF!"}},{"$f":" IF(#REF!=\"\", \"\",#REF!)","v":{"$error":"#REF!"}},{"$f":"IF(A120=\"\",\"\",#REF!)","v":{"$error":"#REF!"}},{"$f":" IF(Q120=\"\", \"\",#REF!)","v":{"$error":"#REF!"}},{"$f":" IF(Q120=\"\", \"\",#REF!)","v":{"$error":"#REF!"}},{"$f":" IF(Q120=\"\", \"\",#REF!)","v":{"$error":"#REF!"}},{"$f":" IF(Q120=\"\", \"\",#REF!)","v":{"$error":"#REF!"}},{"$f":" IF(#REF!=\"\", \"\",#REF!)","v":{"$error":"#REF!"}},{"$f":" IF(#REF!=\"\", \"\",#REF!)","v":{"$error":"#REF!"}},{"$f":"IF(Y120=\"\", \"\", IF($L120=\"男\", VLOOKUP(Y120, データ!$B$2:$C$101, 2, FALSE), IF($L120=\"女\", VLOOKUP(Y120, データ!$F$2:$H$101, 2, FALSE), \"\")))","v":{"$error":"#REF!"}},{"$f":"IF(A120=\"\",\"\", IF(#REF!=\"\", \"\",#REF!))","v":{"$error":"#REF!"}},{"$f":" IF(#REF!=\"\", \"\",#REF!)","v":{"$error":"#REF!"}},{"$f":" IF(#REF!=\"\", \"\",#REF!)","v":{"$error":"#REF!"}},{"$f":" IF(#REF!=\"\", \"\",#REF!)","v":{"$error":"#REF!"}},{"$f":" IF(#REF!=\"\", \"\",#REF!)","v":{"$error":"#REF!"}},{"$f":"IF(AE120=\"\", \"\", IF($L120=\"男\", VLOOKUP(AE120, データ!$B$2:$C$101, 2, FALSE), IF($L120=\"女\", VLOOKUP(AE120, データ!$F$2:$H$101, 2, FALSE), \"\")))","v":{"$error":"#REF!"}},{"$f":"IF(A120=\"\",\"\", IF(#REF!=\"\", \"\",#REF!))","v":{"$error":"#REF!"}},{"$f":" IF(#REF!=\"\", \"\",#REF!)","v":{"$error":"#REF!"}},{"$f":" IF(#REF!=\"\", \"\",#REF!)","v":{"$error":"#REF!"}},{"$f":" IF(#REF!=\"\", \"\",#REF!)","v":{"$error":"#REF!"}},{"$f":" IF(#REF!=\"\", \"\",#REF!)","v":{"$error":"#REF!"}},{"$f":"IF(AK120=\"\", \"\", IF($L120=\"男\", VLOOKUP(AK120, データ!$B$2:$C$101, 2, FALSE), IF($L120=\"女\", VLOOKUP(AK120, データ!$F$2:$H$101, 2, FALSE), \"\")))","v":{"$error":"#REF!"}},{"$f":"IF(A120=\"\",\"\", IF(#REF!=\"\", \"\",#REF!))","v":{"$error":"#REF!"}},{"$f":" IF(#REF!=\"\", \"\",#REF!)","v":{"$error":"#REF!"}},{"$f":" IF(#REF!=\"\", \"\",#REF!)","v":{"$error":"#REF!"}},{"$f":" IF(#REF!=\"\", \"\",#REF!)","v":{"$error":"#REF!"}},{"$f":" IF(#REF!=\"\", \"\",#REF!)","v":{"$error":"#REF!"}},{"$f":"IF(AQ120=\"\", \"\", IF($L120=\"男\", VLOOKUP(AQ120, データ!$B$2:$C$101, 2, FALSE), IF($L120=\"女\", VLOOKUP(AQ120, データ!$F$2:$H$101, 2, FALSE), \"\")))","v":{"$error":"#REF!"}},{"$f":"IF(A120=\"\",\"\", IF(#REF!=\"\", \"\",#REF!))","v":{"$error":"#REF!"}},{"$f":" IF(#REF!=\"\", \"\",#REF!)","v":{"$error":"#REF!"}},{"$f":" IF(#REF!=\"\", \"\",#REF!)","v":{"$error":"#REF!"}},{"$f":" IF(#REF!=\"\", \"\",#REF!)","v":{"$error":"#REF!"}},{"$f":" IF(#REF!=\"\", \"\",#REF!)","v":{"$error":"#REF!"}},{"$f":"IF(AW120=\"\", \"\", IF($L120=\"男\", VLOOKUP(AW120, データ!$B$2:$C$101, 2, FALSE), IF($L120=\"女\", VLOOKUP(AW120, データ!$F$2:$H$101, 2, FALSE), \"\")))","v":{"$error":"#REF!"}},{"$f":"IF(A120=\"\",\"\", IF(#REF!=\"\", \"\",#REF!))","v":{"$error":"#REF!"}},{"$f":" IF(#REF!=\"\", \"\",#REF!)","v":{"$error":"#REF!"}},{"$f":" IF(#REF!=\"\", \"\",#REF!)","v":{"$error":"#REF!"}},{"$f":" IF(#REF!=\"\", \"\",#REF!)","v":{"$error":"#REF!"}},{"$f":" IF(#REF!=\"\", \"\",#REF!)","v":{"$error":"#REF!"}},{"$error":"#REF!"}]
[{"$f":"#REF!","v":{"$error":"#REF!"}},{"$f":" IF(#REF!=\"\", \"\",#REF!)","v":{"$error":"#REF!"}},{"$f":" IF(#REF!=\"\", \"\",#REF!)","v":{"$error":"#REF!"}},{"$f":" IF(#REF!=\"\", \"\",#REF!)","v":{"$error":"#REF!"}},{"$error":"#REF!"},{"$error":"#REF!"},{"$error":"#REF!"},{"$error":"#REF!"},{"$f":" IF(#REF!=\"\", \"\",#REF!)","v":{"$error":"#REF!"}},{"$f":" IF(#REF!=\"\", \"\",#REF!)","v":{"$error":"#REF!"}},{"$f":" IF(#REF!=\"\", \"\",#REF!)","v":{"$error":"#REF!"}},{"$f":" IF(#REF!=\"\", \"\",#REF!)","v":{"$error":"#REF!"}},{"$f":" IF(#REF!=\"\", \"\",#REF!)","v":{"$error":"#REF!"}},{"$f":" IF(#REF!=\"\", \"\",#REF!)","v":{"$error":"#REF!"}},{"$f":" IF(#REF!=\"\", \"\",#REF!)","v":{"$error":"#REF!"}},{"$f":" IF(#REF!=\"\", \"\",#REF!)","v":{"$error":"#REF!"}},{"$f":"IF(A121=\"\",\"\",#REF!)","v":{"$error":"#REF!"}},{"$f":" IF(Q121=\"\", \"\",#REF!)","v":{"$error":"#REF!"}},{"$f":" IF(Q121=\"\", \"\",#REF!)","v":{"$error":"#REF!"}},{"$f":" IF(Q121=\"\", \"\",#REF!)","v":{"$error":"#REF!"}},{"$f":" IF(Q121=\"\", \"\",#REF!)","v":{"$error":"#REF!"}},{"$f":" IF(#REF!=\"\", \"\",#REF!)","v":{"$error":"#REF!"}},{"$f":" IF(#REF!=\"\", \"\",#REF!)","v":{"$error":"#REF!"}},{"$f":"IF(Y121=\"\", \"\", IF($L121=\"男\", VLOOKUP(Y121, データ!$B$2:$C$101, 2, FALSE), IF($L121=\"女\", VLOOKUP(Y121, データ!$F$2:$H$101, 2, FALSE), \"\")))","v":{"$error":"#REF!"}},{"$f":"IF(A121=\"\",\"\", IF(#REF!=\"\", \"\",#REF!))","v":{"$error":"#REF!"}},{"$f":" IF(#REF!=\"\", \"\",#REF!)","v":{"$error":"#REF!"}},{"$f":" IF(#REF!=\"\", \"\",#REF!)","v":{"$error":"#REF!"}},{"$f":" IF(#REF!=\"\", \"\",#REF!)","v":{"$error":"#REF!"}},{"$f":" IF(#REF!=\"\", \"\",#REF!)","v":{"$error":"#REF!"}},{"$f":"IF(AE121=\"\", \"\", IF($L121=\"男\", VLOOKUP(AE121, データ!$B$2:$C$101, 2, FALSE), IF($L121=\"女\", VLOOKUP(AE121, データ!$F$2:$H$101, 2, FALSE), \"\")))","v":{"$error":"#REF!"}},{"$f":"IF(A121=\"\",\"\", IF(#REF!=\"\", \"\",#REF!))","v":{"$error":"#REF!"}},{"$f":" IF(#REF!=\"\", \"\",#REF!)","v":{"$error":"#REF!"}},{"$f":" IF(#REF!=\"\", \"\",#REF!)","v":{"$error":"#REF!"}},{"$f":" IF(#REF!=\"\", \"\",#REF!)","v":{"$error":"#REF!"}},{"$f":" IF(#REF!=\"\", \"\",#REF!)","v":{"$error":"#REF!"}},{"$f":"IF(AK121=\"\", \"\", IF($L121=\"男\", VLOOKUP(AK121, データ!$B$2:$C$101, 2, FALSE), IF($L121=\"女\", VLOOKUP(AK121, データ!$F$2:$H$101, 2, FALSE), \"\")))","v":{"$error":"#REF!"}},{"$f":"IF(A121=\"\",\"\", IF(#REF!=\"\", \"\",#REF!))","v":{"$error":"#REF!"}},{"$f":" IF(#REF!=\"\", \"\",#REF!)","v":{"$error":"#REF!"}},{"$f":" IF(#REF!=\"\", \"\",#REF!)","v":{"$error":"#REF!"}},{"$f":" IF(#REF!=\"\", \"\",#REF!)","v":{"$error":"#REF!"}},{"$f":" IF(#REF!=\"\", \"\",#REF!)","v":{"$error":"#REF!"}},{"$f":"IF(AQ121=\"\", \"\", IF($L121=\"男\", VLOOKUP(AQ121, データ!$B$2:$C$101, 2, FALSE), IF($L121=\"女\", VLOOKUP(AQ121, データ!$F$2:$H$101, 2, FALSE), \"\")))","v":{"$error":"#REF!"}},{"$f":"IF(A121=\"\",\"\", IF(#REF!=\"\", \"\",#REF!))","v":{"$error":"#REF!"}},{"$f":" IF(#REF!=\"\", \"\",#REF!)","v":{"$error":"#REF!"}},{"$f":" IF(#REF!=\"\", \"\",#REF!)","v":{"$error":"#REF!"}},{"$f":" IF(#REF!=\"\", \"\",#REF!)","v":{"$error":"#REF!"}},{"$f":" IF(#REF!=\"\", \"\",#REF!)","v":{"$error":"#REF!"}},{"$f":"IF(AW121=\"\", \"\", IF($L121=\"男\", VLOOKUP(AW121, データ!$B$2:$C$101, 2, FALSE), IF($L121=\"女\", VLOOKUP(AW121, データ!$F$2:$H$101, 2, FALSE), \"\")))","v":{"$error":"#REF!"}},{"$f":"IF(A121=\"\",\"\", IF(#REF!=\"\", \"\",#REF!))","v":{"$error":"#REF!"}},{"$f":" IF(#REF!=\"\", \"\",#REF!)","v":{"$error":"#REF!"}},{"$f":" IF(#REF!=\"\", \"\",#REF!)","v":{"$error":"#REF!"}},{"$f":" IF(#REF!=\"\", \"\",#REF!)","v":{"$error":"#REF!"}},{"$f":" IF(#REF!=\"\", \"\",#REF!)","v":{"$error":"#REF!"}},{"$error":"#REF!"}]
[{"$f":"#REF!","v":{"$error":"#REF!"}},{"$f":" IF(#REF!=\"\", \"\",#REF!)","v":{"$error":"#REF!"}},{"$f":" IF(#REF!=\"\", \"\",#REF!)","v":{"$error":"#REF!"}},{"$f":" IF(#REF!=\"\", \"\",#REF!)","v":{"$error":"#REF!"}},{"$error":"#REF!"},{"$error":"#REF!"},{"$error":"#REF!"},{"$error":"#REF!"},{"$f":" IF(#REF!=\"\", \"\",#REF!)","v":{"$error":"#REF!"}},{"$f":" IF(#REF!=\"\", \"\",#REF!)","v":{"$error":"#REF!"}},{"$f":" IF(#REF!=\"\", \"\",#REF!)","v":{"$error":"#REF!"}},{"$f":" IF(#REF!=\"\", \"\",#REF!)","v":{"$error":"#REF!"}},{"$f":" IF(#REF!=\"\", \"\",#REF!)","v":{"$error":"#REF!"}},{"$f":" IF(#REF!=\"\", \"\",#REF!)","v":{"$error":"#REF!"}},{"$f":" IF(#REF!=\"\", \"\",#REF!)","v":{"$error":"#REF!"}},{"$f":" IF(#REF!=\"\", \"\",#REF!)","v":{"$error":"#REF!"}},{"$f":"IF(A122=\"\",\"\",#REF!)","v":{"$error":"#REF!"}},{"$f":" IF(Q122=\"\", \"\",#REF!)","v":{"$error":"#REF!"}},{"$f":" IF(Q122=\"\", \"\",#REF!)","v":{"$error":"#REF!"}},{"$f":" IF(Q122=\"\", \"\",#REF!)","v":{"$error":"#REF!"}},{"$f":" IF(Q122=\"\", \"\",#REF!)","v":{"$error":"#REF!"}},{"$f":" IF(#REF!=\"\", \"\",#REF!)","v":{"$error":"#REF!"}},{"$f":" IF(#REF!=\"\", \"\",#REF!)","v":{"$error":"#REF!"}},{"$f":"IF(Y122=\"\", \"\", IF($L122=\"男\", VLOOKUP(Y122, データ!$B$2:$C$101, 2, FALSE), IF($L122=\"女\", VLOOKUP(Y122, データ!$F$2:$H$101, 2, FALSE), \"\")))","v":{"$error":"#REF!"}},{"$f":"IF(A122=\"\",\"\", IF(#REF!=\"\", \"\",#REF!))","v":{"$error":"#REF!"}},{"$f":" IF(#REF!=\"\", \"\",#REF!)","v":{"$error":"#REF!"}},{"$f":" IF(#REF!=\"\", \"\",#REF!)","v":{"$error":"#REF!"}},{"$f":" IF(#REF!=\"\", \"\",#REF!)","v":{"$error":"#REF!"}},{"$f":" IF(#REF!=\"\", \"\",#REF!)","v":{"$error":"#REF!"}},{"$f":"IF(AE122=\"\", \"\", IF($L122=\"男\", VLOOKUP(AE122, データ!$B$2:$C$101, 2, FALSE), IF($L122=\"女\", VLOOKUP(AE122, データ!$F$2:$H$101, 2, FALSE), \"\")))","v":{"$error":"#REF!"}},{"$f":"IF(A122=\"\",\"\", IF(#REF!=\"\", \"\",#REF!))","v":{"$error":"#REF!"}},{"$f":" IF(#REF!=\"\", \"\",#REF!)","v":{"$error":"#REF!"}},{"$f":" IF(#REF!=\"\", \"\",#REF!)","v":{"$error":"#REF!"}},{"$f":" IF(#REF!=\"\", \"\",#REF!)","v":{"$error":"#REF!"}},{"$f":" IF(#REF!=\"\", \"\",#REF!)","v":{"$error":"#REF!"}},{"$f":"IF(AK122=\"\", \"\", IF($L122=\"男\", VLOOKUP(AK122, データ!$B$2:$C$101, 2, FALSE), IF($L122=\"女\", VLOOKUP(AK122, データ!$F$2:$H$101, 2, FALSE), \"\")))","v":{"$error":"#REF!"}},{"$f":"IF(A122=\"\",\"\", IF(#REF!=\"\", \"\",#REF!))","v":{"$error":"#REF!"}},{"$f":" IF(#REF!=\"\", \"\",#REF!)","v":{"$error":"#REF!"}},{"$f":" IF(#REF!=\"\", \"\",#REF!)","v":{"$error":"#REF!"}},{"$f":" IF(#REF!=\"\", \"\",#REF!)","v":{"$error":"#REF!"}},{"$f":" IF(#REF!=\"\", \"\",#REF!)","v":{"$error":"#REF!"}},{"$f":"IF(AQ122=\"\", \"\", IF($L122=\"男\", VLOOKUP(AQ122, データ!$B$2:$C$101, 2, FALSE), IF($L122=\"女\", VLOOKUP(AQ122, データ!$F$2:$H$101, 2, FALSE), \"\")))","v":{"$error":"#REF!"}},{"$f":"IF(A122=\"\",\"\", IF(#REF!=\"\", \"\",#REF!))","v":{"$error":"#REF!"}},{"$f":" IF(#REF!=\"\", \"\",#REF!)","v":{"$error":"#REF!"}},{"$f":" IF(#REF!=\"\", \"\",#REF!)","v":{"$error":"#REF!"}},{"$f":" IF(#REF!=\"\", \"\",#REF!)","v":{"$error":"#REF!"}},{"$f":" IF(#REF!=\"\", \"\",#REF!)","v":{"$error":"#REF!"}},{"$f":"IF(AW122=\"\", \"\", IF($L122=\"男\", VLOOKUP(AW122, データ!$B$2:$C$101, 2, FALSE), IF($L122=\"女\", VLOOKUP(AW122, データ!$F$2:$H$101, 2, FALSE), \"\")))","v":{"$error":"#REF!"}},{"$f":"IF(A122=\"\",\"\", IF(#REF!=\"\", \"\",#REF!))","v":{"$error":"#REF!"}},{"$f":" IF(#REF!=\"\", \"\",#REF!)","v":{"$error":"#REF!"}},{"$f":" IF(#REF!=\"\", \"\",#REF!)","v":{"$error":"#REF!"}},{"$f":" IF(#REF!=\"\", \"\",#REF!)","v":{"$error":"#REF!"}},{"$f":" IF(#REF!=\"\", \"\",#REF!)","v":{"$error":"#REF!"}},{"$error":"#REF!"}]
[{"$f":"#REF!","v":{"$error":"#REF!"}},{"$f":" IF(#REF!=\"\", \"\",#REF!)","v":{"$error":"#REF!"}},{"$f":" IF(#REF!=\"\", \"\",#REF!)","v":{"$error":"#REF!"}},{"$f":" IF(#REF!=\"\", \"\",#REF!)","v":{"$error":"#REF!"}},{"$error":"#REF!"},{"$error":"#REF!"},{"$error":"#REF!"},{"$error":"#REF!"},{"$f":" IF(#REF!=\"\", \"\",#REF!)","v":{"$error":"#REF!"}},{"$f":" IF(#REF!=\"\", \"\",#REF!)","v":{"$error":"#REF!"}},{"$f":" IF(#REF!=\"\", \"\",#REF!)","v":{"$error":"#REF!"}},{"$f":" IF(#REF!=\"\", \"\",#REF!)","v":{"$error":"#REF!"}},{"$f":" IF(#REF!=\"\", \"\",#REF!)","v":{"$error":"#REF!"}},{"$f":" IF(#REF!=\"\", \"\",#REF!)","v":{"$error":"#REF!"}},{"$f":" IF(#REF!=\"\", \"\",#REF!)","v":{"$error":"#REF!"}},{"$f":" IF(#REF!=\"\", \"\",#REF!)","v":{"$error":"#REF!"}},{"$f":"IF(A123=\"\",\"\",#REF!)","v":{"$error":"#REF!"}},{"$f":" IF(Q123=\"\", \"\",#REF!)","v":{"$error":"#REF!"}},{"$f":" IF(Q123=\"\", \"\",#REF!)","v":{"$error":"#REF!"}},{"$f":" IF(Q123=\"\", \"\",#REF!)","v":{"$error":"#REF!"}},{"$f":" IF(Q123=\"\", \"\",#REF!)","v":{"$error":"#REF!"}},{"$f":" IF(#REF!=\"\", \"\",#REF!)","v":{"$error":"#REF!"}},{"$f":" IF(#REF!=\"\", \"\",#REF!)","v":{"$error":"#REF!"}},{"$f":"IF(Y123=\"\", \"\", IF($L123=\"男\", VLOOKUP(Y123, データ!$B$2:$C$101, 2, FALSE), IF($L123=\"女\", VLOOKUP(Y123, データ!$F$2:$H$101, 2, FALSE), \"\")))","v":{"$error":"#REF!"}},{"$f":"IF(A123=\"\",\"\", IF(#REF!=\"\", \"\",#REF!))","v":{"$error":"#REF!"}},{"$f":" IF(#REF!=\"\", \"\",#REF!)","v":{"$error":"#REF!"}},{"$f":" IF(#REF!=\"\", \"\",#REF!)","v":{"$error":"#REF!"}},{"$f":" IF(#REF!=\"\", \"\",#REF!)","v":{"$error":"#REF!"}},{"$f":" IF(#REF!=\"\", \"\",#REF!)","v":{"$error":"#REF!"}},{"$f":"IF(AE123=\"\", \"\", IF($L123=\"男\", VLOOKUP(AE123, データ!$B$2:$C$101, 2, FALSE), IF($L123=\"女\", VLOOKUP(AE123, データ!$F$2:$H$101, 2, FALSE), \"\")))","v":{"$error":"#REF!"}},{"$f":"IF(A123=\"\",\"\", IF(#REF!=\"\", \"\",#REF!))","v":{"$error":"#REF!"}},{"$f":" IF(#REF!=\"\", \"\",#REF!)","v":{"$error":"#REF!"}},{"$f":" IF(#REF!=\"\", \"\",#REF!)","v":{"$error":"#REF!"}},{"$f":" IF(#REF!=\"\", \"\",#REF!)","v":{"$error":"#REF!"}},{"$f":" IF(#REF!=\"\", \"\",#REF!)","v":{"$error":"#REF!"}},{"$f":"IF(AK123=\"\", \"\", IF($L123=\"男\", VLOOKUP(AK123, データ!$B$2:$C$101, 2, FALSE), IF($L123=\"女\", VLOOKUP(AK123, データ!$F$2:$H$101, 2, FALSE), \"\")))","v":{"$error":"#REF!"}},{"$f":"IF(A123=\"\",\"\", IF(#REF!=\"\", \"\",#REF!))","v":{"$error":"#REF!"}},{"$f":" IF(#REF!=\"\", \"\",#REF!)","v":{"$error":"#REF!"}},{"$f":" IF(#REF!=\"\", \"\",#REF!)","v":{"$error":"#REF!"}},{"$f":" IF(#REF!=\"\", \"\",#REF!)","v":{"$error":"#REF!"}},{"$f":" IF(#REF!=\"\", \"\",#REF!)","v":{"$error":"#REF!"}},{"$f":"IF(AQ123=\"\", \"\", IF($L123=\"男\", VLOOKUP(AQ123, データ!$B$2:$C$101, 2, FALSE), IF($L123=\"女\", VLOOKUP(AQ123, データ!$F$2:$H$101, 2, FALSE), \"\")))","v":{"$error":"#REF!"}},{"$f":"IF(A123=\"\",\"\", IF(#REF!=\"\", \"\",#REF!))","v":{"$error":"#REF!"}},{"$f":" IF(#REF!=\"\", \"\",#REF!)","v":{"$error":"#REF!"}},{"$f":" IF(#REF!=\"\", \"\",#REF!)","v":{"$error":"#REF!"}},{"$f":" IF(#REF!=\"\", \"\",#REF!)","v":{"$error":"#REF!"}},{"$f":" IF(#REF!=\"\", \"\",#REF!)","v":{"$error":"#REF!"}},{"$f":"IF(AW123=\"\", \"\", IF($L123=\"男\", VLOOKUP(AW123, データ!$B$2:$C$101, 2, FALSE), IF($L123=\"女\", VLOOKUP(AW123, データ!$F$2:$H$101, 2, FALSE), \"\")))","v":{"$error":"#REF!"}},{"$f":"IF(A123=\"\",\"\", IF(#REF!=\"\", \"\",#REF!))","v":{"$error":"#REF!"}},{"$f":" IF(#REF!=\"\", \"\",#REF!)","v":{"$error":"#REF!"}},{"$f":" IF(#REF!=\"\", \"\",#REF!)","v":{"$error":"#REF!"}},{"$f":" IF(#REF!=\"\", \"\",#REF!)","v":{"$error":"#REF!"}},{"$f":" IF(#REF!=\"\", \"\",#REF!)","v":{"$error":"#REF!"}},{"$error":"#REF!"}]
[{"$f":"#REF!","v":{"$error":"#REF!"}},{"$f":" IF(#REF!=\"\", \"\",#REF!)","v":{"$error":"#REF!"}},{"$f":" IF(#REF!=\"\", \"\",#REF!)","v":{"$error":"#REF!"}},{"$f":" IF(#REF!=\"\", \"\",#REF!)","v":{"$error":"#REF!"}},{"$error":"#REF!"},{"$error":"#REF!"},{"$error":"#REF!"},{"$error":"#REF!"},{"$f":" IF(#REF!=\"\", \"\",#REF!)","v":{"$error":"#REF!"}},{"$f":" IF(#REF!=\"\", \"\",#REF!)","v":{"$error":"#REF!"}},{"$f":" IF(#REF!=\"\", \"\",#REF!)","v":{"$error":"#REF!"}},{"$f":" IF(#REF!=\"\", \"\",#REF!)","v":{"$error":"#REF!"}},{"$f":" IF(#REF!=\"\", \"\",#REF!)","v":{"$error":"#REF!"}},{"$f":" IF(#REF!=\"\", \"\",#REF!)","v":{"$error":"#REF!"}},{"$f":" IF(#REF!=\"\", \"\",#REF!)","v":{"$error":"#REF!"}},{"$f":" IF(#REF!=\"\", \"\",#REF!)","v":{"$error":"#REF!"}},{"$f":"IF(A124=\"\",\"\",#REF!)","v":{"$error":"#REF!"}},{"$f":" IF(Q124=\"\", \"\",#REF!)","v":{"$error":"#REF!"}},{"$f":" IF(Q124=\"\", \"\",#REF!)","v":{"$error":"#REF!"}},{"$f":" IF(Q124=\"\", \"\",#REF!)","v":{"$error":"#REF!"}},{"$f":" IF(Q124=\"\", \"\",#REF!)","v":{"$error":"#REF!"}},{"$f":" IF(#REF!=\"\", \"\",#REF!)","v":{"$error":"#REF!"}},{"$f":" IF(#REF!=\"\", \"\",#REF!)","v":{"$error":"#REF!"}},{"$f":"IF(Y124=\"\", \"\", IF($L124=\"男\", VLOOKUP(Y124, データ!$B$2:$C$101, 2, FALSE), IF($L124=\"女\", VLOOKUP(Y124, データ!$F$2:$H$101, 2, FALSE), \"\")))","v":{"$error":"#REF!"}},{"$f":"IF(A124=\"\",\"\", IF(#REF!=\"\", \"\",#REF!))","v":{"$error":"#REF!"}},{"$f":" IF(#REF!=\"\", \"\",#REF!)","v":{"$error":"#REF!"}},{"$f":" IF(#REF!=\"\", \"\",#REF!)","v":{"$error":"#REF!"}},{"$f":" IF(#REF!=\"\", \"\",#REF!)","v":{"$error":"#REF!"}},{"$f":" IF(#REF!=\"\", \"\",#REF!)","v":{"$error":"#REF!"}},{"$f":"IF(AE124=\"\", \"\", IF($L124=\"男\", VLOOKUP(AE124, データ!$B$2:$C$101, 2, FALSE), IF($L124=\"女\", VLOOKUP(AE124, データ!$F$2:$H$101, 2, FALSE), \"\")))","v":{"$error":"#REF!"}},{"$f":"IF(A124=\"\",\"\", IF(#REF!=\"\", \"\",#REF!))","v":{"$error":"#REF!"}},{"$f":" IF(#REF!=\"\", \"\",#REF!)","v":{"$error":"#REF!"}},{"$f":" IF(#REF!=\"\", \"\",#REF!)","v":{"$error":"#REF!"}},{"$f":" IF(#REF!=\"\", \"\",#REF!)","v":{"$error":"#REF!"}},{"$f":" IF(#REF!=\"\", \"\",#REF!)","v":{"$error":"#REF!"}},{"$f":"IF(AK124=\"\", \"\", IF($L124=\"男\", VLOOKUP(AK124, データ!$B$2:$C$101, 2, FALSE), IF($L124=\"女\", VLOOKUP(AK124, データ!$F$2:$H$101, 2, FALSE), \"\")))","v":{"$error":"#REF!"}},{"$f":"IF(A124=\"\",\"\", IF(#REF!=\"\", \"\",#REF!))","v":{"$error":"#REF!"}},{"$f":" IF(#REF!=\"\", \"\",#REF!)","v":{"$error":"#REF!"}},{"$f":" IF(#REF!=\"\", \"\",#REF!)","v":{"$error":"#REF!"}},{"$f":" IF(#REF!=\"\", \"\",#REF!)","v":{"$error":"#REF!"}},{"$f":" IF(#REF!=\"\", \"\",#REF!)","v":{"$error":"#REF!"}},{"$f":"IF(AQ124=\"\", \"\", IF($L124=\"男\", VLOOKUP(AQ124, データ!$B$2:$C$101, 2, FALSE), IF($L124=\"女\", VLOOKUP(AQ124, データ!$F$2:$H$101, 2, FALSE), \"\")))","v":{"$error":"#REF!"}},{"$f":"IF(A124=\"\",\"\", IF(#REF!=\"\", \"\",#REF!))","v":{"$error":"#REF!"}},{"$f":" IF(#REF!=\"\", \"\",#REF!)","v":{"$error":"#REF!"}},{"$f":" IF(#REF!=\"\", \"\",#REF!)","v":{"$error":"#REF!"}},{"$f":" IF(#REF!=\"\", \"\",#REF!)","v":{"$error":"#REF!"}},{"$f":" IF(#REF!=\"\", \"\",#REF!)","v":{"$error":"#REF!"}},{"$f":"IF(AW124=\"\", \"\", IF($L124=\"男\", VLOOKUP(AW124, データ!$B$2:$C$101, 2, FALSE), IF($L124=\"女\", VLOOKUP(AW124, データ!$F$2:$H$101, 2, FALSE), \"\")))","v":{"$error":"#REF!"}},{"$f":"IF(A124=\"\",\"\", IF(#REF!=\"\", \"\",#REF!))","v":{"$error":"#REF!"}},{"$f":" IF(#REF!=\"\", \"\",#REF!)","v":{"$error":"#REF!"}},{"$f":" IF(#REF!=\"\", \"\",#REF!)","v":{"$error":"#REF!"}},{"$f":" IF(#REF!=\"\", \"\",#REF!)","v":{"$error":"#REF!"}},{"$f":" IF(#REF!=\"\", \"\",#REF!)","v":{"$error":"#REF!"}},{"$error":"#REF!"}]
[{"$f":"#REF!","v":{"$error":"#REF!"}},{"$f":" IF(#REF!=\"\", \"\",#REF!)","v":{"$error":"#REF!"}},{"$f":" IF(#REF!=\"\", \"\",#REF!)","v":{"$error":"#REF!"}},{"$f":" IF(#REF!=\"\", \"\",#REF!)","v":{"$error":"#REF!"}},{"$error":"#REF!"},{"$error":"#REF!"},{"$error":"#REF!"},{"$error":"#REF!"},{"$f":" IF(#REF!=\"\", \"\",#REF!)","v":{"$error":"#REF!"}},{"$f":" IF(#REF!=\"\", \"\",#REF!)","v":{"$error":"#REF!"}},{"$f":" IF(#REF!=\"\", \"\",#REF!)","v":{"$error":"#REF!"}},{"$f":" IF(#REF!=\"\", \"\",#REF!)","v":{"$error":"#REF!"}},{"$f":" IF(#REF!=\"\", \"\",#REF!)","v":{"$error":"#REF!"}},{"$f":" IF(#REF!=\"\", \"\",#REF!)","v":{"$error":"#REF!"}},{"$f":" IF(#REF!=\"\", \"\",#REF!)","v":{"$error":"#REF!"}},{"$f":" IF(#REF!=\"\", \"\",#REF!)","v":{"$error":"#REF!"}},{"$f":"IF(A125=\"\",\"\",#REF!)","v":{"$error":"#REF!"}},{"$f":" IF(Q125=\"\", \"\",#REF!)","v":{"$error":"#REF!"}},{"$f":" IF(Q125=\"\", \"\",#REF!)","v":{"$error":"#REF!"}},{"$f":" IF(Q125=\"\", \"\",#REF!)","v":{"$error":"#REF!"}},{"$f":" IF(Q125=\"\", \"\",#REF!)","v":{"$error":"#REF!"}},{"$f":" IF(#REF!=\"\", \"\",#REF!)","v":{"$error":"#REF!"}},{"$f":" IF(#REF!=\"\", \"\",#REF!)","v":{"$error":"#REF!"}},{"$f":"IF(Y125=\"\", \"\", IF($L125=\"男\", VLOOKUP(Y125, データ!$B$2:$C$101, 2, FALSE), IF($L125=\"女\", VLOOKUP(Y125, データ!$F$2:$H$101, 2, FALSE), \"\")))","v":{"$error":"#REF!"}},{"$f":"IF(A125=\"\",\"\", IF(#REF!=\"\", \"\",#REF!))","v":{"$error":"#REF!"}},{"$f":" IF(#REF!=\"\", \"\",#REF!)","v":{"$error":"#REF!"}},{"$f":" IF(#REF!=\"\", \"\",#REF!)","v":{"$error":"#REF!"}},{"$f":" IF(#REF!=\"\", \"\",#REF!)","v":{"$error":"#REF!"}},{"$f":" IF(#REF!=\"\", \"\",#REF!)","v":{"$error":"#REF!"}},{"$f":"IF(AE125=\"\", \"\", IF($L125=\"男\", VLOOKUP(AE125, データ!$B$2:$C$101, 2, FALSE), IF($L125=\"女\", VLOOKUP(AE125, データ!$F$2:$H$101, 2, FALSE), \"\")))","v":{"$error":"#REF!"}},{"$f":"IF(A125=\"\",\"\", IF(#REF!=\"\", \"\",#REF!))","v":{"$error":"#REF!"}},{"$f":" IF(#REF!=\"\", \"\",#REF!)","v":{"$error":"#REF!"}},{"$f":" IF(#REF!=\"\", \"\",#REF!)","v":{"$error":"#REF!"}},{"$f":" IF(#REF!=\"\", \"\",#REF!)","v":{"$error":"#REF!"}},{"$f":" IF(#REF!=\"\", \"\",#REF!)","v":{"$error":"#REF!"}},{"$f":"IF(AK125=\"\", \"\", IF($L125=\"男\", VLOOKUP(AK125, データ!$B$2:$C$101, 2, FALSE), IF($L125=\"女\", VLOOKUP(AK125, データ!$F$2:$H$101, 2, FALSE), \"\")))","v":{"$error":"#REF!"}},{"$f":"IF(A125=\"\",\"\", IF(#REF!=\"\", \"\",#REF!))","v":{"$error":"#REF!"}},{"$f":" IF(#REF!=\"\", \"\",#REF!)","v":{"$error":"#REF!"}},{"$f":" IF(#REF!=\"\", \"\",#REF!)","v":{"$error":"#REF!"}},{"$f":" IF(#REF!=\"\", \"\",#REF!)","v":{"$error":"#REF!"}},{"$f":" IF(#REF!=\"\", \"\",#REF!)","v":{"$error":"#REF!"}},{"$f":"IF(AQ125=\"\", \"\", IF($L125=\"男\", VLOOKUP(AQ125, データ!$B$2:$C$101, 2, FALSE), IF($L125=\"女\", VLOOKUP(AQ125, データ!$F$2:$H$101, 2, FALSE), \"\")))","v":{"$error":"#REF!"}},{"$f":"IF(A125=\"\",\"\", IF(#REF!=\"\", \"\",#REF!))","v":{"$error":"#REF!"}},{"$f":" IF(#REF!=\"\", \"\",#REF!)","v":{"$error":"#REF!"}},{"$f":" IF(#REF!=\"\", \"\",#REF!)","v":{"$error":"#REF!"}},{"$f":" IF(#REF!=\"\", \"\",#REF!)","v":{"$error":"#REF!"}},{"$f":" IF(#REF!=\"\", \"\",#REF!)","v":{"$error":"#REF!"}},{"$f":"IF(AW125=\"\", \"\", IF($L125=\"男\", VLOOKUP(AW125, データ!$B$2:$C$101, 2, FALSE), IF($L125=\"女\", VLOOKUP(AW125, データ!$F$2:$H$101, 2, FALSE), \"\")))","v":{"$error":"#REF!"}},{"$f":"IF(A125=\"\",\"\", IF(#REF!=\"\", \"\",#REF!))","v":{"$error":"#REF!"}},{"$f":" IF(#REF!=\"\", \"\",#REF!)","v":{"$error":"#REF!"}},{"$f":" IF(#REF!=\"\", \"\",#REF!)","v":{"$error":"#REF!"}},{"$f":" IF(#REF!=\"\", \"\",#REF!)","v":{"$error":"#REF!"}},{"$f":" IF(#REF!=\"\", \"\",#REF!)","v":{"$error":"#REF!"}},{"$error":"#REF!"}]
[{"$f":"#REF!","v":{"$error":"#REF!"}},{"$f":" IF(#REF!=\"\", \"\",#REF!)","v":{"$error":"#REF!"}},{"$f":" IF(#REF!=\"\", \"\",#REF!)","v":{"$error":"#REF!"}},{"$f":" IF(#REF!=\"\", \"\",#REF!)","v":{"$error":"#REF!"}},{"$error":"#REF!"},{"$error":"#REF!"},{"$error":"#REF!"},{"$error":"#REF!"},{"$f":" IF(#REF!=\"\", \"\",#REF!)","v":{"$error":"#REF!"}},{"$f":" IF(#REF!=\"\", \"\",#REF!)","v":{"$error":"#REF!"}},{"$f":" IF(#REF!=\"\", \"\",#REF!)","v":{"$error":"#REF!"}},{"$f":" IF(#REF!=\"\", \"\",#REF!)","v":{"$error":"#REF!"}},{"$f":" IF(#REF!=\"\", \"\",#REF!)","v":{"$error":"#REF!"}},{"$f":" IF(#REF!=\"\", \"\",#REF!)","v":{"$error":"#REF!"}},{"$f":" IF(#REF!=\"\", \"\",#REF!)","v":{"$error":"#REF!"}},{"$f":" IF(#REF!=\"\", \"\",#REF!)","v":{"$error":"#REF!"}},{"$f":"IF(A126=\"\",\"\",#REF!)","v":{"$error":"#REF!"}},{"$f":" IF(Q126=\"\", \"\",#REF!)","v":{"$error":"#REF!"}},{"$f":" IF(Q126=\"\", \"\",#REF!)","v":{"$error":"#REF!"}},{"$f":" IF(Q126=\"\", \"\",#REF!)","v":{"$error":"#REF!"}},{"$f":" IF(Q126=\"\", \"\",#REF!)","v":{"$error":"#REF!"}},{"$f":" IF(#REF!=\"\", \"\",#REF!)","v":{"$error":"#REF!"}},{"$f":" IF(#REF!=\"\", \"\",#REF!)","v":{"$error":"#REF!"}},{"$f":"IF(Y126=\"\", \"\", IF($L126=\"男\", VLOOKUP(Y126, データ!$B$2:$C$101, 2, FALSE), IF($L126=\"女\", VLOOKUP(Y126, データ!$F$2:$H$101, 2, FALSE), \"\")))","v":{"$error":"#REF!"}},{"$f":"IF(A126=\"\",\"\", IF(#REF!=\"\", \"\",#REF!))","v":{"$error":"#REF!"}},{"$f":" IF(#REF!=\"\", \"\",#REF!)","v":{"$error":"#REF!"}},{"$f":" IF(#REF!=\"\", \"\",#REF!)","v":{"$error":"#REF!"}},{"$f":" IF(#REF!=\"\", \"\",#REF!)","v":{"$error":"#REF!"}},{"$f":" IF(#REF!=\"\", \"\",#REF!)","v":{"$error":"#REF!"}},{"$f":"IF(AE126=\"\", \"\", IF($L126=\"男\", VLOOKUP(AE126, データ!$B$2:$C$101, 2, FALSE), IF($L126=\"女\", VLOOKUP(AE126, データ!$F$2:$H$101, 2, FALSE), \"\")))","v":{"$error":"#REF!"}},{"$f":"IF(A126=\"\",\"\", IF(#REF!=\"\", \"\",#REF!))","v":{"$error":"#REF!"}},{"$f":" IF(#REF!=\"\", \"\",#REF!)","v":{"$error":"#REF!"}},{"$f":" IF(#REF!=\"\", \"\",#REF!)","v":{"$error":"#REF!"}},{"$f":" IF(#REF!=\"\", \"\",#REF!)","v":{"$error":"#REF!"}},{"$f":" IF(#REF!=\"\", \"\",#REF!)","v":{"$error":"#REF!"}},{"$f":"IF(AK126=\"\", \"\", IF($L126=\"男\", VLOOKUP(AK126, データ!$B$2:$C$101, 2, FALSE), IF($L126=\"女\", VLOOKUP(AK126, データ!$F$2:$H$101, 2, FALSE), \"\")))","v":{"$error":"#REF!"}},{"$f":"IF(A126=\"\",\"\", IF(#REF!=\"\", \"\",#REF!))","v":{"$error":"#REF!"}},{"$f":" IF(#REF!=\"\", \"\",#REF!)","v":{"$error":"#REF!"}},{"$f":" IF(#REF!=\"\", \"\",#REF!)","v":{"$error":"#REF!"}},{"$f":" IF(#REF!=\"\", \"\",#REF!)","v":{"$error":"#REF!"}},{"$f":" IF(#REF!=\"\", \"\",#REF!)","v":{"$error":"#REF!"}},{"$f":"IF(AQ126=\"\", \"\", IF($L126=\"男\", VLOOKUP(AQ126, データ!$B$2:$C$101, 2, FALSE), IF($L126=\"女\", VLOOKUP(AQ126, データ!$F$2:$H$101, 2, FALSE), \"\")))","v":{"$error":"#REF!"}},{"$f":"IF(A126=\"\",\"\", IF(#REF!=\"\", \"\",#REF!))","v":{"$error":"#REF!"}},{"$f":" IF(#REF!=\"\", \"\",#REF!)","v":{"$error":"#REF!"}},{"$f":" IF(#REF!=\"\", \"\",#REF!)","v":{"$error":"#REF!"}},{"$f":" IF(#REF!=\"\", \"\",#REF!)","v":{"$error":"#REF!"}},{"$f":" IF(#REF!=\"\", \"\",#REF!)","v":{"$error":"#REF!"}},{"$f":"IF(AW126=\"\", \"\", IF($L126=\"男\", VLOOKUP(AW126, データ!$B$2:$C$101, 2, FALSE), IF($L126=\"女\", VLOOKUP(AW126, データ!$F$2:$H$101, 2, FALSE), \"\")))","v":{"$error":"#REF!"}},{"$f":"IF(A126=\"\",\"\", IF(#REF!=\"\", \"\",#REF!))","v":{"$error":"#REF!"}},{"$f":" IF(#REF!=\"\", \"\",#REF!)","v":{"$error":"#REF!"}},{"$f":" IF(#REF!=\"\", \"\",#REF!)","v":{"$error":"#REF!"}},{"$f":" IF(#REF!=\"\", \"\",#REF!)","v":{"$error":"#REF!"}},{"$f":" IF(#REF!=\"\", \"\",#REF!)","v":{"$error":"#REF!"}},{"$error":"#REF!"}]
[{"$f":"#REF!","v":{"$error":"#REF!"}},{"$f":" IF(#REF!=\"\", \"\",#REF!)","v":{"$error":"#REF!"}},{"$f":" IF(#REF!=\"\", \"\",#REF!)","v":{"$error":"#REF!"}},{"$f":" IF(#REF!=\"\", \"\",#REF!)","v":{"$error":"#REF!"}},{"$error":"#REF!"},{"$error":"#REF!"},{"$error":"#REF!"},{"$error":"#REF!"},{"$f":" IF(#REF!=\"\", \"\",#REF!)","v":{"$error":"#REF!"}},{"$f":" IF(#REF!=\"\", \"\",#REF!)","v":{"$error":"#REF!"}},{"$f":" IF(#REF!=\"\", \"\",#REF!)","v":{"$error":"#REF!"}},{"$f":" IF(#REF!=\"\", \"\",#REF!)","v":{"$error":"#REF!"}},{"$f":" IF(#REF!=\"\", \"\",#REF!)","v":{"$error":"#REF!"}},{"$f":" IF(#REF!=\"\", \"\",#REF!)","v":{"$error":"#REF!"}},{"$f":" IF(#REF!=\"\", \"\",#REF!)","v":{"$error":"#REF!"}},{"$f":" IF(#REF!=\"\", \"\",#REF!)","v":{"$error":"#REF!"}},{"$f":"IF(A127=\"\",\"\",#REF!)","v":{"$error":"#REF!"}},{"$f":" IF(Q127=\"\", \"\",#REF!)","v":{"$error":"#REF!"}},{"$f":" IF(Q127=\"\", \"\",#REF!)","v":{"$error":"#REF!"}},{"$f":" IF(Q127=\"\", \"\",#REF!)","v":{"$error":"#REF!"}},{"$f":" IF(Q127=\"\", \"\",#REF!)","v":{"$error":"#REF!"}},{"$f":" IF(#REF!=\"\", \"\",#REF!)","v":{"$error":"#REF!"}},{"$f":" IF(#REF!=\"\", \"\",#REF!)","v":{"$error":"#REF!"}},{"$f":"IF(Y127=\"\", \"\", IF($L127=\"男\", VLOOKUP(Y127, データ!$B$2:$C$101, 2, FALSE), IF($L127=\"女\", VLOOKUP(Y127, データ!$F$2:$H$101, 2, FALSE), \"\")))","v":{"$error":"#REF!"}},{"$f":"IF(A127=\"\",\"\", IF(#REF!=\"\", \"\",#REF!))","v":{"$error":"#REF!"}},{"$f":" IF(#REF!=\"\", \"\",#REF!)","v":{"$error":"#REF!"}},{"$f":" IF(#REF!=\"\", \"\",#REF!)","v":{"$error":"#REF!"}},{"$f":" IF(#REF!=\"\", \"\",#REF!)","v":{"$error":"#REF!"}},{"$f":" IF(#REF!=\"\", \"\",#REF!)","v":{"$error":"#REF!"}},{"$f":"IF(AE127=\"\", \"\", IF($L127=\"男\", VLOOKUP(AE127, データ!$B$2:$C$101, 2, FALSE), IF($L127=\"女\", VLOOKUP(AE127, データ!$F$2:$H$101, 2, FALSE), \"\")))","v":{"$error":"#REF!"}},{"$f":"IF(A127=\"\",\"\", IF(#REF!=\"\", \"\",#REF!))","v":{"$error":"#REF!"}},{"$f":" IF(#REF!=\"\", \"\",#REF!)","v":{"$error":"#REF!"}},{"$f":" IF(#REF!=\"\", \"\",#REF!)","v":{"$error":"#REF!"}},{"$f":" IF(#REF!=\"\", \"\",#REF!)","v":{"$error":"#REF!"}},{"$f":" IF(#REF!=\"\", \"\",#REF!)","v":{"$error":"#REF!"}},{"$f":"IF(AK127=\"\", \"\", IF($L127=\"男\", VLOOKUP(AK127, データ!$B$2:$C$101, 2, FALSE), IF($L127=\"女\", VLOOKUP(AK127, データ!$F$2:$H$101, 2, FALSE), \"\")))","v":{"$error":"#REF!"}},{"$f":"IF(A127=\"\",\"\", IF(#REF!=\"\", \"\",#REF!))","v":{"$error":"#REF!"}},{"$f":" IF(#REF!=\"\", \"\",#REF!)","v":{"$error":"#REF!"}},{"$f":" IF(#REF!=\"\", \"\",#REF!)","v":{"$error":"#REF!"}},{"$f":" IF(#REF!=\"\", \"\",#REF!)","v":{"$error":"#REF!"}},{"$f":" IF(#REF!=\"\", \"\",#REF!)","v":{"$error":"#REF!"}},{"$f":"IF(AQ127=\"\", \"\", IF($L127=\"男\", VLOOKUP(AQ127, データ!$B$2:$C$101, 2, FALSE), IF($L127=\"女\", VLOOKUP(AQ127, データ!$F$2:$H$101, 2, FALSE), \"\")))","v":{"$error":"#REF!"}},{"$f":"IF(A127=\"\",\"\", IF(#REF!=\"\", \"\",#REF!))","v":{"$error":"#REF!"}},{"$f":" IF(#REF!=\"\", \"\",#REF!)","v":{"$error":"#REF!"}},{"$f":" IF(#REF!=\"\", \"\",#REF!)","v":{"$error":"#REF!"}},{"$f":" IF(#REF!=\"\", \"\",#REF!)","v":{"$error":"#REF!"}},{"$f":" IF(#REF!=\"\", \"\",#REF!)","v":{"$error":"#REF!"}},{"$f":"IF(AW127=\"\", \"\", IF($L127=\"男\", VLOOKUP(AW127, データ!$B$2:$C$101, 2, FALSE), IF($L127=\"女\", VLOOKUP(AW127, データ!$F$2:$H$101, 2, FALSE), \"\")))","v":{"$error":"#REF!"}},{"$f":"IF(A127=\"\",\"\", IF(#REF!=\"\", \"\",#REF!))","v":{"$error":"#REF!"}},{"$f":" IF(#REF!=\"\", \"\",#REF!)","v":{"$error":"#REF!"}},{"$f":" IF(#REF!=\"\", \"\",#REF!)","v":{"$error":"#REF!"}},{"$f":" IF(#REF!=\"\", \"\",#REF!)","v":{"$error":"#REF!"}},{"$f":" IF(#REF!=\"\", \"\",#REF!)","v":{"$error":"#REF!"}},{"$error":"#REF!"}]
[{"$f":"#REF!","v":{"$error":"#REF!"}},{"$f":" IF(#REF!=\"\", \"\",#REF!)","v":{"$error":"#REF!"}},{"$f":" IF(#REF!=\"\", \"\",#REF!)","v":{"$error":"#REF!"}},{"$f":" IF(#REF!=\"\", \"\",#REF!)","v":{"$error":"#REF!"}},{"$error":"#REF!"},{"$error":"#REF!"},{"$error":"#REF!"},{"$error":"#REF!"},{"$f":" IF(#REF!=\"\", \"\",#REF!)","v":{"$error":"#REF!"}},{"$f":" IF(#REF!=\"\", \"\",#REF!)","v":{"$error":"#REF!"}},{"$f":" IF(#REF!=\"\", \"\",#REF!)","v":{"$error":"#REF!"}},{"$f":" IF(#REF!=\"\", \"\",#REF!)","v":{"$error":"#REF!"}},{"$f":" IF(#REF!=\"\", \"\",#REF!)","v":{"$error":"#REF!"}},{"$f":" IF(#REF!=\"\", \"\",#REF!)","v":{"$error":"#REF!"}},{"$f":" IF(#REF!=\"\", \"\",#REF!)","v":{"$error":"#REF!"}},{"$f":" IF(#REF!=\"\", \"\",#REF!)","v":{"$error":"#REF!"}},{"$f":"IF(A128=\"\",\"\",#REF!)","v":{"$error":"#REF!"}},{"$f":" IF(Q128=\"\", \"\",#REF!)","v":{"$error":"#REF!"}},{"$f":" IF(Q128=\"\", \"\",#REF!)","v":{"$error":"#REF!"}},{"$f":" IF(Q128=\"\", \"\",#REF!)","v":{"$error":"#REF!"}},{"$f":" IF(Q128=\"\", \"\",#REF!)","v":{"$error":"#REF!"}},{"$f":" IF(#REF!=\"\", \"\",#REF!)","v":{"$error":"#REF!"}},{"$f":" IF(#REF!=\"\", \"\",#REF!)","v":{"$error":"#REF!"}},{"$f":"IF(Y128=\"\", \"\", IF($L128=\"男\", VLOOKUP(Y128, データ!$B$2:$C$101, 2, FALSE), IF($L128=\"女\", VLOOKUP(Y128, データ!$F$2:$H$101, 2, FALSE), \"\")))","v":{"$error":"#REF!"}},{"$f":"IF(A128=\"\",\"\", IF(#REF!=\"\", \"\",#REF!))","v":{"$error":"#REF!"}},{"$f":" IF(#REF!=\"\", \"\",#REF!)","v":{"$error":"#REF!"}},{"$f":" IF(#REF!=\"\", \"\",#REF!)","v":{"$error":"#REF!"}},{"$f":" IF(#REF!=\"\", \"\",#REF!)","v":{"$error":"#REF!"}},{"$f":" IF(#REF!=\"\", \"\",#REF!)","v":{"$error":"#REF!"}},{"$f":"IF(AE128=\"\", \"\", IF($L128=\"男\", VLOOKUP(AE128, データ!$B$2:$C$101, 2, FALSE), IF($L128=\"女\", VLOOKUP(AE128, データ!$F$2:$H$101, 2, FALSE), \"\")))","v":{"$error":"#REF!"}},{"$f":"IF(A128=\"\",\"\", IF(#REF!=\"\", \"\",#REF!))","v":{"$error":"#REF!"}},{"$f":" IF(#REF!=\"\", \"\",#REF!)","v":{"$error":"#REF!"}},{"$f":" IF(#REF!=\"\", \"\",#REF!)","v":{"$error":"#REF!"}},{"$f":" IF(#REF!=\"\", \"\",#REF!)","v":{"$error":"#REF!"}},{"$f":" IF(#REF!=\"\", \"\",#REF!)","v":{"$error":"#REF!"}},{"$f":"IF(AK128=\"\", \"\", IF($L128=\"男\", VLOOKUP(AK128, データ!$B$2:$C$101, 2, FALSE), IF($L128=\"女\", VLOOKUP(AK128, データ!$F$2:$H$101, 2, FALSE), \"\")))","v":{"$error":"#REF!"}},{"$f":"IF(A128=\"\",\"\", IF(#REF!=\"\", \"\",#REF!))","v":{"$error":"#REF!"}},{"$f":" IF(#REF!=\"\", \"\",#REF!)","v":{"$error":"#REF!"}},{"$f":" IF(#REF!=\"\", \"\",#REF!)","v":{"$error":"#REF!"}},{"$f":" IF(#REF!=\"\", \"\",#REF!)","v":{"$error":"#REF!"}},{"$f":" IF(#REF!=\"\", \"\",#REF!)","v":{"$error":"#REF!"}},{"$f":"IF(AQ128=\"\", \"\", IF($L128=\"男\", VLOOKUP(AQ128, データ!$B$2:$C$101, 2, FALSE), IF($L128=\"女\", VLOOKUP(AQ128, データ!$F$2:$H$101, 2, FALSE), \"\")))","v":{"$error":"#REF!"}},{"$f":"IF(A128=\"\",\"\", IF(#REF!=\"\", \"\",#REF!))","v":{"$error":"#REF!"}},{"$f":" IF(#REF!=\"\", \"\",#REF!)","v":{"$error":"#REF!"}},{"$f":" IF(#REF!=\"\", \"\",#REF!)","v":{"$error":"#REF!"}},{"$f":" IF(#REF!=\"\", \"\",#REF!)","v":{"$error":"#REF!"}},{"$f":" IF(#REF!=\"\", \"\",#REF!)","v":{"$error":"#REF!"}},{"$f":"IF(AW128=\"\", \"\", IF($L128=\"男\", VLOOKUP(AW128, データ!$B$2:$C$101, 2, FALSE), IF($L128=\"女\", VLOOKUP(AW128, データ!$F$2:$H$101, 2, FALSE), \"\")))","v":{"$error":"#REF!"}},{"$f":"IF(A128=\"\",\"\", IF(#REF!=\"\", \"\",#REF!))","v":{"$error":"#REF!"}},{"$f":" IF(#REF!=\"\", \"\",#REF!)","v":{"$error":"#REF!"}},{"$f":" IF(#REF!=\"\", \"\",#REF!)","v":{"$error":"#REF!"}},{"$f":" IF(#REF!=\"\", \"\",#REF!)","v":{"$error":"#REF!"}},{"$f":" IF(#REF!=\"\", \"\",#REF!)","v":{"$error":"#REF!"}},{"$error":"#REF!"}]
[{"$f":"#REF!","v":{"$error":"#REF!"}},{"$f":" IF(#REF!=\"\", \"\",#REF!)","v":{"$error":"#REF!"}},{"$f":" IF(#REF!=\"\", \"\",#REF!)","v":{"$error":"#REF!"}},{"$f":" IF(#REF!=\"\", \"\",#REF!)","v":{"$error":"#REF!"}},{"$error":"#REF!"},{"$error":"#REF!"},{"$error":"#REF!"},{"$error":"#REF!"},{"$f":" IF(#REF!=\"\", \"\",#REF!)","v":{"$error":"#REF!"}},{"$f":" IF(#REF!=\"\", \"\",#REF!)","v":{"$error":"#REF!"}},{"$f":" IF(#REF!=\"\", \"\",#REF!)","v":{"$error":"#REF!"}},{"$f":" IF(#REF!=\"\", \"\",#REF!)","v":{"$error":"#REF!"}},{"$f":" IF(#REF!=\"\", \"\",#REF!)","v":{"$error":"#REF!"}},{"$f":" IF(#REF!=\"\", \"\",#REF!)","v":{"$error":"#REF!"}},{"$f":" IF(#REF!=\"\", \"\",#REF!)","v":{"$error":"#REF!"}},{"$f":" IF(#REF!=\"\", \"\",#REF!)","v":{"$error":"#REF!"}},{"$f":"IF(A129=\"\",\"\",#REF!)","v":{"$error":"#REF!"}},{"$f":" IF(Q129=\"\", \"\",#REF!)","v":{"$error":"#REF!"}},{"$f":" IF(Q129=\"\", \"\",#REF!)","v":{"$error":"#REF!"}},{"$f":" IF(Q129=\"\", \"\",#REF!)","v":{"$error":"#REF!"}},{"$f":" IF(Q129=\"\", \"\",#REF!)","v":{"$error":"#REF!"}},{"$f":" IF(#REF!=\"\", \"\",#REF!)","v":{"$error":"#REF!"}},{"$f":" IF(#REF!=\"\", \"\",#REF!)","v":{"$error":"#REF!"}},{"$f":"IF(Y129=\"\", \"\", IF($L129=\"男\", VLOOKUP(Y129, データ!$B$2:$C$101, 2, FALSE), IF($L129=\"女\", VLOOKUP(Y129, データ!$F$2:$H$101, 2, FALSE), \"\")))","v":{"$error":"#REF!"}},{"$f":"IF(A129=\"\",\"\", IF(#REF!=\"\", \"\",#REF!))","v":{"$error":"#REF!"}},{"$f":" IF(#REF!=\"\", \"\",#REF!)","v":{"$error":"#REF!"}},{"$f":" IF(#REF!=\"\", \"\",#REF!)","v":{"$error":"#REF!"}},{"$f":" IF(#REF!=\"\", \"\",#REF!)","v":{"$error":"#REF!"}},{"$f":" IF(#REF!=\"\", \"\",#REF!)","v":{"$error":"#REF!"}},{"$f":"IF(AE129=\"\", \"\", IF($L129=\"男\", VLOOKUP(AE129, データ!$B$2:$C$101, 2, FALSE), IF($L129=\"女\", VLOOKUP(AE129, データ!$F$2:$H$101, 2, FALSE), \"\")))","v":{"$error":"#REF!"}},{"$f":"IF(A129=\"\",\"\", IF(#REF!=\"\", \"\",#REF!))","v":{"$error":"#REF!"}},{"$f":" IF(#REF!=\"\", \"\",#REF!)","v":{"$error":"#REF!"}},{"$f":" IF(#REF!=\"\", \"\",#REF!)","v":{"$error":"#REF!"}},{"$f":" IF(#REF!=\"\", \"\",#REF!)","v":{"$error":"#REF!"}},{"$f":" IF(#REF!=\"\", \"\",#REF!)","v":{"$error":"#REF!"}},{"$f":"IF(AK129=\"\", \"\", IF($L129=\"男\", VLOOKUP(AK129, データ!$B$2:$C$101, 2, FALSE), IF($L129=\"女\", VLOOKUP(AK129, データ!$F$2:$H$101, 2, FALSE), \"\")))","v":{"$error":"#REF!"}},{"$f":"IF(A129=\"\",\"\", IF(#REF!=\"\", \"\",#REF!))","v":{"$error":"#REF!"}},{"$f":" IF(#REF!=\"\", \"\",#REF!)","v":{"$error":"#REF!"}},{"$f":" IF(#REF!=\"\", \"\",#REF!)","v":{"$error":"#REF!"}},{"$f":" IF(#REF!=\"\", \"\",#REF!)","v":{"$error":"#REF!"}},{"$f":" IF(#REF!=\"\", \"\",#REF!)","v":{"$error":"#REF!"}},{"$f":"IF(AQ129=\"\", \"\", IF($L129=\"男\", VLOOKUP(AQ129, データ!$B$2:$C$101, 2, FALSE), IF($L129=\"女\", VLOOKUP(AQ129, データ!$F$2:$H$101, 2, FALSE), \"\")))","v":{"$error":"#REF!"}},{"$f":"IF(A129=\"\",\"\", IF(#REF!=\"\", \"\",#REF!))","v":{"$error":"#REF!"}},{"$f":" IF(#REF!=\"\", \"\",#REF!)","v":{"$error":"#REF!"}},{"$f":" IF(#REF!=\"\", \"\",#REF!)","v":{"$error":"#REF!"}},{"$f":" IF(#REF!=\"\", \"\",#REF!)","v":{"$error":"#REF!"}},{"$f":" IF(#REF!=\"\", \"\",#REF!)","v":{"$error":"#REF!"}},{"$f":"IF(AW129=\"\", \"\", IF($L129=\"男\", VLOOKUP(AW129, データ!$B$2:$C$101, 2, FALSE), IF($L129=\"女\", VLOOKUP(AW129, データ!$F$2:$H$101, 2, FALSE), \"\")))","v":{"$error":"#REF!"}},{"$f":"IF(A129=\"\",\"\", IF(#REF!=\"\", \"\",#REF!))","v":{"$error":"#REF!"}},{"$f":" IF(#REF!=\"\", \"\",#REF!)","v":{"$error":"#REF!"}},{"$f":" IF(#REF!=\"\", \"\",#REF!)","v":{"$error":"#REF!"}},{"$f":" IF(#REF!=\"\", \"\",#REF!)","v":{"$error":"#REF!"}},{"$f":" IF(#REF!=\"\", \"\",#REF!)","v":{"$error":"#REF!"}},{"$error":"#REF!"}]
[{"$f":"#REF!","v":{"$error":"#REF!"}},{"$f":" IF(#REF!=\"\", \"\",#REF!)","v":{"$error":"#REF!"}},{"$f":" IF(#REF!=\"\", \"\",#REF!)","v":{"$error":"#REF!"}},{"$f":" IF(#REF!=\"\", \"\",#REF!)","v":{"$error":"#REF!"}},{"$error":"#REF!"},{"$error":"#REF!"},{"$error":"#REF!"},{"$error":"#REF!"},{"$f":" IF(#REF!=\"\", \"\",#REF!)","v":{"$error":"#REF!"}},{"$f":" IF(#REF!=\"\", \"\",#REF!)","v":{"$error":"#REF!"}},{"$f":" IF(#REF!=\"\", \"\",#REF!)","v":{"$error":"#REF!"}},{"$f":" IF(#REF!=\"\", \"\",#REF!)","v":{"$error":"#REF!"}},{"$f":" IF(#REF!=\"\", \"\",#REF!)","v":{"$error":"#REF!"}},{"$f":" IF(#REF!=\"\", \"\",#REF!)","v":{"$error":"#REF!"}},{"$f":" IF(#REF!=\"\", \"\",#REF!)","v":{"$error":"#REF!"}},{"$f":" IF(#REF!=\"\", \"\",#REF!)","v":{"$error":"#REF!"}},{"$f":"IF(A130=\"\",\"\",#REF!)","v":{"$error":"#REF!"}},{"$f":" IF(Q130=\"\", \"\",#REF!)","v":{"$error":"#REF!"}},{"$f":" IF(Q130=\"\", \"\",#REF!)","v":{"$error":"#REF!"}},{"$f":" IF(Q130=\"\", \"\",#REF!)","v":{"$error":"#REF!"}},{"$f":" IF(Q130=\"\", \"\",#REF!)","v":{"$error":"#REF!"}},{"$f":" IF(#REF!=\"\", \"\",#REF!)","v":{"$error":"#REF!"}},{"$f":" IF(#REF!=\"\", \"\",#REF!)","v":{"$error":"#REF!"}},{"$f":"IF(Y130=\"\", \"\", IF($L130=\"男\", VLOOKUP(Y130, データ!$B$2:$C$101, 2, FALSE), IF($L130=\"女\", VLOOKUP(Y130, データ!$F$2:$H$101, 2, FALSE), \"\")))","v":{"$error":"#REF!"}},{"$f":"IF(A130=\"\",\"\", IF(#REF!=\"\", \"\",#REF!))","v":{"$error":"#REF!"}},{"$f":" IF(#REF!=\"\", \"\",#REF!)","v":{"$error":"#REF!"}},{"$f":" IF(#REF!=\"\", \"\",#REF!)","v":{"$error":"#REF!"}},{"$f":" IF(#REF!=\"\", \"\",#REF!)","v":{"$error":"#REF!"}},{"$f":" IF(#REF!=\"\", \"\",#REF!)","v":{"$error":"#REF!"}},{"$f":"IF(AE130=\"\", \"\", IF($L130=\"男\", VLOOKUP(AE130, データ!$B$2:$C$101, 2, FALSE), IF($L130=\"女\", VLOOKUP(AE130, データ!$F$2:$H$101, 2, FALSE), \"\")))","v":{"$error":"#REF!"}},{"$f":"IF(A130=\"\",\"\", IF(#REF!=\"\", \"\",#REF!))","v":{"$error":"#REF!"}},{"$f":" IF(#REF!=\"\", \"\",#REF!)","v":{"$error":"#REF!"}},{"$f":" IF(#REF!=\"\", \"\",#REF!)","v":{"$error":"#REF!"}},{"$f":" IF(#REF!=\"\", \"\",#REF!)","v":{"$error":"#REF!"}},{"$f":" IF(#REF!=\"\", \"\",#REF!)","v":{"$error":"#REF!"}},{"$f":"IF(AK130=\"\", \"\", IF($L130=\"男\", VLOOKUP(AK130, データ!$B$2:$C$101, 2, FALSE), IF($L130=\"女\", VLOOKUP(AK130, データ!$F$2:$H$101, 2, FALSE), \"\")))","v":{"$error":"#REF!"}},{"$f":"IF(A130=\"\",\"\", IF(#REF!=\"\", \"\",#REF!))","v":{"$error":"#REF!"}},{"$f":" IF(#REF!=\"\", \"\",#REF!)","v":{"$error":"#REF!"}},{"$f":" IF(#REF!=\"\", \"\",#REF!)","v":{"$error":"#REF!"}},{"$f":" IF(#REF!=\"\", \"\",#REF!)","v":{"$error":"#REF!"}},{"$f":" IF(#REF!=\"\", \"\",#REF!)","v":{"$error":"#REF!"}},{"$f":"IF(AQ130=\"\", \"\", IF($L130=\"男\", VLOOKUP(AQ130, データ!$B$2:$C$101, 2, FALSE), IF($L130=\"女\", VLOOKUP(AQ130, データ!$F$2:$H$101, 2, FALSE), \"\")))","v":{"$error":"#REF!"}},{"$f":"IF(A130=\"\",\"\", IF(#REF!=\"\", \"\",#REF!))","v":{"$error":"#REF!"}},{"$f":" IF(#REF!=\"\", \"\",#REF!)","v":{"$error":"#REF!"}},{"$f":" IF(#REF!=\"\", \"\",#REF!)","v":{"$error":"#REF!"}},{"$f":" IF(#REF!=\"\", \"\",#REF!)","v":{"$error":"#REF!"}},{"$f":" IF(#REF!=\"\", \"\",#REF!)","v":{"$error":"#REF!"}},{"$f":"IF(AW130=\"\", \"\", IF($L130=\"男\", VLOOKUP(AW130, データ!$B$2:$C$101, 2, FALSE), IF($L130=\"女\", VLOOKUP(AW130, データ!$F$2:$H$101, 2, FALSE), \"\")))","v":{"$error":"#REF!"}},{"$f":"IF(A130=\"\",\"\", IF(#REF!=\"\", \"\",#REF!))","v":{"$error":"#REF!"}},{"$f":" IF(#REF!=\"\", \"\",#REF!)","v":{"$error":"#REF!"}},{"$f":" IF(#REF!=\"\", \"\",#REF!)","v":{"$error":"#REF!"}},{"$f":" IF(#REF!=\"\", \"\",#REF!)","v":{"$error":"#REF!"}},{"$f":" IF(#REF!=\"\", \"\",#REF!)","v":{"$error":"#REF!"}},{"$error":"#REF!"}]
[{"$f":"#REF!","v":{"$error":"#REF!"}},{"$f":" IF(#REF!=\"\", \"\",#REF!)","v":{"$error":"#REF!"}},{"$f":" IF(#REF!=\"\", \"\",#REF!)","v":{"$error":"#REF!"}},{"$f":" IF(#REF!=\"\", \"\",#REF!)","v":{"$error":"#REF!"}},{"$error":"#REF!"},{"$error":"#REF!"},{"$error":"#REF!"},{"$error":"#REF!"},{"$f":" IF(#REF!=\"\", \"\",#REF!)","v":{"$error":"#REF!"}},{"$f":" IF(#REF!=\"\", \"\",#REF!)","v":{"$error":"#REF!"}},{"$f":" IF(#REF!=\"\", \"\",#REF!)","v":{"$error":"#REF!"}},{"$f":" IF(#REF!=\"\", \"\",#REF!)","v":{"$error":"#REF!"}},{"$f":" IF(#REF!=\"\", \"\",#REF!)","v":{"$error":"#REF!"}},{"$f":" IF(#REF!=\"\", \"\",#REF!)","v":{"$error":"#REF!"}},{"$f":" IF(#REF!=\"\", \"\",#REF!)","v":{"$error":"#REF!"}},{"$f":" IF(#REF!=\"\", \"\",#REF!)","v":{"$error":"#REF!"}},{"$f":"IF(A131=\"\",\"\",#REF!)","v":{"$error":"#REF!"}},{"$f":" IF(Q131=\"\", \"\",#REF!)","v":{"$error":"#REF!"}},{"$f":" IF(Q131=\"\", \"\",#REF!)","v":{"$error":"#REF!"}},{"$f":" IF(Q131=\"\", \"\",#REF!)","v":{"$error":"#REF!"}},{"$f":" IF(Q131=\"\", \"\",#REF!)","v":{"$error":"#REF!"}},{"$f":" IF(#REF!=\"\", \"\",#REF!)","v":{"$error":"#REF!"}},{"$f":" IF(#REF!=\"\", \"\",#REF!)","v":{"$error":"#REF!"}},{"$f":"IF(Y131=\"\", \"\", IF($L131=\"男\", VLOOKUP(Y131, データ!$B$2:$C$101, 2, FALSE), IF($L131=\"女\", VLOOKUP(Y131, データ!$F$2:$H$101, 2, FALSE), \"\")))","v":{"$error":"#REF!"}},{"$f":"IF(A131=\"\",\"\", IF(#REF!=\"\", \"\",#REF!))","v":{"$error":"#REF!"}},{"$f":" IF(#REF!=\"\", \"\",#REF!)","v":{"$error":"#REF!"}},{"$f":" IF(#REF!=\"\", \"\",#REF!)","v":{"$error":"#REF!"}},{"$f":" IF(#REF!=\"\", \"\",#REF!)","v":{"$error":"#REF!"}},{"$f":" IF(#REF!=\"\", \"\",#REF!)","v":{"$error":"#REF!"}},{"$f":"IF(AE131=\"\", \"\", IF($L131=\"男\", VLOOKUP(AE131, データ!$B$2:$C$101, 2, FALSE), IF($L131=\"女\", VLOOKUP(AE131, データ!$F$2:$H$101, 2, FALSE), \"\")))","v":{"$error":"#REF!"}},{"$f":"IF(A131=\"\",\"\", IF(#REF!=\"\", \"\",#REF!))","v":{"$error":"#REF!"}},{"$f":" IF(#REF!=\"\", \"\",#REF!)","v":{"$error":"#REF!"}},{"$f":" IF(#REF!=\"\", \"\",#REF!)","v":{"$error":"#REF!"}},{"$f":" IF(#REF!=\"\", \"\",#REF!)","v":{"$error":"#REF!"}},{"$f":" IF(#REF!=\"\", \"\",#REF!)","v":{"$error":"#REF!"}},{"$f":"IF(AK131=\"\", \"\", IF($L131=\"男\", VLOOKUP(AK131, データ!$B$2:$C$101, 2, FALSE), IF($L131=\"女\", VLOOKUP(AK131, データ!$F$2:$H$101, 2, FALSE), \"\")))","v":{"$error":"#REF!"}},{"$f":"IF(A131=\"\",\"\", IF(#REF!=\"\", \"\",#REF!))","v":{"$error":"#REF!"}},{"$f":" IF(#REF!=\"\", \"\",#REF!)","v":{"$error":"#REF!"}},{"$f":" IF(#REF!=\"\", \"\",#REF!)","v":{"$error":"#REF!"}},{"$f":" IF(#REF!=\"\", \"\",#REF!)","v":{"$error":"#REF!"}},{"$f":" IF(#REF!=\"\", \"\",#REF!)","v":{"$error":"#REF!"}},{"$f":"IF(AQ131=\"\", \"\", IF($L131=\"男\", VLOOKUP(AQ131, データ!$B$2:$C$101, 2, FALSE), IF($L131=\"女\", VLOOKUP(AQ131, データ!$F$2:$H$101, 2, FALSE), \"\")))","v":{"$error":"#REF!"}},{"$f":"IF(A131=\"\",\"\", IF(#REF!=\"\", \"\",#REF!))","v":{"$error":"#REF!"}},{"$f":" IF(#REF!=\"\", \"\",#REF!)","v":{"$error":"#REF!"}},{"$f":" IF(#REF!=\"\", \"\",#REF!)","v":{"$error":"#REF!"}},{"$f":" IF(#REF!=\"\", \"\",#REF!)","v":{"$error":"#REF!"}},{"$f":" IF(#REF!=\"\", \"\",#REF!)","v":{"$error":"#REF!"}},{"$f":"IF(AW131=\"\", \"\", IF($L131=\"男\", VLOOKUP(AW131, データ!$B$2:$C$101, 2, FALSE), IF($L131=\"女\", VLOOKUP(AW131, データ!$F$2:$H$101, 2, FALSE), \"\")))","v":{"$error":"#REF!"}},{"$f":"IF(A131=\"\",\"\", IF(#REF!=\"\", \"\",#REF!))","v":{"$error":"#REF!"}},{"$f":" IF(#REF!=\"\", \"\",#REF!)","v":{"$error":"#REF!"}},{"$f":" IF(#REF!=\"\", \"\",#REF!)","v":{"$error":"#REF!"}},{"$f":" IF(#REF!=\"\", \"\",#REF!)","v":{"$error":"#REF!"}},{"$f":" IF(#REF!=\"\", \"\",#REF!)","v":{"$error":"#REF!"}},{"$error":"#REF!"}]
[{"$f":"#REF!","v":{"$error":"#REF!"}},{"$f":" IF(#REF!=\"\", \"\",#REF!)","v":{"$error":"#REF!"}},{"$f":" IF(#REF!=\"\", \"\",#REF!)","v":{"$error":"#REF!"}},{"$f":" IF(#REF!=\"\", \"\",#REF!)","v":{"$error":"#REF!"}},{"$f":"IF(C132=\"\", \"\", C132)","v":{"$error":"#REF!"}},{"$f":"IF(D132=\"\", \"\", D132)","v":{"$error":"#REF!"}},{"$f":"IF(C132=\"\", \"\", C132)","v":{"$error":"#REF!"}},{"$f":"IF(D132=\"\", \"\", D132)","v":{"$error":"#REF!"}},{"$f":" IF(#REF!=\"\", \"\",#REF!)","v":{"$error":"#REF!"}},{"$f":" IF(#REF!=\"\", \"\",#REF!)","v":{"$error":"#REF!"}},{"$f":" IF(#REF!=\"\", \"\",#REF!)","v":{"$error":"#REF!"}},{"$f":" IF(#REF!=\"\", \"\",#REF!)","v":{"$error":"#REF!"}},{"$f":" IF(#REF!=\"\", \"\",#REF!)","v":{"$error":"#REF!"}},{"$f":" IF(#REF!=\"\", \"\",#REF!)","v":{"$error":"#REF!"}},{"$f":" IF(#REF!=\"\", \"\",#REF!)","v":{"$error":"#REF!"}},{"$f":" IF(#REF!=\"\", \"\",#REF!)","v":{"$error":"#REF!"}},{"$f":"IF(A132=\"\",\"\",#REF!)","v":{"$error":"#REF!"}},{"$f":" IF(Q132=\"\", \"\",#REF!)","v":{"$error":"#REF!"}},{"$f":" IF(Q132=\"\", \"\",#REF!)","v":{"$error":"#REF!"}},{"$f":" IF(Q132=\"\", \"\",#REF!)","v":{"$error":"#REF!"}},{"$f":" IF(Q132=\"\", \"\",#REF!)","v":{"$error":"#REF!"}},{"$f":" IF(#REF!=\"\", \"\",#REF!)","v":{"$error":"#REF!"}},{"$f":" IF(#REF!=\"\", \"\",#REF!)","v":{"$error":"#REF!"}},{"$f":"IF(Y132=\"\", \"\", IF($L132=\"男\", VLOOKUP(Y132, データ!$B$2:$C$101, 2, FALSE), IF($L132=\"女\", VLOOKUP(Y132, データ!$F$2:$H$101, 2, FALSE), \"\")))","v":{"$error":"#REF!"}},{"$f":"IF(A132=\"\",\"\", IF(#REF!=\"\", \"\",#REF!))","v":{"$error":"#REF!"}},{"$f":" IF(#REF!=\"\", \"\",#REF!)","v":{"$error":"#REF!"}},{"$f":" IF(#REF!=\"\", \"\",#REF!)","v":{"$error":"#REF!"}},{"$f":" IF(#REF!=\"\", \"\",#REF!)","v":{"$error":"#REF!"}},{"$f":" IF(#REF!=\"\", \"\",#REF!)","v":{"$error":"#REF!"}},{"$f":"IF(AE132=\"\", \"\", IF($L132=\"男\", VLOOKUP(AE132, データ!$B$2:$C$101, 2, FALSE), IF($L132=\"女\", VLOOKUP(AE132, データ!$F$2:$H$101, 2, FALSE), \"\")))","v":{"$error":"#REF!"}},{"$f":"IF(A132=\"\",\"\", IF(#REF!=\"\", \"\",#REF!))","v":{"$error":"#REF!"}},{"$f":" IF(#REF!=\"\", \"\",#REF!)","v":{"$error":"#REF!"}},{"$f":" IF(#REF!=\"\", \"\",#REF!)","v":{"$error":"#REF!"}},{"$f":" IF(#REF!=\"\", \"\",#REF!)","v":{"$error":"#REF!"}},{"$f":" IF(#REF!=\"\", \"\",#REF!)","v":{"$error":"#REF!"}},{"$f":"IF(AK132=\"\", \"\", IF($L132=\"男\", VLOOKUP(AK132, データ!$B$2:$C$101, 2, FALSE), IF($L132=\"女\", VLOOKUP(AK132, データ!$F$2:$H$101, 2, FALSE), \"\")))","v":{"$error":"#REF!"}},{"$f":"IF(A132=\"\",\"\", IF(#REF!=\"\", \"\",#REF!))","v":{"$error":"#REF!"}},{"$f":" IF(#REF!=\"\", \"\",#REF!)","v":{"$error":"#REF!"}},{"$f":" IF(#REF!=\"\", \"\",#REF!)","v":{"$error":"#REF!"}},{"$f":" IF(#REF!=\"\", \"\",#REF!)","v":{"$error":"#REF!"}},{"$f":" IF(#REF!=\"\", \"\",#REF!)","v":{"$error":"#REF!"}},{"$f":"IF(AQ132=\"\", \"\", IF($L132=\"男\", VLOOKUP(AQ132, データ!$B$2:$C$101, 2, FALSE), IF($L132=\"女\", VLOOKUP(AQ132, データ!$F$2:$H$101, 2, FALSE), \"\")))","v":{"$error":"#REF!"}},{"$f":"IF(A132=\"\",\"\", IF(#REF!=\"\", \"\",#REF!))","v":{"$error":"#REF!"}},{"$f":" IF(#REF!=\"\", \"\",#REF!)","v":{"$error":"#REF!"}},{"$f":" IF(#REF!=\"\", \"\",#REF!)","v":{"$error":"#REF!"}},{"$f":" IF(#REF!=\"\", \"\",#REF!)","v":{"$error":"#REF!"}},{"$f":" IF(#REF!=\"\", \"\",#REF!)","v":{"$error":"#REF!"}},{"$f":"IF(AW132=\"\", \"\", IF($L132=\"男\", VLOOKUP(AW132, データ!$B$2:$C$101, 2, FALSE), IF($L132=\"女\", VLOOKUP(AW132, データ!$F$2:$H$101, 2, FALSE), \"\")))","v":{"$error":"#REF!"}},{"$f":"IF(A132=\"\",\"\", IF(#REF!=\"\", \"\",#REF!))","v":{"$error":"#REF!"}},{"$f":" IF(#REF!=\"\", \"\",#REF!)","v":{"$error":"#REF!"}},{"$f":" IF(#REF!=\"\", \"\",#REF!)","v":{"$error":"#REF!"}},{"$f":" IF(#REF!=\"\", \"\",#REF!)","v":{"$error":"#REF!"}},{"$f":" IF(#REF!=\"\", \"\",#REF!)","v":{"$error":"#REF!"}},{"$f":"IF(A132=\"\",\"\",IF(LEN(C132)+LEN(D132)=2,C132&\"　　　\"&D132,IF(LEN(C132)+LEN(D132)=3,C132&\"　　\"&D132,IF(LEN(C132)+LEN(D132)=4,C132&\"　\"&D132,IF(LEN(C132)+LEN(D132)>4,C132&D132,\"\")))))","v":{"$error":"#REF!"}}]
[{"$f":"#REF!","v":{"$error":"#REF!"}},{"$f":" IF(#REF!=\"\", \"\",#REF!)","v":{"$error":"#REF!"}},{"$f":" IF(#REF!=\"\", \"\",#REF!)","v":{"$error":"#REF!"}},{"$f":" IF(#REF!=\"\", \"\",#REF!)","v":{"$error":"#REF!"}},{"$error":"#REF!"},{"$error":"#REF!"},{"$error":"#REF!"},{"$error":"#REF!"},{"$f":" IF(#REF!=\"\", \"\",#REF!)","v":{"$error":"#REF!"}},{"$f":" IF(#REF!=\"\", \"\",#REF!)","v":{"$error":"#REF!"}},{"$f":" IF(#REF!=\"\", \"\",#REF!)","v":{"$error":"#REF!"}},{"$f":" IF(#REF!=\"\", \"\",#REF!)","v":{"$error":"#REF!"}},{"$f":" IF(#REF!=\"\", \"\",#REF!)","v":{"$error":"#REF!"}},{"$f":" IF(#REF!=\"\", \"\",#REF!)","v":{"$error":"#REF!"}},{"$f":" IF(#REF!=\"\", \"\",#REF!)","v":{"$error":"#REF!"}},{"$f":" IF(#REF!=\"\", \"\",#REF!)","v":{"$error":"#REF!"}},{"$f":"IF(A133=\"\",\"\",#REF!)","v":{"$error":"#REF!"}},{"$f":" IF(Q133=\"\", \"\",#REF!)","v":{"$error":"#REF!"}},{"$f":" IF(Q133=\"\", \"\",#REF!)","v":{"$error":"#REF!"}},{"$f":" IF(Q133=\"\", \"\",#REF!)","v":{"$error":"#REF!"}},{"$f":" IF(Q133=\"\", \"\",#REF!)","v":{"$error":"#REF!"}},{"$f":" IF(#REF!=\"\", \"\",#REF!)","v":{"$error":"#REF!"}},{"$f":" IF(#REF!=\"\", \"\",#REF!)","v":{"$error":"#REF!"}},{"$f":"IF(Y133=\"\", \"\", IF($L133=\"男\", VLOOKUP(Y133, データ!$B$2:$C$101, 2, FALSE), IF($L133=\"女\", VLOOKUP(Y133, データ!$F$2:$H$101, 2, FALSE), \"\")))","v":{"$error":"#REF!"}},{"$f":"IF(A133=\"\",\"\", IF(#REF!=\"\", \"\",#REF!))","v":{"$error":"#REF!"}},{"$f":" IF(#REF!=\"\", \"\",#REF!)","v":{"$error":"#REF!"}},{"$f":" IF(#REF!=\"\", \"\",#REF!)","v":{"$error":"#REF!"}},{"$f":" IF(#REF!=\"\", \"\",#REF!)","v":{"$error":"#REF!"}},{"$f":" IF(#REF!=\"\", \"\",#REF!)","v":{"$error":"#REF!"}},{"$f":"IF(AE133=\"\", \"\", IF($L133=\"男\", VLOOKUP(AE133, データ!$B$2:$C$101, 2, FALSE), IF($L133=\"女\", VLOOKUP(AE133, データ!$F$2:$H$101, 2, FALSE), \"\")))","v":{"$error":"#REF!"}},{"$f":"IF(A133=\"\",\"\", IF(#REF!=\"\", \"\",#REF!))","v":{"$error":"#REF!"}},{"$f":" IF(#REF!=\"\", \"\",#REF!)","v":{"$error":"#REF!"}},{"$f":" IF(#REF!=\"\", \"\",#REF!)","v":{"$error":"#REF!"}},{"$f":" IF(#REF!=\"\", \"\",#REF!)","v":{"$error":"#REF!"}},{"$f":" IF(#REF!=\"\", \"\",#REF!)","v":{"$error":"#REF!"}},{"$f":"IF(AK133=\"\", \"\", IF($L133=\"男\", VLOOKUP(AK133, データ!$B$2:$C$101, 2, FALSE), IF($L133=\"女\", VLOOKUP(AK133, データ!$F$2:$H$101, 2, FALSE), \"\")))","v":{"$error":"#REF!"}},{"$f":"IF(A133=\"\",\"\", IF(#REF!=\"\", \"\",#REF!))","v":{"$error":"#REF!"}},{"$f":" IF(#REF!=\"\", \"\",#REF!)","v":{"$error":"#REF!"}},{"$f":" IF(#REF!=\"\", \"\",#REF!)","v":{"$error":"#REF!"}},{"$f":" IF(#REF!=\"\", \"\",#REF!)","v":{"$error":"#REF!"}},{"$f":" IF(#REF!=\"\", \"\",#REF!)","v":{"$error":"#REF!"}},{"$f":"IF(AQ133=\"\", \"\", IF($L133=\"男\", VLOOKUP(AQ133, データ!$B$2:$C$101, 2, FALSE), IF($L133=\"女\", VLOOKUP(AQ133, データ!$F$2:$H$101, 2, FALSE), \"\")))","v":{"$error":"#REF!"}},{"$f":"IF(A133=\"\",\"\", IF(#REF!=\"\", \"\",#REF!))","v":{"$error":"#REF!"}},{"$f":" IF(#REF!=\"\", \"\",#REF!)","v":{"$error":"#REF!"}},{"$f":" IF(#REF!=\"\", \"\",#REF!)","v":{"$error":"#REF!"}},{"$f":" IF(#REF!=\"\", \"\",#REF!)","v":{"$error":"#REF!"}},{"$f":" IF(#REF!=\"\", \"\",#REF!)","v":{"$error":"#REF!"}},{"$f":"IF(AW133=\"\", \"\", IF($L133=\"男\", VLOOKUP(AW133, データ!$B$2:$C$101, 2, FALSE), IF($L133=\"女\", VLOOKUP(AW133, データ!$F$2:$H$101, 2, FALSE), \"\")))","v":{"$error":"#REF!"}},{"$f":"IF(A133=\"\",\"\", IF(#REF!=\"\", \"\",#REF!))","v":{"$error":"#REF!"}},{"$f":" IF(#REF!=\"\", \"\",#REF!)","v":{"$error":"#REF!"}},{"$f":" IF(#REF!=\"\", \"\",#REF!)","v":{"$error":"#REF!"}},{"$f":" IF(#REF!=\"\", \"\",#REF!)","v":{"$error":"#REF!"}},{"$f":" IF(#REF!=\"\", \"\",#REF!)","v":{"$error":"#REF!"}},{"$error":"#REF!"}]
[{"$f":"#REF!","v":{"$error":"#REF!"}},{"$f":" IF(#REF!=\"\", \"\",#REF!)","v":{"$error":"#REF!"}},{"$f":" IF(#REF!=\"\", \"\",#REF!)","v":{"$error":"#REF!"}},{"$f":" IF(#REF!=\"\", \"\",#REF!)","v":{"$error":"#REF!"}},{"$error":"#REF!"},{"$error":"#REF!"},{"$error":"#REF!"},{"$error":"#REF!"},{"$f":" IF(#REF!=\"\", \"\",#REF!)","v":{"$error":"#REF!"}},{"$f":" IF(#REF!=\"\", \"\",#REF!)","v":{"$error":"#REF!"}},{"$f":" IF(#REF!=\"\", \"\",#REF!)","v":{"$error":"#REF!"}},{"$f":" IF(#REF!=\"\", \"\",#REF!)","v":{"$error":"#REF!"}},{"$f":" IF(#REF!=\"\", \"\",#REF!)","v":{"$error":"#REF!"}},{"$f":" IF(#REF!=\"\", \"\",#REF!)","v":{"$error":"#REF!"}},{"$f":" IF(#REF!=\"\", \"\",#REF!)","v":{"$error":"#REF!"}},{"$f":" IF(#REF!=\"\", \"\",#REF!)","v":{"$error":"#REF!"}},{"$f":"IF(A134=\"\",\"\",#REF!)","v":{"$error":"#REF!"}},{"$f":" IF(Q134=\"\", \"\",#REF!)","v":{"$error":"#REF!"}},{"$f":" IF(Q134=\"\", \"\",#REF!)","v":{"$error":"#REF!"}},{"$f":" IF(Q134=\"\", \"\",#REF!)","v":{"$error":"#REF!"}},{"$f":" IF(Q134=\"\", \"\",#REF!)","v":{"$error":"#REF!"}},{"$f":" IF(#REF!=\"\", \"\",#REF!)","v":{"$error":"#REF!"}},{"$f":" IF(#REF!=\"\", \"\",#REF!)","v":{"$error":"#REF!"}},{"$f":"IF(Y134=\"\", \"\", IF($L134=\"男\", VLOOKUP(Y134, データ!$B$2:$C$101, 2, FALSE), IF($L134=\"女\", VLOOKUP(Y134, データ!$F$2:$H$101, 2, FALSE), \"\")))","v":{"$error":"#REF!"}},{"$f":"IF(A134=\"\",\"\", IF(#REF!=\"\", \"\",#REF!))","v":{"$error":"#REF!"}},{"$f":" IF(#REF!=\"\", \"\",#REF!)","v":{"$error":"#REF!"}},{"$f":" IF(#REF!=\"\", \"\",#REF!)","v":{"$error":"#REF!"}},{"$f":" IF(#REF!=\"\", \"\",#REF!)","v":{"$error":"#REF!"}},{"$f":" IF(#REF!=\"\", \"\",#REF!)","v":{"$error":"#REF!"}},{"$f":"IF(AE134=\"\", \"\", IF($L134=\"男\", VLOOKUP(AE134, データ!$B$2:$C$101, 2, FALSE), IF($L134=\"女\", VLOOKUP(AE134, データ!$F$2:$H$101, 2, FALSE), \"\")))","v":{"$error":"#REF!"}},{"$f":"IF(A134=\"\",\"\", IF(#REF!=\"\", \"\",#REF!))","v":{"$error":"#REF!"}},{"$f":" IF(#REF!=\"\", \"\",#REF!)","v":{"$error":"#REF!"}},{"$f":" IF(#REF!=\"\", \"\",#REF!)","v":{"$error":"#REF!"}},{"$f":" IF(#REF!=\"\", \"\",#REF!)","v":{"$error":"#REF!"}},{"$f":" IF(#REF!=\"\", \"\",#REF!)","v":{"$error":"#REF!"}},{"$f":"IF(AK134=\"\", \"\", IF($L134=\"男\", VLOOKUP(AK134, データ!$B$2:$C$101, 2, FALSE), IF($L134=\"女\", VLOOKUP(AK134, データ!$F$2:$H$101, 2, FALSE), \"\")))","v":{"$error":"#REF!"}},{"$f":"IF(A134=\"\",\"\", IF(#REF!=\"\", \"\",#REF!))","v":{"$error":"#REF!"}},{"$f":" IF(#REF!=\"\", \"\",#REF!)","v":{"$error":"#REF!"}},{"$f":" IF(#REF!=\"\", \"\",#REF!)","v":{"$error":"#REF!"}},{"$f":" IF(#REF!=\"\", \"\",#REF!)","v":{"$error":"#REF!"}},{"$f":" IF(#REF!=\"\", \"\",#REF!)","v":{"$error":"#REF!"}},{"$f":"IF(AQ134=\"\", \"\", IF($L134=\"男\", VLOOKUP(AQ134, データ!$B$2:$C$101, 2, FALSE), IF($L134=\"女\", VLOOKUP(AQ134, データ!$F$2:$H$101, 2, FALSE), \"\")))","v":{"$error":"#REF!"}},{"$f":"IF(A134=\"\",\"\", IF(#REF!=\"\", \"\",#REF!))","v":{"$error":"#REF!"}},{"$f":" IF(#REF!=\"\", \"\",#REF!)","v":{"$error":"#REF!"}},{"$f":" IF(#REF!=\"\", \"\",#REF!)","v":{"$error":"#REF!"}},{"$f":" IF(#REF!=\"\", \"\",#REF!)","v":{"$error":"#REF!"}},{"$f":" IF(#REF!=\"\", \"\",#REF!)","v":{"$error":"#REF!"}},{"$f":"IF(AW134=\"\", \"\", IF($L134=\"男\", VLOOKUP(AW134, データ!$B$2:$C$101, 2, FALSE), IF($L134=\"女\", VLOOKUP(AW134, データ!$F$2:$H$101, 2, FALSE), \"\")))","v":{"$error":"#REF!"}},{"$f":"IF(A134=\"\",\"\", IF(#REF!=\"\", \"\",#REF!))","v":{"$error":"#REF!"}},{"$f":" IF(#REF!=\"\", \"\",#REF!)","v":{"$error":"#REF!"}},{"$f":" IF(#REF!=\"\", \"\",#REF!)","v":{"$error":"#REF!"}},{"$f":" IF(#REF!=\"\", \"\",#REF!)","v":{"$error":"#REF!"}},{"$f":" IF(#REF!=\"\", \"\",#REF!)","v":{"$error":"#REF!"}},{"$error":"#REF!"}]
[{"$f":"#REF!","v":{"$error":"#REF!"}},{"$f":" IF(#REF!=\"\", \"\",#REF!)","v":{"$error":"#REF!"}},{"$f":" IF(#REF!=\"\", \"\",#REF!)","v":{"$error":"#REF!"}},{"$f":" IF(#REF!=\"\", \"\",#REF!)","v":{"$error":"#REF!"}},{"$error":"#REF!"},{"$error":"#REF!"},{"$error":"#REF!"},{"$error":"#REF!"},{"$f":" IF(#REF!=\"\", \"\",#REF!)","v":{"$error":"#REF!"}},{"$f":" IF(#REF!=\"\", \"\",#REF!)","v":{"$error":"#REF!"}},{"$f":" IF(#REF!=\"\", \"\",#REF!)","v":{"$error":"#REF!"}},{"$f":" IF(#REF!=\"\", \"\",#REF!)","v":{"$error":"#REF!"}},{"$f":" IF(#REF!=\"\", \"\",#REF!)","v":{"$error":"#REF!"}},{"$f":" IF(#REF!=\"\", \"\",#REF!)","v":{"$error":"#REF!"}},{"$f":" IF(#REF!=\"\", \"\",#REF!)","v":{"$error":"#REF!"}},{"$f":" IF(#REF!=\"\", \"\",#REF!)","v":{"$error":"#REF!"}},{"$f":"IF(A135=\"\",\"\",#REF!)","v":{"$error":"#REF!"}},{"$f":" IF(Q135=\"\", \"\",#REF!)","v":{"$error":"#REF!"}},{"$f":" IF(Q135=\"\", \"\",#REF!)","v":{"$error":"#REF!"}},{"$f":" IF(Q135=\"\", \"\",#REF!)","v":{"$error":"#REF!"}},{"$f":" IF(Q135=\"\", \"\",#REF!)","v":{"$error":"#REF!"}},{"$f":" IF(#REF!=\"\", \"\",#REF!)","v":{"$error":"#REF!"}},{"$f":" IF(#REF!=\"\", \"\",#REF!)","v":{"$error":"#REF!"}},{"$f":"IF(Y135=\"\", \"\", IF($L135=\"男\", VLOOKUP(Y135, データ!$B$2:$C$101, 2, FALSE), IF($L135=\"女\", VLOOKUP(Y135, データ!$F$2:$H$101, 2, FALSE), \"\")))","v":{"$error":"#REF!"}},{"$f":"IF(A135=\"\",\"\", IF(#REF!=\"\", \"\",#REF!))","v":{"$error":"#REF!"}},{"$f":" IF(#REF!=\"\", \"\",#REF!)","v":{"$error":"#REF!"}},{"$f":" IF(#REF!=\"\", \"\",#REF!)","v":{"$error":"#REF!"}},{"$f":" IF(#REF!=\"\", \"\",#REF!)","v":{"$error":"#REF!"}},{"$f":" IF(#REF!=\"\", \"\",#REF!)","v":{"$error":"#REF!"}},{"$f":"IF(AE135=\"\", \"\", IF($L135=\"男\", VLOOKUP(AE135, データ!$B$2:$C$101, 2, FALSE), IF($L135=\"女\", VLOOKUP(AE135, データ!$F$2:$H$101, 2, FALSE), \"\")))","v":{"$error":"#REF!"}},{"$f":"IF(A135=\"\",\"\", IF(#REF!=\"\", \"\",#REF!))","v":{"$error":"#REF!"}},{"$f":" IF(#REF!=\"\", \"\",#REF!)","v":{"$error":"#REF!"}},{"$f":" IF(#REF!=\"\", \"\",#REF!)","v":{"$error":"#REF!"}},{"$f":" IF(#REF!=\"\", \"\",#REF!)","v":{"$error":"#REF!"}},{"$f":" IF(#REF!=\"\", \"\",#REF!)","v":{"$error":"#REF!"}},{"$f":"IF(AK135=\"\", \"\", IF($L135=\"男\", VLOOKUP(AK135, データ!$B$2:$C$101, 2, FALSE), IF($L135=\"女\", VLOOKUP(AK135, データ!$F$2:$H$101, 2, FALSE), \"\")))","v":{"$error":"#REF!"}},{"$f":"IF(A135=\"\",\"\", IF(#REF!=\"\", \"\",#REF!))","v":{"$error":"#REF!"}},{"$f":" IF(#REF!=\"\", \"\",#REF!)","v":{"$error":"#REF!"}},{"$f":" IF(#REF!=\"\", \"\",#REF!)","v":{"$error":"#REF!"}},{"$f":" IF(#REF!=\"\", \"\",#REF!)","v":{"$error":"#REF!"}},{"$f":" IF(#REF!=\"\", \"\",#REF!)","v":{"$error":"#REF!"}},{"$f":"IF(AQ135=\"\", \"\", IF($L135=\"男\", VLOOKUP(AQ135, データ!$B$2:$C$101, 2, FALSE), IF($L135=\"女\", VLOOKUP(AQ135, データ!$F$2:$H$101, 2, FALSE), \"\")))","v":{"$error":"#REF!"}},{"$f":"IF(A135=\"\",\"\", IF(#REF!=\"\", \"\",#REF!))","v":{"$error":"#REF!"}},{"$f":" IF(#REF!=\"\", \"\",#REF!)","v":{"$error":"#REF!"}},{"$f":" IF(#REF!=\"\", \"\",#REF!)","v":{"$error":"#REF!"}},{"$f":" IF(#REF!=\"\", \"\",#REF!)","v":{"$error":"#REF!"}},{"$f":" IF(#REF!=\"\", \"\",#REF!)","v":{"$error":"#REF!"}},{"$f":"IF(AW135=\"\", \"\", IF($L135=\"男\", VLOOKUP(AW135, データ!$B$2:$C$101, 2, FALSE), IF($L135=\"女\", VLOOKUP(AW135, データ!$F$2:$H$101, 2, FALSE), \"\")))","v":{"$error":"#REF!"}},{"$f":"IF(A135=\"\",\"\", IF(#REF!=\"\", \"\",#REF!))","v":{"$error":"#REF!"}},{"$f":" IF(#REF!=\"\", \"\",#REF!)","v":{"$error":"#REF!"}},{"$f":" IF(#REF!=\"\", \"\",#REF!)","v":{"$error":"#REF!"}},{"$f":" IF(#REF!=\"\", \"\",#REF!)","v":{"$error":"#REF!"}},{"$f":" IF(#REF!=\"\", \"\",#REF!)","v":{"$error":"#REF!"}},{"$error":"#REF!"}]
[{"$f":"#REF!","v":{"$error":"#REF!"}},{"$f":" IF(#REF!=\"\", \"\",#REF!)","v":{"$error":"#REF!"}},{"$f":" IF(#REF!=\"\", \"\",#REF!)","v":{"$error":"#REF!"}},{"$f":" IF(#REF!=\"\", \"\",#REF!)","v":{"$error":"#REF!"}},{"$error":"#REF!"},{"$error":"#REF!"},{"$error":"#REF!"},{"$error":"#REF!"},{"$f":" IF(#REF!=\"\", \"\",#REF!)","v":{"$error":"#REF!"}},{"$f":" IF(#REF!=\"\", \"\",#REF!)","v":{"$error":"#REF!"}},{"$f":" IF(#REF!=\"\", \"\",#REF!)","v":{"$error":"#REF!"}},{"$f":" IF(#REF!=\"\", \"\",#REF!)","v":{"$error":"#REF!"}},{"$f":" IF(#REF!=\"\", \"\",#REF!)","v":{"$error":"#REF!"}},{"$f":" IF(#REF!=\"\", \"\",#REF!)","v":{"$error":"#REF!"}},{"$f":" IF(#REF!=\"\", \"\",#REF!)","v":{"$error":"#REF!"}},{"$f":" IF(#REF!=\"\", \"\",#REF!)","v":{"$error":"#REF!"}},{"$f":"IF(A136=\"\",\"\",#REF!)","v":{"$error":"#REF!"}},{"$f":" IF(Q136=\"\", \"\",#REF!)","v":{"$error":"#REF!"}},{"$f":" IF(Q136=\"\", \"\",#REF!)","v":{"$error":"#REF!"}},{"$f":" IF(Q136=\"\", \"\",#REF!)","v":{"$error":"#REF!"}},{"$f":" IF(Q136=\"\", \"\",#REF!)","v":{"$error":"#REF!"}},{"$f":" IF(#REF!=\"\", \"\",#REF!)","v":{"$error":"#REF!"}},{"$f":" IF(#REF!=\"\", \"\",#REF!)","v":{"$error":"#REF!"}},{"$f":"IF(Y136=\"\", \"\", IF($L136=\"男\", VLOOKUP(Y136, データ!$B$2:$C$101, 2, FALSE), IF($L136=\"女\", VLOOKUP(Y136, データ!$F$2:$H$101, 2, FALSE), \"\")))","v":{"$error":"#REF!"}},{"$f":"IF(A136=\"\",\"\", IF(#REF!=\"\", \"\",#REF!))","v":{"$error":"#REF!"}},{"$f":" IF(#REF!=\"\", \"\",#REF!)","v":{"$error":"#REF!"}},{"$f":" IF(#REF!=\"\", \"\",#REF!)","v":{"$error":"#REF!"}},{"$f":" IF(#REF!=\"\", \"\",#REF!)","v":{"$error":"#REF!"}},{"$f":" IF(#REF!=\"\", \"\",#REF!)","v":{"$error":"#REF!"}},{"$f":"IF(AE136=\"\", \"\", IF($L136=\"男\", VLOOKUP(AE136, データ!$B$2:$C$101, 2, FALSE), IF($L136=\"女\", VLOOKUP(AE136, データ!$F$2:$H$101, 2, FALSE), \"\")))","v":{"$error":"#REF!"}},{"$f":"IF(A136=\"\",\"\", IF(#REF!=\"\", \"\",#REF!))","v":{"$error":"#REF!"}},{"$f":" IF(#REF!=\"\", \"\",#REF!)","v":{"$error":"#REF!"}},{"$f":" IF(#REF!=\"\", \"\",#REF!)","v":{"$error":"#REF!"}},{"$f":" IF(#REF!=\"\", \"\",#REF!)","v":{"$error":"#REF!"}},{"$f":" IF(#REF!=\"\", \"\",#REF!)","v":{"$error":"#REF!"}},{"$f":"IF(AK136=\"\", \"\", IF($L136=\"男\", VLOOKUP(AK136, データ!$B$2:$C$101, 2, FALSE), IF($L136=\"女\", VLOOKUP(AK136, データ!$F$2:$H$101, 2, FALSE), \"\")))","v":{"$error":"#REF!"}},{"$f":"IF(A136=\"\",\"\", IF(#REF!=\"\", \"\",#REF!))","v":{"$error":"#REF!"}},{"$f":" IF(#REF!=\"\", \"\",#REF!)","v":{"$error":"#REF!"}},{"$f":" IF(#REF!=\"\", \"\",#REF!)","v":{"$error":"#REF!"}},{"$f":" IF(#REF!=\"\", \"\",#REF!)","v":{"$error":"#REF!"}},{"$f":" IF(#REF!=\"\", \"\",#REF!)","v":{"$error":"#REF!"}},{"$f":"IF(AQ136=\"\", \"\", IF($L136=\"男\", VLOOKUP(AQ136, データ!$B$2:$C$101, 2, FALSE), IF($L136=\"女\", VLOOKUP(AQ136, データ!$F$2:$H$101, 2, FALSE), \"\")))","v":{"$error":"#REF!"}},{"$f":"IF(A136=\"\",\"\", IF(#REF!=\"\", \"\",#REF!))","v":{"$error":"#REF!"}},{"$f":" IF(#REF!=\"\", \"\",#REF!)","v":{"$error":"#REF!"}},{"$f":" IF(#REF!=\"\", \"\",#REF!)","v":{"$error":"#REF!"}},{"$f":" IF(#REF!=\"\", \"\",#REF!)","v":{"$error":"#REF!"}},{"$f":" IF(#REF!=\"\", \"\",#REF!)","v":{"$error":"#REF!"}},{"$f":"IF(AW136=\"\", \"\", IF($L136=\"男\", VLOOKUP(AW136, データ!$B$2:$C$101, 2, FALSE), IF($L136=\"女\", VLOOKUP(AW136, データ!$F$2:$H$101, 2, FALSE), \"\")))","v":{"$error":"#REF!"}},{"$f":"IF(A136=\"\",\"\", IF(#REF!=\"\", \"\",#REF!))","v":{"$error":"#REF!"}},{"$f":" IF(#REF!=\"\", \"\",#REF!)","v":{"$error":"#REF!"}},{"$f":" IF(#REF!=\"\", \"\",#REF!)","v":{"$error":"#REF!"}},{"$f":" IF(#REF!=\"\", \"\",#REF!)","v":{"$error":"#REF!"}},{"$f":" IF(#REF!=\"\", \"\",#REF!)","v":{"$error":"#REF!"}},{"$error":"#REF!"}]
[{"$f":"#REF!","v":{"$error":"#REF!"}},{"$f":" IF(#REF!=\"\", \"\",#REF!)","v":{"$error":"#REF!"}},{"$f":" IF(#REF!=\"\", \"\",#REF!)","v":{"$error":"#REF!"}},{"$f":" IF(#REF!=\"\", \"\",#REF!)","v":{"$error":"#REF!"}},{"$error":"#REF!"},{"$error":"#REF!"},{"$error":"#REF!"},{"$error":"#REF!"},{"$f":" IF(#REF!=\"\", \"\",#REF!)","v":{"$error":"#REF!"}},{"$f":" IF(#REF!=\"\", \"\",#REF!)","v":{"$error":"#REF!"}},{"$f":" IF(#REF!=\"\", \"\",#REF!)","v":{"$error":"#REF!"}},{"$f":" IF(#REF!=\"\", \"\",#REF!)","v":{"$error":"#REF!"}},{"$f":" IF(#REF!=\"\", \"\",#REF!)","v":{"$error":"#REF!"}},{"$f":" IF(#REF!=\"\", \"\",#REF!)","v":{"$error":"#REF!"}},{"$f":" IF(#REF!=\"\", \"\",#REF!)","v":{"$error":"#REF!"}},{"$f":" IF(#REF!=\"\", \"\",#REF!)","v":{"$error":"#REF!"}},{"$f":"IF(A137=\"\",\"\",#REF!)","v":{"$error":"#REF!"}},{"$f":" IF(Q137=\"\", \"\",#REF!)","v":{"$error":"#REF!"}},{"$f":" IF(Q137=\"\", \"\",#REF!)","v":{"$error":"#REF!"}},{"$f":" IF(Q137=\"\", \"\",#REF!)","v":{"$error":"#REF!"}},{"$f":" IF(Q137=\"\", \"\",#REF!)","v":{"$error":"#REF!"}},{"$f":" IF(#REF!=\"\", \"\",#REF!)","v":{"$error":"#REF!"}},{"$f":" IF(#REF!=\"\", \"\",#REF!)","v":{"$error":"#REF!"}},{"$f":"IF(Y137=\"\", \"\", IF($L137=\"男\", VLOOKUP(Y137, データ!$B$2:$C$101, 2, FALSE), IF($L137=\"女\", VLOOKUP(Y137, データ!$F$2:$H$101, 2, FALSE), \"\")))","v":{"$error":"#REF!"}},{"$f":"IF(A137=\"\",\"\", IF(#REF!=\"\", \"\",#REF!))","v":{"$error":"#REF!"}},{"$f":" IF(#REF!=\"\", \"\",#REF!)","v":{"$error":"#REF!"}},{"$f":" IF(#REF!=\"\", \"\",#REF!)","v":{"$error":"#REF!"}},{"$f":" IF(#REF!=\"\", \"\",#REF!)","v":{"$error":"#REF!"}},{"$f":" IF(#REF!=\"\", \"\",#REF!)","v":{"$error":"#REF!"}},{"$f":"IF(AE137=\"\", \"\", IF($L137=\"男\", VLOOKUP(AE137, データ!$B$2:$C$101, 2, FALSE), IF($L137=\"女\", VLOOKUP(AE137, データ!$F$2:$H$101, 2, FALSE), \"\")))","v":{"$error":"#REF!"}},{"$f":"IF(A137=\"\",\"\", IF(#REF!=\"\", \"\",#REF!))","v":{"$error":"#REF!"}},{"$f":" IF(#REF!=\"\", \"\",#REF!)","v":{"$error":"#REF!"}},{"$f":" IF(#REF!=\"\", \"\",#REF!)","v":{"$error":"#REF!"}},{"$f":" IF(#REF!=\"\", \"\",#REF!)","v":{"$error":"#REF!"}},{"$f":" IF(#REF!=\"\", \"\",#REF!)","v":{"$error":"#REF!"}},{"$f":"IF(AK137=\"\", \"\", IF($L137=\"男\", VLOOKUP(AK137, データ!$B$2:$C$101, 2, FALSE), IF($L137=\"女\", VLOOKUP(AK137, データ!$F$2:$H$101, 2, FALSE), \"\")))","v":{"$error":"#REF!"}},{"$f":"IF(A137=\"\",\"\", IF(#REF!=\"\", \"\",#REF!))","v":{"$error":"#REF!"}},{"$f":" IF(#REF!=\"\", \"\",#REF!)","v":{"$error":"#REF!"}},{"$f":" IF(#REF!=\"\", \"\",#REF!)","v":{"$error":"#REF!"}},{"$f":" IF(#REF!=\"\", \"\",#REF!)","v":{"$error":"#REF!"}},{"$f":" IF(#REF!=\"\", \"\",#REF!)","v":{"$error":"#REF!"}},{"$f":"IF(AQ137=\"\", \"\", IF($L137=\"男\", VLOOKUP(AQ137, データ!$B$2:$C$101, 2, FALSE), IF($L137=\"女\", VLOOKUP(AQ137, データ!$F$2:$H$101, 2, FALSE), \"\")))","v":{"$error":"#REF!"}},{"$f":"IF(A137=\"\",\"\", IF(#REF!=\"\", \"\",#REF!))","v":{"$error":"#REF!"}},{"$f":" IF(#REF!=\"\", \"\",#REF!)","v":{"$error":"#REF!"}},{"$f":" IF(#REF!=\"\", \"\",#REF!)","v":{"$error":"#REF!"}},{"$f":" IF(#REF!=\"\", \"\",#REF!)","v":{"$error":"#REF!"}},{"$f":" IF(#REF!=\"\", \"\",#REF!)","v":{"$error":"#REF!"}},{"$f":"IF(AW137=\"\", \"\", IF($L137=\"男\", VLOOKUP(AW137, データ!$B$2:$C$101, 2, FALSE), IF($L137=\"女\", VLOOKUP(AW137, データ!$F$2:$H$101, 2, FALSE), \"\")))","v":{"$error":"#REF!"}},{"$f":"IF(A137=\"\",\"\", IF(#REF!=\"\", \"\",#REF!))","v":{"$error":"#REF!"}},{"$f":" IF(#REF!=\"\", \"\",#REF!)","v":{"$error":"#REF!"}},{"$f":" IF(#REF!=\"\", \"\",#REF!)","v":{"$error":"#REF!"}},{"$f":" IF(#REF!=\"\", \"\",#REF!)","v":{"$error":"#REF!"}},{"$f":" IF(#REF!=\"\", \"\",#REF!)","v":{"$error":"#REF!"}},{"$error":"#REF!"}]
[{"$f":"#REF!","v":{"$error":"#REF!"}},{"$f":" IF(#REF!=\"\", \"\",#REF!)","v":{"$error":"#REF!"}},{"$f":" IF(#REF!=\"\", \"\",#REF!)","v":{"$error":"#REF!"}},{"$f":" IF(#REF!=\"\", \"\",#REF!)","v":{"$error":"#REF!"}},{"$error":"#REF!"},{"$error":"#REF!"},{"$error":"#REF!"},{"$error":"#REF!"},{"$f":" IF(#REF!=\"\", \"\",#REF!)","v":{"$error":"#REF!"}},{"$f":" IF(#REF!=\"\", \"\",#REF!)","v":{"$error":"#REF!"}},{"$f":" IF(#REF!=\"\", \"\",#REF!)","v":{"$error":"#REF!"}},{"$f":" IF(#REF!=\"\", \"\",#REF!)","v":{"$error":"#REF!"}},{"$f":" IF(#REF!=\"\", \"\",#REF!)","v":{"$error":"#REF!"}},{"$f":" IF(#REF!=\"\", \"\",#REF!)","v":{"$error":"#REF!"}},{"$f":" IF(#REF!=\"\", \"\",#REF!)","v":{"$error":"#REF!"}},{"$f":" IF(#REF!=\"\", \"\",#REF!)","v":{"$error":"#REF!"}},{"$f":"IF(A138=\"\",\"\",#REF!)","v":{"$error":"#REF!"}},{"$f":" IF(Q138=\"\", \"\",#REF!)","v":{"$error":"#REF!"}},{"$f":" IF(Q138=\"\", \"\",#REF!)","v":{"$error":"#REF!"}},{"$f":" IF(Q138=\"\", \"\",#REF!)","v":{"$error":"#REF!"}},{"$f":" IF(Q138=\"\", \"\",#REF!)","v":{"$error":"#REF!"}},{"$f":" IF(#REF!=\"\", \"\",#REF!)","v":{"$error":"#REF!"}},{"$f":" IF(#REF!=\"\", \"\",#REF!)","v":{"$error":"#REF!"}},{"$f":"IF(Y138=\"\", \"\", IF($L138=\"男\", VLOOKUP(Y138, データ!$B$2:$C$101, 2, FALSE), IF($L138=\"女\", VLOOKUP(Y138, データ!$F$2:$H$101, 2, FALSE), \"\")))","v":{"$error":"#REF!"}},{"$f":"IF(A138=\"\",\"\", IF(#REF!=\"\", \"\",#REF!))","v":{"$error":"#REF!"}},{"$f":" IF(#REF!=\"\", \"\",#REF!)","v":{"$error":"#REF!"}},{"$f":" IF(#REF!=\"\", \"\",#REF!)","v":{"$error":"#REF!"}},{"$f":" IF(#REF!=\"\", \"\",#REF!)","v":{"$error":"#REF!"}},{"$f":" IF(#REF!=\"\", \"\",#REF!)","v":{"$error":"#REF!"}},{"$f":"IF(AE138=\"\", \"\", IF($L138=\"男\", VLOOKUP(AE138, データ!$B$2:$C$101, 2, FALSE), IF($L138=\"女\", VLOOKUP(AE138, データ!$F$2:$H$101, 2, FALSE), \"\")))","v":{"$error":"#REF!"}},{"$f":"IF(A138=\"\",\"\", IF(#REF!=\"\", \"\",#REF!))","v":{"$error":"#REF!"}},{"$f":" IF(#REF!=\"\", \"\",#REF!)","v":{"$error":"#REF!"}},{"$f":" IF(#REF!=\"\", \"\",#REF!)","v":{"$error":"#REF!"}},{"$f":" IF(#REF!=\"\", \"\",#REF!)","v":{"$error":"#REF!"}},{"$f":" IF(#REF!=\"\", \"\",#REF!)","v":{"$error":"#REF!"}},{"$f":"IF(AK138=\"\", \"\", IF($L138=\"男\", VLOOKUP(AK138, データ!$B$2:$C$101, 2, FALSE), IF($L138=\"女\", VLOOKUP(AK138, データ!$F$2:$H$101, 2, FALSE), \"\")))","v":{"$error":"#REF!"}},{"$f":"IF(A138=\"\",\"\", IF(#REF!=\"\", \"\",#REF!))","v":{"$error":"#REF!"}},{"$f":" IF(#REF!=\"\", \"\",#REF!)","v":{"$error":"#REF!"}},{"$f":" IF(#REF!=\"\", \"\",#REF!)","v":{"$error":"#REF!"}},{"$f":" IF(#REF!=\"\", \"\",#REF!)","v":{"$error":"#REF!"}},{"$f":" IF(#REF!=\"\", \"\",#REF!)","v":{"$error":"#REF!"}},{"$f":"IF(AQ138=\"\", \"\", IF($L138=\"男\", VLOOKUP(AQ138, データ!$B$2:$C$101, 2, FALSE), IF($L138=\"女\", VLOOKUP(AQ138, データ!$F$2:$H$101, 2, FALSE), \"\")))","v":{"$error":"#REF!"}},{"$f":"IF(A138=\"\",\"\", IF(#REF!=\"\", \"\",#REF!))","v":{"$error":"#REF!"}},{"$f":" IF(#REF!=\"\", \"\",#REF!)","v":{"$error":"#REF!"}},{"$f":" IF(#REF!=\"\", \"\",#REF!)","v":{"$error":"#REF!"}},{"$f":" IF(#REF!=\"\", \"\",#REF!)","v":{"$error":"#REF!"}},{"$f":" IF(#REF!=\"\", \"\",#REF!)","v":{"$error":"#REF!"}},{"$f":"IF(AW138=\"\", \"\", IF($L138=\"男\", VLOOKUP(AW138, データ!$B$2:$C$101, 2, FALSE), IF($L138=\"女\", VLOOKUP(AW138, データ!$F$2:$H$101, 2, FALSE), \"\")))","v":{"$error":"#REF!"}},{"$f":"IF(A138=\"\",\"\", IF(#REF!=\"\", \"\",#REF!))","v":{"$error":"#REF!"}},{"$f":" IF(#REF!=\"\", \"\",#REF!)","v":{"$error":"#REF!"}},{"$f":" IF(#REF!=\"\", \"\",#REF!)","v":{"$error":"#REF!"}},{"$f":" IF(#REF!=\"\", \"\",#REF!)","v":{"$error":"#REF!"}},{"$f":" IF(#REF!=\"\", \"\",#REF!)","v":{"$error":"#REF!"}},{"$error":"#REF!"}]
[{"$f":"#REF!","v":{"$error":"#REF!"}},{"$f":" IF(#REF!=\"\", \"\",#REF!)","v":{"$error":"#REF!"}},{"$f":" IF(#REF!=\"\", \"\",#REF!)","v":{"$error":"#REF!"}},{"$f":" IF(#REF!=\"\", \"\",#REF!)","v":{"$error":"#REF!"}},{"$error":"#REF!"},{"$error":"#REF!"},{"$error":"#REF!"},{"$error":"#REF!"},{"$f":" IF(#REF!=\"\", \"\",#REF!)","v":{"$error":"#REF!"}},{"$f":" IF(#REF!=\"\", \"\",#REF!)","v":{"$error":"#REF!"}},{"$f":" IF(#REF!=\"\", \"\",#REF!)","v":{"$error":"#REF!"}},{"$f":" IF(#REF!=\"\", \"\",#REF!)","v":{"$error":"#REF!"}},{"$f":" IF(#REF!=\"\", \"\",#REF!)","v":{"$error":"#REF!"}},{"$f":" IF(#REF!=\"\", \"\",#REF!)","v":{"$error":"#REF!"}},{"$f":" IF(#REF!=\"\", \"\",#REF!)","v":{"$error":"#REF!"}},{"$f":" IF(#REF!=\"\", \"\",#REF!)","v":{"$error":"#REF!"}},{"$f":"IF(A139=\"\",\"\",#REF!)","v":{"$error":"#REF!"}},{"$f":" IF(Q139=\"\", \"\",#REF!)","v":{"$error":"#REF!"}},{"$f":" IF(Q139=\"\", \"\",#REF!)","v":{"$error":"#REF!"}},{"$f":" IF(Q139=\"\", \"\",#REF!)","v":{"$error":"#REF!"}},{"$f":" IF(Q139=\"\", \"\",#REF!)","v":{"$error":"#REF!"}},{"$f":" IF(#REF!=\"\", \"\",#REF!)","v":{"$error":"#REF!"}},{"$f":" IF(#REF!=\"\", \"\",#REF!)","v":{"$error":"#REF!"}},{"$f":"IF(Y139=\"\", \"\", IF($L139=\"男\", VLOOKUP(Y139, データ!$B$2:$C$101, 2, FALSE), IF($L139=\"女\", VLOOKUP(Y139, データ!$F$2:$H$101, 2, FALSE), \"\")))","v":{"$error":"#REF!"}},{"$f":"IF(A139=\"\",\"\", IF(#REF!=\"\", \"\",#REF!))","v":{"$error":"#REF!"}},{"$f":" IF(#REF!=\"\", \"\",#REF!)","v":{"$error":"#REF!"}},{"$f":" IF(#REF!=\"\", \"\",#REF!)","v":{"$error":"#REF!"}},{"$f":" IF(#REF!=\"\", \"\",#REF!)","v":{"$error":"#REF!"}},{"$f":" IF(#REF!=\"\", \"\",#REF!)","v":{"$error":"#REF!"}},{"$f":"IF(AE139=\"\", \"\", IF($L139=\"男\", VLOOKUP(AE139, データ!$B$2:$C$101, 2, FALSE), IF($L139=\"女\", VLOOKUP(AE139, データ!$F$2:$H$101, 2, FALSE), \"\")))","v":{"$error":"#REF!"}},{"$f":"IF(A139=\"\",\"\", IF(#REF!=\"\", \"\",#REF!))","v":{"$error":"#REF!"}},{"$f":" IF(#REF!=\"\", \"\",#REF!)","v":{"$error":"#REF!"}},{"$f":" IF(#REF!=\"\", \"\",#REF!)","v":{"$error":"#REF!"}},{"$f":" IF(#REF!=\"\", \"\",#REF!)","v":{"$error":"#REF!"}},{"$f":" IF(#REF!=\"\", \"\",#REF!)","v":{"$error":"#REF!"}},{"$f":"IF(AK139=\"\", \"\", IF($L139=\"男\", VLOOKUP(AK139, データ!$B$2:$C$101, 2, FALSE), IF($L139=\"女\", VLOOKUP(AK139, データ!$F$2:$H$101, 2, FALSE), \"\")))","v":{"$error":"#REF!"}},{"$f":"IF(A139=\"\",\"\", IF(#REF!=\"\", \"\",#REF!))","v":{"$error":"#REF!"}},{"$f":" IF(#REF!=\"\", \"\",#REF!)","v":{"$error":"#REF!"}},{"$f":" IF(#REF!=\"\", \"\",#REF!)","v":{"$error":"#REF!"}},{"$f":" IF(#REF!=\"\", \"\",#REF!)","v":{"$error":"#REF!"}},{"$f":" IF(#REF!=\"\", \"\",#REF!)","v":{"$error":"#REF!"}},{"$f":"IF(AQ139=\"\", \"\", IF($L139=\"男\", VLOOKUP(AQ139, データ!$B$2:$C$101, 2, FALSE), IF($L139=\"女\", VLOOKUP(AQ139, データ!$F$2:$H$101, 2, FALSE), \"\")))","v":{"$error":"#REF!"}},{"$f":"IF(A139=\"\",\"\", IF(#REF!=\"\", \"\",#REF!))","v":{"$error":"#REF!"}},{"$f":" IF(#REF!=\"\", \"\",#REF!)","v":{"$error":"#REF!"}},{"$f":" IF(#REF!=\"\", \"\",#REF!)","v":{"$error":"#REF!"}},{"$f":" IF(#REF!=\"\", \"\",#REF!)","v":{"$error":"#REF!"}},{"$f":" IF(#REF!=\"\", \"\",#REF!)","v":{"$error":"#REF!"}},{"$f":"IF(AW139=\"\", \"\", IF($L139=\"男\", VLOOKUP(AW139, データ!$B$2:$C$101, 2, FALSE), IF($L139=\"女\", VLOOKUP(AW139, データ!$F$2:$H$101, 2, FALSE), \"\")))","v":{"$error":"#REF!"}},{"$f":"IF(A139=\"\",\"\", IF(#REF!=\"\", \"\",#REF!))","v":{"$error":"#REF!"}},{"$f":" IF(#REF!=\"\", \"\",#REF!)","v":{"$error":"#REF!"}},{"$f":" IF(#REF!=\"\", \"\",#REF!)","v":{"$error":"#REF!"}},{"$f":" IF(#REF!=\"\", \"\",#REF!)","v":{"$error":"#REF!"}},{"$f":" IF(#REF!=\"\", \"\",#REF!)","v":{"$error":"#REF!"}},{"$error":"#REF!"}]
[{"$f":"#REF!","v":{"$error":"#REF!"}},{"$f":" IF(#REF!=\"\", \"\",#REF!)","v":{"$error":"#REF!"}},{"$f":" IF(#REF!=\"\", \"\",#REF!)","v":{"$error":"#REF!"}},{"$f":" IF(#REF!=\"\", \"\",#REF!)","v":{"$error":"#REF!"}},{"$error":"#REF!"},{"$error":"#REF!"},{"$error":"#REF!"},{"$error":"#REF!"},{"$f":" IF(#REF!=\"\", \"\",#REF!)","v":{"$error":"#REF!"}},{"$f":" IF(#REF!=\"\", \"\",#REF!)","v":{"$error":"#REF!"}},{"$f":" IF(#REF!=\"\", \"\",#REF!)","v":{"$error":"#REF!"}},{"$f":" IF(#REF!=\"\", \"\",#REF!)","v":{"$error":"#REF!"}},{"$f":" IF(#REF!=\"\", \"\",#REF!)","v":{"$error":"#REF!"}},{"$f":" IF(#REF!=\"\", \"\",#REF!)","v":{"$error":"#REF!"}},{"$f":" IF(#REF!=\"\", \"\",#REF!)","v":{"$error":"#REF!"}},{"$f":" IF(#REF!=\"\", \"\",#REF!)","v":{"$error":"#REF!"}},{"$f":"IF(A140=\"\",\"\",#REF!)","v":{"$error":"#REF!"}},{"$f":" IF(Q140=\"\", \"\",#REF!)","v":{"$error":"#REF!"}},{"$f":" IF(Q140=\"\", \"\",#REF!)","v":{"$error":"#REF!"}},{"$f":" IF(Q140=\"\", \"\",#REF!)","v":{"$error":"#REF!"}},{"$f":" IF(Q140=\"\", \"\",#REF!)","v":{"$error":"#REF!"}},{"$f":" IF(#REF!=\"\", \"\",#REF!)","v":{"$error":"#REF!"}},{"$f":" IF(#REF!=\"\", \"\",#REF!)","v":{"$error":"#REF!"}},{"$f":"IF(Y140=\"\", \"\", IF($L140=\"男\", VLOOKUP(Y140, データ!$B$2:$C$101, 2, FALSE), IF($L140=\"女\", VLOOKUP(Y140, データ!$F$2:$H$101, 2, FALSE), \"\")))","v":{"$error":"#REF!"}},{"$f":"IF(A140=\"\",\"\", IF(#REF!=\"\", \"\",#REF!))","v":{"$error":"#REF!"}},{"$f":" IF(#REF!=\"\", \"\",#REF!)","v":{"$error":"#REF!"}},{"$f":" IF(#REF!=\"\", \"\",#REF!)","v":{"$error":"#REF!"}},{"$f":" IF(#REF!=\"\", \"\",#REF!)","v":{"$error":"#REF!"}},{"$f":" IF(#REF!=\"\", \"\",#REF!)","v":{"$error":"#REF!"}},{"$f":"IF(AE140=\"\", \"\", IF($L140=\"男\", VLOOKUP(AE140, データ!$B$2:$C$101, 2, FALSE), IF($L140=\"女\", VLOOKUP(AE140, データ!$F$2:$H$101, 2, FALSE), \"\")))","v":{"$error":"#REF!"}},{"$f":"IF(A140=\"\",\"\", IF(#REF!=\"\", \"\",#REF!))","v":{"$error":"#REF!"}},{"$f":" IF(#REF!=\"\", \"\",#REF!)","v":{"$error":"#REF!"}},{"$f":" IF(#REF!=\"\", \"\",#REF!)","v":{"$error":"#REF!"}},{"$f":" IF(#REF!=\"\", \"\",#REF!)","v":{"$error":"#REF!"}},{"$f":" IF(#REF!=\"\", \"\",#REF!)","v":{"$error":"#REF!"}},{"$f":"IF(AK140=\"\", \"\", IF($L140=\"男\", VLOOKUP(AK140, データ!$B$2:$C$101, 2, FALSE), IF($L140=\"女\", VLOOKUP(AK140, データ!$F$2:$H$101, 2, FALSE), \"\")))","v":{"$error":"#REF!"}},{"$f":"IF(A140=\"\",\"\", IF(#REF!=\"\", \"\",#REF!))","v":{"$error":"#REF!"}},{"$f":" IF(#REF!=\"\", \"\",#REF!)","v":{"$error":"#REF!"}},{"$f":" IF(#REF!=\"\", \"\",#REF!)","v":{"$error":"#REF!"}},{"$f":" IF(#REF!=\"\", \"\",#REF!)","v":{"$error":"#REF!"}},{"$f":" IF(#REF!=\"\", \"\",#REF!)","v":{"$error":"#REF!"}},{"$f":"IF(AQ140=\"\", \"\", IF($L140=\"男\", VLOOKUP(AQ140, データ!$B$2:$C$101, 2, FALSE), IF($L140=\"女\", VLOOKUP(AQ140, データ!$F$2:$H$101, 2, FALSE), \"\")))","v":{"$error":"#REF!"}},{"$f":"IF(A140=\"\",\"\", IF(#REF!=\"\", \"\",#REF!))","v":{"$error":"#REF!"}},{"$f":" IF(#REF!=\"\", \"\",#REF!)","v":{"$error":"#REF!"}},{"$f":" IF(#REF!=\"\", \"\",#REF!)","v":{"$error":"#REF!"}},{"$f":" IF(#REF!=\"\", \"\",#REF!)","v":{"$error":"#REF!"}},{"$f":" IF(#REF!=\"\", \"\",#REF!)","v":{"$error":"#REF!"}},{"$f":"IF(AW140=\"\", \"\", IF($L140=\"男\", VLOOKUP(AW140, データ!$B$2:$C$101, 2, FALSE), IF($L140=\"女\", VLOOKUP(AW140, データ!$F$2:$H$101, 2, FALSE), \"\")))","v":{"$error":"#REF!"}},{"$f":"IF(A140=\"\",\"\", IF(#REF!=\"\", \"\",#REF!))","v":{"$error":"#REF!"}},{"$f":" IF(#REF!=\"\", \"\",#REF!)","v":{"$error":"#REF!"}},{"$f":" IF(#REF!=\"\", \"\",#REF!)","v":{"$error":"#REF!"}},{"$f":" IF(#REF!=\"\", \"\",#REF!)","v":{"$error":"#REF!"}},{"$f":" IF(#REF!=\"\", \"\",#REF!)","v":{"$error":"#REF!"}},{"$error":"#REF!"}]
[{"$f":"#REF!","v":{"$error":"#REF!"}},{"$f":" IF(#REF!=\"\", \"\",#REF!)","v":{"$error":"#REF!"}},{"$f":" IF(#REF!=\"\", \"\",#REF!)","v":{"$error":"#REF!"}},{"$f":" IF(#REF!=\"\", \"\",#REF!)","v":{"$error":"#REF!"}},{"$error":"#REF!"},{"$error":"#REF!"},{"$error":"#REF!"},{"$error":"#REF!"},{"$f":" IF(#REF!=\"\", \"\",#REF!)","v":{"$error":"#REF!"}},{"$f":" IF(#REF!=\"\", \"\",#REF!)","v":{"$error":"#REF!"}},{"$f":" IF(#REF!=\"\", \"\",#REF!)","v":{"$error":"#REF!"}},{"$f":" IF(#REF!=\"\", \"\",#REF!)","v":{"$error":"#REF!"}},{"$f":" IF(#REF!=\"\", \"\",#REF!)","v":{"$error":"#REF!"}},{"$f":" IF(#REF!=\"\", \"\",#REF!)","v":{"$error":"#REF!"}},{"$f":" IF(#REF!=\"\", \"\",#REF!)","v":{"$error":"#REF!"}},{"$f":" IF(#REF!=\"\", \"\",#REF!)","v":{"$error":"#REF!"}},{"$f":"IF(A141=\"\",\"\",#REF!)","v":{"$error":"#REF!"}},{"$f":" IF(Q141=\"\", \"\",#REF!)","v":{"$error":"#REF!"}},{"$f":" IF(Q141=\"\", \"\",#REF!)","v":{"$error":"#REF!"}},{"$f":" IF(Q141=\"\", \"\",#REF!)","v":{"$error":"#REF!"}},{"$f":" IF(Q141=\"\", \"\",#REF!)","v":{"$error":"#REF!"}},{"$f":" IF(#REF!=\"\", \"\",#REF!)","v":{"$error":"#REF!"}},{"$f":" IF(#REF!=\"\", \"\",#REF!)","v":{"$error":"#REF!"}},{"$f":"IF(Y141=\"\", \"\", IF($L141=\"男\", VLOOKUP(Y141, データ!$B$2:$C$101, 2, FALSE), IF($L141=\"女\", VLOOKUP(Y141, データ!$F$2:$H$101, 2, FALSE), \"\")))","v":{"$error":"#REF!"}},{"$f":"IF(A141=\"\",\"\", IF(#REF!=\"\", \"\",#REF!))","v":{"$error":"#REF!"}},{"$f":" IF(#REF!=\"\", \"\",#REF!)","v":{"$error":"#REF!"}},{"$f":" IF(#REF!=\"\", \"\",#REF!)","v":{"$error":"#REF!"}},{"$f":" IF(#REF!=\"\", \"\",#REF!)","v":{"$error":"#REF!"}},{"$f":" IF(#REF!=\"\", \"\",#REF!)","v":{"$error":"#REF!"}},{"$f":"IF(AE141=\"\", \"\", IF($L141=\"男\", VLOOKUP(AE141, データ!$B$2:$C$101, 2, FALSE), IF($L141=\"女\", VLOOKUP(AE141, データ!$F$2:$H$101, 2, FALSE), \"\")))","v":{"$error":"#REF!"}},{"$f":"IF(A141=\"\",\"\", IF(#REF!=\"\", \"\",#REF!))","v":{"$error":"#REF!"}},{"$f":" IF(#REF!=\"\", \"\",#REF!)","v":{"$error":"#REF!"}},{"$f":" IF(#REF!=\"\", \"\",#REF!)","v":{"$error":"#REF!"}},{"$f":" IF(#REF!=\"\", \"\",#REF!)","v":{"$error":"#REF!"}},{"$f":" IF(#REF!=\"\", \"\",#REF!)","v":{"$error":"#REF!"}},{"$f":"IF(AK141=\"\", \"\", IF($L141=\"男\", VLOOKUP(AK141, データ!$B$2:$C$101, 2, FALSE), IF($L141=\"女\", VLOOKUP(AK141, データ!$F$2:$H$101, 2, FALSE), \"\")))","v":{"$error":"#REF!"}},{"$f":"IF(A141=\"\",\"\", IF(#REF!=\"\", \"\",#REF!))","v":{"$error":"#REF!"}},{"$f":" IF(#REF!=\"\", \"\",#REF!)","v":{"$error":"#REF!"}},{"$f":" IF(#REF!=\"\", \"\",#REF!)","v":{"$error":"#REF!"}},{"$f":" IF(#REF!=\"\", \"\",#REF!)","v":{"$error":"#REF!"}},{"$f":" IF(#REF!=\"\", \"\",#REF!)","v":{"$error":"#REF!"}},{"$f":"IF(AQ141=\"\", \"\", IF($L141=\"男\", VLOOKUP(AQ141, データ!$B$2:$C$101, 2, FALSE), IF($L141=\"女\", VLOOKUP(AQ141, データ!$F$2:$H$101, 2, FALSE), \"\")))","v":{"$error":"#REF!"}},{"$f":"IF(A141=\"\",\"\", IF(#REF!=\"\", \"\",#REF!))","v":{"$error":"#REF!"}},{"$f":" IF(#REF!=\"\", \"\",#REF!)","v":{"$error":"#REF!"}},{"$f":" IF(#REF!=\"\", \"\",#REF!)","v":{"$error":"#REF!"}},{"$f":" IF(#REF!=\"\", \"\",#REF!)","v":{"$error":"#REF!"}},{"$f":" IF(#REF!=\"\", \"\",#REF!)","v":{"$error":"#REF!"}},{"$f":"IF(AW141=\"\", \"\", IF($L141=\"男\", VLOOKUP(AW141, データ!$B$2:$C$101, 2, FALSE), IF($L141=\"女\", VLOOKUP(AW141, データ!$F$2:$H$101, 2, FALSE), \"\")))","v":{"$error":"#REF!"}},{"$f":"IF(A141=\"\",\"\", IF(#REF!=\"\", \"\",#REF!))","v":{"$error":"#REF!"}},{"$f":" IF(#REF!=\"\", \"\",#REF!)","v":{"$error":"#REF!"}},{"$f":" IF(#REF!=\"\", \"\",#REF!)","v":{"$error":"#REF!"}},{"$f":" IF(#REF!=\"\", \"\",#REF!)","v":{"$error":"#REF!"}},{"$f":" IF(#REF!=\"\", \"\",#REF!)","v":{"$error":"#REF!"}},{"$error":"#REF!"}]
[{"$f":"#REF!","v":{"$error":"#REF!"}},{"$f":" IF(#REF!=\"\", \"\",#REF!)","v":{"$error":"#REF!"}},{"$f":" IF(#REF!=\"\", \"\",#REF!)","v":{"$error":"#REF!"}},{"$f":" IF(#REF!=\"\", \"\",#REF!)","v":{"$error":"#REF!"}},{"$error":"#REF!"},{"$error":"#REF!"},{"$error":"#REF!"},{"$error":"#REF!"},{"$f":" IF(#REF!=\"\", \"\",#REF!)","v":{"$error":"#REF!"}},{"$f":" IF(#REF!=\"\", \"\",#REF!)","v":{"$error":"#REF!"}},{"$f":" IF(#REF!=\"\", \"\",#REF!)","v":{"$error":"#REF!"}},{"$f":" IF(#REF!=\"\", \"\",#REF!)","v":{"$error":"#REF!"}},{"$f":" IF(#REF!=\"\", \"\",#REF!)","v":{"$error":"#REF!"}},{"$f":" IF(#REF!=\"\", \"\",#REF!)","v":{"$error":"#REF!"}},{"$f":" IF(#REF!=\"\", \"\",#REF!)","v":{"$error":"#REF!"}},{"$f":" IF(#REF!=\"\", \"\",#REF!)","v":{"$error":"#REF!"}},{"$f":"IF(A142=\"\",\"\",#REF!)","v":{"$error":"#REF!"}},{"$f":" IF(Q142=\"\", \"\",#REF!)","v":{"$error":"#REF!"}},{"$f":" IF(Q142=\"\", \"\",#REF!)","v":{"$error":"#REF!"}},{"$f":" IF(Q142=\"\", \"\",#REF!)","v":{"$error":"#REF!"}},{"$f":" IF(Q142=\"\", \"\",#REF!)","v":{"$error":"#REF!"}},{"$f":" IF(#REF!=\"\", \"\",#REF!)","v":{"$error":"#REF!"}},{"$f":" IF(#REF!=\"\", \"\",#REF!)","v":{"$error":"#REF!"}},{"$f":"IF(Y142=\"\", \"\", IF($L142=\"男\", VLOOKUP(Y142, データ!$B$2:$C$101, 2, FALSE), IF($L142=\"女\", VLOOKUP(Y142, データ!$F$2:$H$101, 2, FALSE), \"\")))","v":{"$error":"#REF!"}},{"$f":"IF(A142=\"\",\"\", IF(#REF!=\"\", \"\",#REF!))","v":{"$error":"#REF!"}},{"$f":" IF(#REF!=\"\", \"\",#REF!)","v":{"$error":"#REF!"}},{"$f":" IF(#REF!=\"\", \"\",#REF!)","v":{"$error":"#REF!"}},{"$f":" IF(#REF!=\"\", \"\",#REF!)","v":{"$error":"#REF!"}},{"$f":" IF(#REF!=\"\", \"\",#REF!)","v":{"$error":"#REF!"}},{"$f":"IF(AE142=\"\", \"\", IF($L142=\"男\", VLOOKUP(AE142, データ!$B$2:$C$101, 2, FALSE), IF($L142=\"女\", VLOOKUP(AE142, データ!$F$2:$H$101, 2, FALSE), \"\")))","v":{"$error":"#REF!"}},{"$f":"IF(A142=\"\",\"\", IF(#REF!=\"\", \"\",#REF!))","v":{"$error":"#REF!"}},{"$f":" IF(#REF!=\"\", \"\",#REF!)","v":{"$error":"#REF!"}},{"$f":" IF(#REF!=\"\", \"\",#REF!)","v":{"$error":"#REF!"}},{"$f":" IF(#REF!=\"\", \"\",#REF!)","v":{"$error":"#REF!"}},{"$f":" IF(#REF!=\"\", \"\",#REF!)","v":{"$error":"#REF!"}},{"$f":"IF(AK142=\"\", \"\", IF($L142=\"男\", VLOOKUP(AK142, データ!$B$2:$C$101, 2, FALSE), IF($L142=\"女\", VLOOKUP(AK142, データ!$F$2:$H$101, 2, FALSE), \"\")))","v":{"$error":"#REF!"}},{"$f":"IF(A142=\"\",\"\", IF(#REF!=\"\", \"\",#REF!))","v":{"$error":"#REF!"}},{"$f":" IF(#REF!=\"\", \"\",#REF!)","v":{"$error":"#REF!"}},{"$f":" IF(#REF!=\"\", \"\",#REF!)","v":{"$error":"#REF!"}},{"$f":" IF(#REF!=\"\", \"\",#REF!)","v":{"$error":"#REF!"}},{"$f":" IF(#REF!=\"\", \"\",#REF!)","v":{"$error":"#REF!"}},{"$f":"IF(AQ142=\"\", \"\", IF($L142=\"男\", VLOOKUP(AQ142, データ!$B$2:$C$101, 2, FALSE), IF($L142=\"女\", VLOOKUP(AQ142, データ!$F$2:$H$101, 2, FALSE), \"\")))","v":{"$error":"#REF!"}},{"$f":"IF(A142=\"\",\"\", IF(#REF!=\"\", \"\",#REF!))","v":{"$error":"#REF!"}},{"$f":" IF(#REF!=\"\", \"\",#REF!)","v":{"$error":"#REF!"}},{"$f":" IF(#REF!=\"\", \"\",#REF!)","v":{"$error":"#REF!"}},{"$f":" IF(#REF!=\"\", \"\",#REF!)","v":{"$error":"#REF!"}},{"$f":" IF(#REF!=\"\", \"\",#REF!)","v":{"$error":"#REF!"}},{"$f":"IF(AW142=\"\", \"\", IF($L142=\"男\", VLOOKUP(AW142, データ!$B$2:$C$101, 2, FALSE), IF($L142=\"女\", VLOOKUP(AW142, データ!$F$2:$H$101, 2, FALSE), \"\")))","v":{"$error":"#REF!"}},{"$f":"IF(A142=\"\",\"\", IF(#REF!=\"\", \"\",#REF!))","v":{"$error":"#REF!"}},{"$f":" IF(#REF!=\"\", \"\",#REF!)","v":{"$error":"#REF!"}},{"$f":" IF(#REF!=\"\", \"\",#REF!)","v":{"$error":"#REF!"}},{"$f":" IF(#REF!=\"\", \"\",#REF!)","v":{"$error":"#REF!"}},{"$f":" IF(#REF!=\"\", \"\",#REF!)","v":{"$error":"#REF!"}},{"$error":"#REF!"}]
[{"$f":"#REF!","v":{"$error":"#REF!"}},{"$f":" IF(#REF!=\"\", \"\",#REF!)","v":{"$error":"#REF!"}},{"$f":" IF(#REF!=\"\", \"\",#REF!)","v":{"$error":"#REF!"}},{"$f":" IF(#REF!=\"\", \"\",#REF!)","v":{"$error":"#REF!"}},{"$error":"#REF!"},{"$error":"#REF!"},{"$error":"#REF!"},{"$error":"#REF!"},{"$f":" IF(#REF!=\"\", \"\",#REF!)","v":{"$error":"#REF!"}},{"$f":" IF(#REF!=\"\", \"\",#REF!)","v":{"$error":"#REF!"}},{"$f":" IF(#REF!=\"\", \"\",#REF!)","v":{"$error":"#REF!"}},{"$f":" IF(#REF!=\"\", \"\",#REF!)","v":{"$error":"#REF!"}},{"$f":" IF(#REF!=\"\", \"\",#REF!)","v":{"$error":"#REF!"}},{"$f":" IF(#REF!=\"\", \"\",#REF!)","v":{"$error":"#REF!"}},{"$f":" IF(#REF!=\"\", \"\",#REF!)","v":{"$error":"#REF!"}},{"$f":" IF(#REF!=\"\", \"\",#REF!)","v":{"$error":"#REF!"}},{"$f":"IF(A143=\"\",\"\",#REF!)","v":{"$error":"#REF!"}},{"$f":" IF(Q143=\"\", \"\",#REF!)","v":{"$error":"#REF!"}},{"$f":" IF(Q143=\"\", \"\",#REF!)","v":{"$error":"#REF!"}},{"$f":" IF(Q143=\"\", \"\",#REF!)","v":{"$error":"#REF!"}},{"$f":" IF(Q143=\"\", \"\",#REF!)","v":{"$error":"#REF!"}},{"$f":" IF(#REF!=\"\", \"\",#REF!)","v":{"$error":"#REF!"}},{"$f":" IF(#REF!=\"\", \"\",#REF!)","v":{"$error":"#REF!"}},{"$f":"IF(Y143=\"\", \"\", IF($L143=\"男\", VLOOKUP(Y143, データ!$B$2:$C$101, 2, FALSE), IF($L143=\"女\", VLOOKUP(Y143, データ!$F$2:$H$101, 2, FALSE), \"\")))","v":{"$error":"#REF!"}},{"$f":"IF(A143=\"\",\"\", IF(#REF!=\"\", \"\",#REF!))","v":{"$error":"#REF!"}},{"$f":" IF(#REF!=\"\", \"\",#REF!)","v":{"$error":"#REF!"}},{"$f":" IF(#REF!=\"\", \"\",#REF!)","v":{"$error":"#REF!"}},{"$f":" IF(#REF!=\"\", \"\",#REF!)","v":{"$error":"#REF!"}},{"$f":" IF(#REF!=\"\", \"\",#REF!)","v":{"$error":"#REF!"}},{"$f":"IF(AE143=\"\", \"\", IF($L143=\"男\", VLOOKUP(AE143, データ!$B$2:$C$101, 2, FALSE), IF($L143=\"女\", VLOOKUP(AE143, データ!$F$2:$H$101, 2, FALSE), \"\")))","v":{"$error":"#REF!"}},{"$f":"IF(A143=\"\",\"\", IF(#REF!=\"\", \"\",#REF!))","v":{"$error":"#REF!"}},{"$f":" IF(#REF!=\"\", \"\",#REF!)","v":{"$error":"#REF!"}},{"$f":" IF(#REF!=\"\", \"\",#REF!)","v":{"$error":"#REF!"}},{"$f":" IF(#REF!=\"\", \"\",#REF!)","v":{"$error":"#REF!"}},{"$f":" IF(#REF!=\"\", \"\",#REF!)","v":{"$error":"#REF!"}},{"$f":"IF(AK143=\"\", \"\", IF($L143=\"男\", VLOOKUP(AK143, データ!$B$2:$C$101, 2, FALSE), IF($L143=\"女\", VLOOKUP(AK143, データ!$F$2:$H$101, 2, FALSE), \"\")))","v":{"$error":"#REF!"}},{"$f":"IF(A143=\"\",\"\", IF(#REF!=\"\", \"\",#REF!))","v":{"$error":"#REF!"}},{"$f":" IF(#REF!=\"\", \"\",#REF!)","v":{"$error":"#REF!"}},{"$f":" IF(#REF!=\"\", \"\",#REF!)","v":{"$error":"#REF!"}},{"$f":" IF(#REF!=\"\", \"\",#REF!)","v":{"$error":"#REF!"}},{"$f":" IF(#REF!=\"\", \"\",#REF!)","v":{"$error":"#REF!"}},{"$f":"IF(AQ143=\"\", \"\", IF($L143=\"男\", VLOOKUP(AQ143, データ!$B$2:$C$101, 2, FALSE), IF($L143=\"女\", VLOOKUP(AQ143, データ!$F$2:$H$101, 2, FALSE), \"\")))","v":{"$error":"#REF!"}},{"$f":"IF(A143=\"\",\"\", IF(#REF!=\"\", \"\",#REF!))","v":{"$error":"#REF!"}},{"$f":" IF(#REF!=\"\", \"\",#REF!)","v":{"$error":"#REF!"}},{"$f":" IF(#REF!=\"\", \"\",#REF!)","v":{"$error":"#REF!"}},{"$f":" IF(#REF!=\"\", \"\",#REF!)","v":{"$error":"#REF!"}},{"$f":" IF(#REF!=\"\", \"\",#REF!)","v":{"$error":"#REF!"}},{"$f":"IF(AW143=\"\", \"\", IF($L143=\"男\", VLOOKUP(AW143, データ!$B$2:$C$101, 2, FALSE), IF($L143=\"女\", VLOOKUP(AW143, データ!$F$2:$H$101, 2, FALSE), \"\")))","v":{"$error":"#REF!"}},{"$f":"IF(A143=\"\",\"\", IF(#REF!=\"\", \"\",#REF!))","v":{"$error":"#REF!"}},{"$f":" IF(#REF!=\"\", \"\",#REF!)","v":{"$error":"#REF!"}},{"$f":" IF(#REF!=\"\", \"\",#REF!)","v":{"$error":"#REF!"}},{"$f":" IF(#REF!=\"\", \"\",#REF!)","v":{"$error":"#REF!"}},{"$f":" IF(#REF!=\"\", \"\",#REF!)","v":{"$error":"#REF!"}},{"$error":"#REF!"}]
[{"$f":"#REF!","v":{"$error":"#REF!"}},{"$f":" IF(#REF!=\"\", \"\",#REF!)","v":{"$error":"#REF!"}},{"$f":" IF(#REF!=\"\", \"\",#REF!)","v":{"$error":"#REF!"}},{"$f":" IF(#REF!=\"\", \"\",#REF!)","v":{"$error":"#REF!"}},{"$error":"#REF!"},{"$error":"#REF!"},{"$error":"#REF!"},{"$error":"#REF!"},{"$f":" IF(#REF!=\"\", \"\",#REF!)","v":{"$error":"#REF!"}},{"$f":" IF(#REF!=\"\", \"\",#REF!)","v":{"$error":"#REF!"}},{"$f":" IF(#REF!=\"\", \"\",#REF!)","v":{"$error":"#REF!"}},{"$f":" IF(#REF!=\"\", \"\",#REF!)","v":{"$error":"#REF!"}},{"$f":" IF(#REF!=\"\", \"\",#REF!)","v":{"$error":"#REF!"}},{"$f":" IF(#REF!=\"\", \"\",#REF!)","v":{"$error":"#REF!"}},{"$f":" IF(#REF!=\"\", \"\",#REF!)","v":{"$error":"#REF!"}},{"$f":" IF(#REF!=\"\", \"\",#REF!)","v":{"$error":"#REF!"}},{"$f":"IF(A144=\"\",\"\",#REF!)","v":{"$error":"#REF!"}},{"$f":" IF(Q144=\"\", \"\",#REF!)","v":{"$error":"#REF!"}},{"$f":" IF(Q144=\"\", \"\",#REF!)","v":{"$error":"#REF!"}},{"$f":" IF(Q144=\"\", \"\",#REF!)","v":{"$error":"#REF!"}},{"$f":" IF(Q144=\"\", \"\",#REF!)","v":{"$error":"#REF!"}},{"$f":" IF(#REF!=\"\", \"\",#REF!)","v":{"$error":"#REF!"}},{"$f":" IF(#REF!=\"\", \"\",#REF!)","v":{"$error":"#REF!"}},{"$f":"IF(Y144=\"\", \"\", IF($L144=\"男\", VLOOKUP(Y144, データ!$B$2:$C$101, 2, FALSE), IF($L144=\"女\", VLOOKUP(Y144, データ!$F$2:$H$101, 2, FALSE), \"\")))","v":{"$error":"#REF!"}},{"$f":"IF(A144=\"\",\"\", IF(#REF!=\"\", \"\",#REF!))","v":{"$error":"#REF!"}},{"$f":" IF(#REF!=\"\", \"\",#REF!)","v":{"$error":"#REF!"}},{"$f":" IF(#REF!=\"\", \"\",#REF!)","v":{"$error":"#REF!"}},{"$f":" IF(#REF!=\"\", \"\",#REF!)","v":{"$error":"#REF!"}},{"$f":" IF(#REF!=\"\", \"\",#REF!)","v":{"$error":"#REF!"}},{"$f":"IF(AE144=\"\", \"\", IF($L144=\"男\", VLOOKUP(AE144, データ!$B$2:$C$101, 2, FALSE), IF($L144=\"女\", VLOOKUP(AE144, データ!$F$2:$H$101, 2, FALSE), \"\")))","v":{"$error":"#REF!"}},{"$f":"IF(A144=\"\",\"\", IF(#REF!=\"\", \"\",#REF!))","v":{"$error":"#REF!"}},{"$f":" IF(#REF!=\"\", \"\",#REF!)","v":{"$error":"#REF!"}},{"$f":" IF(#REF!=\"\", \"\",#REF!)","v":{"$error":"#REF!"}},{"$f":" IF(#REF!=\"\", \"\",#REF!)","v":{"$error":"#REF!"}},{"$f":" IF(#REF!=\"\", \"\",#REF!)","v":{"$error":"#REF!"}},{"$f":"IF(AK144=\"\", \"\", IF($L144=\"男\", VLOOKUP(AK144, データ!$B$2:$C$101, 2, FALSE), IF($L144=\"女\", VLOOKUP(AK144, データ!$F$2:$H$101, 2, FALSE), \"\")))","v":{"$error":"#REF!"}},{"$f":"IF(A144=\"\",\"\", IF(#REF!=\"\", \"\",#REF!))","v":{"$error":"#REF!"}},{"$f":" IF(#REF!=\"\", \"\",#REF!)","v":{"$error":"#REF!"}},{"$f":" IF(#REF!=\"\", \"\",#REF!)","v":{"$error":"#REF!"}},{"$f":" IF(#REF!=\"\", \"\",#REF!)","v":{"$error":"#REF!"}},{"$f":" IF(#REF!=\"\", \"\",#REF!)","v":{"$error":"#REF!"}},{"$f":"IF(AQ144=\"\", \"\", IF($L144=\"男\", VLOOKUP(AQ144, データ!$B$2:$C$101, 2, FALSE), IF($L144=\"女\", VLOOKUP(AQ144, データ!$F$2:$H$101, 2, FALSE), \"\")))","v":{"$error":"#REF!"}},{"$f":"IF(A144=\"\",\"\", IF(#REF!=\"\", \"\",#REF!))","v":{"$error":"#REF!"}},{"$f":" IF(#REF!=\"\", \"\",#REF!)","v":{"$error":"#REF!"}},{"$f":" IF(#REF!=\"\", \"\",#REF!)","v":{"$error":"#REF!"}},{"$f":" IF(#REF!=\"\", \"\",#REF!)","v":{"$error":"#REF!"}},{"$f":" IF(#REF!=\"\", \"\",#REF!)","v":{"$error":"#REF!"}},{"$f":"IF(AW144=\"\", \"\", IF($L144=\"男\", VLOOKUP(AW144, データ!$B$2:$C$101, 2, FALSE), IF($L144=\"女\", VLOOKUP(AW144, データ!$F$2:$H$101, 2, FALSE), \"\")))","v":{"$error":"#REF!"}},{"$f":"IF(A144=\"\",\"\", IF(#REF!=\"\", \"\",#REF!))","v":{"$error":"#REF!"}},{"$f":" IF(#REF!=\"\", \"\",#REF!)","v":{"$error":"#REF!"}},{"$f":" IF(#REF!=\"\", \"\",#REF!)","v":{"$error":"#REF!"}},{"$f":" IF(#REF!=\"\", \"\",#REF!)","v":{"$error":"#REF!"}},{"$f":" IF(#REF!=\"\", \"\",#REF!)","v":{"$error":"#REF!"}},{"$error":"#REF!"}]
[{"$f":"#REF!","v":{"$error":"#REF!"}},{"$f":" IF(#REF!=\"\", \"\",#REF!)","v":{"$error":"#REF!"}},{"$f":" IF(#REF!=\"\", \"\",#REF!)","v":{"$error":"#REF!"}},{"$f":" IF(#REF!=\"\", \"\",#REF!)","v":{"$error":"#REF!"}},{"$error":"#REF!"},{"$error":"#REF!"},{"$error":"#REF!"},{"$error":"#REF!"},{"$f":" IF(#REF!=\"\", \"\",#REF!)","v":{"$error":"#REF!"}},{"$f":" IF(#REF!=\"\", \"\",#REF!)","v":{"$error":"#REF!"}},{"$f":" IF(#REF!=\"\", \"\",#REF!)","v":{"$error":"#REF!"}},{"$f":" IF(#REF!=\"\", \"\",#REF!)","v":{"$error":"#REF!"}},{"$f":" IF(#REF!=\"\", \"\",#REF!)","v":{"$error":"#REF!"}},{"$f":" IF(#REF!=\"\", \"\",#REF!)","v":{"$error":"#REF!"}},{"$f":" IF(#REF!=\"\", \"\",#REF!)","v":{"$error":"#REF!"}},{"$f":" IF(#REF!=\"\", \"\",#REF!)","v":{"$error":"#REF!"}},{"$f":"IF(A145=\"\",\"\",#REF!)","v":{"$error":"#REF!"}},{"$f":" IF(Q145=\"\", \"\",#REF!)","v":{"$error":"#REF!"}},{"$f":" IF(Q145=\"\", \"\",#REF!)","v":{"$error":"#REF!"}},{"$f":" IF(Q145=\"\", \"\",#REF!)","v":{"$error":"#REF!"}},{"$f":" IF(Q145=\"\", \"\",#REF!)","v":{"$error":"#REF!"}},{"$f":" IF(#REF!=\"\", \"\",#REF!)","v":{"$error":"#REF!"}},{"$f":" IF(#REF!=\"\", \"\",#REF!)","v":{"$error":"#REF!"}},{"$f":"IF(Y145=\"\", \"\", IF($L145=\"男\", VLOOKUP(Y145, データ!$B$2:$C$101, 2, FALSE), IF($L145=\"女\", VLOOKUP(Y145, データ!$F$2:$H$101, 2, FALSE), \"\")))","v":{"$error":"#REF!"}},{"$f":"IF(A145=\"\",\"\", IF(#REF!=\"\", \"\",#REF!))","v":{"$error":"#REF!"}},{"$f":" IF(#REF!=\"\", \"\",#REF!)","v":{"$error":"#REF!"}},{"$f":" IF(#REF!=\"\", \"\",#REF!)","v":{"$error":"#REF!"}},{"$f":" IF(#REF!=\"\", \"\",#REF!)","v":{"$error":"#REF!"}},{"$f":" IF(#REF!=\"\", \"\",#REF!)","v":{"$error":"#REF!"}},{"$f":"IF(AE145=\"\", \"\", IF($L145=\"男\", VLOOKUP(AE145, データ!$B$2:$C$101, 2, FALSE), IF($L145=\"女\", VLOOKUP(AE145, データ!$F$2:$H$101, 2, FALSE), \"\")))","v":{"$error":"#REF!"}},{"$f":"IF(A145=\"\",\"\", IF(#REF!=\"\", \"\",#REF!))","v":{"$error":"#REF!"}},{"$f":" IF(#REF!=\"\", \"\",#REF!)","v":{"$error":"#REF!"}},{"$f":" IF(#REF!=\"\", \"\",#REF!)","v":{"$error":"#REF!"}},{"$f":" IF(#REF!=\"\", \"\",#REF!)","v":{"$error":"#REF!"}},{"$f":" IF(#REF!=\"\", \"\",#REF!)","v":{"$error":"#REF!"}},{"$f":"IF(AK145=\"\", \"\", IF($L145=\"男\", VLOOKUP(AK145, データ!$B$2:$C$101, 2, FALSE), IF($L145=\"女\", VLOOKUP(AK145, データ!$F$2:$H$101, 2, FALSE), \"\")))","v":{"$error":"#REF!"}},{"$f":"IF(A145=\"\",\"\", IF(#REF!=\"\", \"\",#REF!))","v":{"$error":"#REF!"}},{"$f":" IF(#REF!=\"\", \"\",#REF!)","v":{"$error":"#REF!"}},{"$f":" IF(#REF!=\"\", \"\",#REF!)","v":{"$error":"#REF!"}},{"$f":" IF(#REF!=\"\", \"\",#REF!)","v":{"$error":"#REF!"}},{"$f":" IF(#REF!=\"\", \"\",#REF!)","v":{"$error":"#REF!"}},{"$f":"IF(AQ145=\"\", \"\", IF($L145=\"男\", VLOOKUP(AQ145, データ!$B$2:$C$101, 2, FALSE), IF($L145=\"女\", VLOOKUP(AQ145, データ!$F$2:$H$101, 2, FALSE), \"\")))","v":{"$error":"#REF!"}},{"$f":"IF(A145=\"\",\"\", IF(#REF!=\"\", \"\",#REF!))","v":{"$error":"#REF!"}},{"$f":" IF(#REF!=\"\", \"\",#REF!)","v":{"$error":"#REF!"}},{"$f":" IF(#REF!=\"\", \"\",#REF!)","v":{"$error":"#REF!"}},{"$f":" IF(#REF!=\"\", \"\",#REF!)","v":{"$error":"#REF!"}},{"$f":" IF(#REF!=\"\", \"\",#REF!)","v":{"$error":"#REF!"}},{"$f":"IF(AW145=\"\", \"\", IF($L145=\"男\", VLOOKUP(AW145, データ!$B$2:$C$101, 2, FALSE), IF($L145=\"女\", VLOOKUP(AW145, データ!$F$2:$H$101, 2, FALSE), \"\")))","v":{"$error":"#REF!"}},{"$f":"IF(A145=\"\",\"\", IF(#REF!=\"\", \"\",#REF!))","v":{"$error":"#REF!"}},{"$f":" IF(#REF!=\"\", \"\",#REF!)","v":{"$error":"#REF!"}},{"$f":" IF(#REF!=\"\", \"\",#REF!)","v":{"$error":"#REF!"}},{"$f":" IF(#REF!=\"\", \"\",#REF!)","v":{"$error":"#REF!"}},{"$f":" IF(#REF!=\"\", \"\",#REF!)","v":{"$error":"#REF!"}},{"$error":"#REF!"}]
[{"$f":"#REF!","v":{"$error":"#REF!"}},{"$f":" IF(#REF!=\"\", \"\",#REF!)","v":{"$error":"#REF!"}},{"$f":" IF(#REF!=\"\", \"\",#REF!)","v":{"$error":"#REF!"}},{"$f":" IF(#REF!=\"\", \"\",#REF!)","v":{"$error":"#REF!"}},{"$error":"#REF!"},{"$error":"#REF!"},{"$error":"#REF!"},{"$error":"#REF!"},{"$f":" IF(#REF!=\"\", \"\",#REF!)","v":{"$error":"#REF!"}},{"$f":" IF(#REF!=\"\", \"\",#REF!)","v":{"$error":"#REF!"}},{"$f":" IF(#REF!=\"\", \"\",#REF!)","v":{"$error":"#REF!"}},{"$f":" IF(#REF!=\"\", \"\",#REF!)","v":{"$error":"#REF!"}},{"$f":" IF(#REF!=\"\", \"\",#REF!)","v":{"$error":"#REF!"}},{"$f":" IF(#REF!=\"\", \"\",#REF!)","v":{"$error":"#REF!"}},{"$f":" IF(#REF!=\"\", \"\",#REF!)","v":{"$error":"#REF!"}},{"$f":" IF(#REF!=\"\", \"\",#REF!)","v":{"$error":"#REF!"}},{"$f":"IF(A146=\"\",\"\",#REF!)","v":{"$error":"#REF!"}},{"$f":" IF(Q146=\"\", \"\",#REF!)","v":{"$error":"#REF!"}},{"$f":" IF(Q146=\"\", \"\",#REF!)","v":{"$error":"#REF!"}},{"$f":" IF(Q146=\"\", \"\",#REF!)","v":{"$error":"#REF!"}},{"$f":" IF(Q146=\"\", \"\",#REF!)","v":{"$error":"#REF!"}},{"$f":" IF(#REF!=\"\", \"\",#REF!)","v":{"$error":"#REF!"}},{"$f":" IF(#REF!=\"\", \"\",#REF!)","v":{"$error":"#REF!"}},{"$f":"IF(Y146=\"\", \"\", IF($L146=\"男\", VLOOKUP(Y146, データ!$B$2:$C$101, 2, FALSE), IF($L146=\"女\", VLOOKUP(Y146, データ!$F$2:$H$101, 2, FALSE), \"\")))","v":{"$error":"#REF!"}},{"$f":"IF(A146=\"\",\"\", IF(#REF!=\"\", \"\",#REF!))","v":{"$error":"#REF!"}},{"$f":" IF(#REF!=\"\", \"\",#REF!)","v":{"$error":"#REF!"}},{"$f":" IF(#REF!=\"\", \"\",#REF!)","v":{"$error":"#REF!"}},{"$f":" IF(#REF!=\"\", \"\",#REF!)","v":{"$error":"#REF!"}},{"$f":" IF(#REF!=\"\", \"\",#REF!)","v":{"$error":"#REF!"}},{"$f":"IF(AE146=\"\", \"\", IF($L146=\"男\", VLOOKUP(AE146, データ!$B$2:$C$101, 2, FALSE), IF($L146=\"女\", VLOOKUP(AE146, データ!$F$2:$H$101, 2, FALSE), \"\")))","v":{"$error":"#REF!"}},{"$f":"IF(A146=\"\",\"\", IF(#REF!=\"\", \"\",#REF!))","v":{"$error":"#REF!"}},{"$f":" IF(#REF!=\"\", \"\",#REF!)","v":{"$error":"#REF!"}},{"$f":" IF(#REF!=\"\", \"\",#REF!)","v":{"$error":"#REF!"}},{"$f":" IF(#REF!=\"\", \"\",#REF!)","v":{"$error":"#REF!"}},{"$f":" IF(#REF!=\"\", \"\",#REF!)","v":{"$error":"#REF!"}},{"$f":"IF(AK146=\"\", \"\", IF($L146=\"男\", VLOOKUP(AK146, データ!$B$2:$C$101, 2, FALSE), IF($L146=\"女\", VLOOKUP(AK146, データ!$F$2:$H$101, 2, FALSE), \"\")))","v":{"$error":"#REF!"}},{"$f":"IF(A146=\"\",\"\", IF(#REF!=\"\", \"\",#REF!))","v":{"$error":"#REF!"}},{"$f":" IF(#REF!=\"\", \"\",#REF!)","v":{"$error":"#REF!"}},{"$f":" IF(#REF!=\"\", \"\",#REF!)","v":{"$error":"#REF!"}},{"$f":" IF(#REF!=\"\", \"\",#REF!)","v":{"$error":"#REF!"}},{"$f":" IF(#REF!=\"\", \"\",#REF!)","v":{"$error":"#REF!"}},{"$f":"IF(AQ146=\"\", \"\", IF($L146=\"男\", VLOOKUP(AQ146, データ!$B$2:$C$101, 2, FALSE), IF($L146=\"女\", VLOOKUP(AQ146, データ!$F$2:$H$101, 2, FALSE), \"\")))","v":{"$error":"#REF!"}},{"$f":"IF(A146=\"\",\"\", IF(#REF!=\"\", \"\",#REF!))","v":{"$error":"#REF!"}},{"$f":" IF(#REF!=\"\", \"\",#REF!)","v":{"$error":"#REF!"}},{"$f":" IF(#REF!=\"\", \"\",#REF!)","v":{"$error":"#REF!"}},{"$f":" IF(#REF!=\"\", \"\",#REF!)","v":{"$error":"#REF!"}},{"$f":" IF(#REF!=\"\", \"\",#REF!)","v":{"$error":"#REF!"}},{"$f":"IF(AW146=\"\", \"\", IF($L146=\"男\", VLOOKUP(AW146, データ!$B$2:$C$101, 2, FALSE), IF($L146=\"女\", VLOOKUP(AW146, データ!$F$2:$H$101, 2, FALSE), \"\")))","v":{"$error":"#REF!"}},{"$f":"IF(A146=\"\",\"\", IF(#REF!=\"\", \"\",#REF!))","v":{"$error":"#REF!"}},{"$f":" IF(#REF!=\"\", \"\",#REF!)","v":{"$error":"#REF!"}},{"$f":" IF(#REF!=\"\", \"\",#REF!)","v":{"$error":"#REF!"}},{"$f":" IF(#REF!=\"\", \"\",#REF!)","v":{"$error":"#REF!"}},{"$f":" IF(#REF!=\"\", \"\",#REF!)","v":{"$error":"#REF!"}},{"$error":"#REF!"}]
[{"$f":"#REF!","v":{"$error":"#REF!"}},{"$f":" IF(#REF!=\"\", \"\",#REF!)","v":{"$error":"#REF!"}},{"$f":" IF(#REF!=\"\", \"\",#REF!)","v":{"$error":"#REF!"}},{"$f":" IF(#REF!=\"\", \"\",#REF!)","v":{"$error":"#REF!"}},{"$error":"#REF!"},{"$error":"#REF!"},{"$error":"#REF!"},{"$error":"#REF!"},{"$f":" IF(#REF!=\"\", \"\",#REF!)","v":{"$error":"#REF!"}},{"$f":" IF(#REF!=\"\", \"\",#REF!)","v":{"$error":"#REF!"}},{"$f":" IF(#REF!=\"\", \"\",#REF!)","v":{"$error":"#REF!"}},{"$f":" IF(#REF!=\"\", \"\",#REF!)","v":{"$error":"#REF!"}},{"$f":" IF(#REF!=\"\", \"\",#REF!)","v":{"$error":"#REF!"}},{"$f":" IF(#REF!=\"\", \"\",#REF!)","v":{"$error":"#REF!"}},{"$f":" IF(#REF!=\"\", \"\",#REF!)","v":{"$error":"#REF!"}},{"$f":" IF(#REF!=\"\", \"\",#REF!)","v":{"$error":"#REF!"}},{"$f":"IF(A147=\"\",\"\",#REF!)","v":{"$error":"#REF!"}},{"$f":" IF(Q147=\"\", \"\",#REF!)","v":{"$error":"#REF!"}},{"$f":" IF(Q147=\"\", \"\",#REF!)","v":{"$error":"#REF!"}},{"$f":" IF(Q147=\"\", \"\",#REF!)","v":{"$error":"#REF!"}},{"$f":" IF(Q147=\"\", \"\",#REF!)","v":{"$error":"#REF!"}},{"$f":" IF(#REF!=\"\", \"\",#REF!)","v":{"$error":"#REF!"}},{"$f":" IF(#REF!=\"\", \"\",#REF!)","v":{"$error":"#REF!"}},{"$f":"IF(Y147=\"\", \"\", IF($L147=\"男\", VLOOKUP(Y147, データ!$B$2:$C$101, 2, FALSE), IF($L147=\"女\", VLOOKUP(Y147, データ!$F$2:$H$101, 2, FALSE), \"\")))","v":{"$error":"#REF!"}},{"$f":"IF(A147=\"\",\"\", IF(#REF!=\"\", \"\",#REF!))","v":{"$error":"#REF!"}},{"$f":" IF(#REF!=\"\", \"\",#REF!)","v":{"$error":"#REF!"}},{"$f":" IF(#REF!=\"\", \"\",#REF!)","v":{"$error":"#REF!"}},{"$f":" IF(#REF!=\"\", \"\",#REF!)","v":{"$error":"#REF!"}},{"$f":" IF(#REF!=\"\", \"\",#REF!)","v":{"$error":"#REF!"}},{"$f":"IF(AE147=\"\", \"\", IF($L147=\"男\", VLOOKUP(AE147, データ!$B$2:$C$101, 2, FALSE), IF($L147=\"女\", VLOOKUP(AE147, データ!$F$2:$H$101, 2, FALSE), \"\")))","v":{"$error":"#REF!"}},{"$f":"IF(A147=\"\",\"\", IF(#REF!=\"\", \"\",#REF!))","v":{"$error":"#REF!"}},{"$f":" IF(#REF!=\"\", \"\",#REF!)","v":{"$error":"#REF!"}},{"$f":" IF(#REF!=\"\", \"\",#REF!)","v":{"$error":"#REF!"}},{"$f":" IF(#REF!=\"\", \"\",#REF!)","v":{"$error":"#REF!"}},{"$f":" IF(#REF!=\"\", \"\",#REF!)","v":{"$error":"#REF!"}},{"$f":"IF(AK147=\"\", \"\", IF($L147=\"男\", VLOOKUP(AK147, データ!$B$2:$C$101, 2, FALSE), IF($L147=\"女\", VLOOKUP(AK147, データ!$F$2:$H$101, 2, FALSE), \"\")))","v":{"$error":"#REF!"}},{"$f":"IF(A147=\"\",\"\", IF(#REF!=\"\", \"\",#REF!))","v":{"$error":"#REF!"}},{"$f":" IF(#REF!=\"\", \"\",#REF!)","v":{"$error":"#REF!"}},{"$f":" IF(#REF!=\"\", \"\",#REF!)","v":{"$error":"#REF!"}},{"$f":" IF(#REF!=\"\", \"\",#REF!)","v":{"$error":"#REF!"}},{"$f":" IF(#REF!=\"\", \"\",#REF!)","v":{"$error":"#REF!"}},{"$f":"IF(AQ147=\"\", \"\", IF($L147=\"男\", VLOOKUP(AQ147, データ!$B$2:$C$101, 2, FALSE), IF($L147=\"女\", VLOOKUP(AQ147, データ!$F$2:$H$101, 2, FALSE), \"\")))","v":{"$error":"#REF!"}},{"$f":"IF(A147=\"\",\"\", IF(#REF!=\"\", \"\",#REF!))","v":{"$error":"#REF!"}},{"$f":" IF(#REF!=\"\", \"\",#REF!)","v":{"$error":"#REF!"}},{"$f":" IF(#REF!=\"\", \"\",#REF!)","v":{"$error":"#REF!"}},{"$f":" IF(#REF!=\"\", \"\",#REF!)","v":{"$error":"#REF!"}},{"$f":" IF(#REF!=\"\", \"\",#REF!)","v":{"$error":"#REF!"}},{"$f":"IF(AW147=\"\", \"\", IF($L147=\"男\", VLOOKUP(AW147, データ!$B$2:$C$101, 2, FALSE), IF($L147=\"女\", VLOOKUP(AW147, データ!$F$2:$H$101, 2, FALSE), \"\")))","v":{"$error":"#REF!"}},{"$f":"IF(A147=\"\",\"\", IF(#REF!=\"\", \"\",#REF!))","v":{"$error":"#REF!"}},{"$f":" IF(#REF!=\"\", \"\",#REF!)","v":{"$error":"#REF!"}},{"$f":" IF(#REF!=\"\", \"\",#REF!)","v":{"$error":"#REF!"}},{"$f":" IF(#REF!=\"\", \"\",#REF!)","v":{"$error":"#REF!"}},{"$f":" IF(#REF!=\"\", \"\",#REF!)","v":{"$error":"#REF!"}},{"$error":"#REF!"}]
[{"$f":"#REF!","v":{"$error":"#REF!"}},{"$f":" IF(#REF!=\"\", \"\",#REF!)","v":{"$error":"#REF!"}},{"$f":" IF(#REF!=\"\", \"\",#REF!)","v":{"$error":"#REF!"}},{"$f":" IF(#REF!=\"\", \"\",#REF!)","v":{"$error":"#REF!"}},{"$error":"#REF!"},{"$error":"#REF!"},{"$error":"#REF!"},{"$error":"#REF!"},{"$f":" IF(#REF!=\"\", \"\",#REF!)","v":{"$error":"#REF!"}},{"$f":" IF(#REF!=\"\", \"\",#REF!)","v":{"$error":"#REF!"}},{"$f":" IF(#REF!=\"\", \"\",#REF!)","v":{"$error":"#REF!"}},{"$f":" IF(#REF!=\"\", \"\",#REF!)","v":{"$error":"#REF!"}},{"$f":" IF(#REF!=\"\", \"\",#REF!)","v":{"$error":"#REF!"}},{"$f":" IF(#REF!=\"\", \"\",#REF!)","v":{"$error":"#REF!"}},{"$f":" IF(#REF!=\"\", \"\",#REF!)","v":{"$error":"#REF!"}},{"$f":" IF(#REF!=\"\", \"\",#REF!)","v":{"$error":"#REF!"}},{"$f":"IF(A148=\"\",\"\",#REF!)","v":{"$error":"#REF!"}},{"$f":" IF(Q148=\"\", \"\",#REF!)","v":{"$error":"#REF!"}},{"$f":" IF(Q148=\"\", \"\",#REF!)","v":{"$error":"#REF!"}},{"$f":" IF(Q148=\"\", \"\",#REF!)","v":{"$error":"#REF!"}},{"$f":" IF(Q148=\"\", \"\",#REF!)","v":{"$error":"#REF!"}},{"$f":" IF(#REF!=\"\", \"\",#REF!)","v":{"$error":"#REF!"}},{"$f":" IF(#REF!=\"\", \"\",#REF!)","v":{"$error":"#REF!"}},{"$f":"IF(Y148=\"\", \"\", IF($L148=\"男\", VLOOKUP(Y148, データ!$B$2:$C$101, 2, FALSE), IF($L148=\"女\", VLOOKUP(Y148, データ!$F$2:$H$101, 2, FALSE), \"\")))","v":{"$error":"#REF!"}},{"$f":"IF(A148=\"\",\"\", IF(#REF!=\"\", \"\",#REF!))","v":{"$error":"#REF!"}},{"$f":" IF(#REF!=\"\", \"\",#REF!)","v":{"$error":"#REF!"}},{"$f":" IF(#REF!=\"\", \"\",#REF!)","v":{"$error":"#REF!"}},{"$f":" IF(#REF!=\"\", \"\",#REF!)","v":{"$error":"#REF!"}},{"$f":" IF(#REF!=\"\", \"\",#REF!)","v":{"$error":"#REF!"}},{"$f":"IF(AE148=\"\", \"\", IF($L148=\"男\", VLOOKUP(AE148, データ!$B$2:$C$101, 2, FALSE), IF($L148=\"女\", VLOOKUP(AE148, データ!$F$2:$H$101, 2, FALSE), \"\")))","v":{"$error":"#REF!"}},{"$f":"IF(A148=\"\",\"\", IF(#REF!=\"\", \"\",#REF!))","v":{"$error":"#REF!"}},{"$f":" IF(#REF!=\"\", \"\",#REF!)","v":{"$error":"#REF!"}},{"$f":" IF(#REF!=\"\", \"\",#REF!)","v":{"$error":"#REF!"}},{"$f":" IF(#REF!=\"\", \"\",#REF!)","v":{"$error":"#REF!"}},{"$f":" IF(#REF!=\"\", \"\",#REF!)","v":{"$error":"#REF!"}},{"$f":"IF(AK148=\"\", \"\", IF($L148=\"男\", VLOOKUP(AK148, データ!$B$2:$C$101, 2, FALSE), IF($L148=\"女\", VLOOKUP(AK148, データ!$F$2:$H$101, 2, FALSE), \"\")))","v":{"$error":"#REF!"}},{"$f":"IF(A148=\"\",\"\", IF(#REF!=\"\", \"\",#REF!))","v":{"$error":"#REF!"}},{"$f":" IF(#REF!=\"\", \"\",#REF!)","v":{"$error":"#REF!"}},{"$f":" IF(#REF!=\"\", \"\",#REF!)","v":{"$error":"#REF!"}},{"$f":" IF(#REF!=\"\", \"\",#REF!)","v":{"$error":"#REF!"}},{"$f":" IF(#REF!=\"\", \"\",#REF!)","v":{"$error":"#REF!"}},{"$f":"IF(AQ148=\"\", \"\", IF($L148=\"男\", VLOOKUP(AQ148, データ!$B$2:$C$101, 2, FALSE), IF($L148=\"女\", VLOOKUP(AQ148, データ!$F$2:$H$101, 2, FALSE), \"\")))","v":{"$error":"#REF!"}},{"$f":"IF(A148=\"\",\"\", IF(#REF!=\"\", \"\",#REF!))","v":{"$error":"#REF!"}},{"$f":" IF(#REF!=\"\", \"\",#REF!)","v":{"$error":"#REF!"}},{"$f":" IF(#REF!=\"\", \"\",#REF!)","v":{"$error":"#REF!"}},{"$f":" IF(#REF!=\"\", \"\",#REF!)","v":{"$error":"#REF!"}},{"$f":" IF(#REF!=\"\", \"\",#REF!)","v":{"$error":"#REF!"}},{"$f":"IF(AW148=\"\", \"\", IF($L148=\"男\", VLOOKUP(AW148, データ!$B$2:$C$101, 2, FALSE), IF($L148=\"女\", VLOOKUP(AW148, データ!$F$2:$H$101, 2, FALSE), \"\")))","v":{"$error":"#REF!"}},{"$f":"IF(A148=\"\",\"\", IF(#REF!=\"\", \"\",#REF!))","v":{"$error":"#REF!"}},{"$f":" IF(#REF!=\"\", \"\",#REF!)","v":{"$error":"#REF!"}},{"$f":" IF(#REF!=\"\", \"\",#REF!)","v":{"$error":"#REF!"}},{"$f":" IF(#REF!=\"\", \"\",#REF!)","v":{"$error":"#REF!"}},{"$f":" IF(#REF!=\"\", \"\",#REF!)","v":{"$error":"#REF!"}},{"$error":"#REF!"}]
[{"$f":"#REF!","v":{"$error":"#REF!"}},{"$f":" IF(#REF!=\"\", \"\",#REF!)","v":{"$error":"#REF!"}},{"$f":" IF(#REF!=\"\", \"\",#REF!)","v":{"$error":"#REF!"}},{"$f":" IF(#REF!=\"\", \"\",#REF!)","v":{"$error":"#REF!"}},{"$error":"#REF!"},{"$error":"#REF!"},{"$error":"#REF!"},{"$error":"#REF!"},{"$f":" IF(#REF!=\"\", \"\",#REF!)","v":{"$error":"#REF!"}},{"$f":" IF(#REF!=\"\", \"\",#REF!)","v":{"$error":"#REF!"}},{"$f":" IF(#REF!=\"\", \"\",#REF!)","v":{"$error":"#REF!"}},{"$f":" IF(#REF!=\"\", \"\",#REF!)","v":{"$error":"#REF!"}},{"$f":" IF(#REF!=\"\", \"\",#REF!)","v":{"$error":"#REF!"}},{"$f":" IF(#REF!=\"\", \"\",#REF!)","v":{"$error":"#REF!"}},{"$f":" IF(#REF!=\"\", \"\",#REF!)","v":{"$error":"#REF!"}},{"$f":" IF(#REF!=\"\", \"\",#REF!)","v":{"$error":"#REF!"}},{"$f":"IF(A149=\"\",\"\",#REF!)","v":{"$error":"#REF!"}},{"$f":" IF(Q149=\"\", \"\",#REF!)","v":{"$error":"#REF!"}},{"$f":" IF(Q149=\"\", \"\",#REF!)","v":{"$error":"#REF!"}},{"$f":" IF(Q149=\"\", \"\",#REF!)","v":{"$error":"#REF!"}},{"$f":" IF(Q149=\"\", \"\",#REF!)","v":{"$error":"#REF!"}},{"$f":" IF(#REF!=\"\", \"\",#REF!)","v":{"$error":"#REF!"}},{"$f":" IF(#REF!=\"\", \"\",#REF!)","v":{"$error":"#REF!"}},{"$f":"IF(Y149=\"\", \"\", IF($L149=\"男\", VLOOKUP(Y149, データ!$B$2:$C$101, 2, FALSE), IF($L149=\"女\", VLOOKUP(Y149, データ!$F$2:$H$101, 2, FALSE), \"\")))","v":{"$error":"#REF!"}},{"$f":"IF(A149=\"\",\"\", IF(#REF!=\"\", \"\",#REF!))","v":{"$error":"#REF!"}},{"$f":" IF(#REF!=\"\", \"\",#REF!)","v":{"$error":"#REF!"}},{"$f":" IF(#REF!=\"\", \"\",#REF!)","v":{"$error":"#REF!"}},{"$f":" IF(#REF!=\"\", \"\",#REF!)","v":{"$error":"#REF!"}},{"$f":" IF(#REF!=\"\", \"\",#REF!)","v":{"$error":"#REF!"}},{"$f":"IF(AE149=\"\", \"\", IF($L149=\"男\", VLOOKUP(AE149, データ!$B$2:$C$101, 2, FALSE), IF($L149=\"女\", VLOOKUP(AE149, データ!$F$2:$H$101, 2, FALSE), \"\")))","v":{"$error":"#REF!"}},{"$f":"IF(A149=\"\",\"\", IF(#REF!=\"\", \"\",#REF!))","v":{"$error":"#REF!"}},{"$f":" IF(#REF!=\"\", \"\",#REF!)","v":{"$error":"#REF!"}},{"$f":" IF(#REF!=\"\", \"\",#REF!)","v":{"$error":"#REF!"}},{"$f":" IF(#REF!=\"\", \"\",#REF!)","v":{"$error":"#REF!"}},{"$f":" IF(#REF!=\"\", \"\",#REF!)","v":{"$error":"#REF!"}},{"$f":"IF(AK149=\"\", \"\", IF($L149=\"男\", VLOOKUP(AK149, データ!$B$2:$C$101, 2, FALSE), IF($L149=\"女\", VLOOKUP(AK149, データ!$F$2:$H$101, 2, FALSE), \"\")))","v":{"$error":"#REF!"}},{"$f":"IF(A149=\"\",\"\", IF(#REF!=\"\", \"\",#REF!))","v":{"$error":"#REF!"}},{"$f":" IF(#REF!=\"\", \"\",#REF!)","v":{"$error":"#REF!"}},{"$f":" IF(#REF!=\"\", \"\",#REF!)","v":{"$error":"#REF!"}},{"$f":" IF(#REF!=\"\", \"\",#REF!)","v":{"$error":"#REF!"}},{"$f":" IF(#REF!=\"\", \"\",#REF!)","v":{"$error":"#REF!"}},{"$f":"IF(AQ149=\"\", \"\", IF($L149=\"男\", VLOOKUP(AQ149, データ!$B$2:$C$101, 2, FALSE), IF($L149=\"女\", VLOOKUP(AQ149, データ!$F$2:$H$101, 2, FALSE), \"\")))","v":{"$error":"#REF!"}},{"$f":"IF(A149=\"\",\"\", IF(#REF!=\"\", \"\",#REF!))","v":{"$error":"#REF!"}},{"$f":" IF(#REF!=\"\", \"\",#REF!)","v":{"$error":"#REF!"}},{"$f":" IF(#REF!=\"\", \"\",#REF!)","v":{"$error":"#REF!"}},{"$f":" IF(#REF!=\"\", \"\",#REF!)","v":{"$error":"#REF!"}},{"$f":" IF(#REF!=\"\", \"\",#REF!)","v":{"$error":"#REF!"}},{"$f":"IF(AW149=\"\", \"\", IF($L149=\"男\", VLOOKUP(AW149, データ!$B$2:$C$101, 2, FALSE), IF($L149=\"女\", VLOOKUP(AW149, データ!$F$2:$H$101, 2, FALSE), \"\")))","v":{"$error":"#REF!"}},{"$f":"IF(A149=\"\",\"\", IF(#REF!=\"\", \"\",#REF!))","v":{"$error":"#REF!"}},{"$f":" IF(#REF!=\"\", \"\",#REF!)","v":{"$error":"#REF!"}},{"$f":" IF(#REF!=\"\", \"\",#REF!)","v":{"$error":"#REF!"}},{"$f":" IF(#REF!=\"\", \"\",#REF!)","v":{"$error":"#REF!"}},{"$f":" IF(#REF!=\"\", \"\",#REF!)","v":{"$error":"#REF!"}},{"$error":"#REF!"}]
[{"$f":"#REF!","v":{"$error":"#REF!"}},{"$f":" IF(#REF!=\"\", \"\",#REF!)","v":{"$error":"#REF!"}},{"$f":" IF(#REF!=\"\", \"\",#REF!)","v":{"$error":"#REF!"}},{"$f":" IF(#REF!=\"\", \"\",#REF!)","v":{"$error":"#REF!"}},{"$error":"#REF!"},{"$error":"#REF!"},{"$error":"#REF!"},{"$error":"#REF!"},{"$f":" IF(#REF!=\"\", \"\",#REF!)","v":{"$error":"#REF!"}},{"$f":" IF(#REF!=\"\", \"\",#REF!)","v":{"$error":"#REF!"}},{"$f":" IF(#REF!=\"\", \"\",#REF!)","v":{"$error":"#REF!"}},{"$f":" IF(#REF!=\"\", \"\",#REF!)","v":{"$error":"#REF!"}},{"$f":" IF(#REF!=\"\", \"\",#REF!)","v":{"$error":"#REF!"}},{"$f":" IF(#REF!=\"\", \"\",#REF!)","v":{"$error":"#REF!"}},{"$f":" IF(#REF!=\"\", \"\",#REF!)","v":{"$error":"#REF!"}},{"$f":" IF(#REF!=\"\", \"\",#REF!)","v":{"$error":"#REF!"}},{"$f":"IF(A150=\"\",\"\",#REF!)","v":{"$error":"#REF!"}},{"$f":" IF(Q150=\"\", \"\",#REF!)","v":{"$error":"#REF!"}},{"$f":" IF(Q150=\"\", \"\",#REF!)","v":{"$error":"#REF!"}},{"$f":" IF(Q150=\"\", \"\",#REF!)","v":{"$error":"#REF!"}},{"$f":" IF(Q150=\"\", \"\",#REF!)","v":{"$error":"#REF!"}},{"$f":" IF(#REF!=\"\", \"\",#REF!)","v":{"$error":"#REF!"}},{"$f":" IF(#REF!=\"\", \"\",#REF!)","v":{"$error":"#REF!"}},{"$f":"IF(Y150=\"\", \"\", IF($L150=\"男\", VLOOKUP(Y150, データ!$B$2:$C$101, 2, FALSE), IF($L150=\"女\", VLOOKUP(Y150, データ!$F$2:$H$101, 2, FALSE), \"\")))","v":{"$error":"#REF!"}},{"$f":"IF(A150=\"\",\"\", IF(#REF!=\"\", \"\",#REF!))","v":{"$error":"#REF!"}},{"$f":" IF(#REF!=\"\", \"\",#REF!)","v":{"$error":"#REF!"}},{"$f":" IF(#REF!=\"\", \"\",#REF!)","v":{"$error":"#REF!"}},{"$f":" IF(#REF!=\"\", \"\",#REF!)","v":{"$error":"#REF!"}},{"$f":" IF(#REF!=\"\", \"\",#REF!)","v":{"$error":"#REF!"}},{"$f":"IF(AE150=\"\", \"\", IF($L150=\"男\", VLOOKUP(AE150, データ!$B$2:$C$101, 2, FALSE), IF($L150=\"女\", VLOOKUP(AE150, データ!$F$2:$H$101, 2, FALSE), \"\")))","v":{"$error":"#REF!"}},{"$f":"IF(A150=\"\",\"\", IF(#REF!=\"\", \"\",#REF!))","v":{"$error":"#REF!"}},{"$f":" IF(#REF!=\"\", \"\",#REF!)","v":{"$error":"#REF!"}},{"$f":" IF(#REF!=\"\", \"\",#REF!)","v":{"$error":"#REF!"}},{"$f":" IF(#REF!=\"\", \"\",#REF!)","v":{"$error":"#REF!"}},{"$f":" IF(#REF!=\"\", \"\",#REF!)","v":{"$error":"#REF!"}},{"$f":"IF(AK150=\"\", \"\", IF($L150=\"男\", VLOOKUP(AK150, データ!$B$2:$C$101, 2, FALSE), IF($L150=\"女\", VLOOKUP(AK150, データ!$F$2:$H$101, 2, FALSE), \"\")))","v":{"$error":"#REF!"}},{"$f":"IF(A150=\"\",\"\", IF(#REF!=\"\", \"\",#REF!))","v":{"$error":"#REF!"}},{"$f":" IF(#REF!=\"\", \"\",#REF!)","v":{"$error":"#REF!"}},{"$f":" IF(#REF!=\"\", \"\",#REF!)","v":{"$error":"#REF!"}},{"$f":" IF(#REF!=\"\", \"\",#REF!)","v":{"$error":"#REF!"}},{"$f":" IF(#REF!=\"\", \"\",#REF!)","v":{"$error":"#REF!"}},{"$f":"IF(AQ150=\"\", \"\", IF($L150=\"男\", VLOOKUP(AQ150, データ!$B$2:$C$101, 2, FALSE), IF($L150=\"女\", VLOOKUP(AQ150, データ!$F$2:$H$101, 2, FALSE), \"\")))","v":{"$error":"#REF!"}},{"$f":"IF(A150=\"\",\"\", IF(#REF!=\"\", \"\",#REF!))","v":{"$error":"#REF!"}},{"$f":" IF(#REF!=\"\", \"\",#REF!)","v":{"$error":"#REF!"}},{"$f":" IF(#REF!=\"\", \"\",#REF!)","v":{"$error":"#REF!"}},{"$f":" IF(#REF!=\"\", \"\",#REF!)","v":{"$error":"#REF!"}},{"$f":" IF(#REF!=\"\", \"\",#REF!)","v":{"$error":"#REF!"}},{"$f":"IF(AW150=\"\", \"\", IF($L150=\"男\", VLOOKUP(AW150, データ!$B$2:$C$101, 2, FALSE), IF($L150=\"女\", VLOOKUP(AW150, データ!$F$2:$H$101, 2, FALSE), \"\")))","v":{"$error":"#REF!"}},{"$f":"IF(A150=\"\",\"\", IF(#REF!=\"\", \"\",#REF!))","v":{"$error":"#REF!"}},{"$f":" IF(#REF!=\"\", \"\",#REF!)","v":{"$error":"#REF!"}},{"$f":" IF(#REF!=\"\", \"\",#REF!)","v":{"$error":"#REF!"}},{"$f":" IF(#REF!=\"\", \"\",#REF!)","v":{"$error":"#REF!"}},{"$f":" IF(#REF!=\"\", \"\",#REF!)","v":{"$error":"#REF!"}},{"$error":"#REF!"}]
[{"$f":"#REF!","v":{"$error":"#REF!"}},{"$f":" IF(#REF!=\"\", \"\",#REF!)","v":{"$error":"#REF!"}},{"$f":" IF(#REF!=\"\", \"\",#REF!)","v":{"$error":"#REF!"}},{"$f":" IF(#REF!=\"\", \"\",#REF!)","v":{"$error":"#REF!"}},{"$error":"#REF!"},{"$error":"#REF!"},{"$error":"#REF!"},{"$error":"#REF!"},{"$f":" IF(#REF!=\"\", \"\",#REF!)","v":{"$error":"#REF!"}},{"$f":" IF(#REF!=\"\", \"\",#REF!)","v":{"$error":"#REF!"}},{"$f":" IF(#REF!=\"\", \"\",#REF!)","v":{"$error":"#REF!"}},{"$f":" IF(#REF!=\"\", \"\",#REF!)","v":{"$error":"#REF!"}},{"$f":" IF(#REF!=\"\", \"\",#REF!)","v":{"$error":"#REF!"}},{"$f":" IF(#REF!=\"\", \"\",#REF!)","v":{"$error":"#REF!"}},{"$f":" IF(#REF!=\"\", \"\",#REF!)","v":{"$error":"#REF!"}},{"$f":" IF(#REF!=\"\", \"\",#REF!)","v":{"$error":"#REF!"}},{"$f":"IF(A151=\"\",\"\",#REF!)","v":{"$error":"#REF!"}},{"$f":" IF(Q151=\"\", \"\",#REF!)","v":{"$error":"#REF!"}},{"$f":" IF(Q151=\"\", \"\",#REF!)","v":{"$error":"#REF!"}},{"$f":" IF(Q151=\"\", \"\",#REF!)","v":{"$error":"#REF!"}},{"$f":" IF(Q151=\"\", \"\",#REF!)","v":{"$error":"#REF!"}},{"$f":" IF(#REF!=\"\", \"\",#REF!)","v":{"$error":"#REF!"}},{"$f":" IF(#REF!=\"\", \"\",#REF!)","v":{"$error":"#REF!"}},{"$f":"IF(Y151=\"\", \"\", IF($L151=\"男\", VLOOKUP(Y151, データ!$B$2:$C$101, 2, FALSE), IF($L151=\"女\", VLOOKUP(Y151, データ!$F$2:$H$101, 2, FALSE), \"\")))","v":{"$error":"#REF!"}},{"$f":"IF(A151=\"\",\"\", IF(#REF!=\"\", \"\",#REF!))","v":{"$error":"#REF!"}},{"$f":" IF(#REF!=\"\", \"\",#REF!)","v":{"$error":"#REF!"}},{"$f":" IF(#REF!=\"\", \"\",#REF!)","v":{"$error":"#REF!"}},{"$f":" IF(#REF!=\"\", \"\",#REF!)","v":{"$error":"#REF!"}},{"$f":" IF(#REF!=\"\", \"\",#REF!)","v":{"$error":"#REF!"}},{"$f":"IF(AE151=\"\", \"\", IF($L151=\"男\", VLOOKUP(AE151, データ!$B$2:$C$101, 2, FALSE), IF($L151=\"女\", VLOOKUP(AE151, データ!$F$2:$H$101, 2, FALSE), \"\")))","v":{"$error":"#REF!"}},{"$f":"IF(A151=\"\",\"\", IF(#REF!=\"\", \"\",#REF!))","v":{"$error":"#REF!"}},{"$f":" IF(#REF!=\"\", \"\",#REF!)","v":{"$error":"#REF!"}},{"$f":" IF(#REF!=\"\", \"\",#REF!)","v":{"$error":"#REF!"}},{"$f":" IF(#REF!=\"\", \"\",#REF!)","v":{"$error":"#REF!"}},{"$f":" IF(#REF!=\"\", \"\",#REF!)","v":{"$error":"#REF!"}},{"$f":"IF(AK151=\"\", \"\", IF($L151=\"男\", VLOOKUP(AK151, データ!$B$2:$C$101, 2, FALSE), IF($L151=\"女\", VLOOKUP(AK151, データ!$F$2:$H$101, 2, FALSE), \"\")))","v":{"$error":"#REF!"}},{"$f":"IF(A151=\"\",\"\", IF(#REF!=\"\", \"\",#REF!))","v":{"$error":"#REF!"}},{"$f":" IF(#REF!=\"\", \"\",#REF!)","v":{"$error":"#REF!"}},{"$f":" IF(#REF!=\"\", \"\",#REF!)","v":{"$error":"#REF!"}},{"$f":" IF(#REF!=\"\", \"\",#REF!)","v":{"$error":"#REF!"}},{"$f":" IF(#REF!=\"\", \"\",#REF!)","v":{"$error":"#REF!"}},{"$f":"IF(AQ151=\"\", \"\", IF($L151=\"男\", VLOOKUP(AQ151, データ!$B$2:$C$101, 2, FALSE), IF($L151=\"女\", VLOOKUP(AQ151, データ!$F$2:$H$101, 2, FALSE), \"\")))","v":{"$error":"#REF!"}},{"$f":"IF(A151=\"\",\"\", IF(#REF!=\"\", \"\",#REF!))","v":{"$error":"#REF!"}},{"$f":" IF(#REF!=\"\", \"\",#REF!)","v":{"$error":"#REF!"}},{"$f":" IF(#REF!=\"\", \"\",#REF!)","v":{"$error":"#REF!"}},{"$f":" IF(#REF!=\"\", \"\",#REF!)","v":{"$error":"#REF!"}},{"$f":" IF(#REF!=\"\", \"\",#REF!)","v":{"$error":"#REF!"}},{"$f":"IF(AW151=\"\", \"\", IF($L151=\"男\", VLOOKUP(AW151, データ!$B$2:$C$101, 2, FALSE), IF($L151=\"女\", VLOOKUP(AW151, データ!$F$2:$H$101, 2, FALSE), \"\")))","v":{"$error":"#REF!"}},{"$f":"IF(A151=\"\",\"\", IF(#REF!=\"\", \"\",#REF!))","v":{"$error":"#REF!"}},{"$f":" IF(#REF!=\"\", \"\",#REF!)","v":{"$error":"#REF!"}},{"$f":" IF(#REF!=\"\", \"\",#REF!)","v":{"$error":"#REF!"}},{"$f":" IF(#REF!=\"\", \"\",#REF!)","v":{"$error":"#REF!"}},{"$f":" IF(#REF!=\"\", \"\",#REF!)","v":{"$error":"#REF!"}},{"$error":"#REF!"}]
[{"$f":"#REF!","v":{"$error":"#REF!"}},{"$f":" IF(#REF!=\"\", \"\",#REF!)","v":{"$error":"#REF!"}},{"$f":" IF(#REF!=\"\", \"\",#REF!)","v":{"$error":"#REF!"}},{"$f":" IF(#REF!=\"\", \"\",#REF!)","v":{"$error":"#REF!"}},{"$error":"#REF!"},{"$error":"#REF!"},{"$error":"#REF!"},{"$error":"#REF!"},{"$f":" IF(#REF!=\"\", \"\",#REF!)","v":{"$error":"#REF!"}},{"$f":" IF(#REF!=\"\", \"\",#REF!)","v":{"$error":"#REF!"}},{"$f":" IF(#REF!=\"\", \"\",#REF!)","v":{"$error":"#REF!"}},{"$f":" IF(#REF!=\"\", \"\",#REF!)","v":{"$error":"#REF!"}},{"$f":" IF(#REF!=\"\", \"\",#REF!)","v":{"$error":"#REF!"}},{"$f":" IF(#REF!=\"\", \"\",#REF!)","v":{"$error":"#REF!"}},{"$f":" IF(#REF!=\"\", \"\",#REF!)","v":{"$error":"#REF!"}},{"$f":" IF(#REF!=\"\", \"\",#REF!)","v":{"$error":"#REF!"}},{"$f":"IF(A152=\"\",\"\",#REF!)","v":{"$error":"#REF!"}},{"$f":" IF(Q152=\"\", \"\",#REF!)","v":{"$error":"#REF!"}},{"$f":" IF(Q152=\"\", \"\",#REF!)","v":{"$error":"#REF!"}},{"$f":" IF(Q152=\"\", \"\",#REF!)","v":{"$error":"#REF!"}},{"$f":" IF(Q152=\"\", \"\",#REF!)","v":{"$error":"#REF!"}},{"$f":" IF(#REF!=\"\", \"\",#REF!)","v":{"$error":"#REF!"}},{"$f":" IF(#REF!=\"\", \"\",#REF!)","v":{"$error":"#REF!"}},{"$f":"IF(Y152=\"\", \"\", IF($L152=\"男\", VLOOKUP(Y152, データ!$B$2:$C$101, 2, FALSE), IF($L152=\"女\", VLOOKUP(Y152, データ!$F$2:$H$101, 2, FALSE), \"\")))","v":{"$error":"#REF!"}},{"$f":"IF(A152=\"\",\"\", IF(#REF!=\"\", \"\",#REF!))","v":{"$error":"#REF!"}},{"$f":" IF(#REF!=\"\", \"\",#REF!)","v":{"$error":"#REF!"}},{"$f":" IF(#REF!=\"\", \"\",#REF!)","v":{"$error":"#REF!"}},{"$f":" IF(#REF!=\"\", \"\",#REF!)","v":{"$error":"#REF!"}},{"$f":" IF(#REF!=\"\", \"\",#REF!)","v":{"$error":"#REF!"}},{"$f":"IF(AE152=\"\", \"\", IF($L152=\"男\", VLOOKUP(AE152, データ!$B$2:$C$101, 2, FALSE), IF($L152=\"女\", VLOOKUP(AE152, データ!$F$2:$H$101, 2, FALSE), \"\")))","v":{"$error":"#REF!"}},{"$f":"IF(A152=\"\",\"\", IF(#REF!=\"\", \"\",#REF!))","v":{"$error":"#REF!"}},{"$f":" IF(#REF!=\"\", \"\",#REF!)","v":{"$error":"#REF!"}},{"$f":" IF(#REF!=\"\", \"\",#REF!)","v":{"$error":"#REF!"}},{"$f":" IF(#REF!=\"\", \"\",#REF!)","v":{"$error":"#REF!"}},{"$f":" IF(#REF!=\"\", \"\",#REF!)","v":{"$error":"#REF!"}},{"$f":"IF(AK152=\"\", \"\", IF($L152=\"男\", VLOOKUP(AK152, データ!$B$2:$C$101, 2, FALSE), IF($L152=\"女\", VLOOKUP(AK152, データ!$F$2:$H$101, 2, FALSE), \"\")))","v":{"$error":"#REF!"}},{"$f":"IF(A152=\"\",\"\", IF(#REF!=\"\", \"\",#REF!))","v":{"$error":"#REF!"}},{"$f":" IF(#REF!=\"\", \"\",#REF!)","v":{"$error":"#REF!"}},{"$f":" IF(#REF!=\"\", \"\",#REF!)","v":{"$error":"#REF!"}},{"$f":" IF(#REF!=\"\", \"\",#REF!)","v":{"$error":"#REF!"}},{"$f":" IF(#REF!=\"\", \"\",#REF!)","v":{"$error":"#REF!"}},{"$f":"IF(AQ152=\"\", \"\", IF($L152=\"男\", VLOOKUP(AQ152, データ!$B$2:$C$101, 2, FALSE), IF($L152=\"女\", VLOOKUP(AQ152, データ!$F$2:$H$101, 2, FALSE), \"\")))","v":{"$error":"#REF!"}},{"$f":"IF(A152=\"\",\"\", IF(#REF!=\"\", \"\",#REF!))","v":{"$error":"#REF!"}},{"$f":" IF(#REF!=\"\", \"\",#REF!)","v":{"$error":"#REF!"}},{"$f":" IF(#REF!=\"\", \"\",#REF!)","v":{"$error":"#REF!"}},{"$f":" IF(#REF!=\"\", \"\",#REF!)","v":{"$error":"#REF!"}},{"$f":" IF(#REF!=\"\", \"\",#REF!)","v":{"$error":"#REF!"}},{"$f":"IF(AW152=\"\", \"\", IF($L152=\"男\", VLOOKUP(AW152, データ!$B$2:$C$101, 2, FALSE), IF($L152=\"女\", VLOOKUP(AW152, データ!$F$2:$H$101, 2, FALSE), \"\")))","v":{"$error":"#REF!"}},{"$f":"IF(A152=\"\",\"\", IF(#REF!=\"\", \"\",#REF!))","v":{"$error":"#REF!"}},{"$f":" IF(#REF!=\"\", \"\",#REF!)","v":{"$error":"#REF!"}},{"$f":" IF(#REF!=\"\", \"\",#REF!)","v":{"$error":"#REF!"}},{"$f":" IF(#REF!=\"\", \"\",#REF!)","v":{"$error":"#REF!"}},{"$f":" IF(#REF!=\"\", \"\",#REF!)","v":{"$error":"#REF!"}},{"$error":"#REF!"}]
[{"$f":"#REF!","v":{"$error":"#REF!"}},{"$f":" IF(#REF!=\"\", \"\",#REF!)","v":{"$error":"#REF!"}},{"$f":" IF(#REF!=\"\", \"\",#REF!)","v":{"$error":"#REF!"}},{"$f":" IF(#REF!=\"\", \"\",#REF!)","v":{"$error":"#REF!"}},{"$error":"#REF!"},{"$error":"#REF!"},{"$error":"#REF!"},{"$error":"#REF!"},{"$f":" IF(#REF!=\"\", \"\",#REF!)","v":{"$error":"#REF!"}},{"$f":" IF(#REF!=\"\", \"\",#REF!)","v":{"$error":"#REF!"}},{"$f":" IF(#REF!=\"\", \"\",#REF!)","v":{"$error":"#REF!"}},{"$f":" IF(#REF!=\"\", \"\",#REF!)","v":{"$error":"#REF!"}},{"$f":" IF(#REF!=\"\", \"\",#REF!)","v":{"$error":"#REF!"}},{"$f":" IF(#REF!=\"\", \"\",#REF!)","v":{"$error":"#REF!"}},{"$f":" IF(#REF!=\"\", \"\",#REF!)","v":{"$error":"#REF!"}},{"$f":" IF(#REF!=\"\", \"\",#REF!)","v":{"$error":"#REF!"}},{"$f":"IF(A153=\"\",\"\",#REF!)","v":{"$error":"#REF!"}},{"$f":" IF(Q153=\"\", \"\",#REF!)","v":{"$error":"#REF!"}},{"$f":" IF(Q153=\"\", \"\",#REF!)","v":{"$error":"#REF!"}},{"$f":" IF(Q153=\"\", \"\",#REF!)","v":{"$error":"#REF!"}},{"$f":" IF(Q153=\"\", \"\",#REF!)","v":{"$error":"#REF!"}},{"$f":" IF(#REF!=\"\", \"\",#REF!)","v":{"$error":"#REF!"}},{"$f":" IF(#REF!=\"\", \"\",#REF!)","v":{"$error":"#REF!"}},{"$f":"IF(Y153=\"\", \"\", IF($L153=\"男\", VLOOKUP(Y153, データ!$B$2:$C$101, 2, FALSE), IF($L153=\"女\", VLOOKUP(Y153, データ!$F$2:$H$101, 2, FALSE), \"\")))","v":{"$error":"#REF!"}},{"$f":"IF(A153=\"\",\"\", IF(#REF!=\"\", \"\",#REF!))","v":{"$error":"#REF!"}},{"$f":" IF(#REF!=\"\", \"\",#REF!)","v":{"$error":"#REF!"}},{"$f":" IF(#REF!=\"\", \"\",#REF!)","v":{"$error":"#REF!"}},{"$f":" IF(#REF!=\"\", \"\",#REF!)","v":{"$error":"#REF!"}},{"$f":" IF(#REF!=\"\", \"\",#REF!)","v":{"$error":"#REF!"}},{"$f":"IF(AE153=\"\", \"\", IF($L153=\"男\", VLOOKUP(AE153, データ!$B$2:$C$101, 2, FALSE), IF($L153=\"女\", VLOOKUP(AE153, データ!$F$2:$H$101, 2, FALSE), \"\")))","v":{"$error":"#REF!"}},{"$f":"IF(A153=\"\",\"\", IF(#REF!=\"\", \"\",#REF!))","v":{"$error":"#REF!"}},{"$f":" IF(#REF!=\"\", \"\",#REF!)","v":{"$error":"#REF!"}},{"$f":" IF(#REF!=\"\", \"\",#REF!)","v":{"$error":"#REF!"}},{"$f":" IF(#REF!=\"\", \"\",#REF!)","v":{"$error":"#REF!"}},{"$f":" IF(#REF!=\"\", \"\",#REF!)","v":{"$error":"#REF!"}},{"$f":"IF(AK153=\"\", \"\", IF($L153=\"男\", VLOOKUP(AK153, データ!$B$2:$C$101, 2, FALSE), IF($L153=\"女\", VLOOKUP(AK153, データ!$F$2:$H$101, 2, FALSE), \"\")))","v":{"$error":"#REF!"}},{"$f":"IF(A153=\"\",\"\", IF(#REF!=\"\", \"\",#REF!))","v":{"$error":"#REF!"}},{"$f":" IF(#REF!=\"\", \"\",#REF!)","v":{"$error":"#REF!"}},{"$f":" IF(#REF!=\"\", \"\",#REF!)","v":{"$error":"#REF!"}},{"$f":" IF(#REF!=\"\", \"\",#REF!)","v":{"$error":"#REF!"}},{"$f":" IF(#REF!=\"\", \"\",#REF!)","v":{"$error":"#REF!"}},{"$f":"IF(AQ153=\"\", \"\", IF($L153=\"男\", VLOOKUP(AQ153, データ!$B$2:$C$101, 2, FALSE), IF($L153=\"女\", VLOOKUP(AQ153, データ!$F$2:$H$101, 2, FALSE), \"\")))","v":{"$error":"#REF!"}},{"$f":"IF(A153=\"\",\"\", IF(#REF!=\"\", \"\",#REF!))","v":{"$error":"#REF!"}},{"$f":" IF(#REF!=\"\", \"\",#REF!)","v":{"$error":"#REF!"}},{"$f":" IF(#REF!=\"\", \"\",#REF!)","v":{"$error":"#REF!"}},{"$f":" IF(#REF!=\"\", \"\",#REF!)","v":{"$error":"#REF!"}},{"$f":" IF(#REF!=\"\", \"\",#REF!)","v":{"$error":"#REF!"}},{"$f":"IF(AW153=\"\", \"\", IF($L153=\"男\", VLOOKUP(AW153, データ!$B$2:$C$101, 2, FALSE), IF($L153=\"女\", VLOOKUP(AW153, データ!$F$2:$H$101, 2, FALSE), \"\")))","v":{"$error":"#REF!"}},{"$f":"IF(A153=\"\",\"\", IF(#REF!=\"\", \"\",#REF!))","v":{"$error":"#REF!"}},{"$f":" IF(#REF!=\"\", \"\",#REF!)","v":{"$error":"#REF!"}},{"$f":" IF(#REF!=\"\", \"\",#REF!)","v":{"$error":"#REF!"}},{"$f":" IF(#REF!=\"\", \"\",#REF!)","v":{"$error":"#REF!"}},{"$f":" IF(#REF!=\"\", \"\",#REF!)","v":{"$error":"#REF!"}},{"$error":"#REF!"}]
[{"$f":"#REF!","v":{"$error":"#REF!"}},{"$f":" IF(#REF!=\"\", \"\",#REF!)","v":{"$error":"#REF!"}},{"$f":" IF(#REF!=\"\", \"\",#REF!)","v":{"$error":"#REF!"}},{"$f":" IF(#REF!=\"\", \"\",#REF!)","v":{"$error":"#REF!"}},{"$error":"#REF!"},{"$error":"#REF!"},{"$error":"#REF!"},{"$error":"#REF!"},{"$f":" IF(#REF!=\"\", \"\",#REF!)","v":{"$error":"#REF!"}},{"$f":" IF(#REF!=\"\", \"\",#REF!)","v":{"$error":"#REF!"}},{"$f":" IF(#REF!=\"\", \"\",#REF!)","v":{"$error":"#REF!"}},{"$f":" IF(#REF!=\"\", \"\",#REF!)","v":{"$error":"#REF!"}},{"$f":" IF(#REF!=\"\", \"\",#REF!)","v":{"$error":"#REF!"}},{"$f":" IF(#REF!=\"\", \"\",#REF!)","v":{"$error":"#REF!"}},{"$f":" IF(#REF!=\"\", \"\",#REF!)","v":{"$error":"#REF!"}},{"$f":" IF(#REF!=\"\", \"\",#REF!)","v":{"$error":"#REF!"}},{"$f":"IF(A154=\"\",\"\",#REF!)","v":{"$error":"#REF!"}},{"$f":" IF(Q154=\"\", \"\",#REF!)","v":{"$error":"#REF!"}},{"$f":" IF(Q154=\"\", \"\",#REF!)","v":{"$error":"#REF!"}},{"$f":" IF(Q154=\"\", \"\",#REF!)","v":{"$error":"#REF!"}},{"$f":" IF(Q154=\"\", \"\",#REF!)","v":{"$error":"#REF!"}},{"$f":" IF(#REF!=\"\", \"\",#REF!)","v":{"$error":"#REF!"}},{"$f":" IF(#REF!=\"\", \"\",#REF!)","v":{"$error":"#REF!"}},{"$f":"IF(Y154=\"\", \"\", IF($L154=\"男\", VLOOKUP(Y154, データ!$B$2:$C$101, 2, FALSE), IF($L154=\"女\", VLOOKUP(Y154, データ!$F$2:$H$101, 2, FALSE), \"\")))","v":{"$error":"#REF!"}},{"$f":"IF(A154=\"\",\"\", IF(#REF!=\"\", \"\",#REF!))","v":{"$error":"#REF!"}},{"$f":" IF(#REF!=\"\", \"\",#REF!)","v":{"$error":"#REF!"}},{"$f":" IF(#REF!=\"\", \"\",#REF!)","v":{"$error":"#REF!"}},{"$f":" IF(#REF!=\"\", \"\",#REF!)","v":{"$error":"#REF!"}},{"$f":" IF(#REF!=\"\", \"\",#REF!)","v":{"$error":"#REF!"}},{"$f":"IF(AE154=\"\", \"\", IF($L154=\"男\", VLOOKUP(AE154, データ!$B$2:$C$101, 2, FALSE), IF($L154=\"女\", VLOOKUP(AE154, データ!$F$2:$H$101, 2, FALSE), \"\")))","v":{"$error":"#REF!"}},{"$f":"IF(A154=\"\",\"\", IF(#REF!=\"\", \"\",#REF!))","v":{"$error":"#REF!"}},{"$f":" IF(#REF!=\"\", \"\",#REF!)","v":{"$error":"#REF!"}},{"$f":" IF(#REF!=\"\", \"\",#REF!)","v":{"$error":"#REF!"}},{"$f":" IF(#REF!=\"\", \"\",#REF!)","v":{"$error":"#REF!"}},{"$f":" IF(#REF!=\"\", \"\",#REF!)","v":{"$error":"#REF!"}},{"$f":"IF(AK154=\"\", \"\", IF($L154=\"男\", VLOOKUP(AK154, データ!$B$2:$C$101, 2, FALSE), IF($L154=\"女\", VLOOKUP(AK154, データ!$F$2:$H$101, 2, FALSE), \"\")))","v":{"$error":"#REF!"}},{"$f":"IF(A154=\"\",\"\", IF(#REF!=\"\", \"\",#REF!))","v":{"$error":"#REF!"}},{"$f":" IF(#REF!=\"\", \"\",#REF!)","v":{"$error":"#REF!"}},{"$f":" IF(#REF!=\"\", \"\",#REF!)","v":{"$error":"#REF!"}},{"$f":" IF(#REF!=\"\", \"\",#REF!)","v":{"$error":"#REF!"}},{"$f":" IF(#REF!=\"\", \"\",#REF!)","v":{"$error":"#REF!"}},{"$f":"IF(AQ154=\"\", \"\", IF($L154=\"男\", VLOOKUP(AQ154, データ!$B$2:$C$101, 2, FALSE), IF($L154=\"女\", VLOOKUP(AQ154, データ!$F$2:$H$101, 2, FALSE), \"\")))","v":{"$error":"#REF!"}},{"$f":"IF(A154=\"\",\"\", IF(#REF!=\"\", \"\",#REF!))","v":{"$error":"#REF!"}},{"$f":" IF(#REF!=\"\", \"\",#REF!)","v":{"$error":"#REF!"}},{"$f":" IF(#REF!=\"\", \"\",#REF!)","v":{"$error":"#REF!"}},{"$f":" IF(#REF!=\"\", \"\",#REF!)","v":{"$error":"#REF!"}},{"$f":" IF(#REF!=\"\", \"\",#REF!)","v":{"$error":"#REF!"}},{"$f":"IF(AW154=\"\", \"\", IF($L154=\"男\", VLOOKUP(AW154, データ!$B$2:$C$101, 2, FALSE), IF($L154=\"女\", VLOOKUP(AW154, データ!$F$2:$H$101, 2, FALSE), \"\")))","v":{"$error":"#REF!"}},{"$f":"IF(A154=\"\",\"\", IF(#REF!=\"\", \"\",#REF!))","v":{"$error":"#REF!"}},{"$f":" IF(#REF!=\"\", \"\",#REF!)","v":{"$error":"#REF!"}},{"$f":" IF(#REF!=\"\", \"\",#REF!)","v":{"$error":"#REF!"}},{"$f":" IF(#REF!=\"\", \"\",#REF!)","v":{"$error":"#REF!"}},{"$f":" IF(#REF!=\"\", \"\",#REF!)","v":{"$error":"#REF!"}},{"$error":"#REF!"}]
[{"$f":"#REF!","v":{"$error":"#REF!"}},{"$f":" IF(#REF!=\"\", \"\",#REF!)","v":{"$error":"#REF!"}},{"$f":" IF(#REF!=\"\", \"\",#REF!)","v":{"$error":"#REF!"}},{"$f":" IF(#REF!=\"\", \"\",#REF!)","v":{"$error":"#REF!"}},{"$error":"#REF!"},{"$error":"#REF!"},{"$error":"#REF!"},{"$error":"#REF!"},{"$f":" IF(#REF!=\"\", \"\",#REF!)","v":{"$error":"#REF!"}},{"$f":" IF(#REF!=\"\", \"\",#REF!)","v":{"$error":"#REF!"}},{"$f":" IF(#REF!=\"\", \"\",#REF!)","v":{"$error":"#REF!"}},{"$f":" IF(#REF!=\"\", \"\",#REF!)","v":{"$error":"#REF!"}},{"$f":" IF(#REF!=\"\", \"\",#REF!)","v":{"$error":"#REF!"}},{"$f":" IF(#REF!=\"\", \"\",#REF!)","v":{"$error":"#REF!"}},{"$f":" IF(#REF!=\"\", \"\",#REF!)","v":{"$error":"#REF!"}},{"$f":" IF(#REF!=\"\", \"\",#REF!)","v":{"$error":"#REF!"}},{"$f":"IF(A155=\"\",\"\",#REF!)","v":{"$error":"#REF!"}},{"$f":" IF(Q155=\"\", \"\",#REF!)","v":{"$error":"#REF!"}},{"$f":" IF(Q155=\"\", \"\",#REF!)","v":{"$error":"#REF!"}},{"$f":" IF(Q155=\"\", \"\",#REF!)","v":{"$error":"#REF!"}},{"$f":" IF(Q155=\"\", \"\",#REF!)","v":{"$error":"#REF!"}},{"$f":" IF(#REF!=\"\", \"\",#REF!)","v":{"$error":"#REF!"}},{"$f":" IF(#REF!=\"\", \"\",#REF!)","v":{"$error":"#REF!"}},{"$f":"IF(Y155=\"\", \"\", IF($L155=\"男\", VLOOKUP(Y155, データ!$B$2:$C$101, 2, FALSE), IF($L155=\"女\", VLOOKUP(Y155, データ!$F$2:$H$101, 2, FALSE), \"\")))","v":{"$error":"#REF!"}},{"$f":"IF(A155=\"\",\"\", IF(#REF!=\"\", \"\",#REF!))","v":{"$error":"#REF!"}},{"$f":" IF(#REF!=\"\", \"\",#REF!)","v":{"$error":"#REF!"}},{"$f":" IF(#REF!=\"\", \"\",#REF!)","v":{"$error":"#REF!"}},{"$f":" IF(#REF!=\"\", \"\",#REF!)","v":{"$error":"#REF!"}},{"$f":" IF(#REF!=\"\", \"\",#REF!)","v":{"$error":"#REF!"}},{"$f":"IF(AE155=\"\", \"\", IF($L155=\"男\", VLOOKUP(AE155, データ!$B$2:$C$101, 2, FALSE), IF($L155=\"女\", VLOOKUP(AE155, データ!$F$2:$H$101, 2, FALSE), \"\")))","v":{"$error":"#REF!"}},{"$f":"IF(A155=\"\",\"\", IF(#REF!=\"\", \"\",#REF!))","v":{"$error":"#REF!"}},{"$f":" IF(#REF!=\"\", \"\",#REF!)","v":{"$error":"#REF!"}},{"$f":" IF(#REF!=\"\", \"\",#REF!)","v":{"$error":"#REF!"}},{"$f":" IF(#REF!=\"\", \"\",#REF!)","v":{"$error":"#REF!"}},{"$f":" IF(#REF!=\"\", \"\",#REF!)","v":{"$error":"#REF!"}},{"$f":"IF(AK155=\"\", \"\", IF($L155=\"男\", VLOOKUP(AK155, データ!$B$2:$C$101, 2, FALSE), IF($L155=\"女\", VLOOKUP(AK155, データ!$F$2:$H$101, 2, FALSE), \"\")))","v":{"$error":"#REF!"}},{"$f":"IF(A155=\"\",\"\", IF(#REF!=\"\", \"\",#REF!))","v":{"$error":"#REF!"}},{"$f":" IF(#REF!=\"\", \"\",#REF!)","v":{"$error":"#REF!"}},{"$f":" IF(#REF!=\"\", \"\",#REF!)","v":{"$error":"#REF!"}},{"$f":" IF(#REF!=\"\", \"\",#REF!)","v":{"$error":"#REF!"}},{"$f":" IF(#REF!=\"\", \"\",#REF!)","v":{"$error":"#REF!"}},{"$f":"IF(AQ155=\"\", \"\", IF($L155=\"男\", VLOOKUP(AQ155, データ!$B$2:$C$101, 2, FALSE), IF($L155=\"女\", VLOOKUP(AQ155, データ!$F$2:$H$101, 2, FALSE), \"\")))","v":{"$error":"#REF!"}},{"$f":"IF(A155=\"\",\"\", IF(#REF!=\"\", \"\",#REF!))","v":{"$error":"#REF!"}},{"$f":" IF(#REF!=\"\", \"\",#REF!)","v":{"$error":"#REF!"}},{"$f":" IF(#REF!=\"\", \"\",#REF!)","v":{"$error":"#REF!"}},{"$f":" IF(#REF!=\"\", \"\",#REF!)","v":{"$error":"#REF!"}},{"$f":" IF(#REF!=\"\", \"\",#REF!)","v":{"$error":"#REF!"}},{"$f":"IF(AW155=\"\", \"\", IF($L155=\"男\", VLOOKUP(AW155, データ!$B$2:$C$101, 2, FALSE), IF($L155=\"女\", VLOOKUP(AW155, データ!$F$2:$H$101, 2, FALSE), \"\")))","v":{"$error":"#REF!"}},{"$f":"IF(A155=\"\",\"\", IF(#REF!=\"\", \"\",#REF!))","v":{"$error":"#REF!"}},{"$f":" IF(#REF!=\"\", \"\",#REF!)","v":{"$error":"#REF!"}},{"$f":" IF(#REF!=\"\", \"\",#REF!)","v":{"$error":"#REF!"}},{"$f":" IF(#REF!=\"\", \"\",#REF!)","v":{"$error":"#REF!"}},{"$f":" IF(#REF!=\"\", \"\",#REF!)","v":{"$error":"#REF!"}},{"$error":"#REF!"}]
[{"$f":"#REF!","v":{"$error":"#REF!"}},{"$f":" IF(#REF!=\"\", \"\",#REF!)","v":{"$error":"#REF!"}},{"$f":" IF(#REF!=\"\", \"\",#REF!)","v":{"$error":"#REF!"}},{"$f":" IF(#REF!=\"\", \"\",#REF!)","v":{"$error":"#REF!"}},{"$error":"#REF!"},{"$error":"#REF!"},{"$error":"#REF!"},{"$error":"#REF!"},{"$f":" IF(#REF!=\"\", \"\",#REF!)","v":{"$error":"#REF!"}},{"$f":" IF(#REF!=\"\", \"\",#REF!)","v":{"$error":"#REF!"}},{"$f":" IF(#REF!=\"\", \"\",#REF!)","v":{"$error":"#REF!"}},{"$f":" IF(#REF!=\"\", \"\",#REF!)","v":{"$error":"#REF!"}},{"$f":" IF(#REF!=\"\", \"\",#REF!)","v":{"$error":"#REF!"}},{"$f":" IF(#REF!=\"\", \"\",#REF!)","v":{"$error":"#REF!"}},{"$f":" IF(#REF!=\"\", \"\",#REF!)","v":{"$error":"#REF!"}},{"$f":" IF(#REF!=\"\", \"\",#REF!)","v":{"$error":"#REF!"}},{"$f":"IF(A156=\"\",\"\",#REF!)","v":{"$error":"#REF!"}},{"$f":" IF(Q156=\"\", \"\",#REF!)","v":{"$error":"#REF!"}},{"$f":" IF(Q156=\"\", \"\",#REF!)","v":{"$error":"#REF!"}},{"$f":" IF(Q156=\"\", \"\",#REF!)","v":{"$error":"#REF!"}},{"$f":" IF(Q156=\"\", \"\",#REF!)","v":{"$error":"#REF!"}},{"$f":" IF(#REF!=\"\", \"\",#REF!)","v":{"$error":"#REF!"}},{"$f":" IF(#REF!=\"\", \"\",#REF!)","v":{"$error":"#REF!"}},{"$f":"IF(Y156=\"\", \"\", IF($L156=\"男\", VLOOKUP(Y156, データ!$B$2:$C$101, 2, FALSE), IF($L156=\"女\", VLOOKUP(Y156, データ!$F$2:$H$101, 2, FALSE), \"\")))","v":{"$error":"#REF!"}},{"$f":"IF(A156=\"\",\"\", IF(#REF!=\"\", \"\",#REF!))","v":{"$error":"#REF!"}},{"$f":" IF(#REF!=\"\", \"\",#REF!)","v":{"$error":"#REF!"}},{"$f":" IF(#REF!=\"\", \"\",#REF!)","v":{"$error":"#REF!"}},{"$f":" IF(#REF!=\"\", \"\",#REF!)","v":{"$error":"#REF!"}},{"$f":" IF(#REF!=\"\", \"\",#REF!)","v":{"$error":"#REF!"}},{"$f":"IF(AE156=\"\", \"\", IF($L156=\"男\", VLOOKUP(AE156, データ!$B$2:$C$101, 2, FALSE), IF($L156=\"女\", VLOOKUP(AE156, データ!$F$2:$H$101, 2, FALSE), \"\")))","v":{"$error":"#REF!"}},{"$f":"IF(A156=\"\",\"\", IF(#REF!=\"\", \"\",#REF!))","v":{"$error":"#REF!"}},{"$f":" IF(#REF!=\"\", \"\",#REF!)","v":{"$error":"#REF!"}},{"$f":" IF(#REF!=\"\", \"\",#REF!)","v":{"$error":"#REF!"}},{"$f":" IF(#REF!=\"\", \"\",#REF!)","v":{"$error":"#REF!"}},{"$f":" IF(#REF!=\"\", \"\",#REF!)","v":{"$error":"#REF!"}},{"$f":"IF(AK156=\"\", \"\", IF($L156=\"男\", VLOOKUP(AK156, データ!$B$2:$C$101, 2, FALSE), IF($L156=\"女\", VLOOKUP(AK156, データ!$F$2:$H$101, 2, FALSE), \"\")))","v":{"$error":"#REF!"}},{"$f":"IF(A156=\"\",\"\", IF(#REF!=\"\", \"\",#REF!))","v":{"$error":"#REF!"}},{"$f":" IF(#REF!=\"\", \"\",#REF!)","v":{"$error":"#REF!"}},{"$f":" IF(#REF!=\"\", \"\",#REF!)","v":{"$error":"#REF!"}},{"$f":" IF(#REF!=\"\", \"\",#REF!)","v":{"$error":"#REF!"}},{"$f":" IF(#REF!=\"\", \"\",#REF!)","v":{"$error":"#REF!"}},{"$f":"IF(AQ156=\"\", \"\", IF($L156=\"男\", VLOOKUP(AQ156, データ!$B$2:$C$101, 2, FALSE), IF($L156=\"女\", VLOOKUP(AQ156, データ!$F$2:$H$101, 2, FALSE), \"\")))","v":{"$error":"#REF!"}},{"$f":"IF(A156=\"\",\"\", IF(#REF!=\"\", \"\",#REF!))","v":{"$error":"#REF!"}},{"$f":" IF(#REF!=\"\", \"\",#REF!)","v":{"$error":"#REF!"}},{"$f":" IF(#REF!=\"\", \"\",#REF!)","v":{"$error":"#REF!"}},{"$f":" IF(#REF!=\"\", \"\",#REF!)","v":{"$error":"#REF!"}},{"$f":" IF(#REF!=\"\", \"\",#REF!)","v":{"$error":"#REF!"}},{"$f":"IF(AW156=\"\", \"\", IF($L156=\"男\", VLOOKUP(AW156, データ!$B$2:$C$101, 2, FALSE), IF($L156=\"女\", VLOOKUP(AW156, データ!$F$2:$H$101, 2, FALSE), \"\")))","v":{"$error":"#REF!"}},{"$f":"IF(A156=\"\",\"\", IF(#REF!=\"\", \"\",#REF!))","v":{"$error":"#REF!"}},{"$f":" IF(#REF!=\"\", \"\",#REF!)","v":{"$error":"#REF!"}},{"$f":" IF(#REF!=\"\", \"\",#REF!)","v":{"$error":"#REF!"}},{"$f":" IF(#REF!=\"\", \"\",#REF!)","v":{"$error":"#REF!"}},{"$f":" IF(#REF!=\"\", \"\",#REF!)","v":{"$error":"#REF!"}},{"$error":"#REF!"}]
[{"$f":"#REF!","v":{"$error":"#REF!"}},{"$f":" IF(#REF!=\"\", \"\",#REF!)","v":{"$error":"#REF!"}},{"$f":" IF(#REF!=\"\", \"\",#REF!)","v":{"$error":"#REF!"}},{"$f":" IF(#REF!=\"\", \"\",#REF!)","v":{"$error":"#REF!"}},{"$error":"#REF!"},{"$error":"#REF!"},{"$error":"#REF!"},{"$error":"#REF!"},{"$f":" IF(#REF!=\"\", \"\",#REF!)","v":{"$error":"#REF!"}},{"$f":" IF(#REF!=\"\", \"\",#REF!)","v":{"$error":"#REF!"}},{"$f":" IF(#REF!=\"\", \"\",#REF!)","v":{"$error":"#REF!"}},{"$f":" IF(#REF!=\"\", \"\",#REF!)","v":{"$error":"#REF!"}},{"$f":" IF(#REF!=\"\", \"\",#REF!)","v":{"$error":"#REF!"}},{"$f":" IF(#REF!=\"\", \"\",#REF!)","v":{"$error":"#REF!"}},{"$f":" IF(#REF!=\"\", \"\",#REF!)","v":{"$error":"#REF!"}},{"$f":" IF(#REF!=\"\", \"\",#REF!)","v":{"$error":"#REF!"}},{"$f":"IF(A157=\"\",\"\",#REF!)","v":{"$error":"#REF!"}},{"$f":" IF(Q157=\"\", \"\",#REF!)","v":{"$error":"#REF!"}},{"$f":" IF(Q157=\"\", \"\",#REF!)","v":{"$error":"#REF!"}},{"$f":" IF(Q157=\"\", \"\",#REF!)","v":{"$error":"#REF!"}},{"$f":" IF(Q157=\"\", \"\",#REF!)","v":{"$error":"#REF!"}},{"$f":" IF(#REF!=\"\", \"\",#REF!)","v":{"$error":"#REF!"}},{"$f":" IF(#REF!=\"\", \"\",#REF!)","v":{"$error":"#REF!"}},{"$f":"IF(Y157=\"\", \"\", IF($L157=\"男\", VLOOKUP(Y157, データ!$B$2:$C$101, 2, FALSE), IF($L157=\"女\", VLOOKUP(Y157, データ!$F$2:$H$101, 2, FALSE), \"\")))","v":{"$error":"#REF!"}},{"$f":"IF(A157=\"\",\"\", IF(#REF!=\"\", \"\",#REF!))","v":{"$error":"#REF!"}},{"$f":" IF(#REF!=\"\", \"\",#REF!)","v":{"$error":"#REF!"}},{"$f":" IF(#REF!=\"\", \"\",#REF!)","v":{"$error":"#REF!"}},{"$f":" IF(#REF!=\"\", \"\",#REF!)","v":{"$error":"#REF!"}},{"$f":" IF(#REF!=\"\", \"\",#REF!)","v":{"$error":"#REF!"}},{"$f":"IF(AE157=\"\", \"\", IF($L157=\"男\", VLOOKUP(AE157, データ!$B$2:$C$101, 2, FALSE), IF($L157=\"女\", VLOOKUP(AE157, データ!$F$2:$H$101, 2, FALSE), \"\")))","v":{"$error":"#REF!"}},{"$f":"IF(A157=\"\",\"\", IF(#REF!=\"\", \"\",#REF!))","v":{"$error":"#REF!"}},{"$f":" IF(#REF!=\"\", \"\",#REF!)","v":{"$error":"#REF!"}},{"$f":" IF(#REF!=\"\", \"\",#REF!)","v":{"$error":"#REF!"}},{"$f":" IF(#REF!=\"\", \"\",#REF!)","v":{"$error":"#REF!"}},{"$f":" IF(#REF!=\"\", \"\",#REF!)","v":{"$error":"#REF!"}},{"$f":"IF(AK157=\"\", \"\", IF($L157=\"男\", VLOOKUP(AK157, データ!$B$2:$C$101, 2, FALSE), IF($L157=\"女\", VLOOKUP(AK157, データ!$F$2:$H$101, 2, FALSE), \"\")))","v":{"$error":"#REF!"}},{"$f":"IF(A157=\"\",\"\", IF(#REF!=\"\", \"\",#REF!))","v":{"$error":"#REF!"}},{"$f":" IF(#REF!=\"\", \"\",#REF!)","v":{"$error":"#REF!"}},{"$f":" IF(#REF!=\"\", \"\",#REF!)","v":{"$error":"#REF!"}},{"$f":" IF(#REF!=\"\", \"\",#REF!)","v":{"$error":"#REF!"}},{"$f":" IF(#REF!=\"\", \"\",#REF!)","v":{"$error":"#REF!"}},{"$f":"IF(AQ157=\"\", \"\", IF($L157=\"男\", VLOOKUP(AQ157, データ!$B$2:$C$101, 2, FALSE), IF($L157=\"女\", VLOOKUP(AQ157, データ!$F$2:$H$101, 2, FALSE), \"\")))","v":{"$error":"#REF!"}},{"$f":"IF(A157=\"\",\"\", IF(#REF!=\"\", \"\",#REF!))","v":{"$error":"#REF!"}},{"$f":" IF(#REF!=\"\", \"\",#REF!)","v":{"$error":"#REF!"}},{"$f":" IF(#REF!=\"\", \"\",#REF!)","v":{"$error":"#REF!"}},{"$f":" IF(#REF!=\"\", \"\",#REF!)","v":{"$error":"#REF!"}},{"$f":" IF(#REF!=\"\", \"\",#REF!)","v":{"$error":"#REF!"}},{"$f":"IF(AW157=\"\", \"\", IF($L157=\"男\", VLOOKUP(AW157, データ!$B$2:$C$101, 2, FALSE), IF($L157=\"女\", VLOOKUP(AW157, データ!$F$2:$H$101, 2, FALSE), \"\")))","v":{"$error":"#REF!"}},{"$f":"IF(A157=\"\",\"\", IF(#REF!=\"\", \"\",#REF!))","v":{"$error":"#REF!"}},{"$f":" IF(#REF!=\"\", \"\",#REF!)","v":{"$error":"#REF!"}},{"$f":" IF(#REF!=\"\", \"\",#REF!)","v":{"$error":"#REF!"}},{"$f":" IF(#REF!=\"\", \"\",#REF!)","v":{"$error":"#REF!"}},{"$f":" IF(#REF!=\"\", \"\",#REF!)","v":{"$error":"#REF!"}},{"$error":"#REF!"}]
[{"$f":"#REF!","v":{"$error":"#REF!"}},{"$f":" IF(#REF!=\"\", \"\",#REF!)","v":{"$error":"#REF!"}},{"$f":" IF(#REF!=\"\", \"\",#REF!)","v":{"$error":"#REF!"}},{"$f":" IF(#REF!=\"\", \"\",#REF!)","v":{"$error":"#REF!"}},{"$error":"#REF!"},{"$error":"#REF!"},{"$error":"#REF!"},{"$error":"#REF!"},{"$f":" IF(#REF!=\"\", \"\",#REF!)","v":{"$error":"#REF!"}},{"$f":" IF(#REF!=\"\", \"\",#REF!)","v":{"$error":"#REF!"}},{"$f":" IF(#REF!=\"\", \"\",#REF!)","v":{"$error":"#REF!"}},{"$f":" IF(#REF!=\"\", \"\",#REF!)","v":{"$error":"#REF!"}},{"$f":" IF(#REF!=\"\", \"\",#REF!)","v":{"$error":"#REF!"}},{"$f":" IF(#REF!=\"\", \"\",#REF!)","v":{"$error":"#REF!"}},{"$f":" IF(#REF!=\"\", \"\",#REF!)","v":{"$error":"#REF!"}},{"$f":" IF(#REF!=\"\", \"\",#REF!)","v":{"$error":"#REF!"}},{"$f":"IF(A158=\"\",\"\",#REF!)","v":{"$error":"#REF!"}},{"$f":" IF(Q158=\"\", \"\",#REF!)","v":{"$error":"#REF!"}},{"$f":" IF(Q158=\"\", \"\",#REF!)","v":{"$error":"#REF!"}},{"$f":" IF(Q158=\"\", \"\",#REF!)","v":{"$error":"#REF!"}},{"$f":" IF(Q158=\"\", \"\",#REF!)","v":{"$error":"#REF!"}},{"$f":" IF(#REF!=\"\", \"\",#REF!)","v":{"$error":"#REF!"}},{"$f":" IF(#REF!=\"\", \"\",#REF!)","v":{"$error":"#REF!"}},{"$f":"IF(Y158=\"\", \"\", IF($L158=\"男\", VLOOKUP(Y158, データ!$B$2:$C$101, 2, FALSE), IF($L158=\"女\", VLOOKUP(Y158, データ!$F$2:$H$101, 2, FALSE), \"\")))","v":{"$error":"#REF!"}},{"$f":"IF(A158=\"\",\"\", IF(#REF!=\"\", \"\",#REF!))","v":{"$error":"#REF!"}},{"$f":" IF(#REF!=\"\", \"\",#REF!)","v":{"$error":"#REF!"}},{"$f":" IF(#REF!=\"\", \"\",#REF!)","v":{"$error":"#REF!"}},{"$f":" IF(#REF!=\"\", \"\",#REF!)","v":{"$error":"#REF!"}},{"$f":" IF(#REF!=\"\", \"\",#REF!)","v":{"$error":"#REF!"}},{"$f":"IF(AE158=\"\", \"\", IF($L158=\"男\", VLOOKUP(AE158, データ!$B$2:$C$101, 2, FALSE), IF($L158=\"女\", VLOOKUP(AE158, データ!$F$2:$H$101, 2, FALSE), \"\")))","v":{"$error":"#REF!"}},{"$f":"IF(A158=\"\",\"\", IF(#REF!=\"\", \"\",#REF!))","v":{"$error":"#REF!"}},{"$f":" IF(#REF!=\"\", \"\",#REF!)","v":{"$error":"#REF!"}},{"$f":" IF(#REF!=\"\", \"\",#REF!)","v":{"$error":"#REF!"}},{"$f":" IF(#REF!=\"\", \"\",#REF!)","v":{"$error":"#REF!"}},{"$f":" IF(#REF!=\"\", \"\",#REF!)","v":{"$error":"#REF!"}},{"$f":"IF(AK158=\"\", \"\", IF($L158=\"男\", VLOOKUP(AK158, データ!$B$2:$C$101, 2, FALSE), IF($L158=\"女\", VLOOKUP(AK158, データ!$F$2:$H$101, 2, FALSE), \"\")))","v":{"$error":"#REF!"}},{"$f":"IF(A158=\"\",\"\", IF(#REF!=\"\", \"\",#REF!))","v":{"$error":"#REF!"}},{"$f":" IF(#REF!=\"\", \"\",#REF!)","v":{"$error":"#REF!"}},{"$f":" IF(#REF!=\"\", \"\",#REF!)","v":{"$error":"#REF!"}},{"$f":" IF(#REF!=\"\", \"\",#REF!)","v":{"$error":"#REF!"}},{"$f":" IF(#REF!=\"\", \"\",#REF!)","v":{"$error":"#REF!"}},{"$f":"IF(AQ158=\"\", \"\", IF($L158=\"男\", VLOOKUP(AQ158, データ!$B$2:$C$101, 2, FALSE), IF($L158=\"女\", VLOOKUP(AQ158, データ!$F$2:$H$101, 2, FALSE), \"\")))","v":{"$error":"#REF!"}},{"$f":"IF(A158=\"\",\"\", IF(#REF!=\"\", \"\",#REF!))","v":{"$error":"#REF!"}},{"$f":" IF(#REF!=\"\", \"\",#REF!)","v":{"$error":"#REF!"}},{"$f":" IF(#REF!=\"\", \"\",#REF!)","v":{"$error":"#REF!"}},{"$f":" IF(#REF!=\"\", \"\",#REF!)","v":{"$error":"#REF!"}},{"$f":" IF(#REF!=\"\", \"\",#REF!)","v":{"$error":"#REF!"}},{"$f":"IF(AW158=\"\", \"\", IF($L158=\"男\", VLOOKUP(AW158, データ!$B$2:$C$101, 2, FALSE), IF($L158=\"女\", VLOOKUP(AW158, データ!$F$2:$H$101, 2, FALSE), \"\")))","v":{"$error":"#REF!"}},{"$f":"IF(A158=\"\",\"\", IF(#REF!=\"\", \"\",#REF!))","v":{"$error":"#REF!"}},{"$f":" IF(#REF!=\"\", \"\",#REF!)","v":{"$error":"#REF!"}},{"$f":" IF(#REF!=\"\", \"\",#REF!)","v":{"$error":"#REF!"}},{"$f":" IF(#REF!=\"\", \"\",#REF!)","v":{"$error":"#REF!"}},{"$f":" IF(#REF!=\"\", \"\",#REF!)","v":{"$error":"#REF!"}},{"$error":"#REF!"}]
[{"$f":"#REF!","v":{"$error":"#REF!"}},{"$f":" IF(#REF!=\"\", \"\",#REF!)","v":{"$error":"#REF!"}},{"$f":" IF(#REF!=\"\", \"\",#REF!)","v":{"$error":"#REF!"}},{"$f":" IF(#REF!=\"\", \"\",#REF!)","v":{"$error":"#REF!"}},{"$error":"#REF!"},{"$error":"#REF!"},{"$error":"#REF!"},{"$error":"#REF!"},{"$f":" IF(#REF!=\"\", \"\",#REF!)","v":{"$error":"#REF!"}},{"$f":" IF(#REF!=\"\", \"\",#REF!)","v":{"$error":"#REF!"}},{"$f":" IF(#REF!=\"\", \"\",#REF!)","v":{"$error":"#REF!"}},{"$f":" IF(#REF!=\"\", \"\",#REF!)","v":{"$error":"#REF!"}},{"$f":" IF(#REF!=\"\", \"\",#REF!)","v":{"$error":"#REF!"}},{"$f":" IF(#REF!=\"\", \"\",#REF!)","v":{"$error":"#REF!"}},{"$f":" IF(#REF!=\"\", \"\",#REF!)","v":{"$error":"#REF!"}},{"$f":" IF(#REF!=\"\", \"\",#REF!)","v":{"$error":"#REF!"}},{"$f":"IF(A159=\"\",\"\",#REF!)","v":{"$error":"#REF!"}},{"$f":" IF(Q159=\"\", \"\",#REF!)","v":{"$error":"#REF!"}},{"$f":" IF(Q159=\"\", \"\",#REF!)","v":{"$error":"#REF!"}},{"$f":" IF(Q159=\"\", \"\",#REF!)","v":{"$error":"#REF!"}},{"$f":" IF(Q159=\"\", \"\",#REF!)","v":{"$error":"#REF!"}},{"$f":" IF(#REF!=\"\", \"\",#REF!)","v":{"$error":"#REF!"}},{"$f":" IF(#REF!=\"\", \"\",#REF!)","v":{"$error":"#REF!"}},{"$f":"IF(Y159=\"\", \"\", IF($L159=\"男\", VLOOKUP(Y159, データ!$B$2:$C$101, 2, FALSE), IF($L159=\"女\", VLOOKUP(Y159, データ!$F$2:$H$101, 2, FALSE), \"\")))","v":{"$error":"#REF!"}},{"$f":"IF(A159=\"\",\"\", IF(#REF!=\"\", \"\",#REF!))","v":{"$error":"#REF!"}},{"$f":" IF(#REF!=\"\", \"\",#REF!)","v":{"$error":"#REF!"}},{"$f":" IF(#REF!=\"\", \"\",#REF!)","v":{"$error":"#REF!"}},{"$f":" IF(#REF!=\"\", \"\",#REF!)","v":{"$error":"#REF!"}},{"$f":" IF(#REF!=\"\", \"\",#REF!)","v":{"$error":"#REF!"}},{"$f":"IF(AE159=\"\", \"\", IF($L159=\"男\", VLOOKUP(AE159, データ!$B$2:$C$101, 2, FALSE), IF($L159=\"女\", VLOOKUP(AE159, データ!$F$2:$H$101, 2, FALSE), \"\")))","v":{"$error":"#REF!"}},{"$f":"IF(A159=\"\",\"\", IF(#REF!=\"\", \"\",#REF!))","v":{"$error":"#REF!"}},{"$f":" IF(#REF!=\"\", \"\",#REF!)","v":{"$error":"#REF!"}},{"$f":" IF(#REF!=\"\", \"\",#REF!)","v":{"$error":"#REF!"}},{"$f":" IF(#REF!=\"\", \"\",#REF!)","v":{"$error":"#REF!"}},{"$f":" IF(#REF!=\"\", \"\",#REF!)","v":{"$error":"#REF!"}},{"$f":"IF(AK159=\"\", \"\", IF($L159=\"男\", VLOOKUP(AK159, データ!$B$2:$C$101, 2, FALSE), IF($L159=\"女\", VLOOKUP(AK159, データ!$F$2:$H$101, 2, FALSE), \"\")))","v":{"$error":"#REF!"}},{"$f":"IF(A159=\"\",\"\", IF(#REF!=\"\", \"\",#REF!))","v":{"$error":"#REF!"}},{"$f":" IF(#REF!=\"\", \"\",#REF!)","v":{"$error":"#REF!"}},{"$f":" IF(#REF!=\"\", \"\",#REF!)","v":{"$error":"#REF!"}},{"$f":" IF(#REF!=\"\", \"\",#REF!)","v":{"$error":"#REF!"}},{"$f":" IF(#REF!=\"\", \"\",#REF!)","v":{"$error":"#REF!"}},{"$f":"IF(AQ159=\"\", \"\", IF($L159=\"男\", VLOOKUP(AQ159, データ!$B$2:$C$101, 2, FALSE), IF($L159=\"女\", VLOOKUP(AQ159, データ!$F$2:$H$101, 2, FALSE), \"\")))","v":{"$error":"#REF!"}},{"$f":"IF(A159=\"\",\"\", IF(#REF!=\"\", \"\",#REF!))","v":{"$error":"#REF!"}},{"$f":" IF(#REF!=\"\", \"\",#REF!)","v":{"$error":"#REF!"}},{"$f":" IF(#REF!=\"\", \"\",#REF!)","v":{"$error":"#REF!"}},{"$f":" IF(#REF!=\"\", \"\",#REF!)","v":{"$error":"#REF!"}},{"$f":" IF(#REF!=\"\", \"\",#REF!)","v":{"$error":"#REF!"}},{"$f":"IF(AW159=\"\", \"\", IF($L159=\"男\", VLOOKUP(AW159, データ!$B$2:$C$101, 2, FALSE), IF($L159=\"女\", VLOOKUP(AW159, データ!$F$2:$H$101, 2, FALSE), \"\")))","v":{"$error":"#REF!"}},{"$f":"IF(A159=\"\",\"\", IF(#REF!=\"\", \"\",#REF!))","v":{"$error":"#REF!"}},{"$f":" IF(#REF!=\"\", \"\",#REF!)","v":{"$error":"#REF!"}},{"$f":" IF(#REF!=\"\", \"\",#REF!)","v":{"$error":"#REF!"}},{"$f":" IF(#REF!=\"\", \"\",#REF!)","v":{"$error":"#REF!"}},{"$f":" IF(#REF!=\"\", \"\",#REF!)","v":{"$error":"#REF!"}},{"$error":"#REF!"}]
[{"$f":"#REF!","v":{"$error":"#REF!"}},{"$f":" IF(#REF!=\"\", \"\",#REF!)","v":{"$error":"#REF!"}},{"$f":" IF(#REF!=\"\", \"\",#REF!)","v":{"$error":"#REF!"}},{"$f":" IF(#REF!=\"\", \"\",#REF!)","v":{"$error":"#REF!"}},{"$error":"#REF!"},{"$error":"#REF!"},{"$error":"#REF!"},{"$error":"#REF!"},{"$f":" IF(#REF!=\"\", \"\",#REF!)","v":{"$error":"#REF!"}},{"$f":" IF(#REF!=\"\", \"\",#REF!)","v":{"$error":"#REF!"}},{"$f":" IF(#REF!=\"\", \"\",#REF!)","v":{"$error":"#REF!"}},{"$f":" IF(#REF!=\"\", \"\",#REF!)","v":{"$error":"#REF!"}},{"$f":" IF(#REF!=\"\", \"\",#REF!)","v":{"$error":"#REF!"}},{"$f":" IF(#REF!=\"\", \"\",#REF!)","v":{"$error":"#REF!"}},{"$f":" IF(#REF!=\"\", \"\",#REF!)","v":{"$error":"#REF!"}},{"$f":" IF(#REF!=\"\", \"\",#REF!)","v":{"$error":"#REF!"}},{"$f":"IF(A160=\"\",\"\",#REF!)","v":{"$error":"#REF!"}},{"$f":" IF(Q160=\"\", \"\",#REF!)","v":{"$error":"#REF!"}},{"$f":" IF(Q160=\"\", \"\",#REF!)","v":{"$error":"#REF!"}},{"$f":" IF(Q160=\"\", \"\",#REF!)","v":{"$error":"#REF!"}},{"$f":" IF(Q160=\"\", \"\",#REF!)","v":{"$error":"#REF!"}},{"$f":" IF(#REF!=\"\", \"\",#REF!)","v":{"$error":"#REF!"}},{"$f":" IF(#REF!=\"\", \"\",#REF!)","v":{"$error":"#REF!"}},{"$f":"IF(Y160=\"\", \"\", IF($L160=\"男\", VLOOKUP(Y160, データ!$B$2:$C$101, 2, FALSE), IF($L160=\"女\", VLOOKUP(Y160, データ!$F$2:$H$101, 2, FALSE), \"\")))","v":{"$error":"#REF!"}},{"$f":"IF(A160=\"\",\"\", IF(#REF!=\"\", \"\",#REF!))","v":{"$error":"#REF!"}},{"$f":" IF(#REF!=\"\", \"\",#REF!)","v":{"$error":"#REF!"}},{"$f":" IF(#REF!=\"\", \"\",#REF!)","v":{"$error":"#REF!"}},{"$f":" IF(#REF!=\"\", \"\",#REF!)","v":{"$error":"#REF!"}},{"$f":" IF(#REF!=\"\", \"\",#REF!)","v":{"$error":"#REF!"}},{"$f":"IF(AE160=\"\", \"\", IF($L160=\"男\", VLOOKUP(AE160, データ!$B$2:$C$101, 2, FALSE), IF($L160=\"女\", VLOOKUP(AE160, データ!$F$2:$H$101, 2, FALSE), \"\")))","v":{"$error":"#REF!"}},{"$f":"IF(A160=\"\",\"\", IF(#REF!=\"\", \"\",#REF!))","v":{"$error":"#REF!"}},{"$f":" IF(#REF!=\"\", \"\",#REF!)","v":{"$error":"#REF!"}},{"$f":" IF(#REF!=\"\", \"\",#REF!)","v":{"$error":"#REF!"}},{"$f":" IF(#REF!=\"\", \"\",#REF!)","v":{"$error":"#REF!"}},{"$f":" IF(#REF!=\"\", \"\",#REF!)","v":{"$error":"#REF!"}},{"$f":"IF(AK160=\"\", \"\", IF($L160=\"男\", VLOOKUP(AK160, データ!$B$2:$C$101, 2, FALSE), IF($L160=\"女\", VLOOKUP(AK160, データ!$F$2:$H$101, 2, FALSE), \"\")))","v":{"$error":"#REF!"}},{"$f":"IF(A160=\"\",\"\", IF(#REF!=\"\", \"\",#REF!))","v":{"$error":"#REF!"}},{"$f":" IF(#REF!=\"\", \"\",#REF!)","v":{"$error":"#REF!"}},{"$f":" IF(#REF!=\"\", \"\",#REF!)","v":{"$error":"#REF!"}},{"$f":" IF(#REF!=\"\", \"\",#REF!)","v":{"$error":"#REF!"}},{"$f":" IF(#REF!=\"\", \"\",#REF!)","v":{"$error":"#REF!"}},{"$f":"IF(AQ160=\"\", \"\", IF($L160=\"男\", VLOOKUP(AQ160, データ!$B$2:$C$101, 2, FALSE), IF($L160=\"女\", VLOOKUP(AQ160, データ!$F$2:$H$101, 2, FALSE), \"\")))","v":{"$error":"#REF!"}},{"$f":"IF(A160=\"\",\"\", IF(#REF!=\"\", \"\",#REF!))","v":{"$error":"#REF!"}},{"$f":" IF(#REF!=\"\", \"\",#REF!)","v":{"$error":"#REF!"}},{"$f":" IF(#REF!=\"\", \"\",#REF!)","v":{"$error":"#REF!"}},{"$f":" IF(#REF!=\"\", \"\",#REF!)","v":{"$error":"#REF!"}},{"$f":" IF(#REF!=\"\", \"\",#REF!)","v":{"$error":"#REF!"}},{"$f":"IF(AW160=\"\", \"\", IF($L160=\"男\", VLOOKUP(AW160, データ!$B$2:$C$101, 2, FALSE), IF($L160=\"女\", VLOOKUP(AW160, データ!$F$2:$H$101, 2, FALSE), \"\")))","v":{"$error":"#REF!"}},{"$f":"IF(A160=\"\",\"\", IF(#REF!=\"\", \"\",#REF!))","v":{"$error":"#REF!"}},{"$f":" IF(#REF!=\"\", \"\",#REF!)","v":{"$error":"#REF!"}},{"$f":" IF(#REF!=\"\", \"\",#REF!)","v":{"$error":"#REF!"}},{"$f":" IF(#REF!=\"\", \"\",#REF!)","v":{"$error":"#REF!"}},{"$f":" IF(#REF!=\"\", \"\",#REF!)","v":{"$error":"#REF!"}},{"$error":"#REF!"}]
[{"$f":"#REF!","v":{"$error":"#REF!"}},{"$f":" IF(#REF!=\"\", \"\",#REF!)","v":{"$error":"#REF!"}},{"$f":" IF(#REF!=\"\", \"\",#REF!)","v":{"$error":"#REF!"}},{"$f":" IF(#REF!=\"\", \"\",#REF!)","v":{"$error":"#REF!"}},{"$error":"#REF!"},{"$error":"#REF!"},{"$error":"#REF!"},{"$error":"#REF!"},{"$f":" IF(#REF!=\"\", \"\",#REF!)","v":{"$error":"#REF!"}},{"$f":" IF(#REF!=\"\", \"\",#REF!)","v":{"$error":"#REF!"}},{"$f":" IF(#REF!=\"\", \"\",#REF!)","v":{"$error":"#REF!"}},{"$f":" IF(#REF!=\"\", \"\",#REF!)","v":{"$error":"#REF!"}},{"$f":" IF(#REF!=\"\", \"\",#REF!)","v":{"$error":"#REF!"}},{"$f":" IF(#REF!=\"\", \"\",#REF!)","v":{"$error":"#REF!"}},{"$f":" IF(#REF!=\"\", \"\",#REF!)","v":{"$error":"#REF!"}},{"$f":" IF(#REF!=\"\", \"\",#REF!)","v":{"$error":"#REF!"}},{"$f":"IF(A161=\"\",\"\",#REF!)","v":{"$error":"#REF!"}},{"$f":" IF(Q161=\"\", \"\",#REF!)","v":{"$error":"#REF!"}},{"$f":" IF(Q161=\"\", \"\",#REF!)","v":{"$error":"#REF!"}},{"$f":" IF(Q161=\"\", \"\",#REF!)","v":{"$error":"#REF!"}},{"$f":" IF(Q161=\"\", \"\",#REF!)","v":{"$error":"#REF!"}},{"$f":" IF(#REF!=\"\", \"\",#REF!)","v":{"$error":"#REF!"}},{"$f":" IF(#REF!=\"\", \"\",#REF!)","v":{"$error":"#REF!"}},{"$f":"IF(Y161=\"\", \"\", IF($L161=\"男\", VLOOKUP(Y161, データ!$B$2:$C$101, 2, FALSE), IF($L161=\"女\", VLOOKUP(Y161, データ!$F$2:$H$101, 2, FALSE), \"\")))","v":{"$error":"#REF!"}},{"$f":"IF(A161=\"\",\"\", IF(#REF!=\"\", \"\",#REF!))","v":{"$error":"#REF!"}},{"$f":" IF(#REF!=\"\", \"\",#REF!)","v":{"$error":"#REF!"}},{"$f":" IF(#REF!=\"\", \"\",#REF!)","v":{"$error":"#REF!"}},{"$f":" IF(#REF!=\"\", \"\",#REF!)","v":{"$error":"#REF!"}},{"$f":" IF(#REF!=\"\", \"\",#REF!)","v":{"$error":"#REF!"}},{"$f":"IF(AE161=\"\", \"\", IF($L161=\"男\", VLOOKUP(AE161, データ!$B$2:$C$101, 2, FALSE), IF($L161=\"女\", VLOOKUP(AE161, データ!$F$2:$H$101, 2, FALSE), \"\")))","v":{"$error":"#REF!"}},{"$f":"IF(A161=\"\",\"\", IF(#REF!=\"\", \"\",#REF!))","v":{"$error":"#REF!"}},{"$f":" IF(#REF!=\"\", \"\",#REF!)","v":{"$error":"#REF!"}},{"$f":" IF(#REF!=\"\", \"\",#REF!)","v":{"$error":"#REF!"}},{"$f":" IF(#REF!=\"\", \"\",#REF!)","v":{"$error":"#REF!"}},{"$f":" IF(#REF!=\"\", \"\",#REF!)","v":{"$error":"#REF!"}},{"$f":"IF(AK161=\"\", \"\", IF($L161=\"男\", VLOOKUP(AK161, データ!$B$2:$C$101, 2, FALSE), IF($L161=\"女\", VLOOKUP(AK161, データ!$F$2:$H$101, 2, FALSE), \"\")))","v":{"$error":"#REF!"}},{"$f":"IF(A161=\"\",\"\", IF(#REF!=\"\", \"\",#REF!))","v":{"$error":"#REF!"}},{"$f":" IF(#REF!=\"\", \"\",#REF!)","v":{"$error":"#REF!"}},{"$f":" IF(#REF!=\"\", \"\",#REF!)","v":{"$error":"#REF!"}},{"$f":" IF(#REF!=\"\", \"\",#REF!)","v":{"$error":"#REF!"}},{"$f":" IF(#REF!=\"\", \"\",#REF!)","v":{"$error":"#REF!"}},{"$f":"IF(AQ161=\"\", \"\", IF($L161=\"男\", VLOOKUP(AQ161, データ!$B$2:$C$101, 2, FALSE), IF($L161=\"女\", VLOOKUP(AQ161, データ!$F$2:$H$101, 2, FALSE), \"\")))","v":{"$error":"#REF!"}},{"$f":"IF(A161=\"\",\"\", IF(#REF!=\"\", \"\",#REF!))","v":{"$error":"#REF!"}},{"$f":" IF(#REF!=\"\", \"\",#REF!)","v":{"$error":"#REF!"}},{"$f":" IF(#REF!=\"\", \"\",#REF!)","v":{"$error":"#REF!"}},{"$f":" IF(#REF!=\"\", \"\",#REF!)","v":{"$error":"#REF!"}},{"$f":" IF(#REF!=\"\", \"\",#REF!)","v":{"$error":"#REF!"}},{"$f":"IF(AW161=\"\", \"\", IF($L161=\"男\", VLOOKUP(AW161, データ!$B$2:$C$101, 2, FALSE), IF($L161=\"女\", VLOOKUP(AW161, データ!$F$2:$H$101, 2, FALSE), \"\")))","v":{"$error":"#REF!"}},{"$f":"IF(A161=\"\",\"\", IF(#REF!=\"\", \"\",#REF!))","v":{"$error":"#REF!"}},{"$f":" IF(#REF!=\"\", \"\",#REF!)","v":{"$error":"#REF!"}},{"$f":" IF(#REF!=\"\", \"\",#REF!)","v":{"$error":"#REF!"}},{"$f":" IF(#REF!=\"\", \"\",#REF!)","v":{"$error":"#REF!"}},{"$f":" IF(#REF!=\"\", \"\",#REF!)","v":{"$error":"#REF!"}},{"$error":"#REF!"}]
[{"$f":"#REF!","v":{"$error":"#REF!"}},{"$f":" IF(#REF!=\"\", \"\",#REF!)","v":{"$error":"#REF!"}},{"$f":" IF(#REF!=\"\", \"\",#REF!)","v":{"$error":"#REF!"}},{"$f":" IF(#REF!=\"\", \"\",#REF!)","v":{"$error":"#REF!"}},{"$error":"#REF!"},{"$error":"#REF!"},{"$error":"#REF!"},{"$error":"#REF!"},{"$f":" IF(#REF!=\"\", \"\",#REF!)","v":{"$error":"#REF!"}},{"$f":" IF(#REF!=\"\", \"\",#REF!)","v":{"$error":"#REF!"}},{"$f":" IF(#REF!=\"\", \"\",#REF!)","v":{"$error":"#REF!"}},{"$f":" IF(#REF!=\"\", \"\",#REF!)","v":{"$error":"#REF!"}},{"$f":" IF(#REF!=\"\", \"\",#REF!)","v":{"$error":"#REF!"}},{"$f":" IF(#REF!=\"\", \"\",#REF!)","v":{"$error":"#REF!"}},{"$f":" IF(#REF!=\"\", \"\",#REF!)","v":{"$error":"#REF!"}},{"$f":" IF(#REF!=\"\", \"\",#REF!)","v":{"$error":"#REF!"}},{"$f":"IF(A162=\"\",\"\",#REF!)","v":{"$error":"#REF!"}},{"$f":" IF(Q162=\"\", \"\",#REF!)","v":{"$error":"#REF!"}},{"$f":" IF(Q162=\"\", \"\",#REF!)","v":{"$error":"#REF!"}},{"$f":" IF(Q162=\"\", \"\",#REF!)","v":{"$error":"#REF!"}},{"$f":" IF(Q162=\"\", \"\",#REF!)","v":{"$error":"#REF!"}},{"$f":" IF(#REF!=\"\", \"\",#REF!)","v":{"$error":"#REF!"}},{"$f":" IF(#REF!=\"\", \"\",#REF!)","v":{"$error":"#REF!"}},{"$f":"IF(Y162=\"\", \"\", IF($L162=\"男\", VLOOKUP(Y162, データ!$B$2:$C$101, 2, FALSE), IF($L162=\"女\", VLOOKUP(Y162, データ!$F$2:$H$101, 2, FALSE), \"\")))","v":{"$error":"#REF!"}},{"$f":"IF(A162=\"\",\"\", IF(#REF!=\"\", \"\",#REF!))","v":{"$error":"#REF!"}},{"$f":" IF(#REF!=\"\", \"\",#REF!)","v":{"$error":"#REF!"}},{"$f":" IF(#REF!=\"\", \"\",#REF!)","v":{"$error":"#REF!"}},{"$f":" IF(#REF!=\"\", \"\",#REF!)","v":{"$error":"#REF!"}},{"$f":" IF(#REF!=\"\", \"\",#REF!)","v":{"$error":"#REF!"}},{"$f":"IF(AE162=\"\", \"\", IF($L162=\"男\", VLOOKUP(AE162, データ!$B$2:$C$101, 2, FALSE), IF($L162=\"女\", VLOOKUP(AE162, データ!$F$2:$H$101, 2, FALSE), \"\")))","v":{"$error":"#REF!"}},{"$f":"IF(A162=\"\",\"\", IF(#REF!=\"\", \"\",#REF!))","v":{"$error":"#REF!"}},{"$f":" IF(#REF!=\"\", \"\",#REF!)","v":{"$error":"#REF!"}},{"$f":" IF(#REF!=\"\", \"\",#REF!)","v":{"$error":"#REF!"}},{"$f":" IF(#REF!=\"\", \"\",#REF!)","v":{"$error":"#REF!"}},{"$f":" IF(#REF!=\"\", \"\",#REF!)","v":{"$error":"#REF!"}},{"$f":"IF(AK162=\"\", \"\", IF($L162=\"男\", VLOOKUP(AK162, データ!$B$2:$C$101, 2, FALSE), IF($L162=\"女\", VLOOKUP(AK162, データ!$F$2:$H$101, 2, FALSE), \"\")))","v":{"$error":"#REF!"}},{"$f":"IF(A162=\"\",\"\", IF(#REF!=\"\", \"\",#REF!))","v":{"$error":"#REF!"}},{"$f":" IF(#REF!=\"\", \"\",#REF!)","v":{"$error":"#REF!"}},{"$f":" IF(#REF!=\"\", \"\",#REF!)","v":{"$error":"#REF!"}},{"$f":" IF(#REF!=\"\", \"\",#REF!)","v":{"$error":"#REF!"}},{"$f":" IF(#REF!=\"\", \"\",#REF!)","v":{"$error":"#REF!"}},{"$f":"IF(AQ162=\"\", \"\", IF($L162=\"男\", VLOOKUP(AQ162, データ!$B$2:$C$101, 2, FALSE), IF($L162=\"女\", VLOOKUP(AQ162, データ!$F$2:$H$101, 2, FALSE), \"\")))","v":{"$error":"#REF!"}},{"$f":"IF(A162=\"\",\"\", IF(#REF!=\"\", \"\",#REF!))","v":{"$error":"#REF!"}},{"$f":" IF(#REF!=\"\", \"\",#REF!)","v":{"$error":"#REF!"}},{"$f":" IF(#REF!=\"\", \"\",#REF!)","v":{"$error":"#REF!"}},{"$f":" IF(#REF!=\"\", \"\",#REF!)","v":{"$error":"#REF!"}},{"$f":" IF(#REF!=\"\", \"\",#REF!)","v":{"$error":"#REF!"}},{"$f":"IF(AW162=\"\", \"\", IF($L162=\"男\", VLOOKUP(AW162, データ!$B$2:$C$101, 2, FALSE), IF($L162=\"女\", VLOOKUP(AW162, データ!$F$2:$H$101, 2, FALSE), \"\")))","v":{"$error":"#REF!"}},{"$f":"IF(A162=\"\",\"\", IF(#REF!=\"\", \"\",#REF!))","v":{"$error":"#REF!"}},{"$f":" IF(#REF!=\"\", \"\",#REF!)","v":{"$error":"#REF!"}},{"$f":" IF(#REF!=\"\", \"\",#REF!)","v":{"$error":"#REF!"}},{"$f":" IF(#REF!=\"\", \"\",#REF!)","v":{"$error":"#REF!"}},{"$f":" IF(#REF!=\"\", \"\",#REF!)","v":{"$error":"#REF!"}},{"$error":"#REF!"}]
[{"$f":"#REF!","v":{"$error":"#REF!"}},{"$f":" IF(#REF!=\"\", \"\",#REF!)","v":{"$error":"#REF!"}},{"$f":" IF(#REF!=\"\", \"\",#REF!)","v":{"$error":"#REF!"}},{"$f":" IF(#REF!=\"\", \"\",#REF!)","v":{"$error":"#REF!"}},{"$error":"#REF!"},{"$error":"#REF!"},{"$error":"#REF!"},{"$error":"#REF!"},{"$f":" IF(#REF!=\"\", \"\",#REF!)","v":{"$error":"#REF!"}},{"$f":" IF(#REF!=\"\", \"\",#REF!)","v":{"$error":"#REF!"}},{"$f":" IF(#REF!=\"\", \"\",#REF!)","v":{"$error":"#REF!"}},{"$f":" IF(#REF!=\"\", \"\",#REF!)","v":{"$error":"#REF!"}},{"$f":" IF(#REF!=\"\", \"\",#REF!)","v":{"$error":"#REF!"}},{"$f":" IF(#REF!=\"\", \"\",#REF!)","v":{"$error":"#REF!"}},{"$f":" IF(#REF!=\"\", \"\",#REF!)","v":{"$error":"#REF!"}},{"$f":" IF(#REF!=\"\", \"\",#REF!)","v":{"$error":"#REF!"}},{"$f":"IF(A163=\"\",\"\",#REF!)","v":{"$error":"#REF!"}},{"$f":" IF(Q163=\"\", \"\",#REF!)","v":{"$error":"#REF!"}},{"$f":" IF(Q163=\"\", \"\",#REF!)","v":{"$error":"#REF!"}},{"$f":" IF(Q163=\"\", \"\",#REF!)","v":{"$error":"#REF!"}},{"$f":" IF(Q163=\"\", \"\",#REF!)","v":{"$error":"#REF!"}},{"$f":" IF(#REF!=\"\", \"\",#REF!)","v":{"$error":"#REF!"}},{"$f":" IF(#REF!=\"\", \"\",#REF!)","v":{"$error":"#REF!"}},{"$f":"IF(Y163=\"\", \"\", IF($L163=\"男\", VLOOKUP(Y163, データ!$B$2:$C$101, 2, FALSE), IF($L163=\"女\", VLOOKUP(Y163, データ!$F$2:$H$101, 2, FALSE), \"\")))","v":{"$error":"#REF!"}},{"$f":"IF(A163=\"\",\"\", IF(#REF!=\"\", \"\",#REF!))","v":{"$error":"#REF!"}},{"$f":" IF(#REF!=\"\", \"\",#REF!)","v":{"$error":"#REF!"}},{"$f":" IF(#REF!=\"\", \"\",#REF!)","v":{"$error":"#REF!"}},{"$f":" IF(#REF!=\"\", \"\",#REF!)","v":{"$error":"#REF!"}},{"$f":" IF(#REF!=\"\", \"\",#REF!)","v":{"$error":"#REF!"}},{"$f":"IF(AE163=\"\", \"\", IF($L163=\"男\", VLOOKUP(AE163, データ!$B$2:$C$101, 2, FALSE), IF($L163=\"女\", VLOOKUP(AE163, データ!$F$2:$H$101, 2, FALSE), \"\")))","v":{"$error":"#REF!"}},{"$f":"IF(A163=\"\",\"\", IF(#REF!=\"\", \"\",#REF!))","v":{"$error":"#REF!"}},{"$f":" IF(#REF!=\"\", \"\",#REF!)","v":{"$error":"#REF!"}},{"$f":" IF(#REF!=\"\", \"\",#REF!)","v":{"$error":"#REF!"}},{"$f":" IF(#REF!=\"\", \"\",#REF!)","v":{"$error":"#REF!"}},{"$f":" IF(#REF!=\"\", \"\",#REF!)","v":{"$error":"#REF!"}},{"$f":"IF(AK163=\"\", \"\", IF($L163=\"男\", VLOOKUP(AK163, データ!$B$2:$C$101, 2, FALSE), IF($L163=\"女\", VLOOKUP(AK163, データ!$F$2:$H$101, 2, FALSE), \"\")))","v":{"$error":"#REF!"}},{"$f":"IF(A163=\"\",\"\", IF(#REF!=\"\", \"\",#REF!))","v":{"$error":"#REF!"}},{"$f":" IF(#REF!=\"\", \"\",#REF!)","v":{"$error":"#REF!"}},{"$f":" IF(#REF!=\"\", \"\",#REF!)","v":{"$error":"#REF!"}},{"$f":" IF(#REF!=\"\", \"\",#REF!)","v":{"$error":"#REF!"}},{"$f":" IF(#REF!=\"\", \"\",#REF!)","v":{"$error":"#REF!"}},{"$f":"IF(AQ163=\"\", \"\", IF($L163=\"男\", VLOOKUP(AQ163, データ!$B$2:$C$101, 2, FALSE), IF($L163=\"女\", VLOOKUP(AQ163, データ!$F$2:$H$101, 2, FALSE), \"\")))","v":{"$error":"#REF!"}},{"$f":"IF(A163=\"\",\"\", IF(#REF!=\"\", \"\",#REF!))","v":{"$error":"#REF!"}},{"$f":" IF(#REF!=\"\", \"\",#REF!)","v":{"$error":"#REF!"}},{"$f":" IF(#REF!=\"\", \"\",#REF!)","v":{"$error":"#REF!"}},{"$f":" IF(#REF!=\"\", \"\",#REF!)","v":{"$error":"#REF!"}},{"$f":" IF(#REF!=\"\", \"\",#REF!)","v":{"$error":"#REF!"}},{"$f":"IF(AW163=\"\", \"\", IF($L163=\"男\", VLOOKUP(AW163, データ!$B$2:$C$101, 2, FALSE), IF($L163=\"女\", VLOOKUP(AW163, データ!$F$2:$H$101, 2, FALSE), \"\")))","v":{"$error":"#REF!"}},{"$f":"IF(A163=\"\",\"\", IF(#REF!=\"\", \"\",#REF!))","v":{"$error":"#REF!"}},{"$f":" IF(#REF!=\"\", \"\",#REF!)","v":{"$error":"#REF!"}},{"$f":" IF(#REF!=\"\", \"\",#REF!)","v":{"$error":"#REF!"}},{"$f":" IF(#REF!=\"\", \"\",#REF!)","v":{"$error":"#REF!"}},{"$f":" IF(#REF!=\"\", \"\",#REF!)","v":{"$error":"#REF!"}},{"$error":"#REF!"}]
[{"$f":"#REF!","v":{"$error":"#REF!"}},{"$f":" IF(#REF!=\"\", \"\",#REF!)","v":{"$error":"#REF!"}},{"$f":" IF(#REF!=\"\", \"\",#REF!)","v":{"$error":"#REF!"}},{"$f":" IF(#REF!=\"\", \"\",#REF!)","v":{"$error":"#REF!"}},{"$error":"#REF!"},{"$error":"#REF!"},{"$error":"#REF!"},{"$error":"#REF!"},{"$f":" IF(#REF!=\"\", \"\",#REF!)","v":{"$error":"#REF!"}},{"$f":" IF(#REF!=\"\", \"\",#REF!)","v":{"$error":"#REF!"}},{"$f":" IF(#REF!=\"\", \"\",#REF!)","v":{"$error":"#REF!"}},{"$f":" IF(#REF!=\"\", \"\",#REF!)","v":{"$error":"#REF!"}},{"$f":" IF(#REF!=\"\", \"\",#REF!)","v":{"$error":"#REF!"}},{"$f":" IF(#REF!=\"\", \"\",#REF!)","v":{"$error":"#REF!"}},{"$f":" IF(#REF!=\"\", \"\",#REF!)","v":{"$error":"#REF!"}},{"$f":" IF(#REF!=\"\", \"\",#REF!)","v":{"$error":"#REF!"}},{"$f":"IF(A164=\"\",\"\",#REF!)","v":{"$error":"#REF!"}},{"$f":" IF(Q164=\"\", \"\",#REF!)","v":{"$error":"#REF!"}},{"$f":" IF(Q164=\"\", \"\",#REF!)","v":{"$error":"#REF!"}},{"$f":" IF(Q164=\"\", \"\",#REF!)","v":{"$error":"#REF!"}},{"$f":" IF(Q164=\"\", \"\",#REF!)","v":{"$error":"#REF!"}},{"$f":" IF(#REF!=\"\", \"\",#REF!)","v":{"$error":"#REF!"}},{"$f":" IF(#REF!=\"\", \"\",#REF!)","v":{"$error":"#REF!"}},{"$f":"IF(Y164=\"\", \"\", IF($L164=\"男\", VLOOKUP(Y164, データ!$B$2:$C$101, 2, FALSE), IF($L164=\"女\", VLOOKUP(Y164, データ!$F$2:$H$101, 2, FALSE), \"\")))","v":{"$error":"#REF!"}},{"$f":"IF(A164=\"\",\"\", IF(#REF!=\"\", \"\",#REF!))","v":{"$error":"#REF!"}},{"$f":" IF(#REF!=\"\", \"\",#REF!)","v":{"$error":"#REF!"}},{"$f":" IF(#REF!=\"\", \"\",#REF!)","v":{"$error":"#REF!"}},{"$f":" IF(#REF!=\"\", \"\",#REF!)","v":{"$error":"#REF!"}},{"$f":" IF(#REF!=\"\", \"\",#REF!)","v":{"$error":"#REF!"}},{"$f":"IF(AE164=\"\", \"\", IF($L164=\"男\", VLOOKUP(AE164, データ!$B$2:$C$101, 2, FALSE), IF($L164=\"女\", VLOOKUP(AE164, データ!$F$2:$H$101, 2, FALSE), \"\")))","v":{"$error":"#REF!"}},{"$f":"IF(A164=\"\",\"\", IF(#REF!=\"\", \"\",#REF!))","v":{"$error":"#REF!"}},{"$f":" IF(#REF!=\"\", \"\",#REF!)","v":{"$error":"#REF!"}},{"$f":" IF(#REF!=\"\", \"\",#REF!)","v":{"$error":"#REF!"}},{"$f":" IF(#REF!=\"\", \"\",#REF!)","v":{"$error":"#REF!"}},{"$f":" IF(#REF!=\"\", \"\",#REF!)","v":{"$error":"#REF!"}},{"$f":"IF(AK164=\"\", \"\", IF($L164=\"男\", VLOOKUP(AK164, データ!$B$2:$C$101, 2, FALSE), IF($L164=\"女\", VLOOKUP(AK164, データ!$F$2:$H$101, 2, FALSE), \"\")))","v":{"$error":"#REF!"}},{"$f":"IF(A164=\"\",\"\", IF(#REF!=\"\", \"\",#REF!))","v":{"$error":"#REF!"}},{"$f":" IF(#REF!=\"\", \"\",#REF!)","v":{"$error":"#REF!"}},{"$f":" IF(#REF!=\"\", \"\",#REF!)","v":{"$error":"#REF!"}},{"$f":" IF(#REF!=\"\", \"\",#REF!)","v":{"$error":"#REF!"}},{"$f":" IF(#REF!=\"\", \"\",#REF!)","v":{"$error":"#REF!"}},{"$f":"IF(AQ164=\"\", \"\", IF($L164=\"男\", VLOOKUP(AQ164, データ!$B$2:$C$101, 2, FALSE), IF($L164=\"女\", VLOOKUP(AQ164, データ!$F$2:$H$101, 2, FALSE), \"\")))","v":{"$error":"#REF!"}},{"$f":"IF(A164=\"\",\"\", IF(#REF!=\"\", \"\",#REF!))","v":{"$error":"#REF!"}},{"$f":" IF(#REF!=\"\", \"\",#REF!)","v":{"$error":"#REF!"}},{"$f":" IF(#REF!=\"\", \"\",#REF!)","v":{"$error":"#REF!"}},{"$f":" IF(#REF!=\"\", \"\",#REF!)","v":{"$error":"#REF!"}},{"$f":" IF(#REF!=\"\", \"\",#REF!)","v":{"$error":"#REF!"}},{"$f":"IF(AW164=\"\", \"\", IF($L164=\"男\", VLOOKUP(AW164, データ!$B$2:$C$101, 2, FALSE), IF($L164=\"女\", VLOOKUP(AW164, データ!$F$2:$H$101, 2, FALSE), \"\")))","v":{"$error":"#REF!"}},{"$f":"IF(A164=\"\",\"\", IF(#REF!=\"\", \"\",#REF!))","v":{"$error":"#REF!"}},{"$f":" IF(#REF!=\"\", \"\",#REF!)","v":{"$error":"#REF!"}},{"$f":" IF(#REF!=\"\", \"\",#REF!)","v":{"$error":"#REF!"}},{"$f":" IF(#REF!=\"\", \"\",#REF!)","v":{"$error":"#REF!"}},{"$f":" IF(#REF!=\"\", \"\",#REF!)","v":{"$error":"#REF!"}},{"$error":"#REF!"}]
[{"$f":"#REF!","v":{"$error":"#REF!"}},{"$f":" IF(#REF!=\"\", \"\",#REF!)","v":{"$error":"#REF!"}},{"$f":" IF(#REF!=\"\", \"\",#REF!)","v":{"$error":"#REF!"}},{"$f":" IF(#REF!=\"\", \"\",#REF!)","v":{"$error":"#REF!"}},{"$error":"#REF!"},{"$error":"#REF!"},{"$error":"#REF!"},{"$error":"#REF!"},{"$f":" IF(#REF!=\"\", \"\",#REF!)","v":{"$error":"#REF!"}},{"$f":" IF(#REF!=\"\", \"\",#REF!)","v":{"$error":"#REF!"}},{"$f":" IF(#REF!=\"\", \"\",#REF!)","v":{"$error":"#REF!"}},{"$f":" IF(#REF!=\"\", \"\",#REF!)","v":{"$error":"#REF!"}},{"$f":" IF(#REF!=\"\", \"\",#REF!)","v":{"$error":"#REF!"}},{"$f":" IF(#REF!=\"\", \"\",#REF!)","v":{"$error":"#REF!"}},{"$f":" IF(#REF!=\"\", \"\",#REF!)","v":{"$error":"#REF!"}},{"$f":" IF(#REF!=\"\", \"\",#REF!)","v":{"$error":"#REF!"}},{"$f":"IF(A165=\"\",\"\",#REF!)","v":{"$error":"#REF!"}},{"$f":" IF(Q165=\"\", \"\",#REF!)","v":{"$error":"#REF!"}},{"$f":" IF(Q165=\"\", \"\",#REF!)","v":{"$error":"#REF!"}},{"$f":" IF(Q165=\"\", \"\",#REF!)","v":{"$error":"#REF!"}},{"$f":" IF(Q165=\"\", \"\",#REF!)","v":{"$error":"#REF!"}},{"$f":" IF(#REF!=\"\", \"\",#REF!)","v":{"$error":"#REF!"}},{"$f":" IF(#REF!=\"\", \"\",#REF!)","v":{"$error":"#REF!"}},{"$f":"IF(Y165=\"\", \"\", IF($L165=\"男\", VLOOKUP(Y165, データ!$B$2:$C$101, 2, FALSE), IF($L165=\"女\", VLOOKUP(Y165, データ!$F$2:$H$101, 2, FALSE), \"\")))","v":{"$error":"#REF!"}},{"$f":"IF(A165=\"\",\"\", IF(#REF!=\"\", \"\",#REF!))","v":{"$error":"#REF!"}},{"$f":" IF(#REF!=\"\", \"\",#REF!)","v":{"$error":"#REF!"}},{"$f":" IF(#REF!=\"\", \"\",#REF!)","v":{"$error":"#REF!"}},{"$f":" IF(#REF!=\"\", \"\",#REF!)","v":{"$error":"#REF!"}},{"$f":" IF(#REF!=\"\", \"\",#REF!)","v":{"$error":"#REF!"}},{"$f":"IF(AE165=\"\", \"\", IF($L165=\"男\", VLOOKUP(AE165, データ!$B$2:$C$101, 2, FALSE), IF($L165=\"女\", VLOOKUP(AE165, データ!$F$2:$H$101, 2, FALSE), \"\")))","v":{"$error":"#REF!"}},{"$f":"IF(A165=\"\",\"\", IF(#REF!=\"\", \"\",#REF!))","v":{"$error":"#REF!"}},{"$f":" IF(#REF!=\"\", \"\",#REF!)","v":{"$error":"#REF!"}},{"$f":" IF(#REF!=\"\", \"\",#REF!)","v":{"$error":"#REF!"}},{"$f":" IF(#REF!=\"\", \"\",#REF!)","v":{"$error":"#REF!"}},{"$f":" IF(#REF!=\"\", \"\",#REF!)","v":{"$error":"#REF!"}},{"$f":"IF(AK165=\"\", \"\", IF($L165=\"男\", VLOOKUP(AK165, データ!$B$2:$C$101, 2, FALSE), IF($L165=\"女\", VLOOKUP(AK165, データ!$F$2:$H$101, 2, FALSE), \"\")))","v":{"$error":"#REF!"}},{"$f":"IF(A165=\"\",\"\", IF(#REF!=\"\", \"\",#REF!))","v":{"$error":"#REF!"}},{"$f":" IF(#REF!=\"\", \"\",#REF!)","v":{"$error":"#REF!"}},{"$f":" IF(#REF!=\"\", \"\",#REF!)","v":{"$error":"#REF!"}},{"$f":" IF(#REF!=\"\", \"\",#REF!)","v":{"$error":"#REF!"}},{"$f":" IF(#REF!=\"\", \"\",#REF!)","v":{"$error":"#REF!"}},{"$f":"IF(AQ165=\"\", \"\", IF($L165=\"男\", VLOOKUP(AQ165, データ!$B$2:$C$101, 2, FALSE), IF($L165=\"女\", VLOOKUP(AQ165, データ!$F$2:$H$101, 2, FALSE), \"\")))","v":{"$error":"#REF!"}},{"$f":"IF(A165=\"\",\"\", IF(#REF!=\"\", \"\",#REF!))","v":{"$error":"#REF!"}},{"$f":" IF(#REF!=\"\", \"\",#REF!)","v":{"$error":"#REF!"}},{"$f":" IF(#REF!=\"\", \"\",#REF!)","v":{"$error":"#REF!"}},{"$f":" IF(#REF!=\"\", \"\",#REF!)","v":{"$error":"#REF!"}},{"$f":" IF(#REF!=\"\", \"\",#REF!)","v":{"$error":"#REF!"}},{"$f":"IF(AW165=\"\", \"\", IF($L165=\"男\", VLOOKUP(AW165, データ!$B$2:$C$101, 2, FALSE), IF($L165=\"女\", VLOOKUP(AW165, データ!$F$2:$H$101, 2, FALSE), \"\")))","v":{"$error":"#REF!"}},{"$f":"IF(A165=\"\",\"\", IF(#REF!=\"\", \"\",#REF!))","v":{"$error":"#REF!"}},{"$f":" IF(#REF!=\"\", \"\",#REF!)","v":{"$error":"#REF!"}},{"$f":" IF(#REF!=\"\", \"\",#REF!)","v":{"$error":"#REF!"}},{"$f":" IF(#REF!=\"\", \"\",#REF!)","v":{"$error":"#REF!"}},{"$f":" IF(#REF!=\"\", \"\",#REF!)","v":{"$error":"#REF!"}},{"$error":"#REF!"}]
[{"$f":"#REF!","v":{"$error":"#REF!"}},{"$f":" IF(#REF!=\"\", \"\",#REF!)","v":{"$error":"#REF!"}},{"$f":" IF(#REF!=\"\", \"\",#REF!)","v":{"$error":"#REF!"}},{"$f":" IF(#REF!=\"\", \"\",#REF!)","v":{"$error":"#REF!"}},{"$error":"#REF!"},{"$error":"#REF!"},{"$error":"#REF!"},{"$error":"#REF!"},{"$f":" IF(#REF!=\"\", \"\",#REF!)","v":{"$error":"#REF!"}},{"$f":" IF(#REF!=\"\", \"\",#REF!)","v":{"$error":"#REF!"}},{"$f":" IF(#REF!=\"\", \"\",#REF!)","v":{"$error":"#REF!"}},{"$f":" IF(#REF!=\"\", \"\",#REF!)","v":{"$error":"#REF!"}},{"$f":" IF(#REF!=\"\", \"\",#REF!)","v":{"$error":"#REF!"}},{"$f":" IF(#REF!=\"\", \"\",#REF!)","v":{"$error":"#REF!"}},{"$f":" IF(#REF!=\"\", \"\",#REF!)","v":{"$error":"#REF!"}},{"$f":" IF(#REF!=\"\", \"\",#REF!)","v":{"$error":"#REF!"}},{"$f":"IF(A166=\"\",\"\",#REF!)","v":{"$error":"#REF!"}},{"$f":" IF(Q166=\"\", \"\",#REF!)","v":{"$error":"#REF!"}},{"$f":" IF(Q166=\"\", \"\",#REF!)","v":{"$error":"#REF!"}},{"$f":" IF(Q166=\"\", \"\",#REF!)","v":{"$error":"#REF!"}},{"$f":" IF(Q166=\"\", \"\",#REF!)","v":{"$error":"#REF!"}},{"$f":" IF(#REF!=\"\", \"\",#REF!)","v":{"$error":"#REF!"}},{"$f":" IF(#REF!=\"\", \"\",#REF!)","v":{"$error":"#REF!"}},{"$f":"IF(Y166=\"\", \"\", IF($L166=\"男\", VLOOKUP(Y166, データ!$B$2:$C$101, 2, FALSE), IF($L166=\"女\", VLOOKUP(Y166, データ!$F$2:$H$101, 2, FALSE), \"\")))","v":{"$error":"#REF!"}},{"$f":"IF(A166=\"\",\"\", IF(#REF!=\"\", \"\",#REF!))","v":{"$error":"#REF!"}},{"$f":" IF(#REF!=\"\", \"\",#REF!)","v":{"$error":"#REF!"}},{"$f":" IF(#REF!=\"\", \"\",#REF!)","v":{"$error":"#REF!"}},{"$f":" IF(#REF!=\"\", \"\",#REF!)","v":{"$error":"#REF!"}},{"$f":" IF(#REF!=\"\", \"\",#REF!)","v":{"$error":"#REF!"}},{"$f":"IF(AE166=\"\", \"\", IF($L166=\"男\", VLOOKUP(AE166, データ!$B$2:$C$101, 2, FALSE), IF($L166=\"女\", VLOOKUP(AE166, データ!$F$2:$H$101, 2, FALSE), \"\")))","v":{"$error":"#REF!"}},{"$f":"IF(A166=\"\",\"\", IF(#REF!=\"\", \"\",#REF!))","v":{"$error":"#REF!"}},{"$f":" IF(#REF!=\"\", \"\",#REF!)","v":{"$error":"#REF!"}},{"$f":" IF(#REF!=\"\", \"\",#REF!)","v":{"$error":"#REF!"}},{"$f":" IF(#REF!=\"\", \"\",#REF!)","v":{"$error":"#REF!"}},{"$f":" IF(#REF!=\"\", \"\",#REF!)","v":{"$error":"#REF!"}},{"$f":"IF(AK166=\"\", \"\", IF($L166=\"男\", VLOOKUP(AK166, データ!$B$2:$C$101, 2, FALSE), IF($L166=\"女\", VLOOKUP(AK166, データ!$F$2:$H$101, 2, FALSE), \"\")))","v":{"$error":"#REF!"}},{"$f":"IF(A166=\"\",\"\", IF(#REF!=\"\", \"\",#REF!))","v":{"$error":"#REF!"}},{"$f":" IF(#REF!=\"\", \"\",#REF!)","v":{"$error":"#REF!"}},{"$f":" IF(#REF!=\"\", \"\",#REF!)","v":{"$error":"#REF!"}},{"$f":" IF(#REF!=\"\", \"\",#REF!)","v":{"$error":"#REF!"}},{"$f":" IF(#REF!=\"\", \"\",#REF!)","v":{"$error":"#REF!"}},{"$f":"IF(AQ166=\"\", \"\", IF($L166=\"男\", VLOOKUP(AQ166, データ!$B$2:$C$101, 2, FALSE), IF($L166=\"女\", VLOOKUP(AQ166, データ!$F$2:$H$101, 2, FALSE), \"\")))","v":{"$error":"#REF!"}},{"$f":"IF(A166=\"\",\"\", IF(#REF!=\"\", \"\",#REF!))","v":{"$error":"#REF!"}},{"$f":" IF(#REF!=\"\", \"\",#REF!)","v":{"$error":"#REF!"}},{"$f":" IF(#REF!=\"\", \"\",#REF!)","v":{"$error":"#REF!"}},{"$f":" IF(#REF!=\"\", \"\",#REF!)","v":{"$error":"#REF!"}},{"$f":" IF(#REF!=\"\", \"\",#REF!)","v":{"$error":"#REF!"}},{"$f":"IF(AW166=\"\", \"\", IF($L166=\"男\", VLOOKUP(AW166, データ!$B$2:$C$101, 2, FALSE), IF($L166=\"女\", VLOOKUP(AW166, データ!$F$2:$H$101, 2, FALSE), \"\")))","v":{"$error":"#REF!"}},{"$f":"IF(A166=\"\",\"\", IF(#REF!=\"\", \"\",#REF!))","v":{"$error":"#REF!"}},{"$f":" IF(#REF!=\"\", \"\",#REF!)","v":{"$error":"#REF!"}},{"$f":" IF(#REF!=\"\", \"\",#REF!)","v":{"$error":"#REF!"}},{"$f":" IF(#REF!=\"\", \"\",#REF!)","v":{"$error":"#REF!"}},{"$f":" IF(#REF!=\"\", \"\",#REF!)","v":{"$error":"#REF!"}},{"$error":"#REF!"}]
[{"$f":"#REF!","v":{"$error":"#REF!"}},{"$f":" IF(#REF!=\"\", \"\",#REF!)","v":{"$error":"#REF!"}},{"$f":" IF(#REF!=\"\", \"\",#REF!)","v":{"$error":"#REF!"}},{"$f":" IF(#REF!=\"\", \"\",#REF!)","v":{"$error":"#REF!"}},{"$error":"#REF!"},{"$error":"#REF!"},{"$error":"#REF!"},{"$error":"#REF!"},{"$f":" IF(#REF!=\"\", \"\",#REF!)","v":{"$error":"#REF!"}},{"$f":" IF(#REF!=\"\", \"\",#REF!)","v":{"$error":"#REF!"}},{"$f":" IF(#REF!=\"\", \"\",#REF!)","v":{"$error":"#REF!"}},{"$f":" IF(#REF!=\"\", \"\",#REF!)","v":{"$error":"#REF!"}},{"$f":" IF(#REF!=\"\", \"\",#REF!)","v":{"$error":"#REF!"}},{"$f":" IF(#REF!=\"\", \"\",#REF!)","v":{"$error":"#REF!"}},{"$f":" IF(#REF!=\"\", \"\",#REF!)","v":{"$error":"#REF!"}},{"$f":" IF(#REF!=\"\", \"\",#REF!)","v":{"$error":"#REF!"}},{"$f":"IF(A167=\"\",\"\",#REF!)","v":{"$error":"#REF!"}},{"$f":" IF(Q167=\"\", \"\",#REF!)","v":{"$error":"#REF!"}},{"$f":" IF(Q167=\"\", \"\",#REF!)","v":{"$error":"#REF!"}},{"$f":" IF(Q167=\"\", \"\",#REF!)","v":{"$error":"#REF!"}},{"$f":" IF(Q167=\"\", \"\",#REF!)","v":{"$error":"#REF!"}},{"$f":" IF(#REF!=\"\", \"\",#REF!)","v":{"$error":"#REF!"}},{"$f":" IF(#REF!=\"\", \"\",#REF!)","v":{"$error":"#REF!"}},{"$f":"IF(Y167=\"\", \"\", IF($L167=\"男\", VLOOKUP(Y167, データ!$B$2:$C$101, 2, FALSE), IF($L167=\"女\", VLOOKUP(Y167, データ!$F$2:$H$101, 2, FALSE), \"\")))","v":{"$error":"#REF!"}},{"$f":"IF(A167=\"\",\"\", IF(#REF!=\"\", \"\",#REF!))","v":{"$error":"#REF!"}},{"$f":" IF(#REF!=\"\", \"\",#REF!)","v":{"$error":"#REF!"}},{"$f":" IF(#REF!=\"\", \"\",#REF!)","v":{"$error":"#REF!"}},{"$f":" IF(#REF!=\"\", \"\",#REF!)","v":{"$error":"#REF!"}},{"$f":" IF(#REF!=\"\", \"\",#REF!)","v":{"$error":"#REF!"}},{"$f":"IF(AE167=\"\", \"\", IF($L167=\"男\", VLOOKUP(AE167, データ!$B$2:$C$101, 2, FALSE), IF($L167=\"女\", VLOOKUP(AE167, データ!$F$2:$H$101, 2, FALSE), \"\")))","v":{"$error":"#REF!"}},{"$f":"IF(A167=\"\",\"\", IF(#REF!=\"\", \"\",#REF!))","v":{"$error":"#REF!"}},{"$f":" IF(#REF!=\"\", \"\",#REF!)","v":{"$error":"#REF!"}},{"$f":" IF(#REF!=\"\", \"\",#REF!)","v":{"$error":"#REF!"}},{"$f":" IF(#REF!=\"\", \"\",#REF!)","v":{"$error":"#REF!"}},{"$f":" IF(#REF!=\"\", \"\",#REF!)","v":{"$error":"#REF!"}},{"$f":"IF(AK167=\"\", \"\", IF($L167=\"男\", VLOOKUP(AK167, データ!$B$2:$C$101, 2, FALSE), IF($L167=\"女\", VLOOKUP(AK167, データ!$F$2:$H$101, 2, FALSE), \"\")))","v":{"$error":"#REF!"}},{"$f":"IF(A167=\"\",\"\", IF(#REF!=\"\", \"\",#REF!))","v":{"$error":"#REF!"}},{"$f":" IF(#REF!=\"\", \"\",#REF!)","v":{"$error":"#REF!"}},{"$f":" IF(#REF!=\"\", \"\",#REF!)","v":{"$error":"#REF!"}},{"$f":" IF(#REF!=\"\", \"\",#REF!)","v":{"$error":"#REF!"}},{"$f":" IF(#REF!=\"\", \"\",#REF!)","v":{"$error":"#REF!"}},{"$f":"IF(AQ167=\"\", \"\", IF($L167=\"男\", VLOOKUP(AQ167, データ!$B$2:$C$101, 2, FALSE), IF($L167=\"女\", VLOOKUP(AQ167, データ!$F$2:$H$101, 2, FALSE), \"\")))","v":{"$error":"#REF!"}},{"$f":"IF(A167=\"\",\"\", IF(#REF!=\"\", \"\",#REF!))","v":{"$error":"#REF!"}},{"$f":" IF(#REF!=\"\", \"\",#REF!)","v":{"$error":"#REF!"}},{"$f":" IF(#REF!=\"\", \"\",#REF!)","v":{"$error":"#REF!"}},{"$f":" IF(#REF!=\"\", \"\",#REF!)","v":{"$error":"#REF!"}},{"$f":" IF(#REF!=\"\", \"\",#REF!)","v":{"$error":"#REF!"}},{"$f":"IF(AW167=\"\", \"\", IF($L167=\"男\", VLOOKUP(AW167, データ!$B$2:$C$101, 2, FALSE), IF($L167=\"女\", VLOOKUP(AW167, データ!$F$2:$H$101, 2, FALSE), \"\")))","v":{"$error":"#REF!"}},{"$f":"IF(A167=\"\",\"\", IF(#REF!=\"\", \"\",#REF!))","v":{"$error":"#REF!"}},{"$f":" IF(#REF!=\"\", \"\",#REF!)","v":{"$error":"#REF!"}},{"$f":" IF(#REF!=\"\", \"\",#REF!)","v":{"$error":"#REF!"}},{"$f":" IF(#REF!=\"\", \"\",#REF!)","v":{"$error":"#REF!"}},{"$f":" IF(#REF!=\"\", \"\",#REF!)","v":{"$error":"#REF!"}},{"$error":"#REF!"}]
[{"$f":"#REF!","v":{"$error":"#REF!"}},{"$f":" IF(#REF!=\"\", \"\",#REF!)","v":{"$error":"#REF!"}},{"$f":" IF(#REF!=\"\", \"\",#REF!)","v":{"$error":"#REF!"}},{"$f":" IF(#REF!=\"\", \"\",#REF!)","v":{"$error":"#REF!"}},{"$error":"#REF!"},{"$error":"#REF!"},{"$error":"#REF!"},{"$error":"#REF!"},{"$f":" IF(#REF!=\"\", \"\",#REF!)","v":{"$error":"#REF!"}},{"$f":" IF(#REF!=\"\", \"\",#REF!)","v":{"$error":"#REF!"}},{"$f":" IF(#REF!=\"\", \"\",#REF!)","v":{"$error":"#REF!"}},{"$f":" IF(#REF!=\"\", \"\",#REF!)","v":{"$error":"#REF!"}},{"$f":" IF(#REF!=\"\", \"\",#REF!)","v":{"$error":"#REF!"}},{"$f":" IF(#REF!=\"\", \"\",#REF!)","v":{"$error":"#REF!"}},{"$f":" IF(#REF!=\"\", \"\",#REF!)","v":{"$error":"#REF!"}},{"$f":" IF(#REF!=\"\", \"\",#REF!)","v":{"$error":"#REF!"}},{"$f":"IF(A168=\"\",\"\",#REF!)","v":{"$error":"#REF!"}},{"$f":" IF(Q168=\"\", \"\",#REF!)","v":{"$error":"#REF!"}},{"$f":" IF(Q168=\"\", \"\",#REF!)","v":{"$error":"#REF!"}},{"$f":" IF(Q168=\"\", \"\",#REF!)","v":{"$error":"#REF!"}},{"$f":" IF(Q168=\"\", \"\",#REF!)","v":{"$error":"#REF!"}},{"$f":" IF(#REF!=\"\", \"\",#REF!)","v":{"$error":"#REF!"}},{"$f":" IF(#REF!=\"\", \"\",#REF!)","v":{"$error":"#REF!"}},{"$f":"IF(Y168=\"\", \"\", IF($L168=\"男\", VLOOKUP(Y168, データ!$B$2:$C$101, 2, FALSE), IF($L168=\"女\", VLOOKUP(Y168, データ!$F$2:$H$101, 2, FALSE), \"\")))","v":{"$error":"#REF!"}},{"$f":"IF(A168=\"\",\"\", IF(#REF!=\"\", \"\",#REF!))","v":{"$error":"#REF!"}},{"$f":" IF(#REF!=\"\", \"\",#REF!)","v":{"$error":"#REF!"}},{"$f":" IF(#REF!=\"\", \"\",#REF!)","v":{"$error":"#REF!"}},{"$f":" IF(#REF!=\"\", \"\",#REF!)","v":{"$error":"#REF!"}},{"$f":" IF(#REF!=\"\", \"\",#REF!)","v":{"$error":"#REF!"}},{"$f":"IF(AE168=\"\", \"\", IF($L168=\"男\", VLOOKUP(AE168, データ!$B$2:$C$101, 2, FALSE), IF($L168=\"女\", VLOOKUP(AE168, データ!$F$2:$H$101, 2, FALSE), \"\")))","v":{"$error":"#REF!"}},{"$f":"IF(A168=\"\",\"\", IF(#REF!=\"\", \"\",#REF!))","v":{"$error":"#REF!"}},{"$f":" IF(#REF!=\"\", \"\",#REF!)","v":{"$error":"#REF!"}},{"$f":" IF(#REF!=\"\", \"\",#REF!)","v":{"$error":"#REF!"}},{"$f":" IF(#REF!=\"\", \"\",#REF!)","v":{"$error":"#REF!"}},{"$f":" IF(#REF!=\"\", \"\",#REF!)","v":{"$error":"#REF!"}},{"$f":"IF(AK168=\"\", \"\", IF($L168=\"男\", VLOOKUP(AK168, データ!$B$2:$C$101, 2, FALSE), IF($L168=\"女\", VLOOKUP(AK168, データ!$F$2:$H$101, 2, FALSE), \"\")))","v":{"$error":"#REF!"}},{"$f":"IF(A168=\"\",\"\", IF(#REF!=\"\", \"\",#REF!))","v":{"$error":"#REF!"}},{"$f":" IF(#REF!=\"\", \"\",#REF!)","v":{"$error":"#REF!"}},{"$f":" IF(#REF!=\"\", \"\",#REF!)","v":{"$error":"#REF!"}},{"$f":" IF(#REF!=\"\", \"\",#REF!)","v":{"$error":"#REF!"}},{"$f":" IF(#REF!=\"\", \"\",#REF!)","v":{"$error":"#REF!"}},{"$f":"IF(AQ168=\"\", \"\", IF($L168=\"男\", VLOOKUP(AQ168, データ!$B$2:$C$101, 2, FALSE), IF($L168=\"女\", VLOOKUP(AQ168, データ!$F$2:$H$101, 2, FALSE), \"\")))","v":{"$error":"#REF!"}},{"$f":"IF(A168=\"\",\"\", IF(#REF!=\"\", \"\",#REF!))","v":{"$error":"#REF!"}},{"$f":" IF(#REF!=\"\", \"\",#REF!)","v":{"$error":"#REF!"}},{"$f":" IF(#REF!=\"\", \"\",#REF!)","v":{"$error":"#REF!"}},{"$f":" IF(#REF!=\"\", \"\",#REF!)","v":{"$error":"#REF!"}},{"$f":" IF(#REF!=\"\", \"\",#REF!)","v":{"$error":"#REF!"}},{"$f":"IF(AW168=\"\", \"\", IF($L168=\"男\", VLOOKUP(AW168, データ!$B$2:$C$101, 2, FALSE), IF($L168=\"女\", VLOOKUP(AW168, データ!$F$2:$H$101, 2, FALSE), \"\")))","v":{"$error":"#REF!"}},{"$f":"IF(A168=\"\",\"\", IF(#REF!=\"\", \"\",#REF!))","v":{"$error":"#REF!"}},{"$f":" IF(#REF!=\"\", \"\",#REF!)","v":{"$error":"#REF!"}},{"$f":" IF(#REF!=\"\", \"\",#REF!)","v":{"$error":"#REF!"}},{"$f":" IF(#REF!=\"\", \"\",#REF!)","v":{"$error":"#REF!"}},{"$f":" IF(#REF!=\"\", \"\",#REF!)","v":{"$error":"#REF!"}},{"$error":"#REF!"}]
[{"$f":"#REF!","v":{"$error":"#REF!"}},{"$f":" IF(#REF!=\"\", \"\",#REF!)","v":{"$error":"#REF!"}},{"$f":" IF(#REF!=\"\", \"\",#REF!)","v":{"$error":"#REF!"}},{"$f":" IF(#REF!=\"\", \"\",#REF!)","v":{"$error":"#REF!"}},{"$error":"#REF!"},{"$error":"#REF!"},{"$error":"#REF!"},{"$error":"#REF!"},{"$f":" IF(#REF!=\"\", \"\",#REF!)","v":{"$error":"#REF!"}},{"$f":" IF(#REF!=\"\", \"\",#REF!)","v":{"$error":"#REF!"}},{"$f":" IF(#REF!=\"\", \"\",#REF!)","v":{"$error":"#REF!"}},{"$f":" IF(#REF!=\"\", \"\",#REF!)","v":{"$error":"#REF!"}},{"$f":" IF(#REF!=\"\", \"\",#REF!)","v":{"$error":"#REF!"}},{"$f":" IF(#REF!=\"\", \"\",#REF!)","v":{"$error":"#REF!"}},{"$f":" IF(#REF!=\"\", \"\",#REF!)","v":{"$error":"#REF!"}},{"$f":" IF(#REF!=\"\", \"\",#REF!)","v":{"$error":"#REF!"}},{"$f":"IF(A169=\"\",\"\",#REF!)","v":{"$error":"#REF!"}},{"$f":" IF(Q169=\"\", \"\",#REF!)","v":{"$error":"#REF!"}},{"$f":" IF(Q169=\"\", \"\",#REF!)","v":{"$error":"#REF!"}},{"$f":" IF(Q169=\"\", \"\",#REF!)","v":{"$error":"#REF!"}},{"$f":" IF(Q169=\"\", \"\",#REF!)","v":{"$error":"#REF!"}},{"$f":" IF(#REF!=\"\", \"\",#REF!)","v":{"$error":"#REF!"}},{"$f":" IF(#REF!=\"\", \"\",#REF!)","v":{"$error":"#REF!"}},{"$f":"IF(Y169=\"\", \"\", IF($L169=\"男\", VLOOKUP(Y169, データ!$B$2:$C$101, 2, FALSE), IF($L169=\"女\", VLOOKUP(Y169, データ!$F$2:$H$101, 2, FALSE), \"\")))","v":{"$error":"#REF!"}},{"$f":"IF(A169=\"\",\"\", IF(#REF!=\"\", \"\",#REF!))","v":{"$error":"#REF!"}},{"$f":" IF(#REF!=\"\", \"\",#REF!)","v":{"$error":"#REF!"}},{"$f":" IF(#REF!=\"\", \"\",#REF!)","v":{"$error":"#REF!"}},{"$f":" IF(#REF!=\"\", \"\",#REF!)","v":{"$error":"#REF!"}},{"$f":" IF(#REF!=\"\", \"\",#REF!)","v":{"$error":"#REF!"}},{"$f":"IF(AE169=\"\", \"\", IF($L169=\"男\", VLOOKUP(AE169, データ!$B$2:$C$101, 2, FALSE), IF($L169=\"女\", VLOOKUP(AE169, データ!$F$2:$H$101, 2, FALSE), \"\")))","v":{"$error":"#REF!"}},{"$f":"IF(A169=\"\",\"\", IF(#REF!=\"\", \"\",#REF!))","v":{"$error":"#REF!"}},{"$f":" IF(#REF!=\"\", \"\",#REF!)","v":{"$error":"#REF!"}},{"$f":" IF(#REF!=\"\", \"\",#REF!)","v":{"$error":"#REF!"}},{"$f":" IF(#REF!=\"\", \"\",#REF!)","v":{"$error":"#REF!"}},{"$f":" IF(#REF!=\"\", \"\",#REF!)","v":{"$error":"#REF!"}},{"$f":"IF(AK169=\"\", \"\", IF($L169=\"男\", VLOOKUP(AK169, データ!$B$2:$C$101, 2, FALSE), IF($L169=\"女\", VLOOKUP(AK169, データ!$F$2:$H$101, 2, FALSE), \"\")))","v":{"$error":"#REF!"}},{"$f":"IF(A169=\"\",\"\", IF(#REF!=\"\", \"\",#REF!))","v":{"$error":"#REF!"}},{"$f":" IF(#REF!=\"\", \"\",#REF!)","v":{"$error":"#REF!"}},{"$f":" IF(#REF!=\"\", \"\",#REF!)","v":{"$error":"#REF!"}},{"$f":" IF(#REF!=\"\", \"\",#REF!)","v":{"$error":"#REF!"}},{"$f":" IF(#REF!=\"\", \"\",#REF!)","v":{"$error":"#REF!"}},{"$f":"IF(AQ169=\"\", \"\", IF($L169=\"男\", VLOOKUP(AQ169, データ!$B$2:$C$101, 2, FALSE), IF($L169=\"女\", VLOOKUP(AQ169, データ!$F$2:$H$101, 2, FALSE), \"\")))","v":{"$error":"#REF!"}},{"$f":"IF(A169=\"\",\"\", IF(#REF!=\"\", \"\",#REF!))","v":{"$error":"#REF!"}},{"$f":" IF(#REF!=\"\", \"\",#REF!)","v":{"$error":"#REF!"}},{"$f":" IF(#REF!=\"\", \"\",#REF!)","v":{"$error":"#REF!"}},{"$f":" IF(#REF!=\"\", \"\",#REF!)","v":{"$error":"#REF!"}},{"$f":" IF(#REF!=\"\", \"\",#REF!)","v":{"$error":"#REF!"}},{"$f":"IF(AW169=\"\", \"\", IF($L169=\"男\", VLOOKUP(AW169, データ!$B$2:$C$101, 2, FALSE), IF($L169=\"女\", VLOOKUP(AW169, データ!$F$2:$H$101, 2, FALSE), \"\")))","v":{"$error":"#REF!"}},{"$f":"IF(A169=\"\",\"\", IF(#REF!=\"\", \"\",#REF!))","v":{"$error":"#REF!"}},{"$f":" IF(#REF!=\"\", \"\",#REF!)","v":{"$error":"#REF!"}},{"$f":" IF(#REF!=\"\", \"\",#REF!)","v":{"$error":"#REF!"}},{"$f":" IF(#REF!=\"\", \"\",#REF!)","v":{"$error":"#REF!"}},{"$f":" IF(#REF!=\"\", \"\",#REF!)","v":{"$error":"#REF!"}},{"$error":"#REF!"}]
[{"$f":"#REF!","v":{"$error":"#REF!"}},{"$f":" IF(#REF!=\"\", \"\",#REF!)","v":{"$error":"#REF!"}},{"$f":" IF(#REF!=\"\", \"\",#REF!)","v":{"$error":"#REF!"}},{"$f":" IF(#REF!=\"\", \"\",#REF!)","v":{"$error":"#REF!"}},{"$error":"#REF!"},{"$error":"#REF!"},{"$error":"#REF!"},{"$error":"#REF!"},{"$f":" IF(#REF!=\"\", \"\",#REF!)","v":{"$error":"#REF!"}},{"$f":" IF(#REF!=\"\", \"\",#REF!)","v":{"$error":"#REF!"}},{"$f":" IF(#REF!=\"\", \"\",#REF!)","v":{"$error":"#REF!"}},{"$f":" IF(#REF!=\"\", \"\",#REF!)","v":{"$error":"#REF!"}},{"$f":" IF(#REF!=\"\", \"\",#REF!)","v":{"$error":"#REF!"}},{"$f":" IF(#REF!=\"\", \"\",#REF!)","v":{"$error":"#REF!"}},{"$f":" IF(#REF!=\"\", \"\",#REF!)","v":{"$error":"#REF!"}},{"$f":" IF(#REF!=\"\", \"\",#REF!)","v":{"$error":"#REF!"}},{"$f":"IF(A170=\"\",\"\",#REF!)","v":{"$error":"#REF!"}},{"$f":" IF(Q170=\"\", \"\",#REF!)","v":{"$error":"#REF!"}},{"$f":" IF(Q170=\"\", \"\",#REF!)","v":{"$error":"#REF!"}},{"$f":" IF(Q170=\"\", \"\",#REF!)","v":{"$error":"#REF!"}},{"$f":" IF(Q170=\"\", \"\",#REF!)","v":{"$error":"#REF!"}},{"$f":" IF(#REF!=\"\", \"\",#REF!)","v":{"$error":"#REF!"}},{"$f":" IF(#REF!=\"\", \"\",#REF!)","v":{"$error":"#REF!"}},{"$f":"IF(Y170=\"\", \"\", IF($L170=\"男\", VLOOKUP(Y170, データ!$B$2:$C$101, 2, FALSE), IF($L170=\"女\", VLOOKUP(Y170, データ!$F$2:$H$101, 2, FALSE), \"\")))","v":{"$error":"#REF!"}},{"$f":"IF(A170=\"\",\"\", IF(#REF!=\"\", \"\",#REF!))","v":{"$error":"#REF!"}},{"$f":" IF(#REF!=\"\", \"\",#REF!)","v":{"$error":"#REF!"}},{"$f":" IF(#REF!=\"\", \"\",#REF!)","v":{"$error":"#REF!"}},{"$f":" IF(#REF!=\"\", \"\",#REF!)","v":{"$error":"#REF!"}},{"$f":" IF(#REF!=\"\", \"\",#REF!)","v":{"$error":"#REF!"}},{"$f":"IF(AE170=\"\", \"\", IF($L170=\"男\", VLOOKUP(AE170, データ!$B$2:$C$101, 2, FALSE), IF($L170=\"女\", VLOOKUP(AE170, データ!$F$2:$H$101, 2, FALSE), \"\")))","v":{"$error":"#REF!"}},{"$f":"IF(A170=\"\",\"\", IF(#REF!=\"\", \"\",#REF!))","v":{"$error":"#REF!"}},{"$f":" IF(#REF!=\"\", \"\",#REF!)","v":{"$error":"#REF!"}},{"$f":" IF(#REF!=\"\", \"\",#REF!)","v":{"$error":"#REF!"}},{"$f":" IF(#REF!=\"\", \"\",#REF!)","v":{"$error":"#REF!"}},{"$f":" IF(#REF!=\"\", \"\",#REF!)","v":{"$error":"#REF!"}},{"$f":"IF(AK170=\"\", \"\", IF($L170=\"男\", VLOOKUP(AK170, データ!$B$2:$C$101, 2, FALSE), IF($L170=\"女\", VLOOKUP(AK170, データ!$F$2:$H$101, 2, FALSE), \"\")))","v":{"$error":"#REF!"}},{"$f":"IF(A170=\"\",\"\", IF(#REF!=\"\", \"\",#REF!))","v":{"$error":"#REF!"}},{"$f":" IF(#REF!=\"\", \"\",#REF!)","v":{"$error":"#REF!"}},{"$f":" IF(#REF!=\"\", \"\",#REF!)","v":{"$error":"#REF!"}},{"$f":" IF(#REF!=\"\", \"\",#REF!)","v":{"$error":"#REF!"}},{"$f":" IF(#REF!=\"\", \"\",#REF!)","v":{"$error":"#REF!"}},{"$f":"IF(AQ170=\"\", \"\", IF($L170=\"男\", VLOOKUP(AQ170, データ!$B$2:$C$101, 2, FALSE), IF($L170=\"女\", VLOOKUP(AQ170, データ!$F$2:$H$101, 2, FALSE), \"\")))","v":{"$error":"#REF!"}},{"$f":"IF(A170=\"\",\"\", IF(#REF!=\"\", \"\",#REF!))","v":{"$error":"#REF!"}},{"$f":" IF(#REF!=\"\", \"\",#REF!)","v":{"$error":"#REF!"}},{"$f":" IF(#REF!=\"\", \"\",#REF!)","v":{"$error":"#REF!"}},{"$f":" IF(#REF!=\"\", \"\",#REF!)","v":{"$error":"#REF!"}},{"$f":" IF(#REF!=\"\", \"\",#REF!)","v":{"$error":"#REF!"}},{"$f":"IF(AW170=\"\", \"\", IF($L170=\"男\", VLOOKUP(AW170, データ!$B$2:$C$101, 2, FALSE), IF($L170=\"女\", VLOOKUP(AW170, データ!$F$2:$H$101, 2, FALSE), \"\")))","v":{"$error":"#REF!"}},{"$f":"IF(A170=\"\",\"\", IF(#REF!=\"\", \"\",#REF!))","v":{"$error":"#REF!"}},{"$f":" IF(#REF!=\"\", \"\",#REF!)","v":{"$error":"#REF!"}},{"$f":" IF(#REF!=\"\", \"\",#REF!)","v":{"$error":"#REF!"}},{"$f":" IF(#REF!=\"\", \"\",#REF!)","v":{"$error":"#REF!"}},{"$f":" IF(#REF!=\"\", \"\",#REF!)","v":{"$error":"#REF!"}},{"$error":"#REF!"}]
[{"$f":"#REF!","v":{"$error":"#REF!"}},{"$f":" IF(#REF!=\"\", \"\",#REF!)","v":{"$error":"#REF!"}},{"$f":" IF(#REF!=\"\", \"\",#REF!)","v":{"$error":"#REF!"}},{"$f":" IF(#REF!=\"\", \"\",#REF!)","v":{"$error":"#REF!"}},{"$error":"#REF!"},{"$error":"#REF!"},{"$error":"#REF!"},{"$error":"#REF!"},{"$f":" IF(#REF!=\"\", \"\",#REF!)","v":{"$error":"#REF!"}},{"$f":" IF(#REF!=\"\", \"\",#REF!)","v":{"$error":"#REF!"}},{"$f":" IF(#REF!=\"\", \"\",#REF!)","v":{"$error":"#REF!"}},{"$f":" IF(#REF!=\"\", \"\",#REF!)","v":{"$error":"#REF!"}},{"$f":" IF(#REF!=\"\", \"\",#REF!)","v":{"$error":"#REF!"}},{"$f":" IF(#REF!=\"\", \"\",#REF!)","v":{"$error":"#REF!"}},{"$f":" IF(#REF!=\"\", \"\",#REF!)","v":{"$error":"#REF!"}},{"$f":" IF(#REF!=\"\", \"\",#REF!)","v":{"$error":"#REF!"}},{"$f":"IF(A171=\"\",\"\",#REF!)","v":{"$error":"#REF!"}},{"$f":" IF(Q171=\"\", \"\",#REF!)","v":{"$error":"#REF!"}},{"$f":" IF(Q171=\"\", \"\",#REF!)","v":{"$error":"#REF!"}},{"$f":" IF(Q171=\"\", \"\",#REF!)","v":{"$error":"#REF!"}},{"$f":" IF(Q171=\"\", \"\",#REF!)","v":{"$error":"#REF!"}},{"$f":" IF(#REF!=\"\", \"\",#REF!)","v":{"$error":"#REF!"}},{"$f":" IF(#REF!=\"\", \"\",#REF!)","v":{"$error":"#REF!"}},{"$f":"IF(Y171=\"\", \"\", IF($L171=\"男\", VLOOKUP(Y171, データ!$B$2:$C$101, 2, FALSE), IF($L171=\"女\", VLOOKUP(Y171, データ!$F$2:$H$101, 2, FALSE), \"\")))","v":{"$error":"#REF!"}},{"$f":"IF(A171=\"\",\"\", IF(#REF!=\"\", \"\",#REF!))","v":{"$error":"#REF!"}},{"$f":" IF(#REF!=\"\", \"\",#REF!)","v":{"$error":"#REF!"}},{"$f":" IF(#REF!=\"\", \"\",#REF!)","v":{"$error":"#REF!"}},{"$f":" IF(#REF!=\"\", \"\",#REF!)","v":{"$error":"#REF!"}},{"$f":" IF(#REF!=\"\", \"\",#REF!)","v":{"$error":"#REF!"}},{"$f":"IF(AE171=\"\", \"\", IF($L171=\"男\", VLOOKUP(AE171, データ!$B$2:$C$101, 2, FALSE), IF($L171=\"女\", VLOOKUP(AE171, データ!$F$2:$H$101, 2, FALSE), \"\")))","v":{"$error":"#REF!"}},{"$f":"IF(A171=\"\",\"\", IF(#REF!=\"\", \"\",#REF!))","v":{"$error":"#REF!"}},{"$f":" IF(#REF!=\"\", \"\",#REF!)","v":{"$error":"#REF!"}},{"$f":" IF(#REF!=\"\", \"\",#REF!)","v":{"$error":"#REF!"}},{"$f":" IF(#REF!=\"\", \"\",#REF!)","v":{"$error":"#REF!"}},{"$f":" IF(#REF!=\"\", \"\",#REF!)","v":{"$error":"#REF!"}},{"$f":"IF(AK171=\"\", \"\", IF($L171=\"男\", VLOOKUP(AK171, データ!$B$2:$C$101, 2, FALSE), IF($L171=\"女\", VLOOKUP(AK171, データ!$F$2:$H$101, 2, FALSE), \"\")))","v":{"$error":"#REF!"}},{"$f":"IF(A171=\"\",\"\", IF(#REF!=\"\", \"\",#REF!))","v":{"$error":"#REF!"}},{"$f":" IF(#REF!=\"\", \"\",#REF!)","v":{"$error":"#REF!"}},{"$f":" IF(#REF!=\"\", \"\",#REF!)","v":{"$error":"#REF!"}},{"$f":" IF(#REF!=\"\", \"\",#REF!)","v":{"$error":"#REF!"}},{"$f":" IF(#REF!=\"\", \"\",#REF!)","v":{"$error":"#REF!"}},{"$f":"IF(AQ171=\"\", \"\", IF($L171=\"男\", VLOOKUP(AQ171, データ!$B$2:$C$101, 2, FALSE), IF($L171=\"女\", VLOOKUP(AQ171, データ!$F$2:$H$101, 2, FALSE), \"\")))","v":{"$error":"#REF!"}},{"$f":"IF(A171=\"\",\"\", IF(#REF!=\"\", \"\",#REF!))","v":{"$error":"#REF!"}},{"$f":" IF(#REF!=\"\", \"\",#REF!)","v":{"$error":"#REF!"}},{"$f":" IF(#REF!=\"\", \"\",#REF!)","v":{"$error":"#REF!"}},{"$f":" IF(#REF!=\"\", \"\",#REF!)","v":{"$error":"#REF!"}},{"$f":" IF(#REF!=\"\", \"\",#REF!)","v":{"$error":"#REF!"}},{"$f":"IF(AW171=\"\", \"\", IF($L171=\"男\", VLOOKUP(AW171, データ!$B$2:$C$101, 2, FALSE), IF($L171=\"女\", VLOOKUP(AW171, データ!$F$2:$H$101, 2, FALSE), \"\")))","v":{"$error":"#REF!"}},{"$f":"IF(A171=\"\",\"\", IF(#REF!=\"\", \"\",#REF!))","v":{"$error":"#REF!"}},{"$f":" IF(#REF!=\"\", \"\",#REF!)","v":{"$error":"#REF!"}},{"$f":" IF(#REF!=\"\", \"\",#REF!)","v":{"$error":"#REF!"}},{"$f":" IF(#REF!=\"\", \"\",#REF!)","v":{"$error":"#REF!"}},{"$f":" IF(#REF!=\"\", \"\",#REF!)","v":{"$error":"#REF!"}},{"$error":"#REF!"}]
[{"$f":"#REF!","v":{"$error":"#REF!"}},{"$f":" IF(#REF!=\"\", \"\",#REF!)","v":{"$error":"#REF!"}},{"$f":" IF(#REF!=\"\", \"\",#REF!)","v":{"$error":"#REF!"}},{"$f":" IF(#REF!=\"\", \"\",#REF!)","v":{"$error":"#REF!"}},{"$error":"#REF!"},{"$error":"#REF!"},{"$error":"#REF!"},{"$error":"#REF!"},{"$f":" IF(#REF!=\"\", \"\",#REF!)","v":{"$error":"#REF!"}},{"$f":" IF(#REF!=\"\", \"\",#REF!)","v":{"$error":"#REF!"}},{"$f":" IF(#REF!=\"\", \"\",#REF!)","v":{"$error":"#REF!"}},{"$f":" IF(#REF!=\"\", \"\",#REF!)","v":{"$error":"#REF!"}},{"$f":" IF(#REF!=\"\", \"\",#REF!)","v":{"$error":"#REF!"}},{"$f":" IF(#REF!=\"\", \"\",#REF!)","v":{"$error":"#REF!"}},{"$f":" IF(#REF!=\"\", \"\",#REF!)","v":{"$error":"#REF!"}},{"$f":" IF(#REF!=\"\", \"\",#REF!)","v":{"$error":"#REF!"}},{"$f":"IF(A172=\"\",\"\",#REF!)","v":{"$error":"#REF!"}},{"$f":" IF(Q172=\"\", \"\",#REF!)","v":{"$error":"#REF!"}},{"$f":" IF(Q172=\"\", \"\",#REF!)","v":{"$error":"#REF!"}},{"$f":" IF(Q172=\"\", \"\",#REF!)","v":{"$error":"#REF!"}},{"$f":" IF(Q172=\"\", \"\",#REF!)","v":{"$error":"#REF!"}},{"$f":" IF(#REF!=\"\", \"\",#REF!)","v":{"$error":"#REF!"}},{"$f":" IF(#REF!=\"\", \"\",#REF!)","v":{"$error":"#REF!"}},{"$f":"IF(Y172=\"\", \"\", IF($L172=\"男\", VLOOKUP(Y172, データ!$B$2:$C$101, 2, FALSE), IF($L172=\"女\", VLOOKUP(Y172, データ!$F$2:$H$101, 2, FALSE), \"\")))","v":{"$error":"#REF!"}},{"$f":"IF(A172=\"\",\"\", IF(#REF!=\"\", \"\",#REF!))","v":{"$error":"#REF!"}},{"$f":" IF(#REF!=\"\", \"\",#REF!)","v":{"$error":"#REF!"}},{"$f":" IF(#REF!=\"\", \"\",#REF!)","v":{"$error":"#REF!"}},{"$f":" IF(#REF!=\"\", \"\",#REF!)","v":{"$error":"#REF!"}},{"$f":" IF(#REF!=\"\", \"\",#REF!)","v":{"$error":"#REF!"}},{"$f":"IF(AE172=\"\", \"\", IF($L172=\"男\", VLOOKUP(AE172, データ!$B$2:$C$101, 2, FALSE), IF($L172=\"女\", VLOOKUP(AE172, データ!$F$2:$H$101, 2, FALSE), \"\")))","v":{"$error":"#REF!"}},{"$f":"IF(A172=\"\",\"\", IF(#REF!=\"\", \"\",#REF!))","v":{"$error":"#REF!"}},{"$f":" IF(#REF!=\"\", \"\",#REF!)","v":{"$error":"#REF!"}},{"$f":" IF(#REF!=\"\", \"\",#REF!)","v":{"$error":"#REF!"}},{"$f":" IF(#REF!=\"\", \"\",#REF!)","v":{"$error":"#REF!"}},{"$f":" IF(#REF!=\"\", \"\",#REF!)","v":{"$error":"#REF!"}},{"$f":"IF(AK172=\"\", \"\", IF($L172=\"男\", VLOOKUP(AK172, データ!$B$2:$C$101, 2, FALSE), IF($L172=\"女\", VLOOKUP(AK172, データ!$F$2:$H$101, 2, FALSE), \"\")))","v":{"$error":"#REF!"}},{"$f":"IF(A172=\"\",\"\", IF(#REF!=\"\", \"\",#REF!))","v":{"$error":"#REF!"}},{"$f":" IF(#REF!=\"\", \"\",#REF!)","v":{"$error":"#REF!"}},{"$f":" IF(#REF!=\"\", \"\",#REF!)","v":{"$error":"#REF!"}},{"$f":" IF(#REF!=\"\", \"\",#REF!)","v":{"$error":"#REF!"}},{"$f":" IF(#REF!=\"\", \"\",#REF!)","v":{"$error":"#REF!"}},{"$f":"IF(AQ172=\"\", \"\", IF($L172=\"男\", VLOOKUP(AQ172, データ!$B$2:$C$101, 2, FALSE), IF($L172=\"女\", VLOOKUP(AQ172, データ!$F$2:$H$101, 2, FALSE), \"\")))","v":{"$error":"#REF!"}},{"$f":"IF(A172=\"\",\"\", IF(#REF!=\"\", \"\",#REF!))","v":{"$error":"#REF!"}},{"$f":" IF(#REF!=\"\", \"\",#REF!)","v":{"$error":"#REF!"}},{"$f":" IF(#REF!=\"\", \"\",#REF!)","v":{"$error":"#REF!"}},{"$f":" IF(#REF!=\"\", \"\",#REF!)","v":{"$error":"#REF!"}},{"$f":" IF(#REF!=\"\", \"\",#REF!)","v":{"$error":"#REF!"}},{"$f":"IF(AW172=\"\", \"\", IF($L172=\"男\", VLOOKUP(AW172, データ!$B$2:$C$101, 2, FALSE), IF($L172=\"女\", VLOOKUP(AW172, データ!$F$2:$H$101, 2, FALSE), \"\")))","v":{"$error":"#REF!"}},{"$f":"IF(A172=\"\",\"\", IF(#REF!=\"\", \"\",#REF!))","v":{"$error":"#REF!"}},{"$f":" IF(#REF!=\"\", \"\",#REF!)","v":{"$error":"#REF!"}},{"$f":" IF(#REF!=\"\", \"\",#REF!)","v":{"$error":"#REF!"}},{"$f":" IF(#REF!=\"\", \"\",#REF!)","v":{"$error":"#REF!"}},{"$f":" IF(#REF!=\"\", \"\",#REF!)","v":{"$error":"#REF!"}},{"$error":"#REF!"}]
[{"$f":"#REF!","v":{"$error":"#REF!"}},{"$f":" IF(#REF!=\"\", \"\",#REF!)","v":{"$error":"#REF!"}},{"$f":" IF(#REF!=\"\", \"\",#REF!)","v":{"$error":"#REF!"}},{"$f":" IF(#REF!=\"\", \"\",#REF!)","v":{"$error":"#REF!"}},{"$error":"#REF!"},{"$error":"#REF!"},{"$error":"#REF!"},{"$error":"#REF!"},{"$f":" IF(#REF!=\"\", \"\",#REF!)","v":{"$error":"#REF!"}},{"$f":" IF(#REF!=\"\", \"\",#REF!)","v":{"$error":"#REF!"}},{"$f":" IF(#REF!=\"\", \"\",#REF!)","v":{"$error":"#REF!"}},{"$f":" IF(#REF!=\"\", \"\",#REF!)","v":{"$error":"#REF!"}},{"$f":" IF(#REF!=\"\", \"\",#REF!)","v":{"$error":"#REF!"}},{"$f":" IF(#REF!=\"\", \"\",#REF!)","v":{"$error":"#REF!"}},{"$f":" IF(#REF!=\"\", \"\",#REF!)","v":{"$error":"#REF!"}},{"$f":" IF(#REF!=\"\", \"\",#REF!)","v":{"$error":"#REF!"}},{"$f":"IF(A173=\"\",\"\",#REF!)","v":{"$error":"#REF!"}},{"$f":" IF(Q173=\"\", \"\",#REF!)","v":{"$error":"#REF!"}},{"$f":" IF(Q173=\"\", \"\",#REF!)","v":{"$error":"#REF!"}},{"$f":" IF(Q173=\"\", \"\",#REF!)","v":{"$error":"#REF!"}},{"$f":" IF(Q173=\"\", \"\",#REF!)","v":{"$error":"#REF!"}},{"$f":" IF(#REF!=\"\", \"\",#REF!)","v":{"$error":"#REF!"}},{"$f":" IF(#REF!=\"\", \"\",#REF!)","v":{"$error":"#REF!"}},{"$f":"IF(Y173=\"\", \"\", IF($L173=\"男\", VLOOKUP(Y173, データ!$B$2:$C$101, 2, FALSE), IF($L173=\"女\", VLOOKUP(Y173, データ!$F$2:$H$101, 2, FALSE), \"\")))","v":{"$error":"#REF!"}},{"$f":"IF(A173=\"\",\"\", IF(#REF!=\"\", \"\",#REF!))","v":{"$error":"#REF!"}},{"$f":" IF(#REF!=\"\", \"\",#REF!)","v":{"$error":"#REF!"}},{"$f":" IF(#REF!=\"\", \"\",#REF!)","v":{"$error":"#REF!"}},{"$f":" IF(#REF!=\"\", \"\",#REF!)","v":{"$error":"#REF!"}},{"$f":" IF(#REF!=\"\", \"\",#REF!)","v":{"$error":"#REF!"}},{"$f":"IF(AE173=\"\", \"\", IF($L173=\"男\", VLOOKUP(AE173, データ!$B$2:$C$101, 2, FALSE), IF($L173=\"女\", VLOOKUP(AE173, データ!$F$2:$H$101, 2, FALSE), \"\")))","v":{"$error":"#REF!"}},{"$f":"IF(A173=\"\",\"\", IF(#REF!=\"\", \"\",#REF!))","v":{"$error":"#REF!"}},{"$f":" IF(#REF!=\"\", \"\",#REF!)","v":{"$error":"#REF!"}},{"$f":" IF(#REF!=\"\", \"\",#REF!)","v":{"$error":"#REF!"}},{"$f":" IF(#REF!=\"\", \"\",#REF!)","v":{"$error":"#REF!"}},{"$f":" IF(#REF!=\"\", \"\",#REF!)","v":{"$error":"#REF!"}},{"$f":"IF(AK173=\"\", \"\", IF($L173=\"男\", VLOOKUP(AK173, データ!$B$2:$C$101, 2, FALSE), IF($L173=\"女\", VLOOKUP(AK173, データ!$F$2:$H$101, 2, FALSE), \"\")))","v":{"$error":"#REF!"}},{"$f":"IF(A173=\"\",\"\", IF(#REF!=\"\", \"\",#REF!))","v":{"$error":"#REF!"}},{"$f":" IF(#REF!=\"\", \"\",#REF!)","v":{"$error":"#REF!"}},{"$f":" IF(#REF!=\"\", \"\",#REF!)","v":{"$error":"#REF!"}},{"$f":" IF(#REF!=\"\", \"\",#REF!)","v":{"$error":"#REF!"}},{"$f":" IF(#REF!=\"\", \"\",#REF!)","v":{"$error":"#REF!"}},{"$f":"IF(AQ173=\"\", \"\", IF($L173=\"男\", VLOOKUP(AQ173, データ!$B$2:$C$101, 2, FALSE), IF($L173=\"女\", VLOOKUP(AQ173, データ!$F$2:$H$101, 2, FALSE), \"\")))","v":{"$error":"#REF!"}},{"$f":"IF(A173=\"\",\"\", IF(#REF!=\"\", \"\",#REF!))","v":{"$error":"#REF!"}},{"$f":" IF(#REF!=\"\", \"\",#REF!)","v":{"$error":"#REF!"}},{"$f":" IF(#REF!=\"\", \"\",#REF!)","v":{"$error":"#REF!"}},{"$f":" IF(#REF!=\"\", \"\",#REF!)","v":{"$error":"#REF!"}},{"$f":" IF(#REF!=\"\", \"\",#REF!)","v":{"$error":"#REF!"}},{"$f":"IF(AW173=\"\", \"\", IF($L173=\"男\", VLOOKUP(AW173, データ!$B$2:$C$101, 2, FALSE), IF($L173=\"女\", VLOOKUP(AW173, データ!$F$2:$H$101, 2, FALSE), \"\")))","v":{"$error":"#REF!"}},{"$f":"IF(A173=\"\",\"\", IF(#REF!=\"\", \"\",#REF!))","v":{"$error":"#REF!"}},{"$f":" IF(#REF!=\"\", \"\",#REF!)","v":{"$error":"#REF!"}},{"$f":" IF(#REF!=\"\", \"\",#REF!)","v":{"$error":"#REF!"}},{"$f":" IF(#REF!=\"\", \"\",#REF!)","v":{"$error":"#REF!"}},{"$f":" IF(#REF!=\"\", \"\",#REF!)","v":{"$error":"#REF!"}},{"$error":"#REF!"}]
[{"$f":"#REF!","v":{"$error":"#REF!"}},{"$f":" IF(#REF!=\"\", \"\",#REF!)","v":{"$error":"#REF!"}},{"$f":" IF(#REF!=\"\", \"\",#REF!)","v":{"$error":"#REF!"}},{"$f":" IF(#REF!=\"\", \"\",#REF!)","v":{"$error":"#REF!"}},{"$error":"#REF!"},{"$error":"#REF!"},{"$error":"#REF!"},{"$error":"#REF!"},{"$f":" IF(#REF!=\"\", \"\",#REF!)","v":{"$error":"#REF!"}},{"$f":" IF(#REF!=\"\", \"\",#REF!)","v":{"$error":"#REF!"}},{"$f":" IF(#REF!=\"\", \"\",#REF!)","v":{"$error":"#REF!"}},{"$f":" IF(#REF!=\"\", \"\",#REF!)","v":{"$error":"#REF!"}},{"$f":" IF(#REF!=\"\", \"\",#REF!)","v":{"$error":"#REF!"}},{"$f":" IF(#REF!=\"\", \"\",#REF!)","v":{"$error":"#REF!"}},{"$f":" IF(#REF!=\"\", \"\",#REF!)","v":{"$error":"#REF!"}},{"$f":" IF(#REF!=\"\", \"\",#REF!)","v":{"$error":"#REF!"}},{"$f":"IF(A174=\"\",\"\",#REF!)","v":{"$error":"#REF!"}},{"$f":" IF(Q174=\"\", \"\",#REF!)","v":{"$error":"#REF!"}},{"$f":" IF(Q174=\"\", \"\",#REF!)","v":{"$error":"#REF!"}},{"$f":" IF(Q174=\"\", \"\",#REF!)","v":{"$error":"#REF!"}},{"$f":" IF(Q174=\"\", \"\",#REF!)","v":{"$error":"#REF!"}},{"$f":" IF(#REF!=\"\", \"\",#REF!)","v":{"$error":"#REF!"}},{"$f":" IF(#REF!=\"\", \"\",#REF!)","v":{"$error":"#REF!"}},{"$f":"IF(Y174=\"\", \"\", IF($L174=\"男\", VLOOKUP(Y174, データ!$B$2:$C$101, 2, FALSE), IF($L174=\"女\", VLOOKUP(Y174, データ!$F$2:$H$101, 2, FALSE), \"\")))","v":{"$error":"#REF!"}},{"$f":"IF(A174=\"\",\"\", IF(#REF!=\"\", \"\",#REF!))","v":{"$error":"#REF!"}},{"$f":" IF(#REF!=\"\", \"\",#REF!)","v":{"$error":"#REF!"}},{"$f":" IF(#REF!=\"\", \"\",#REF!)","v":{"$error":"#REF!"}},{"$f":" IF(#REF!=\"\", \"\",#REF!)","v":{"$error":"#REF!"}},{"$f":" IF(#REF!=\"\", \"\",#REF!)","v":{"$error":"#REF!"}},{"$f":"IF(AE174=\"\", \"\", IF($L174=\"男\", VLOOKUP(AE174, データ!$B$2:$C$101, 2, FALSE), IF($L174=\"女\", VLOOKUP(AE174, データ!$F$2:$H$101, 2, FALSE), \"\")))","v":{"$error":"#REF!"}},{"$f":"IF(A174=\"\",\"\", IF(#REF!=\"\", \"\",#REF!))","v":{"$error":"#REF!"}},{"$f":" IF(#REF!=\"\", \"\",#REF!)","v":{"$error":"#REF!"}},{"$f":" IF(#REF!=\"\", \"\",#REF!)","v":{"$error":"#REF!"}},{"$f":" IF(#REF!=\"\", \"\",#REF!)","v":{"$error":"#REF!"}},{"$f":" IF(#REF!=\"\", \"\",#REF!)","v":{"$error":"#REF!"}},{"$f":"IF(AK174=\"\", \"\", IF($L174=\"男\", VLOOKUP(AK174, データ!$B$2:$C$101, 2, FALSE), IF($L174=\"女\", VLOOKUP(AK174, データ!$F$2:$H$101, 2, FALSE), \"\")))","v":{"$error":"#REF!"}},{"$f":"IF(A174=\"\",\"\", IF(#REF!=\"\", \"\",#REF!))","v":{"$error":"#REF!"}},{"$f":" IF(#REF!=\"\", \"\",#REF!)","v":{"$error":"#REF!"}},{"$f":" IF(#REF!=\"\", \"\",#REF!)","v":{"$error":"#REF!"}},{"$f":" IF(#REF!=\"\", \"\",#REF!)","v":{"$error":"#REF!"}},{"$f":" IF(#REF!=\"\", \"\",#REF!)","v":{"$error":"#REF!"}},{"$f":"IF(AQ174=\"\", \"\", IF($L174=\"男\", VLOOKUP(AQ174, データ!$B$2:$C$101, 2, FALSE), IF($L174=\"女\", VLOOKUP(AQ174, データ!$F$2:$H$101, 2, FALSE), \"\")))","v":{"$error":"#REF!"}},{"$f":"IF(A174=\"\",\"\", IF(#REF!=\"\", \"\",#REF!))","v":{"$error":"#REF!"}},{"$f":" IF(#REF!=\"\", \"\",#REF!)","v":{"$error":"#REF!"}},{"$f":" IF(#REF!=\"\", \"\",#REF!)","v":{"$error":"#REF!"}},{"$f":" IF(#REF!=\"\", \"\",#REF!)","v":{"$error":"#REF!"}},{"$f":" IF(#REF!=\"\", \"\",#REF!)","v":{"$error":"#REF!"}},{"$f":"IF(AW174=\"\", \"\", IF($L174=\"男\", VLOOKUP(AW174, データ!$B$2:$C$101, 2, FALSE), IF($L174=\"女\", VLOOKUP(AW174, データ!$F$2:$H$101, 2, FALSE), \"\")))","v":{"$error":"#REF!"}},{"$f":"IF(A174=\"\",\"\", IF(#REF!=\"\", \"\",#REF!))","v":{"$error":"#REF!"}},{"$f":" IF(#REF!=\"\", \"\",#REF!)","v":{"$error":"#REF!"}},{"$f":" IF(#REF!=\"\", \"\",#REF!)","v":{"$error":"#REF!"}},{"$f":" IF(#REF!=\"\", \"\",#REF!)","v":{"$error":"#REF!"}},{"$f":" IF(#REF!=\"\", \"\",#REF!)","v":{"$error":"#REF!"}},{"$error":"#REF!"}]
[{"$f":"#REF!","v":{"$error":"#REF!"}},{"$f":" IF(#REF!=\"\", \"\",#REF!)","v":{"$error":"#REF!"}},{"$f":" IF(#REF!=\"\", \"\",#REF!)","v":{"$error":"#REF!"}},{"$f":" IF(#REF!=\"\", \"\",#REF!)","v":{"$error":"#REF!"}},{"$error":"#REF!"},{"$error":"#REF!"},{"$error":"#REF!"},{"$error":"#REF!"},{"$f":" IF(#REF!=\"\", \"\",#REF!)","v":{"$error":"#REF!"}},{"$f":" IF(#REF!=\"\", \"\",#REF!)","v":{"$error":"#REF!"}},{"$f":" IF(#REF!=\"\", \"\",#REF!)","v":{"$error":"#REF!"}},{"$f":" IF(#REF!=\"\", \"\",#REF!)","v":{"$error":"#REF!"}},{"$f":" IF(#REF!=\"\", \"\",#REF!)","v":{"$error":"#REF!"}},{"$f":" IF(#REF!=\"\", \"\",#REF!)","v":{"$error":"#REF!"}},{"$f":" IF(#REF!=\"\", \"\",#REF!)","v":{"$error":"#REF!"}},{"$f":" IF(#REF!=\"\", \"\",#REF!)","v":{"$error":"#REF!"}},{"$f":"IF(A175=\"\",\"\",#REF!)","v":{"$error":"#REF!"}},{"$f":" IF(Q175=\"\", \"\",#REF!)","v":{"$error":"#REF!"}},{"$f":" IF(Q175=\"\", \"\",#REF!)","v":{"$error":"#REF!"}},{"$f":" IF(Q175=\"\", \"\",#REF!)","v":{"$error":"#REF!"}},{"$f":" IF(Q175=\"\", \"\",#REF!)","v":{"$error":"#REF!"}},{"$f":" IF(#REF!=\"\", \"\",#REF!)","v":{"$error":"#REF!"}},{"$f":" IF(#REF!=\"\", \"\",#REF!)","v":{"$error":"#REF!"}},{"$f":"IF(Y175=\"\", \"\", IF($L175=\"男\", VLOOKUP(Y175, データ!$B$2:$C$101, 2, FALSE), IF($L175=\"女\", VLOOKUP(Y175, データ!$F$2:$H$101, 2, FALSE), \"\")))","v":{"$error":"#REF!"}},{"$f":"IF(A175=\"\",\"\", IF(#REF!=\"\", \"\",#REF!))","v":{"$error":"#REF!"}},{"$f":" IF(#REF!=\"\", \"\",#REF!)","v":{"$error":"#REF!"}},{"$f":" IF(#REF!=\"\", \"\",#REF!)","v":{"$error":"#REF!"}},{"$f":" IF(#REF!=\"\", \"\",#REF!)","v":{"$error":"#REF!"}},{"$f":" IF(#REF!=\"\", \"\",#REF!)","v":{"$error":"#REF!"}},{"$f":"IF(AE175=\"\", \"\", IF($L175=\"男\", VLOOKUP(AE175, データ!$B$2:$C$101, 2, FALSE), IF($L175=\"女\", VLOOKUP(AE175, データ!$F$2:$H$101, 2, FALSE), \"\")))","v":{"$error":"#REF!"}},{"$f":"IF(A175=\"\",\"\", IF(#REF!=\"\", \"\",#REF!))","v":{"$error":"#REF!"}},{"$f":" IF(#REF!=\"\", \"\",#REF!)","v":{"$error":"#REF!"}},{"$f":" IF(#REF!=\"\", \"\",#REF!)","v":{"$error":"#REF!"}},{"$f":" IF(#REF!=\"\", \"\",#REF!)","v":{"$error":"#REF!"}},{"$f":" IF(#REF!=\"\", \"\",#REF!)","v":{"$error":"#REF!"}},{"$f":"IF(AK175=\"\", \"\", IF($L175=\"男\", VLOOKUP(AK175, データ!$B$2:$C$101, 2, FALSE), IF($L175=\"女\", VLOOKUP(AK175, データ!$F$2:$H$101, 2, FALSE), \"\")))","v":{"$error":"#REF!"}},{"$f":"IF(A175=\"\",\"\", IF(#REF!=\"\", \"\",#REF!))","v":{"$error":"#REF!"}},{"$f":" IF(#REF!=\"\", \"\",#REF!)","v":{"$error":"#REF!"}},{"$f":" IF(#REF!=\"\", \"\",#REF!)","v":{"$error":"#REF!"}},{"$f":" IF(#REF!=\"\", \"\",#REF!)","v":{"$error":"#REF!"}},{"$f":" IF(#REF!=\"\", \"\",#REF!)","v":{"$error":"#REF!"}},{"$f":"IF(AQ175=\"\", \"\", IF($L175=\"男\", VLOOKUP(AQ175, データ!$B$2:$C$101, 2, FALSE), IF($L175=\"女\", VLOOKUP(AQ175, データ!$F$2:$H$101, 2, FALSE), \"\")))","v":{"$error":"#REF!"}},{"$f":"IF(A175=\"\",\"\", IF(#REF!=\"\", \"\",#REF!))","v":{"$error":"#REF!"}},{"$f":" IF(#REF!=\"\", \"\",#REF!)","v":{"$error":"#REF!"}},{"$f":" IF(#REF!=\"\", \"\",#REF!)","v":{"$error":"#REF!"}},{"$f":" IF(#REF!=\"\", \"\",#REF!)","v":{"$error":"#REF!"}},{"$f":" IF(#REF!=\"\", \"\",#REF!)","v":{"$error":"#REF!"}},{"$f":"IF(AW175=\"\", \"\", IF($L175=\"男\", VLOOKUP(AW175, データ!$B$2:$C$101, 2, FALSE), IF($L175=\"女\", VLOOKUP(AW175, データ!$F$2:$H$101, 2, FALSE), \"\")))","v":{"$error":"#REF!"}},{"$f":"IF(A175=\"\",\"\", IF(#REF!=\"\", \"\",#REF!))","v":{"$error":"#REF!"}},{"$f":" IF(#REF!=\"\", \"\",#REF!)","v":{"$error":"#REF!"}},{"$f":" IF(#REF!=\"\", \"\",#REF!)","v":{"$error":"#REF!"}},{"$f":" IF(#REF!=\"\", \"\",#REF!)","v":{"$error":"#REF!"}},{"$f":" IF(#REF!=\"\", \"\",#REF!)","v":{"$error":"#REF!"}},{"$error":"#REF!"}]
[{"$f":"#REF!","v":{"$error":"#REF!"}},{"$f":" IF(#REF!=\"\", \"\",#REF!)","v":{"$error":"#REF!"}},{"$f":" IF(#REF!=\"\", \"\",#REF!)","v":{"$error":"#REF!"}},{"$f":" IF(#REF!=\"\", \"\",#REF!)","v":{"$error":"#REF!"}},{"$error":"#REF!"},{"$error":"#REF!"},{"$error":"#REF!"},{"$error":"#REF!"},{"$f":" IF(#REF!=\"\", \"\",#REF!)","v":{"$error":"#REF!"}},{"$f":" IF(#REF!=\"\", \"\",#REF!)","v":{"$error":"#REF!"}},{"$f":" IF(#REF!=\"\", \"\",#REF!)","v":{"$error":"#REF!"}},{"$f":" IF(#REF!=\"\", \"\",#REF!)","v":{"$error":"#REF!"}},{"$f":" IF(#REF!=\"\", \"\",#REF!)","v":{"$error":"#REF!"}},{"$f":" IF(#REF!=\"\", \"\",#REF!)","v":{"$error":"#REF!"}},{"$f":" IF(#REF!=\"\", \"\",#REF!)","v":{"$error":"#REF!"}},{"$f":" IF(#REF!=\"\", \"\",#REF!)","v":{"$error":"#REF!"}},{"$f":"IF(A176=\"\",\"\",#REF!)","v":{"$error":"#REF!"}},{"$f":" IF(Q176=\"\", \"\",#REF!)","v":{"$error":"#REF!"}},{"$f":" IF(Q176=\"\", \"\",#REF!)","v":{"$error":"#REF!"}},{"$f":" IF(Q176=\"\", \"\",#REF!)","v":{"$error":"#REF!"}},{"$f":" IF(Q176=\"\", \"\",#REF!)","v":{"$error":"#REF!"}},{"$f":" IF(#REF!=\"\", \"\",#REF!)","v":{"$error":"#REF!"}},{"$f":" IF(#REF!=\"\", \"\",#REF!)","v":{"$error":"#REF!"}},{"$f":"IF(Y176=\"\", \"\", IF($L176=\"男\", VLOOKUP(Y176, データ!$B$2:$C$101, 2, FALSE), IF($L176=\"女\", VLOOKUP(Y176, データ!$F$2:$H$101, 2, FALSE), \"\")))","v":{"$error":"#REF!"}},{"$f":"IF(A176=\"\",\"\", IF(#REF!=\"\", \"\",#REF!))","v":{"$error":"#REF!"}},{"$f":" IF(#REF!=\"\", \"\",#REF!)","v":{"$error":"#REF!"}},{"$f":" IF(#REF!=\"\", \"\",#REF!)","v":{"$error":"#REF!"}},{"$f":" IF(#REF!=\"\", \"\",#REF!)","v":{"$error":"#REF!"}},{"$f":" IF(#REF!=\"\", \"\",#REF!)","v":{"$error":"#REF!"}},{"$f":"IF(AE176=\"\", \"\", IF($L176=\"男\", VLOOKUP(AE176, データ!$B$2:$C$101, 2, FALSE), IF($L176=\"女\", VLOOKUP(AE176, データ!$F$2:$H$101, 2, FALSE), \"\")))","v":{"$error":"#REF!"}},{"$f":"IF(A176=\"\",\"\", IF(#REF!=\"\", \"\",#REF!))","v":{"$error":"#REF!"}},{"$f":" IF(#REF!=\"\", \"\",#REF!)","v":{"$error":"#REF!"}},{"$f":" IF(#REF!=\"\", \"\",#REF!)","v":{"$error":"#REF!"}},{"$f":" IF(#REF!=\"\", \"\",#REF!)","v":{"$error":"#REF!"}},{"$f":" IF(#REF!=\"\", \"\",#REF!)","v":{"$error":"#REF!"}},{"$f":"IF(AK176=\"\", \"\", IF($L176=\"男\", VLOOKUP(AK176, データ!$B$2:$C$101, 2, FALSE), IF($L176=\"女\", VLOOKUP(AK176, データ!$F$2:$H$101, 2, FALSE), \"\")))","v":{"$error":"#REF!"}},{"$f":"IF(A176=\"\",\"\", IF(#REF!=\"\", \"\",#REF!))","v":{"$error":"#REF!"}},{"$f":" IF(#REF!=\"\", \"\",#REF!)","v":{"$error":"#REF!"}},{"$f":" IF(#REF!=\"\", \"\",#REF!)","v":{"$error":"#REF!"}},{"$f":" IF(#REF!=\"\", \"\",#REF!)","v":{"$error":"#REF!"}},{"$f":" IF(#REF!=\"\", \"\",#REF!)","v":{"$error":"#REF!"}},{"$f":"IF(AQ176=\"\", \"\", IF($L176=\"男\", VLOOKUP(AQ176, データ!$B$2:$C$101, 2, FALSE), IF($L176=\"女\", VLOOKUP(AQ176, データ!$F$2:$H$101, 2, FALSE), \"\")))","v":{"$error":"#REF!"}},{"$f":"IF(A176=\"\",\"\", IF(#REF!=\"\", \"\",#REF!))","v":{"$error":"#REF!"}},{"$f":" IF(#REF!=\"\", \"\",#REF!)","v":{"$error":"#REF!"}},{"$f":" IF(#REF!=\"\", \"\",#REF!)","v":{"$error":"#REF!"}},{"$f":" IF(#REF!=\"\", \"\",#REF!)","v":{"$error":"#REF!"}},{"$f":" IF(#REF!=\"\", \"\",#REF!)","v":{"$error":"#REF!"}},{"$f":"IF(AW176=\"\", \"\", IF($L176=\"男\", VLOOKUP(AW176, データ!$B$2:$C$101, 2, FALSE), IF($L176=\"女\", VLOOKUP(AW176, データ!$F$2:$H$101, 2, FALSE), \"\")))","v":{"$error":"#REF!"}},{"$f":"IF(A176=\"\",\"\", IF(#REF!=\"\", \"\",#REF!))","v":{"$error":"#REF!"}},{"$f":" IF(#REF!=\"\", \"\",#REF!)","v":{"$error":"#REF!"}},{"$f":" IF(#REF!=\"\", \"\",#REF!)","v":{"$error":"#REF!"}},{"$f":" IF(#REF!=\"\", \"\",#REF!)","v":{"$error":"#REF!"}},{"$f":" IF(#REF!=\"\", \"\",#REF!)","v":{"$error":"#REF!"}},{"$error":"#REF!"}]
[{"$f":"#REF!","v":{"$error":"#REF!"}},{"$f":" IF(#REF!=\"\", \"\",#REF!)","v":{"$error":"#REF!"}},{"$f":" IF(#REF!=\"\", \"\",#REF!)","v":{"$error":"#REF!"}},{"$f":" IF(#REF!=\"\", \"\",#REF!)","v":{"$error":"#REF!"}},{"$error":"#REF!"},{"$error":"#REF!"},{"$error":"#REF!"},{"$error":"#REF!"},{"$f":" IF(#REF!=\"\", \"\",#REF!)","v":{"$error":"#REF!"}},{"$f":" IF(#REF!=\"\", \"\",#REF!)","v":{"$error":"#REF!"}},{"$f":" IF(#REF!=\"\", \"\",#REF!)","v":{"$error":"#REF!"}},{"$f":" IF(#REF!=\"\", \"\",#REF!)","v":{"$error":"#REF!"}},{"$f":" IF(#REF!=\"\", \"\",#REF!)","v":{"$error":"#REF!"}},{"$f":" IF(#REF!=\"\", \"\",#REF!)","v":{"$error":"#REF!"}},{"$f":" IF(#REF!=\"\", \"\",#REF!)","v":{"$error":"#REF!"}},{"$f":" IF(#REF!=\"\", \"\",#REF!)","v":{"$error":"#REF!"}},{"$f":"IF(A177=\"\",\"\",#REF!)","v":{"$error":"#REF!"}},{"$f":" IF(Q177=\"\", \"\",#REF!)","v":{"$error":"#REF!"}},{"$f":" IF(Q177=\"\", \"\",#REF!)","v":{"$error":"#REF!"}},{"$f":" IF(Q177=\"\", \"\",#REF!)","v":{"$error":"#REF!"}},{"$f":" IF(Q177=\"\", \"\",#REF!)","v":{"$error":"#REF!"}},{"$f":" IF(#REF!=\"\", \"\",#REF!)","v":{"$error":"#REF!"}},{"$f":" IF(#REF!=\"\", \"\",#REF!)","v":{"$error":"#REF!"}},{"$f":"IF(Y177=\"\", \"\", IF($L177=\"男\", VLOOKUP(Y177, データ!$B$2:$C$101, 2, FALSE), IF($L177=\"女\", VLOOKUP(Y177, データ!$F$2:$H$101, 2, FALSE), \"\")))","v":{"$error":"#REF!"}},{"$f":"IF(A177=\"\",\"\", IF(#REF!=\"\", \"\",#REF!))","v":{"$error":"#REF!"}},{"$f":" IF(#REF!=\"\", \"\",#REF!)","v":{"$error":"#REF!"}},{"$f":" IF(#REF!=\"\", \"\",#REF!)","v":{"$error":"#REF!"}},{"$f":" IF(#REF!=\"\", \"\",#REF!)","v":{"$error":"#REF!"}},{"$f":" IF(#REF!=\"\", \"\",#REF!)","v":{"$error":"#REF!"}},{"$f":"IF(AE177=\"\", \"\", IF($L177=\"男\", VLOOKUP(AE177, データ!$B$2:$C$101, 2, FALSE), IF($L177=\"女\", VLOOKUP(AE177, データ!$F$2:$H$101, 2, FALSE), \"\")))","v":{"$error":"#REF!"}},{"$f":"IF(A177=\"\",\"\", IF(#REF!=\"\", \"\",#REF!))","v":{"$error":"#REF!"}},{"$f":" IF(#REF!=\"\", \"\",#REF!)","v":{"$error":"#REF!"}},{"$f":" IF(#REF!=\"\", \"\",#REF!)","v":{"$error":"#REF!"}},{"$f":" IF(#REF!=\"\", \"\",#REF!)","v":{"$error":"#REF!"}},{"$f":" IF(#REF!=\"\", \"\",#REF!)","v":{"$error":"#REF!"}},{"$f":"IF(AK177=\"\", \"\", IF($L177=\"男\", VLOOKUP(AK177, データ!$B$2:$C$101, 2, FALSE), IF($L177=\"女\", VLOOKUP(AK177, データ!$F$2:$H$101, 2, FALSE), \"\")))","v":{"$error":"#REF!"}},{"$f":"IF(A177=\"\",\"\", IF(#REF!=\"\", \"\",#REF!))","v":{"$error":"#REF!"}},{"$f":" IF(#REF!=\"\", \"\",#REF!)","v":{"$error":"#REF!"}},{"$f":" IF(#REF!=\"\", \"\",#REF!)","v":{"$error":"#REF!"}},{"$f":" IF(#REF!=\"\", \"\",#REF!)","v":{"$error":"#REF!"}},{"$f":" IF(#REF!=\"\", \"\",#REF!)","v":{"$error":"#REF!"}},{"$f":"IF(AQ177=\"\", \"\", IF($L177=\"男\", VLOOKUP(AQ177, データ!$B$2:$C$101, 2, FALSE), IF($L177=\"女\", VLOOKUP(AQ177, データ!$F$2:$H$101, 2, FALSE), \"\")))","v":{"$error":"#REF!"}},{"$f":"IF(A177=\"\",\"\", IF(#REF!=\"\", \"\",#REF!))","v":{"$error":"#REF!"}},{"$f":" IF(#REF!=\"\", \"\",#REF!)","v":{"$error":"#REF!"}},{"$f":" IF(#REF!=\"\", \"\",#REF!)","v":{"$error":"#REF!"}},{"$f":" IF(#REF!=\"\", \"\",#REF!)","v":{"$error":"#REF!"}},{"$f":" IF(#REF!=\"\", \"\",#REF!)","v":{"$error":"#REF!"}},{"$f":"IF(AW177=\"\", \"\", IF($L177=\"男\", VLOOKUP(AW177, データ!$B$2:$C$101, 2, FALSE), IF($L177=\"女\", VLOOKUP(AW177, データ!$F$2:$H$101, 2, FALSE), \"\")))","v":{"$error":"#REF!"}},{"$f":"IF(A177=\"\",\"\", IF(#REF!=\"\", \"\",#REF!))","v":{"$error":"#REF!"}},{"$f":" IF(#REF!=\"\", \"\",#REF!)","v":{"$error":"#REF!"}},{"$f":" IF(#REF!=\"\", \"\",#REF!)","v":{"$error":"#REF!"}},{"$f":" IF(#REF!=\"\", \"\",#REF!)","v":{"$error":"#REF!"}},{"$f":" IF(#REF!=\"\", \"\",#REF!)","v":{"$error":"#REF!"}},{"$error":"#REF!"}]
[{"$f":"#REF!","v":{"$error":"#REF!"}},{"$f":" IF(#REF!=\"\", \"\",#REF!)","v":{"$error":"#REF!"}},{"$f":" IF(#REF!=\"\", \"\",#REF!)","v":{"$error":"#REF!"}},{"$f":" IF(#REF!=\"\", \"\",#REF!)","v":{"$error":"#REF!"}},{"$error":"#REF!"},{"$error":"#REF!"},{"$error":"#REF!"},{"$error":"#REF!"},{"$f":" IF(#REF!=\"\", \"\",#REF!)","v":{"$error":"#REF!"}},{"$f":" IF(#REF!=\"\", \"\",#REF!)","v":{"$error":"#REF!"}},{"$f":" IF(#REF!=\"\", \"\",#REF!)","v":{"$error":"#REF!"}},{"$f":" IF(#REF!=\"\", \"\",#REF!)","v":{"$error":"#REF!"}},{"$f":" IF(#REF!=\"\", \"\",#REF!)","v":{"$error":"#REF!"}},{"$f":" IF(#REF!=\"\", \"\",#REF!)","v":{"$error":"#REF!"}},{"$f":" IF(#REF!=\"\", \"\",#REF!)","v":{"$error":"#REF!"}},{"$f":" IF(#REF!=\"\", \"\",#REF!)","v":{"$error":"#REF!"}},{"$f":"IF(A178=\"\",\"\",#REF!)","v":{"$error":"#REF!"}},{"$f":" IF(Q178=\"\", \"\",#REF!)","v":{"$error":"#REF!"}},{"$f":" IF(Q178=\"\", \"\",#REF!)","v":{"$error":"#REF!"}},{"$f":" IF(Q178=\"\", \"\",#REF!)","v":{"$error":"#REF!"}},{"$f":" IF(Q178=\"\", \"\",#REF!)","v":{"$error":"#REF!"}},{"$f":" IF(#REF!=\"\", \"\",#REF!)","v":{"$error":"#REF!"}},{"$f":" IF(#REF!=\"\", \"\",#REF!)","v":{"$error":"#REF!"}},{"$f":"IF(Y178=\"\", \"\", IF($L178=\"男\", VLOOKUP(Y178, データ!$B$2:$C$101, 2, FALSE), IF($L178=\"女\", VLOOKUP(Y178, データ!$F$2:$H$101, 2, FALSE), \"\")))","v":{"$error":"#REF!"}},{"$f":"IF(A178=\"\",\"\", IF(#REF!=\"\", \"\",#REF!))","v":{"$error":"#REF!"}},{"$f":" IF(#REF!=\"\", \"\",#REF!)","v":{"$error":"#REF!"}},{"$f":" IF(#REF!=\"\", \"\",#REF!)","v":{"$error":"#REF!"}},{"$f":" IF(#REF!=\"\", \"\",#REF!)","v":{"$error":"#REF!"}},{"$f":" IF(#REF!=\"\", \"\",#REF!)","v":{"$error":"#REF!"}},{"$f":"IF(AE178=\"\", \"\", IF($L178=\"男\", VLOOKUP(AE178, データ!$B$2:$C$101, 2, FALSE), IF($L178=\"女\", VLOOKUP(AE178, データ!$F$2:$H$101, 2, FALSE), \"\")))","v":{"$error":"#REF!"}},{"$f":"IF(A178=\"\",\"\", IF(#REF!=\"\", \"\",#REF!))","v":{"$error":"#REF!"}},{"$f":" IF(#REF!=\"\", \"\",#REF!)","v":{"$error":"#REF!"}},{"$f":" IF(#REF!=\"\", \"\",#REF!)","v":{"$error":"#REF!"}},{"$f":" IF(#REF!=\"\", \"\",#REF!)","v":{"$error":"#REF!"}},{"$f":" IF(#REF!=\"\", \"\",#REF!)","v":{"$error":"#REF!"}},{"$f":"IF(AK178=\"\", \"\", IF($L178=\"男\", VLOOKUP(AK178, データ!$B$2:$C$101, 2, FALSE), IF($L178=\"女\", VLOOKUP(AK178, データ!$F$2:$H$101, 2, FALSE), \"\")))","v":{"$error":"#REF!"}},{"$f":"IF(A178=\"\",\"\", IF(#REF!=\"\", \"\",#REF!))","v":{"$error":"#REF!"}},{"$f":" IF(#REF!=\"\", \"\",#REF!)","v":{"$error":"#REF!"}},{"$f":" IF(#REF!=\"\", \"\",#REF!)","v":{"$error":"#REF!"}},{"$f":" IF(#REF!=\"\", \"\",#REF!)","v":{"$error":"#REF!"}},{"$f":" IF(#REF!=\"\", \"\",#REF!)","v":{"$error":"#REF!"}},{"$f":"IF(AQ178=\"\", \"\", IF($L178=\"男\", VLOOKUP(AQ178, データ!$B$2:$C$101, 2, FALSE), IF($L178=\"女\", VLOOKUP(AQ178, データ!$F$2:$H$101, 2, FALSE), \"\")))","v":{"$error":"#REF!"}},{"$f":"IF(A178=\"\",\"\", IF(#REF!=\"\", \"\",#REF!))","v":{"$error":"#REF!"}},{"$f":" IF(#REF!=\"\", \"\",#REF!)","v":{"$error":"#REF!"}},{"$f":" IF(#REF!=\"\", \"\",#REF!)","v":{"$error":"#REF!"}},{"$f":" IF(#REF!=\"\", \"\",#REF!)","v":{"$error":"#REF!"}},{"$f":" IF(#REF!=\"\", \"\",#REF!)","v":{"$error":"#REF!"}},{"$f":"IF(AW178=\"\", \"\", IF($L178=\"男\", VLOOKUP(AW178, データ!$B$2:$C$101, 2, FALSE), IF($L178=\"女\", VLOOKUP(AW178, データ!$F$2:$H$101, 2, FALSE), \"\")))","v":{"$error":"#REF!"}},{"$f":"IF(A178=\"\",\"\", IF(#REF!=\"\", \"\",#REF!))","v":{"$error":"#REF!"}},{"$f":" IF(#REF!=\"\", \"\",#REF!)","v":{"$error":"#REF!"}},{"$f":" IF(#REF!=\"\", \"\",#REF!)","v":{"$error":"#REF!"}},{"$f":" IF(#REF!=\"\", \"\",#REF!)","v":{"$error":"#REF!"}},{"$f":" IF(#REF!=\"\", \"\",#REF!)","v":{"$error":"#REF!"}},{"$error":"#REF!"}]
[{"$f":"#REF!","v":{"$error":"#REF!"}},{"$f":" IF(#REF!=\"\", \"\",#REF!)","v":{"$error":"#REF!"}},{"$f":" IF(#REF!=\"\", \"\",#REF!)","v":{"$error":"#REF!"}},{"$f":" IF(#REF!=\"\", \"\",#REF!)","v":{"$error":"#REF!"}},{"$error":"#REF!"},{"$error":"#REF!"},{"$error":"#REF!"},{"$error":"#REF!"},{"$f":" IF(#REF!=\"\", \"\",#REF!)","v":{"$error":"#REF!"}},{"$f":" IF(#REF!=\"\", \"\",#REF!)","v":{"$error":"#REF!"}},{"$f":" IF(#REF!=\"\", \"\",#REF!)","v":{"$error":"#REF!"}},{"$f":" IF(#REF!=\"\", \"\",#REF!)","v":{"$error":"#REF!"}},{"$f":" IF(#REF!=\"\", \"\",#REF!)","v":{"$error":"#REF!"}},{"$f":" IF(#REF!=\"\", \"\",#REF!)","v":{"$error":"#REF!"}},{"$f":" IF(#REF!=\"\", \"\",#REF!)","v":{"$error":"#REF!"}},{"$f":" IF(#REF!=\"\", \"\",#REF!)","v":{"$error":"#REF!"}},{"$f":"IF(A179=\"\",\"\",#REF!)","v":{"$error":"#REF!"}},{"$f":" IF(Q179=\"\", \"\",#REF!)","v":{"$error":"#REF!"}},{"$f":" IF(Q179=\"\", \"\",#REF!)","v":{"$error":"#REF!"}},{"$f":" IF(Q179=\"\", \"\",#REF!)","v":{"$error":"#REF!"}},{"$f":" IF(Q179=\"\", \"\",#REF!)","v":{"$error":"#REF!"}},{"$f":" IF(#REF!=\"\", \"\",#REF!)","v":{"$error":"#REF!"}},{"$f":" IF(#REF!=\"\", \"\",#REF!)","v":{"$error":"#REF!"}},{"$f":"IF(Y179=\"\", \"\", IF($L179=\"男\", VLOOKUP(Y179, データ!$B$2:$C$101, 2, FALSE), IF($L179=\"女\", VLOOKUP(Y179, データ!$F$2:$H$101, 2, FALSE), \"\")))","v":{"$error":"#REF!"}},{"$f":"IF(A179=\"\",\"\", IF(#REF!=\"\", \"\",#REF!))","v":{"$error":"#REF!"}},{"$f":" IF(#REF!=\"\", \"\",#REF!)","v":{"$error":"#REF!"}},{"$f":" IF(#REF!=\"\", \"\",#REF!)","v":{"$error":"#REF!"}},{"$f":" IF(#REF!=\"\", \"\",#REF!)","v":{"$error":"#REF!"}},{"$f":" IF(#REF!=\"\", \"\",#REF!)","v":{"$error":"#REF!"}},{"$f":"IF(AE179=\"\", \"\", IF($L179=\"男\", VLOOKUP(AE179, データ!$B$2:$C$101, 2, FALSE), IF($L179=\"女\", VLOOKUP(AE179, データ!$F$2:$H$101, 2, FALSE), \"\")))","v":{"$error":"#REF!"}},{"$f":"IF(A179=\"\",\"\", IF(#REF!=\"\", \"\",#REF!))","v":{"$error":"#REF!"}},{"$f":" IF(#REF!=\"\", \"\",#REF!)","v":{"$error":"#REF!"}},{"$f":" IF(#REF!=\"\", \"\",#REF!)","v":{"$error":"#REF!"}},{"$f":" IF(#REF!=\"\", \"\",#REF!)","v":{"$error":"#REF!"}},{"$f":" IF(#REF!=\"\", \"\",#REF!)","v":{"$error":"#REF!"}},{"$f":"IF(AK179=\"\", \"\", IF($L179=\"男\", VLOOKUP(AK179, データ!$B$2:$C$101, 2, FALSE), IF($L179=\"女\", VLOOKUP(AK179, データ!$F$2:$H$101, 2, FALSE), \"\")))","v":{"$error":"#REF!"}},{"$f":"IF(A179=\"\",\"\", IF(#REF!=\"\", \"\",#REF!))","v":{"$error":"#REF!"}},{"$f":" IF(#REF!=\"\", \"\",#REF!)","v":{"$error":"#REF!"}},{"$f":" IF(#REF!=\"\", \"\",#REF!)","v":{"$error":"#REF!"}},{"$f":" IF(#REF!=\"\", \"\",#REF!)","v":{"$error":"#REF!"}},{"$f":" IF(#REF!=\"\", \"\",#REF!)","v":{"$error":"#REF!"}},{"$f":"IF(AQ179=\"\", \"\", IF($L179=\"男\", VLOOKUP(AQ179, データ!$B$2:$C$101, 2, FALSE), IF($L179=\"女\", VLOOKUP(AQ179, データ!$F$2:$H$101, 2, FALSE), \"\")))","v":{"$error":"#REF!"}},{"$f":"IF(A179=\"\",\"\", IF(#REF!=\"\", \"\",#REF!))","v":{"$error":"#REF!"}},{"$f":" IF(#REF!=\"\", \"\",#REF!)","v":{"$error":"#REF!"}},{"$f":" IF(#REF!=\"\", \"\",#REF!)","v":{"$error":"#REF!"}},{"$f":" IF(#REF!=\"\", \"\",#REF!)","v":{"$error":"#REF!"}},{"$f":" IF(#REF!=\"\", \"\",#REF!)","v":{"$error":"#REF!"}},{"$f":"IF(AW179=\"\", \"\", IF($L179=\"男\", VLOOKUP(AW179, データ!$B$2:$C$101, 2, FALSE), IF($L179=\"女\", VLOOKUP(AW179, データ!$F$2:$H$101, 2, FALSE), \"\")))","v":{"$error":"#REF!"}},{"$f":"IF(A179=\"\",\"\", IF(#REF!=\"\", \"\",#REF!))","v":{"$error":"#REF!"}},{"$f":" IF(#REF!=\"\", \"\",#REF!)","v":{"$error":"#REF!"}},{"$f":" IF(#REF!=\"\", \"\",#REF!)","v":{"$error":"#REF!"}},{"$f":" IF(#REF!=\"\", \"\",#REF!)","v":{"$error":"#REF!"}},{"$f":" IF(#REF!=\"\", \"\",#REF!)","v":{"$error":"#REF!"}},{"$error":"#REF!"}]
[{"$f":"#REF!","v":{"$error":"#REF!"}},{"$f":" IF(#REF!=\"\", \"\",#REF!)","v":{"$error":"#REF!"}},{"$f":" IF(#REF!=\"\", \"\",#REF!)","v":{"$error":"#REF!"}},{"$f":" IF(#REF!=\"\", \"\",#REF!)","v":{"$error":"#REF!"}},{"$error":"#REF!"},{"$error":"#REF!"},{"$error":"#REF!"},{"$error":"#REF!"},{"$f":" IF(#REF!=\"\", \"\",#REF!)","v":{"$error":"#REF!"}},{"$f":" IF(#REF!=\"\", \"\",#REF!)","v":{"$error":"#REF!"}},{"$f":" IF(#REF!=\"\", \"\",#REF!)","v":{"$error":"#REF!"}},{"$f":" IF(#REF!=\"\", \"\",#REF!)","v":{"$error":"#REF!"}},{"$f":" IF(#REF!=\"\", \"\",#REF!)","v":{"$error":"#REF!"}},{"$f":" IF(#REF!=\"\", \"\",#REF!)","v":{"$error":"#REF!"}},{"$f":" IF(#REF!=\"\", \"\",#REF!)","v":{"$error":"#REF!"}},{"$f":" IF(#REF!=\"\", \"\",#REF!)","v":{"$error":"#REF!"}},{"$f":"IF(A180=\"\",\"\",#REF!)","v":{"$error":"#REF!"}},{"$f":" IF(Q180=\"\", \"\",#REF!)","v":{"$error":"#REF!"}},{"$f":" IF(Q180=\"\", \"\",#REF!)","v":{"$error":"#REF!"}},{"$f":" IF(Q180=\"\", \"\",#REF!)","v":{"$error":"#REF!"}},{"$f":" IF(Q180=\"\", \"\",#REF!)","v":{"$error":"#REF!"}},{"$f":" IF(#REF!=\"\", \"\",#REF!)","v":{"$error":"#REF!"}},{"$f":" IF(#REF!=\"\", \"\",#REF!)","v":{"$error":"#REF!"}},{"$f":"IF(Y180=\"\", \"\", IF($L180=\"男\", VLOOKUP(Y180, データ!$B$2:$C$101, 2, FALSE), IF($L180=\"女\", VLOOKUP(Y180, データ!$F$2:$H$101, 2, FALSE), \"\")))","v":{"$error":"#REF!"}},{"$f":"IF(A180=\"\",\"\", IF(#REF!=\"\", \"\",#REF!))","v":{"$error":"#REF!"}},{"$f":" IF(#REF!=\"\", \"\",#REF!)","v":{"$error":"#REF!"}},{"$f":" IF(#REF!=\"\", \"\",#REF!)","v":{"$error":"#REF!"}},{"$f":" IF(#REF!=\"\", \"\",#REF!)","v":{"$error":"#REF!"}},{"$f":" IF(#REF!=\"\", \"\",#REF!)","v":{"$error":"#REF!"}},{"$f":"IF(AE180=\"\", \"\", IF($L180=\"男\", VLOOKUP(AE180, データ!$B$2:$C$101, 2, FALSE), IF($L180=\"女\", VLOOKUP(AE180, データ!$F$2:$H$101, 2, FALSE), \"\")))","v":{"$error":"#REF!"}},{"$f":"IF(A180=\"\",\"\", IF(#REF!=\"\", \"\",#REF!))","v":{"$error":"#REF!"}},{"$f":" IF(#REF!=\"\", \"\",#REF!)","v":{"$error":"#REF!"}},{"$f":" IF(#REF!=\"\", \"\",#REF!)","v":{"$error":"#REF!"}},{"$f":" IF(#REF!=\"\", \"\",#REF!)","v":{"$error":"#REF!"}},{"$f":" IF(#REF!=\"\", \"\",#REF!)","v":{"$error":"#REF!"}},{"$f":"IF(AK180=\"\", \"\", IF($L180=\"男\", VLOOKUP(AK180, データ!$B$2:$C$101, 2, FALSE), IF($L180=\"女\", VLOOKUP(AK180, データ!$F$2:$H$101, 2, FALSE), \"\")))","v":{"$error":"#REF!"}},{"$f":"IF(A180=\"\",\"\", IF(#REF!=\"\", \"\",#REF!))","v":{"$error":"#REF!"}},{"$f":" IF(#REF!=\"\", \"\",#REF!)","v":{"$error":"#REF!"}},{"$f":" IF(#REF!=\"\", \"\",#REF!)","v":{"$error":"#REF!"}},{"$f":" IF(#REF!=\"\", \"\",#REF!)","v":{"$error":"#REF!"}},{"$f":" IF(#REF!=\"\", \"\",#REF!)","v":{"$error":"#REF!"}},{"$f":"IF(AQ180=\"\", \"\", IF($L180=\"男\", VLOOKUP(AQ180, データ!$B$2:$C$101, 2, FALSE), IF($L180=\"女\", VLOOKUP(AQ180, データ!$F$2:$H$101, 2, FALSE), \"\")))","v":{"$error":"#REF!"}},{"$f":"IF(A180=\"\",\"\", IF(#REF!=\"\", \"\",#REF!))","v":{"$error":"#REF!"}},{"$f":" IF(#REF!=\"\", \"\",#REF!)","v":{"$error":"#REF!"}},{"$f":" IF(#REF!=\"\", \"\",#REF!)","v":{"$error":"#REF!"}},{"$f":" IF(#REF!=\"\", \"\",#REF!)","v":{"$error":"#REF!"}},{"$f":" IF(#REF!=\"\", \"\",#REF!)","v":{"$error":"#REF!"}},{"$f":"IF(AW180=\"\", \"\", IF($L180=\"男\", VLOOKUP(AW180, データ!$B$2:$C$101, 2, FALSE), IF($L180=\"女\", VLOOKUP(AW180, データ!$F$2:$H$101, 2, FALSE), \"\")))","v":{"$error":"#REF!"}},{"$f":"IF(A180=\"\",\"\", IF(#REF!=\"\", \"\",#REF!))","v":{"$error":"#REF!"}},{"$f":" IF(#REF!=\"\", \"\",#REF!)","v":{"$error":"#REF!"}},{"$f":" IF(#REF!=\"\", \"\",#REF!)","v":{"$error":"#REF!"}},{"$f":" IF(#REF!=\"\", \"\",#REF!)","v":{"$error":"#REF!"}},{"$f":" IF(#REF!=\"\", \"\",#REF!)","v":{"$error":"#REF!"}},{"$error":"#REF!"}]
[{"$f":"#REF!","v":{"$error":"#REF!"}},{"$f":" IF(#REF!=\"\", \"\",#REF!)","v":{"$error":"#REF!"}},{"$f":" IF(#REF!=\"\", \"\",#REF!)","v":{"$error":"#REF!"}},{"$f":" IF(#REF!=\"\", \"\",#REF!)","v":{"$error":"#REF!"}},{"$error":"#REF!"},{"$error":"#REF!"},{"$error":"#REF!"},{"$error":"#REF!"},{"$f":" IF(#REF!=\"\", \"\",#REF!)","v":{"$error":"#REF!"}},{"$f":" IF(#REF!=\"\", \"\",#REF!)","v":{"$error":"#REF!"}},{"$f":" IF(#REF!=\"\", \"\",#REF!)","v":{"$error":"#REF!"}},{"$f":" IF(#REF!=\"\", \"\",#REF!)","v":{"$error":"#REF!"}},{"$f":" IF(#REF!=\"\", \"\",#REF!)","v":{"$error":"#REF!"}},{"$f":" IF(#REF!=\"\", \"\",#REF!)","v":{"$error":"#REF!"}},{"$f":" IF(#REF!=\"\", \"\",#REF!)","v":{"$error":"#REF!"}},{"$f":" IF(#REF!=\"\", \"\",#REF!)","v":{"$error":"#REF!"}},{"$f":"IF(A181=\"\",\"\",#REF!)","v":{"$error":"#REF!"}},{"$f":" IF(Q181=\"\", \"\",#REF!)","v":{"$error":"#REF!"}},{"$f":" IF(Q181=\"\", \"\",#REF!)","v":{"$error":"#REF!"}},{"$f":" IF(Q181=\"\", \"\",#REF!)","v":{"$error":"#REF!"}},{"$f":" IF(Q181=\"\", \"\",#REF!)","v":{"$error":"#REF!"}},{"$f":" IF(#REF!=\"\", \"\",#REF!)","v":{"$error":"#REF!"}},{"$f":" IF(#REF!=\"\", \"\",#REF!)","v":{"$error":"#REF!"}},{"$f":"IF(Y181=\"\", \"\", IF($L181=\"男\", VLOOKUP(Y181, データ!$B$2:$C$101, 2, FALSE), IF($L181=\"女\", VLOOKUP(Y181, データ!$F$2:$H$101, 2, FALSE), \"\")))","v":{"$error":"#REF!"}},{"$f":"IF(A181=\"\",\"\", IF(#REF!=\"\", \"\",#REF!))","v":{"$error":"#REF!"}},{"$f":" IF(#REF!=\"\", \"\",#REF!)","v":{"$error":"#REF!"}},{"$f":" IF(#REF!=\"\", \"\",#REF!)","v":{"$error":"#REF!"}},{"$f":" IF(#REF!=\"\", \"\",#REF!)","v":{"$error":"#REF!"}},{"$f":" IF(#REF!=\"\", \"\",#REF!)","v":{"$error":"#REF!"}},{"$f":"IF(AE181=\"\", \"\", IF($L181=\"男\", VLOOKUP(AE181, データ!$B$2:$C$101, 2, FALSE), IF($L181=\"女\", VLOOKUP(AE181, データ!$F$2:$H$101, 2, FALSE), \"\")))","v":{"$error":"#REF!"}},{"$f":"IF(A181=\"\",\"\", IF(#REF!=\"\", \"\",#REF!))","v":{"$error":"#REF!"}},{"$f":" IF(#REF!=\"\", \"\",#REF!)","v":{"$error":"#REF!"}},{"$f":" IF(#REF!=\"\", \"\",#REF!)","v":{"$error":"#REF!"}},{"$f":" IF(#REF!=\"\", \"\",#REF!)","v":{"$error":"#REF!"}},{"$f":" IF(#REF!=\"\", \"\",#REF!)","v":{"$error":"#REF!"}},{"$f":"IF(AK181=\"\", \"\", IF($L181=\"男\", VLOOKUP(AK181, データ!$B$2:$C$101, 2, FALSE), IF($L181=\"女\", VLOOKUP(AK181, データ!$F$2:$H$101, 2, FALSE), \"\")))","v":{"$error":"#REF!"}},{"$f":"IF(A181=\"\",\"\", IF(#REF!=\"\", \"\",#REF!))","v":{"$error":"#REF!"}},{"$f":" IF(#REF!=\"\", \"\",#REF!)","v":{"$error":"#REF!"}},{"$f":" IF(#REF!=\"\", \"\",#REF!)","v":{"$error":"#REF!"}},{"$f":" IF(#REF!=\"\", \"\",#REF!)","v":{"$error":"#REF!"}},{"$f":" IF(#REF!=\"\", \"\",#REF!)","v":{"$error":"#REF!"}},{"$f":"IF(AQ181=\"\", \"\", IF($L181=\"男\", VLOOKUP(AQ181, データ!$B$2:$C$101, 2, FALSE), IF($L181=\"女\", VLOOKUP(AQ181, データ!$F$2:$H$101, 2, FALSE), \"\")))","v":{"$error":"#REF!"}},{"$f":"IF(A181=\"\",\"\", IF(#REF!=\"\", \"\",#REF!))","v":{"$error":"#REF!"}},{"$f":" IF(#REF!=\"\", \"\",#REF!)","v":{"$error":"#REF!"}},{"$f":" IF(#REF!=\"\", \"\",#REF!)","v":{"$error":"#REF!"}},{"$f":" IF(#REF!=\"\", \"\",#REF!)","v":{"$error":"#REF!"}},{"$f":" IF(#REF!=\"\", \"\",#REF!)","v":{"$error":"#REF!"}},{"$f":"IF(AW181=\"\", \"\", IF($L181=\"男\", VLOOKUP(AW181, データ!$B$2:$C$101, 2, FALSE), IF($L181=\"女\", VLOOKUP(AW181, データ!$F$2:$H$101, 2, FALSE), \"\")))","v":{"$error":"#REF!"}},{"$f":"IF(A181=\"\",\"\", IF(#REF!=\"\", \"\",#REF!))","v":{"$error":"#REF!"}},{"$f":" IF(#REF!=\"\", \"\",#REF!)","v":{"$error":"#REF!"}},{"$f":" IF(#REF!=\"\", \"\",#REF!)","v":{"$error":"#REF!"}},{"$f":" IF(#REF!=\"\", \"\",#REF!)","v":{"$error":"#REF!"}},{"$f":" IF(#REF!=\"\", \"\",#REF!)","v":{"$error":"#REF!"}},{"$error":"#REF!"}]
[{"$f":"#REF!","v":{"$error":"#REF!"}},{"$f":" IF(#REF!=\"\", \"\",#REF!)","v":{"$error":"#REF!"}},{"$f":" IF(#REF!=\"\", \"\",#REF!)","v":{"$error":"#REF!"}},{"$f":" IF(#REF!=\"\", \"\",#REF!)","v":{"$error":"#REF!"}},{"$error":"#REF!"},{"$error":"#REF!"},{"$error":"#REF!"},{"$error":"#REF!"},{"$f":" IF(#REF!=\"\", \"\",#REF!)","v":{"$error":"#REF!"}},{"$f":" IF(#REF!=\"\", \"\",#REF!)","v":{"$error":"#REF!"}},{"$f":" IF(#REF!=\"\", \"\",#REF!)","v":{"$error":"#REF!"}},{"$f":" IF(#REF!=\"\", \"\",#REF!)","v":{"$error":"#REF!"}},{"$f":" IF(#REF!=\"\", \"\",#REF!)","v":{"$error":"#REF!"}},{"$f":" IF(#REF!=\"\", \"\",#REF!)","v":{"$error":"#REF!"}},{"$f":" IF(#REF!=\"\", \"\",#REF!)","v":{"$error":"#REF!"}},{"$f":" IF(#REF!=\"\", \"\",#REF!)","v":{"$error":"#REF!"}},{"$f":"IF(A182=\"\",\"\",#REF!)","v":{"$error":"#REF!"}},{"$f":" IF(Q182=\"\", \"\",#REF!)","v":{"$error":"#REF!"}},{"$f":" IF(Q182=\"\", \"\",#REF!)","v":{"$error":"#REF!"}},{"$f":" IF(Q182=\"\", \"\",#REF!)","v":{"$error":"#REF!"}},{"$f":" IF(Q182=\"\", \"\",#REF!)","v":{"$error":"#REF!"}},{"$f":" IF(#REF!=\"\", \"\",#REF!)","v":{"$error":"#REF!"}},{"$f":" IF(#REF!=\"\", \"\",#REF!)","v":{"$error":"#REF!"}},{"$f":"IF(Y182=\"\", \"\", IF($L182=\"男\", VLOOKUP(Y182, データ!$B$2:$C$101, 2, FALSE), IF($L182=\"女\", VLOOKUP(Y182, データ!$F$2:$H$101, 2, FALSE), \"\")))","v":{"$error":"#REF!"}},{"$f":"IF(A182=\"\",\"\", IF(#REF!=\"\", \"\",#REF!))","v":{"$error":"#REF!"}},{"$f":" IF(#REF!=\"\", \"\",#REF!)","v":{"$error":"#REF!"}},{"$f":" IF(#REF!=\"\", \"\",#REF!)","v":{"$error":"#REF!"}},{"$f":" IF(#REF!=\"\", \"\",#REF!)","v":{"$error":"#REF!"}},{"$f":" IF(#REF!=\"\", \"\",#REF!)","v":{"$error":"#REF!"}},{"$f":"IF(AE182=\"\", \"\", IF($L182=\"男\", VLOOKUP(AE182, データ!$B$2:$C$101, 2, FALSE), IF($L182=\"女\", VLOOKUP(AE182, データ!$F$2:$H$101, 2, FALSE), \"\")))","v":{"$error":"#REF!"}},{"$f":"IF(A182=\"\",\"\", IF(#REF!=\"\", \"\",#REF!))","v":{"$error":"#REF!"}},{"$f":" IF(#REF!=\"\", \"\",#REF!)","v":{"$error":"#REF!"}},{"$f":" IF(#REF!=\"\", \"\",#REF!)","v":{"$error":"#REF!"}},{"$f":" IF(#REF!=\"\", \"\",#REF!)","v":{"$error":"#REF!"}},{"$f":" IF(#REF!=\"\", \"\",#REF!)","v":{"$error":"#REF!"}},{"$f":"IF(AK182=\"\", \"\", IF($L182=\"男\", VLOOKUP(AK182, データ!$B$2:$C$101, 2, FALSE), IF($L182=\"女\", VLOOKUP(AK182, データ!$F$2:$H$101, 2, FALSE), \"\")))","v":{"$error":"#REF!"}},{"$f":"IF(A182=\"\",\"\", IF(#REF!=\"\", \"\",#REF!))","v":{"$error":"#REF!"}},{"$f":" IF(#REF!=\"\", \"\",#REF!)","v":{"$error":"#REF!"}},{"$f":" IF(#REF!=\"\", \"\",#REF!)","v":{"$error":"#REF!"}},{"$f":" IF(#REF!=\"\", \"\",#REF!)","v":{"$error":"#REF!"}},{"$f":" IF(#REF!=\"\", \"\",#REF!)","v":{"$error":"#REF!"}},{"$f":"IF(AQ182=\"\", \"\", IF($L182=\"男\", VLOOKUP(AQ182, データ!$B$2:$C$101, 2, FALSE), IF($L182=\"女\", VLOOKUP(AQ182, データ!$F$2:$H$101, 2, FALSE), \"\")))","v":{"$error":"#REF!"}},{"$f":"IF(A182=\"\",\"\", IF(#REF!=\"\", \"\",#REF!))","v":{"$error":"#REF!"}},{"$f":" IF(#REF!=\"\", \"\",#REF!)","v":{"$error":"#REF!"}},{"$f":" IF(#REF!=\"\", \"\",#REF!)","v":{"$error":"#REF!"}},{"$f":" IF(#REF!=\"\", \"\",#REF!)","v":{"$error":"#REF!"}},{"$f":" IF(#REF!=\"\", \"\",#REF!)","v":{"$error":"#REF!"}},{"$f":"IF(AW182=\"\", \"\", IF($L182=\"男\", VLOOKUP(AW182, データ!$B$2:$C$101, 2, FALSE), IF($L182=\"女\", VLOOKUP(AW182, データ!$F$2:$H$101, 2, FALSE), \"\")))","v":{"$error":"#REF!"}},{"$f":"IF(A182=\"\",\"\", IF(#REF!=\"\", \"\",#REF!))","v":{"$error":"#REF!"}},{"$f":" IF(#REF!=\"\", \"\",#REF!)","v":{"$error":"#REF!"}},{"$f":" IF(#REF!=\"\", \"\",#REF!)","v":{"$error":"#REF!"}},{"$f":" IF(#REF!=\"\", \"\",#REF!)","v":{"$error":"#REF!"}},{"$f":" IF(#REF!=\"\", \"\",#REF!)","v":{"$error":"#REF!"}},{"$error":"#REF!"}]
[{"$f":"#REF!","v":{"$error":"#REF!"}},{"$f":" IF(#REF!=\"\", \"\",#REF!)","v":{"$error":"#REF!"}},{"$f":" IF(#REF!=\"\", \"\",#REF!)","v":{"$error":"#REF!"}},{"$f":" IF(#REF!=\"\", \"\",#REF!)","v":{"$error":"#REF!"}},{"$error":"#REF!"},{"$error":"#REF!"},{"$error":"#REF!"},{"$error":"#REF!"},{"$f":" IF(#REF!=\"\", \"\",#REF!)","v":{"$error":"#REF!"}},{"$f":" IF(#REF!=\"\", \"\",#REF!)","v":{"$error":"#REF!"}},{"$f":" IF(#REF!=\"\", \"\",#REF!)","v":{"$error":"#REF!"}},{"$f":" IF(#REF!=\"\", \"\",#REF!)","v":{"$error":"#REF!"}},{"$f":" IF(#REF!=\"\", \"\",#REF!)","v":{"$error":"#REF!"}},{"$f":" IF(#REF!=\"\", \"\",#REF!)","v":{"$error":"#REF!"}},{"$f":" IF(#REF!=\"\", \"\",#REF!)","v":{"$error":"#REF!"}},{"$f":" IF(#REF!=\"\", \"\",#REF!)","v":{"$error":"#REF!"}},{"$f":"IF(A183=\"\",\"\",#REF!)","v":{"$error":"#REF!"}},{"$f":" IF(Q183=\"\", \"\",#REF!)","v":{"$error":"#REF!"}},{"$f":" IF(Q183=\"\", \"\",#REF!)","v":{"$error":"#REF!"}},{"$f":" IF(Q183=\"\", \"\",#REF!)","v":{"$error":"#REF!"}},{"$f":" IF(Q183=\"\", \"\",#REF!)","v":{"$error":"#REF!"}},{"$f":" IF(#REF!=\"\", \"\",#REF!)","v":{"$error":"#REF!"}},{"$f":" IF(#REF!=\"\", \"\",#REF!)","v":{"$error":"#REF!"}},{"$f":"IF(Y183=\"\", \"\", IF($L183=\"男\", VLOOKUP(Y183, データ!$B$2:$C$101, 2, FALSE), IF($L183=\"女\", VLOOKUP(Y183, データ!$F$2:$H$101, 2, FALSE), \"\")))","v":{"$error":"#REF!"}},{"$f":"IF(A183=\"\",\"\", IF(#REF!=\"\", \"\",#REF!))","v":{"$error":"#REF!"}},{"$f":" IF(#REF!=\"\", \"\",#REF!)","v":{"$error":"#REF!"}},{"$f":" IF(#REF!=\"\", \"\",#REF!)","v":{"$error":"#REF!"}},{"$f":" IF(#REF!=\"\", \"\",#REF!)","v":{"$error":"#REF!"}},{"$f":" IF(#REF!=\"\", \"\",#REF!)","v":{"$error":"#REF!"}},{"$f":"IF(AE183=\"\", \"\", IF($L183=\"男\", VLOOKUP(AE183, データ!$B$2:$C$101, 2, FALSE), IF($L183=\"女\", VLOOKUP(AE183, データ!$F$2:$H$101, 2, FALSE), \"\")))","v":{"$error":"#REF!"}},{"$f":"IF(A183=\"\",\"\", IF(#REF!=\"\", \"\",#REF!))","v":{"$error":"#REF!"}},{"$f":" IF(#REF!=\"\", \"\",#REF!)","v":{"$error":"#REF!"}},{"$f":" IF(#REF!=\"\", \"\",#REF!)","v":{"$error":"#REF!"}},{"$f":" IF(#REF!=\"\", \"\",#REF!)","v":{"$error":"#REF!"}},{"$f":" IF(#REF!=\"\", \"\",#REF!)","v":{"$error":"#REF!"}},{"$f":"IF(AK183=\"\", \"\", IF($L183=\"男\", VLOOKUP(AK183, データ!$B$2:$C$101, 2, FALSE), IF($L183=\"女\", VLOOKUP(AK183, データ!$F$2:$H$101, 2, FALSE), \"\")))","v":{"$error":"#REF!"}},{"$f":"IF(A183=\"\",\"\", IF(#REF!=\"\", \"\",#REF!))","v":{"$error":"#REF!"}},{"$f":" IF(#REF!=\"\", \"\",#REF!)","v":{"$error":"#REF!"}},{"$f":" IF(#REF!=\"\", \"\",#REF!)","v":{"$error":"#REF!"}},{"$f":" IF(#REF!=\"\", \"\",#REF!)","v":{"$error":"#REF!"}},{"$f":" IF(#REF!=\"\", \"\",#REF!)","v":{"$error":"#REF!"}},{"$f":"IF(AQ183=\"\", \"\", IF($L183=\"男\", VLOOKUP(AQ183, データ!$B$2:$C$101, 2, FALSE), IF($L183=\"女\", VLOOKUP(AQ183, データ!$F$2:$H$101, 2, FALSE), \"\")))","v":{"$error":"#REF!"}},{"$f":"IF(A183=\"\",\"\", IF(#REF!=\"\", \"\",#REF!))","v":{"$error":"#REF!"}},{"$f":" IF(#REF!=\"\", \"\",#REF!)","v":{"$error":"#REF!"}},{"$f":" IF(#REF!=\"\", \"\",#REF!)","v":{"$error":"#REF!"}},{"$f":" IF(#REF!=\"\", \"\",#REF!)","v":{"$error":"#REF!"}},{"$f":" IF(#REF!=\"\", \"\",#REF!)","v":{"$error":"#REF!"}},{"$f":"IF(AW183=\"\", \"\", IF($L183=\"男\", VLOOKUP(AW183, データ!$B$2:$C$101, 2, FALSE), IF($L183=\"女\", VLOOKUP(AW183, データ!$F$2:$H$101, 2, FALSE), \"\")))","v":{"$error":"#REF!"}},{"$f":"IF(A183=\"\",\"\", IF(#REF!=\"\", \"\",#REF!))","v":{"$error":"#REF!"}},{"$f":" IF(#REF!=\"\", \"\",#REF!)","v":{"$error":"#REF!"}},{"$f":" IF(#REF!=\"\", \"\",#REF!)","v":{"$error":"#REF!"}},{"$f":" IF(#REF!=\"\", \"\",#REF!)","v":{"$error":"#REF!"}},{"$f":" IF(#REF!=\"\", \"\",#REF!)","v":{"$error":"#REF!"}},{"$error":"#REF!"}]
[{"$f":"#REF!","v":{"$error":"#REF!"}},{"$f":" IF(#REF!=\"\", \"\",#REF!)","v":{"$error":"#REF!"}},{"$f":" IF(#REF!=\"\", \"\",#REF!)","v":{"$error":"#REF!"}},{"$f":" IF(#REF!=\"\", \"\",#REF!)","v":{"$error":"#REF!"}},{"$error":"#REF!"},{"$error":"#REF!"},{"$error":"#REF!"},{"$error":"#REF!"},{"$f":" IF(#REF!=\"\", \"\",#REF!)","v":{"$error":"#REF!"}},{"$f":" IF(#REF!=\"\", \"\",#REF!)","v":{"$error":"#REF!"}},{"$f":" IF(#REF!=\"\", \"\",#REF!)","v":{"$error":"#REF!"}},{"$f":" IF(#REF!=\"\", \"\",#REF!)","v":{"$error":"#REF!"}},{"$f":" IF(#REF!=\"\", \"\",#REF!)","v":{"$error":"#REF!"}},{"$f":" IF(#REF!=\"\", \"\",#REF!)","v":{"$error":"#REF!"}},{"$f":" IF(#REF!=\"\", \"\",#REF!)","v":{"$error":"#REF!"}},{"$f":" IF(#REF!=\"\", \"\",#REF!)","v":{"$error":"#REF!"}},{"$f":"IF(A184=\"\",\"\",#REF!)","v":{"$error":"#REF!"}},{"$f":" IF(Q184=\"\", \"\",#REF!)","v":{"$error":"#REF!"}},{"$f":" IF(Q184=\"\", \"\",#REF!)","v":{"$error":"#REF!"}},{"$f":" IF(Q184=\"\", \"\",#REF!)","v":{"$error":"#REF!"}},{"$f":" IF(Q184=\"\", \"\",#REF!)","v":{"$error":"#REF!"}},{"$f":" IF(#REF!=\"\", \"\",#REF!)","v":{"$error":"#REF!"}},{"$f":" IF(#REF!=\"\", \"\",#REF!)","v":{"$error":"#REF!"}},{"$f":"IF(Y184=\"\", \"\", IF($L184=\"男\", VLOOKUP(Y184, データ!$B$2:$C$101, 2, FALSE), IF($L184=\"女\", VLOOKUP(Y184, データ!$F$2:$H$101, 2, FALSE), \"\")))","v":{"$error":"#REF!"}},{"$f":"IF(A184=\"\",\"\", IF(#REF!=\"\", \"\",#REF!))","v":{"$error":"#REF!"}},{"$f":" IF(#REF!=\"\", \"\",#REF!)","v":{"$error":"#REF!"}},{"$f":" IF(#REF!=\"\", \"\",#REF!)","v":{"$error":"#REF!"}},{"$f":" IF(#REF!=\"\", \"\",#REF!)","v":{"$error":"#REF!"}},{"$f":" IF(#REF!=\"\", \"\",#REF!)","v":{"$error":"#REF!"}},{"$f":"IF(AE184=\"\", \"\", IF($L184=\"男\", VLOOKUP(AE184, データ!$B$2:$C$101, 2, FALSE), IF($L184=\"女\", VLOOKUP(AE184, データ!$F$2:$H$101, 2, FALSE), \"\")))","v":{"$error":"#REF!"}},{"$f":"IF(A184=\"\",\"\", IF(#REF!=\"\", \"\",#REF!))","v":{"$error":"#REF!"}},{"$f":" IF(#REF!=\"\", \"\",#REF!)","v":{"$error":"#REF!"}},{"$f":" IF(#REF!=\"\", \"\",#REF!)","v":{"$error":"#REF!"}},{"$f":" IF(#REF!=\"\", \"\",#REF!)","v":{"$error":"#REF!"}},{"$f":" IF(#REF!=\"\", \"\",#REF!)","v":{"$error":"#REF!"}},{"$f":"IF(AK184=\"\", \"\", IF($L184=\"男\", VLOOKUP(AK184, データ!$B$2:$C$101, 2, FALSE), IF($L184=\"女\", VLOOKUP(AK184, データ!$F$2:$H$101, 2, FALSE), \"\")))","v":{"$error":"#REF!"}},{"$f":"IF(A184=\"\",\"\", IF(#REF!=\"\", \"\",#REF!))","v":{"$error":"#REF!"}},{"$f":" IF(#REF!=\"\", \"\",#REF!)","v":{"$error":"#REF!"}},{"$f":" IF(#REF!=\"\", \"\",#REF!)","v":{"$error":"#REF!"}},{"$f":" IF(#REF!=\"\", \"\",#REF!)","v":{"$error":"#REF!"}},{"$f":" IF(#REF!=\"\", \"\",#REF!)","v":{"$error":"#REF!"}},{"$f":"IF(AQ184=\"\", \"\", IF($L184=\"男\", VLOOKUP(AQ184, データ!$B$2:$C$101, 2, FALSE), IF($L184=\"女\", VLOOKUP(AQ184, データ!$F$2:$H$101, 2, FALSE), \"\")))","v":{"$error":"#REF!"}},{"$f":"IF(A184=\"\",\"\", IF(#REF!=\"\", \"\",#REF!))","v":{"$error":"#REF!"}},{"$f":" IF(#REF!=\"\", \"\",#REF!)","v":{"$error":"#REF!"}},{"$f":" IF(#REF!=\"\", \"\",#REF!)","v":{"$error":"#REF!"}},{"$f":" IF(#REF!=\"\", \"\",#REF!)","v":{"$error":"#REF!"}},{"$f":" IF(#REF!=\"\", \"\",#REF!)","v":{"$error":"#REF!"}},{"$f":"IF(AW184=\"\", \"\", IF($L184=\"男\", VLOOKUP(AW184, データ!$B$2:$C$101, 2, FALSE), IF($L184=\"女\", VLOOKUP(AW184, データ!$F$2:$H$101, 2, FALSE), \"\")))","v":{"$error":"#REF!"}},{"$f":"IF(A184=\"\",\"\", IF(#REF!=\"\", \"\",#REF!))","v":{"$error":"#REF!"}},{"$f":" IF(#REF!=\"\", \"\",#REF!)","v":{"$error":"#REF!"}},{"$f":" IF(#REF!=\"\", \"\",#REF!)","v":{"$error":"#REF!"}},{"$f":" IF(#REF!=\"\", \"\",#REF!)","v":{"$error":"#REF!"}},{"$f":" IF(#REF!=\"\", \"\",#REF!)","v":{"$error":"#REF!"}},{"$error":"#REF!"}]
[{"$f":"#REF!","v":{"$error":"#REF!"}},{"$f":" IF(#REF!=\"\", \"\",#REF!)","v":{"$error":"#REF!"}},{"$f":" IF(#REF!=\"\", \"\",#REF!)","v":{"$error":"#REF!"}},{"$f":" IF(#REF!=\"\", \"\",#REF!)","v":{"$error":"#REF!"}},{"$error":"#REF!"},{"$error":"#REF!"},{"$error":"#REF!"},{"$error":"#REF!"},{"$f":" IF(#REF!=\"\", \"\",#REF!)","v":{"$error":"#REF!"}},{"$f":" IF(#REF!=\"\", \"\",#REF!)","v":{"$error":"#REF!"}},{"$f":" IF(#REF!=\"\", \"\",#REF!)","v":{"$error":"#REF!"}},{"$f":" IF(#REF!=\"\", \"\",#REF!)","v":{"$error":"#REF!"}},{"$f":" IF(#REF!=\"\", \"\",#REF!)","v":{"$error":"#REF!"}},{"$f":" IF(#REF!=\"\", \"\",#REF!)","v":{"$error":"#REF!"}},{"$f":" IF(#REF!=\"\", \"\",#REF!)","v":{"$error":"#REF!"}},{"$f":" IF(#REF!=\"\", \"\",#REF!)","v":{"$error":"#REF!"}},{"$f":"IF(A185=\"\",\"\",#REF!)","v":{"$error":"#REF!"}},{"$f":" IF(Q185=\"\", \"\",#REF!)","v":{"$error":"#REF!"}},{"$f":" IF(Q185=\"\", \"\",#REF!)","v":{"$error":"#REF!"}},{"$f":" IF(Q185=\"\", \"\",#REF!)","v":{"$error":"#REF!"}},{"$f":" IF(Q185=\"\", \"\",#REF!)","v":{"$error":"#REF!"}},{"$f":" IF(#REF!=\"\", \"\",#REF!)","v":{"$error":"#REF!"}},{"$f":" IF(#REF!=\"\", \"\",#REF!)","v":{"$error":"#REF!"}},{"$f":"IF(Y185=\"\", \"\", IF($L185=\"男\", VLOOKUP(Y185, データ!$B$2:$C$101, 2, FALSE), IF($L185=\"女\", VLOOKUP(Y185, データ!$F$2:$H$101, 2, FALSE), \"\")))","v":{"$error":"#REF!"}},{"$f":"IF(A185=\"\",\"\", IF(#REF!=\"\", \"\",#REF!))","v":{"$error":"#REF!"}},{"$f":" IF(#REF!=\"\", \"\",#REF!)","v":{"$error":"#REF!"}},{"$f":" IF(#REF!=\"\", \"\",#REF!)","v":{"$error":"#REF!"}},{"$f":" IF(#REF!=\"\", \"\",#REF!)","v":{"$error":"#REF!"}},{"$f":" IF(#REF!=\"\", \"\",#REF!)","v":{"$error":"#REF!"}},{"$f":"IF(AE185=\"\", \"\", IF($L185=\"男\", VLOOKUP(AE185, データ!$B$2:$C$101, 2, FALSE), IF($L185=\"女\", VLOOKUP(AE185, データ!$F$2:$H$101, 2, FALSE), \"\")))","v":{"$error":"#REF!"}},{"$f":"IF(A185=\"\",\"\", IF(#REF!=\"\", \"\",#REF!))","v":{"$error":"#REF!"}},{"$f":" IF(#REF!=\"\", \"\",#REF!)","v":{"$error":"#REF!"}},{"$f":" IF(#REF!=\"\", \"\",#REF!)","v":{"$error":"#REF!"}},{"$f":" IF(#REF!=\"\", \"\",#REF!)","v":{"$error":"#REF!"}},{"$f":" IF(#REF!=\"\", \"\",#REF!)","v":{"$error":"#REF!"}},{"$f":"IF(AK185=\"\", \"\", IF($L185=\"男\", VLOOKUP(AK185, データ!$B$2:$C$101, 2, FALSE), IF($L185=\"女\", VLOOKUP(AK185, データ!$F$2:$H$101, 2, FALSE), \"\")))","v":{"$error":"#REF!"}},{"$f":"IF(A185=\"\",\"\", IF(#REF!=\"\", \"\",#REF!))","v":{"$error":"#REF!"}},{"$f":" IF(#REF!=\"\", \"\",#REF!)","v":{"$error":"#REF!"}},{"$f":" IF(#REF!=\"\", \"\",#REF!)","v":{"$error":"#REF!"}},{"$f":" IF(#REF!=\"\", \"\",#REF!)","v":{"$error":"#REF!"}},{"$f":" IF(#REF!=\"\", \"\",#REF!)","v":{"$error":"#REF!"}},{"$f":"IF(AQ185=\"\", \"\", IF($L185=\"男\", VLOOKUP(AQ185, データ!$B$2:$C$101, 2, FALSE), IF($L185=\"女\", VLOOKUP(AQ185, データ!$F$2:$H$101, 2, FALSE), \"\")))","v":{"$error":"#REF!"}},{"$f":"IF(A185=\"\",\"\", IF(#REF!=\"\", \"\",#REF!))","v":{"$error":"#REF!"}},{"$f":" IF(#REF!=\"\", \"\",#REF!)","v":{"$error":"#REF!"}},{"$f":" IF(#REF!=\"\", \"\",#REF!)","v":{"$error":"#REF!"}},{"$f":" IF(#REF!=\"\", \"\",#REF!)","v":{"$error":"#REF!"}},{"$f":" IF(#REF!=\"\", \"\",#REF!)","v":{"$error":"#REF!"}},{"$f":"IF(AW185=\"\", \"\", IF($L185=\"男\", VLOOKUP(AW185, データ!$B$2:$C$101, 2, FALSE), IF($L185=\"女\", VLOOKUP(AW185, データ!$F$2:$H$101, 2, FALSE), \"\")))","v":{"$error":"#REF!"}},{"$f":"IF(A185=\"\",\"\", IF(#REF!=\"\", \"\",#REF!))","v":{"$error":"#REF!"}},{"$f":" IF(#REF!=\"\", \"\",#REF!)","v":{"$error":"#REF!"}},{"$f":" IF(#REF!=\"\", \"\",#REF!)","v":{"$error":"#REF!"}},{"$f":" IF(#REF!=\"\", \"\",#REF!)","v":{"$error":"#REF!"}},{"$f":" IF(#REF!=\"\", \"\",#REF!)","v":{"$error":"#REF!"}},{"$error":"#REF!"}]
[{"$f":"#REF!","v":{"$error":"#REF!"}},{"$f":" IF(#REF!=\"\", \"\",#REF!)","v":{"$error":"#REF!"}},{"$f":" IF(#REF!=\"\", \"\",#REF!)","v":{"$error":"#REF!"}},{"$f":" IF(#REF!=\"\", \"\",#REF!)","v":{"$error":"#REF!"}},{"$error":"#REF!"},{"$error":"#REF!"},{"$error":"#REF!"},{"$error":"#REF!"},{"$f":" IF(#REF!=\"\", \"\",#REF!)","v":{"$error":"#REF!"}},{"$f":" IF(#REF!=\"\", \"\",#REF!)","v":{"$error":"#REF!"}},{"$f":" IF(#REF!=\"\", \"\",#REF!)","v":{"$error":"#REF!"}},{"$f":" IF(#REF!=\"\", \"\",#REF!)","v":{"$error":"#REF!"}},{"$f":" IF(#REF!=\"\", \"\",#REF!)","v":{"$error":"#REF!"}},{"$f":" IF(#REF!=\"\", \"\",#REF!)","v":{"$error":"#REF!"}},{"$f":" IF(#REF!=\"\", \"\",#REF!)","v":{"$error":"#REF!"}},{"$f":" IF(#REF!=\"\", \"\",#REF!)","v":{"$error":"#REF!"}},{"$f":"IF(A186=\"\",\"\",#REF!)","v":{"$error":"#REF!"}},{"$f":" IF(Q186=\"\", \"\",#REF!)","v":{"$error":"#REF!"}},{"$f":" IF(Q186=\"\", \"\",#REF!)","v":{"$error":"#REF!"}},{"$f":" IF(Q186=\"\", \"\",#REF!)","v":{"$error":"#REF!"}},{"$f":" IF(Q186=\"\", \"\",#REF!)","v":{"$error":"#REF!"}},{"$f":" IF(#REF!=\"\", \"\",#REF!)","v":{"$error":"#REF!"}},{"$f":" IF(#REF!=\"\", \"\",#REF!)","v":{"$error":"#REF!"}},{"$f":"IF(Y186=\"\", \"\", IF($L186=\"男\", VLOOKUP(Y186, データ!$B$2:$C$101, 2, FALSE), IF($L186=\"女\", VLOOKUP(Y186, データ!$F$2:$H$101, 2, FALSE), \"\")))","v":{"$error":"#REF!"}},{"$f":"IF(A186=\"\",\"\", IF(#REF!=\"\", \"\",#REF!))","v":{"$error":"#REF!"}},{"$f":" IF(#REF!=\"\", \"\",#REF!)","v":{"$error":"#REF!"}},{"$f":" IF(#REF!=\"\", \"\",#REF!)","v":{"$error":"#REF!"}},{"$f":" IF(#REF!=\"\", \"\",#REF!)","v":{"$error":"#REF!"}},{"$f":" IF(#REF!=\"\", \"\",#REF!)","v":{"$error":"#REF!"}},{"$f":"IF(AE186=\"\", \"\", IF($L186=\"男\", VLOOKUP(AE186, データ!$B$2:$C$101, 2, FALSE), IF($L186=\"女\", VLOOKUP(AE186, データ!$F$2:$H$101, 2, FALSE), \"\")))","v":{"$error":"#REF!"}},{"$f":"IF(A186=\"\",\"\", IF(#REF!=\"\", \"\",#REF!))","v":{"$error":"#REF!"}},{"$f":" IF(#REF!=\"\", \"\",#REF!)","v":{"$error":"#REF!"}},{"$f":" IF(#REF!=\"\", \"\",#REF!)","v":{"$error":"#REF!"}},{"$f":" IF(#REF!=\"\", \"\",#REF!)","v":{"$error":"#REF!"}},{"$f":" IF(#REF!=\"\", \"\",#REF!)","v":{"$error":"#REF!"}},{"$f":"IF(AK186=\"\", \"\", IF($L186=\"男\", VLOOKUP(AK186, データ!$B$2:$C$101, 2, FALSE), IF($L186=\"女\", VLOOKUP(AK186, データ!$F$2:$H$101, 2, FALSE), \"\")))","v":{"$error":"#REF!"}},{"$f":"IF(A186=\"\",\"\", IF(#REF!=\"\", \"\",#REF!))","v":{"$error":"#REF!"}},{"$f":" IF(#REF!=\"\", \"\",#REF!)","v":{"$error":"#REF!"}},{"$f":" IF(#REF!=\"\", \"\",#REF!)","v":{"$error":"#REF!"}},{"$f":" IF(#REF!=\"\", \"\",#REF!)","v":{"$error":"#REF!"}},{"$f":" IF(#REF!=\"\", \"\",#REF!)","v":{"$error":"#REF!"}},{"$f":"IF(AQ186=\"\", \"\", IF($L186=\"男\", VLOOKUP(AQ186, データ!$B$2:$C$101, 2, FALSE), IF($L186=\"女\", VLOOKUP(AQ186, データ!$F$2:$H$101, 2, FALSE), \"\")))","v":{"$error":"#REF!"}},{"$f":"IF(A186=\"\",\"\", IF(#REF!=\"\", \"\",#REF!))","v":{"$error":"#REF!"}},{"$f":" IF(#REF!=\"\", \"\",#REF!)","v":{"$error":"#REF!"}},{"$f":" IF(#REF!=\"\", \"\",#REF!)","v":{"$error":"#REF!"}},{"$f":" IF(#REF!=\"\", \"\",#REF!)","v":{"$error":"#REF!"}},{"$f":" IF(#REF!=\"\", \"\",#REF!)","v":{"$error":"#REF!"}},{"$f":"IF(AW186=\"\", \"\", IF($L186=\"男\", VLOOKUP(AW186, データ!$B$2:$C$101, 2, FALSE), IF($L186=\"女\", VLOOKUP(AW186, データ!$F$2:$H$101, 2, FALSE), \"\")))","v":{"$error":"#REF!"}},{"$f":"IF(A186=\"\",\"\", IF(#REF!=\"\", \"\",#REF!))","v":{"$error":"#REF!"}},{"$f":" IF(#REF!=\"\", \"\",#REF!)","v":{"$error":"#REF!"}},{"$f":" IF(#REF!=\"\", \"\",#REF!)","v":{"$error":"#REF!"}},{"$f":" IF(#REF!=\"\", \"\",#REF!)","v":{"$error":"#REF!"}},{"$f":" IF(#REF!=\"\", \"\",#REF!)","v":{"$error":"#REF!"}},{"$error":"#REF!"}]
[{"$f":"#REF!","v":{"$error":"#REF!"}},{"$f":" IF(#REF!=\"\", \"\",#REF!)","v":{"$error":"#REF!"}},{"$f":" IF(#REF!=\"\", \"\",#REF!)","v":{"$error":"#REF!"}},{"$f":" IF(#REF!=\"\", \"\",#REF!)","v":{"$error":"#REF!"}},{"$error":"#REF!"},{"$error":"#REF!"},{"$error":"#REF!"},{"$error":"#REF!"},{"$f":" IF(#REF!=\"\", \"\",#REF!)","v":{"$error":"#REF!"}},{"$f":" IF(#REF!=\"\", \"\",#REF!)","v":{"$error":"#REF!"}},{"$f":" IF(#REF!=\"\", \"\",#REF!)","v":{"$error":"#REF!"}},{"$f":" IF(#REF!=\"\", \"\",#REF!)","v":{"$error":"#REF!"}},{"$f":" IF(#REF!=\"\", \"\",#REF!)","v":{"$error":"#REF!"}},{"$f":" IF(#REF!=\"\", \"\",#REF!)","v":{"$error":"#REF!"}},{"$f":" IF(#REF!=\"\", \"\",#REF!)","v":{"$error":"#REF!"}},{"$f":" IF(#REF!=\"\", \"\",#REF!)","v":{"$error":"#REF!"}},{"$f":"IF(A187=\"\",\"\",#REF!)","v":{"$error":"#REF!"}},{"$f":" IF(Q187=\"\", \"\",#REF!)","v":{"$error":"#REF!"}},{"$f":" IF(Q187=\"\", \"\",#REF!)","v":{"$error":"#REF!"}},{"$f":" IF(Q187=\"\", \"\",#REF!)","v":{"$error":"#REF!"}},{"$f":" IF(Q187=\"\", \"\",#REF!)","v":{"$error":"#REF!"}},{"$f":" IF(#REF!=\"\", \"\",#REF!)","v":{"$error":"#REF!"}},{"$f":" IF(#REF!=\"\", \"\",#REF!)","v":{"$error":"#REF!"}},{"$f":"IF(Y187=\"\", \"\", IF($L187=\"男\", VLOOKUP(Y187, データ!$B$2:$C$101, 2, FALSE), IF($L187=\"女\", VLOOKUP(Y187, データ!$F$2:$H$101, 2, FALSE), \"\")))","v":{"$error":"#REF!"}},{"$f":"IF(A187=\"\",\"\", IF(#REF!=\"\", \"\",#REF!))","v":{"$error":"#REF!"}},{"$f":" IF(#REF!=\"\", \"\",#REF!)","v":{"$error":"#REF!"}},{"$f":" IF(#REF!=\"\", \"\",#REF!)","v":{"$error":"#REF!"}},{"$f":" IF(#REF!=\"\", \"\",#REF!)","v":{"$error":"#REF!"}},{"$f":" IF(#REF!=\"\", \"\",#REF!)","v":{"$error":"#REF!"}},{"$f":"IF(AE187=\"\", \"\", IF($L187=\"男\", VLOOKUP(AE187, データ!$B$2:$C$101, 2, FALSE), IF($L187=\"女\", VLOOKUP(AE187, データ!$F$2:$H$101, 2, FALSE), \"\")))","v":{"$error":"#REF!"}},{"$f":"IF(A187=\"\",\"\", IF(#REF!=\"\", \"\",#REF!))","v":{"$error":"#REF!"}},{"$f":" IF(#REF!=\"\", \"\",#REF!)","v":{"$error":"#REF!"}},{"$f":" IF(#REF!=\"\", \"\",#REF!)","v":{"$error":"#REF!"}},{"$f":" IF(#REF!=\"\", \"\",#REF!)","v":{"$error":"#REF!"}},{"$f":" IF(#REF!=\"\", \"\",#REF!)","v":{"$error":"#REF!"}},{"$f":"IF(AK187=\"\", \"\", IF($L187=\"男\", VLOOKUP(AK187, データ!$B$2:$C$101, 2, FALSE), IF($L187=\"女\", VLOOKUP(AK187, データ!$F$2:$H$101, 2, FALSE), \"\")))","v":{"$error":"#REF!"}},{"$f":"IF(A187=\"\",\"\", IF(#REF!=\"\", \"\",#REF!))","v":{"$error":"#REF!"}},{"$f":" IF(#REF!=\"\", \"\",#REF!)","v":{"$error":"#REF!"}},{"$f":" IF(#REF!=\"\", \"\",#REF!)","v":{"$error":"#REF!"}},{"$f":" IF(#REF!=\"\", \"\",#REF!)","v":{"$error":"#REF!"}},{"$f":" IF(#REF!=\"\", \"\",#REF!)","v":{"$error":"#REF!"}},{"$f":"IF(AQ187=\"\", \"\", IF($L187=\"男\", VLOOKUP(AQ187, データ!$B$2:$C$101, 2, FALSE), IF($L187=\"女\", VLOOKUP(AQ187, データ!$F$2:$H$101, 2, FALSE), \"\")))","v":{"$error":"#REF!"}},{"$f":"IF(A187=\"\",\"\", IF(#REF!=\"\", \"\",#REF!))","v":{"$error":"#REF!"}},{"$f":" IF(#REF!=\"\", \"\",#REF!)","v":{"$error":"#REF!"}},{"$f":" IF(#REF!=\"\", \"\",#REF!)","v":{"$error":"#REF!"}},{"$f":" IF(#REF!=\"\", \"\",#REF!)","v":{"$error":"#REF!"}},{"$f":" IF(#REF!=\"\", \"\",#REF!)","v":{"$error":"#REF!"}},{"$f":"IF(AW187=\"\", \"\", IF($L187=\"男\", VLOOKUP(AW187, データ!$B$2:$C$101, 2, FALSE), IF($L187=\"女\", VLOOKUP(AW187, データ!$F$2:$H$101, 2, FALSE), \"\")))","v":{"$error":"#REF!"}},{"$f":"IF(A187=\"\",\"\", IF(#REF!=\"\", \"\",#REF!))","v":{"$error":"#REF!"}},{"$f":" IF(#REF!=\"\", \"\",#REF!)","v":{"$error":"#REF!"}},{"$f":" IF(#REF!=\"\", \"\",#REF!)","v":{"$error":"#REF!"}},{"$f":" IF(#REF!=\"\", \"\",#REF!)","v":{"$error":"#REF!"}},{"$f":" IF(#REF!=\"\", \"\",#REF!)","v":{"$error":"#REF!"}},{"$error":"#REF!"}]
[{"$f":"#REF!","v":{"$error":"#REF!"}},{"$f":" IF(#REF!=\"\", \"\",#REF!)","v":{"$error":"#REF!"}},{"$f":" IF(#REF!=\"\", \"\",#REF!)","v":{"$error":"#REF!"}},{"$f":" IF(#REF!=\"\", \"\",#REF!)","v":{"$error":"#REF!"}},{"$error":"#REF!"},{"$error":"#REF!"},{"$error":"#REF!"},{"$error":"#REF!"},{"$f":" IF(#REF!=\"\", \"\",#REF!)","v":{"$error":"#REF!"}},{"$f":" IF(#REF!=\"\", \"\",#REF!)","v":{"$error":"#REF!"}},{"$f":" IF(#REF!=\"\", \"\",#REF!)","v":{"$error":"#REF!"}},{"$f":" IF(#REF!=\"\", \"\",#REF!)","v":{"$error":"#REF!"}},{"$f":" IF(#REF!=\"\", \"\",#REF!)","v":{"$error":"#REF!"}},{"$f":" IF(#REF!=\"\", \"\",#REF!)","v":{"$error":"#REF!"}},{"$f":" IF(#REF!=\"\", \"\",#REF!)","v":{"$error":"#REF!"}},{"$f":" IF(#REF!=\"\", \"\",#REF!)","v":{"$error":"#REF!"}},{"$f":"IF(A188=\"\",\"\",#REF!)","v":{"$error":"#REF!"}},{"$f":" IF(Q188=\"\", \"\",#REF!)","v":{"$error":"#REF!"}},{"$f":" IF(Q188=\"\", \"\",#REF!)","v":{"$error":"#REF!"}},{"$f":" IF(Q188=\"\", \"\",#REF!)","v":{"$error":"#REF!"}},{"$f":" IF(Q188=\"\", \"\",#REF!)","v":{"$error":"#REF!"}},{"$f":" IF(#REF!=\"\", \"\",#REF!)","v":{"$error":"#REF!"}},{"$f":" IF(#REF!=\"\", \"\",#REF!)","v":{"$error":"#REF!"}},{"$f":"IF(Y188=\"\", \"\", IF($L188=\"男\", VLOOKUP(Y188, データ!$B$2:$C$101, 2, FALSE), IF($L188=\"女\", VLOOKUP(Y188, データ!$F$2:$H$101, 2, FALSE), \"\")))","v":{"$error":"#REF!"}},{"$f":"IF(A188=\"\",\"\", IF(#REF!=\"\", \"\",#REF!))","v":{"$error":"#REF!"}},{"$f":" IF(#REF!=\"\", \"\",#REF!)","v":{"$error":"#REF!"}},{"$f":" IF(#REF!=\"\", \"\",#REF!)","v":{"$error":"#REF!"}},{"$f":" IF(#REF!=\"\", \"\",#REF!)","v":{"$error":"#REF!"}},{"$f":" IF(#REF!=\"\", \"\",#REF!)","v":{"$error":"#REF!"}},{"$f":"IF(AE188=\"\", \"\", IF($L188=\"男\", VLOOKUP(AE188, データ!$B$2:$C$101, 2, FALSE), IF($L188=\"女\", VLOOKUP(AE188, データ!$F$2:$H$101, 2, FALSE), \"\")))","v":{"$error":"#REF!"}},{"$f":"IF(A188=\"\",\"\", IF(#REF!=\"\", \"\",#REF!))","v":{"$error":"#REF!"}},{"$f":" IF(#REF!=\"\", \"\",#REF!)","v":{"$error":"#REF!"}},{"$f":" IF(#REF!=\"\", \"\",#REF!)","v":{"$error":"#REF!"}},{"$f":" IF(#REF!=\"\", \"\",#REF!)","v":{"$error":"#REF!"}},{"$f":" IF(#REF!=\"\", \"\",#REF!)","v":{"$error":"#REF!"}},{"$f":"IF(AK188=\"\", \"\", IF($L188=\"男\", VLOOKUP(AK188, データ!$B$2:$C$101, 2, FALSE), IF($L188=\"女\", VLOOKUP(AK188, データ!$F$2:$H$101, 2, FALSE), \"\")))","v":{"$error":"#REF!"}},{"$f":"IF(A188=\"\",\"\", IF(#REF!=\"\", \"\",#REF!))","v":{"$error":"#REF!"}},{"$f":" IF(#REF!=\"\", \"\",#REF!)","v":{"$error":"#REF!"}},{"$f":" IF(#REF!=\"\", \"\",#REF!)","v":{"$error":"#REF!"}},{"$f":" IF(#REF!=\"\", \"\",#REF!)","v":{"$error":"#REF!"}},{"$f":" IF(#REF!=\"\", \"\",#REF!)","v":{"$error":"#REF!"}},{"$f":"IF(AQ188=\"\", \"\", IF($L188=\"男\", VLOOKUP(AQ188, データ!$B$2:$C$101, 2, FALSE), IF($L188=\"女\", VLOOKUP(AQ188, データ!$F$2:$H$101, 2, FALSE), \"\")))","v":{"$error":"#REF!"}},{"$f":"IF(A188=\"\",\"\", IF(#REF!=\"\", \"\",#REF!))","v":{"$error":"#REF!"}},{"$f":" IF(#REF!=\"\", \"\",#REF!)","v":{"$error":"#REF!"}},{"$f":" IF(#REF!=\"\", \"\",#REF!)","v":{"$error":"#REF!"}},{"$f":" IF(#REF!=\"\", \"\",#REF!)","v":{"$error":"#REF!"}},{"$f":" IF(#REF!=\"\", \"\",#REF!)","v":{"$error":"#REF!"}},{"$f":"IF(AW188=\"\", \"\", IF($L188=\"男\", VLOOKUP(AW188, データ!$B$2:$C$101, 2, FALSE), IF($L188=\"女\", VLOOKUP(AW188, データ!$F$2:$H$101, 2, FALSE), \"\")))","v":{"$error":"#REF!"}},{"$f":"IF(A188=\"\",\"\", IF(#REF!=\"\", \"\",#REF!))","v":{"$error":"#REF!"}},{"$f":" IF(#REF!=\"\", \"\",#REF!)","v":{"$error":"#REF!"}},{"$f":" IF(#REF!=\"\", \"\",#REF!)","v":{"$error":"#REF!"}},{"$f":" IF(#REF!=\"\", \"\",#REF!)","v":{"$error":"#REF!"}},{"$f":" IF(#REF!=\"\", \"\",#REF!)","v":{"$error":"#REF!"}},{"$error":"#REF!"}]
[{"$f":"#REF!","v":{"$error":"#REF!"}},{"$f":" IF(#REF!=\"\", \"\",#REF!)","v":{"$error":"#REF!"}},{"$f":" IF(#REF!=\"\", \"\",#REF!)","v":{"$error":"#REF!"}},{"$f":" IF(#REF!=\"\", \"\",#REF!)","v":{"$error":"#REF!"}},{"$error":"#REF!"},{"$error":"#REF!"},{"$error":"#REF!"},{"$error":"#REF!"},{"$f":" IF(#REF!=\"\", \"\",#REF!)","v":{"$error":"#REF!"}},{"$f":" IF(#REF!=\"\", \"\",#REF!)","v":{"$error":"#REF!"}},{"$f":" IF(#REF!=\"\", \"\",#REF!)","v":{"$error":"#REF!"}},{"$f":" IF(#REF!=\"\", \"\",#REF!)","v":{"$error":"#REF!"}},{"$f":" IF(#REF!=\"\", \"\",#REF!)","v":{"$error":"#REF!"}},{"$f":" IF(#REF!=\"\", \"\",#REF!)","v":{"$error":"#REF!"}},{"$f":" IF(#REF!=\"\", \"\",#REF!)","v":{"$error":"#REF!"}},{"$f":" IF(#REF!=\"\", \"\",#REF!)","v":{"$error":"#REF!"}},{"$f":"IF(A189=\"\",\"\",#REF!)","v":{"$error":"#REF!"}},{"$f":" IF(Q189=\"\", \"\",#REF!)","v":{"$error":"#REF!"}},{"$f":" IF(Q189=\"\", \"\",#REF!)","v":{"$error":"#REF!"}},{"$f":" IF(Q189=\"\", \"\",#REF!)","v":{"$error":"#REF!"}},{"$f":" IF(Q189=\"\", \"\",#REF!)","v":{"$error":"#REF!"}},{"$f":" IF(#REF!=\"\", \"\",#REF!)","v":{"$error":"#REF!"}},{"$f":" IF(#REF!=\"\", \"\",#REF!)","v":{"$error":"#REF!"}},{"$f":"IF(Y189=\"\", \"\", IF($L189=\"男\", VLOOKUP(Y189, データ!$B$2:$C$101, 2, FALSE), IF($L189=\"女\", VLOOKUP(Y189, データ!$F$2:$H$101, 2, FALSE), \"\")))","v":{"$error":"#REF!"}},{"$f":"IF(A189=\"\",\"\", IF(#REF!=\"\", \"\",#REF!))","v":{"$error":"#REF!"}},{"$f":" IF(#REF!=\"\", \"\",#REF!)","v":{"$error":"#REF!"}},{"$f":" IF(#REF!=\"\", \"\",#REF!)","v":{"$error":"#REF!"}},{"$f":" IF(#REF!=\"\", \"\",#REF!)","v":{"$error":"#REF!"}},{"$f":" IF(#REF!=\"\", \"\",#REF!)","v":{"$error":"#REF!"}},{"$f":"IF(AE189=\"\", \"\", IF($L189=\"男\", VLOOKUP(AE189, データ!$B$2:$C$101, 2, FALSE), IF($L189=\"女\", VLOOKUP(AE189, データ!$F$2:$H$101, 2, FALSE), \"\")))","v":{"$error":"#REF!"}},{"$f":"IF(A189=\"\",\"\", IF(#REF!=\"\", \"\",#REF!))","v":{"$error":"#REF!"}},{"$f":" IF(#REF!=\"\", \"\",#REF!)","v":{"$error":"#REF!"}},{"$f":" IF(#REF!=\"\", \"\",#REF!)","v":{"$error":"#REF!"}},{"$f":" IF(#REF!=\"\", \"\",#REF!)","v":{"$error":"#REF!"}},{"$f":" IF(#REF!=\"\", \"\",#REF!)","v":{"$error":"#REF!"}},{"$f":"IF(AK189=\"\", \"\", IF($L189=\"男\", VLOOKUP(AK189, データ!$B$2:$C$101, 2, FALSE), IF($L189=\"女\", VLOOKUP(AK189, データ!$F$2:$H$101, 2, FALSE), \"\")))","v":{"$error":"#REF!"}},{"$f":"IF(A189=\"\",\"\", IF(#REF!=\"\", \"\",#REF!))","v":{"$error":"#REF!"}},{"$f":" IF(#REF!=\"\", \"\",#REF!)","v":{"$error":"#REF!"}},{"$f":" IF(#REF!=\"\", \"\",#REF!)","v":{"$error":"#REF!"}},{"$f":" IF(#REF!=\"\", \"\",#REF!)","v":{"$error":"#REF!"}},{"$f":" IF(#REF!=\"\", \"\",#REF!)","v":{"$error":"#REF!"}},{"$f":"IF(AQ189=\"\", \"\", IF($L189=\"男\", VLOOKUP(AQ189, データ!$B$2:$C$101, 2, FALSE), IF($L189=\"女\", VLOOKUP(AQ189, データ!$F$2:$H$101, 2, FALSE), \"\")))","v":{"$error":"#REF!"}},{"$f":"IF(A189=\"\",\"\", IF(#REF!=\"\", \"\",#REF!))","v":{"$error":"#REF!"}},{"$f":" IF(#REF!=\"\", \"\",#REF!)","v":{"$error":"#REF!"}},{"$f":" IF(#REF!=\"\", \"\",#REF!)","v":{"$error":"#REF!"}},{"$f":" IF(#REF!=\"\", \"\",#REF!)","v":{"$error":"#REF!"}},{"$f":" IF(#REF!=\"\", \"\",#REF!)","v":{"$error":"#REF!"}},{"$f":"IF(AW189=\"\", \"\", IF($L189=\"男\", VLOOKUP(AW189, データ!$B$2:$C$101, 2, FALSE), IF($L189=\"女\", VLOOKUP(AW189, データ!$F$2:$H$101, 2, FALSE), \"\")))","v":{"$error":"#REF!"}},{"$f":"IF(A189=\"\",\"\", IF(#REF!=\"\", \"\",#REF!))","v":{"$error":"#REF!"}},{"$f":" IF(#REF!=\"\", \"\",#REF!)","v":{"$error":"#REF!"}},{"$f":" IF(#REF!=\"\", \"\",#REF!)","v":{"$error":"#REF!"}},{"$f":" IF(#REF!=\"\", \"\",#REF!)","v":{"$error":"#REF!"}},{"$f":" IF(#REF!=\"\", \"\",#REF!)","v":{"$error":"#REF!"}},{"$error":"#REF!"}]
[{"$f":"#REF!","v":{"$error":"#REF!"}},{"$f":" IF(#REF!=\"\", \"\",#REF!)","v":{"$error":"#REF!"}},{"$f":" IF(#REF!=\"\", \"\",#REF!)","v":{"$error":"#REF!"}},{"$f":" IF(#REF!=\"\", \"\",#REF!)","v":{"$error":"#REF!"}},{"$error":"#REF!"},{"$error":"#REF!"},{"$error":"#REF!"},{"$error":"#REF!"},{"$f":" IF(#REF!=\"\", \"\",#REF!)","v":{"$error":"#REF!"}},{"$f":" IF(#REF!=\"\", \"\",#REF!)","v":{"$error":"#REF!"}},{"$f":" IF(#REF!=\"\", \"\",#REF!)","v":{"$error":"#REF!"}},{"$f":" IF(#REF!=\"\", \"\",#REF!)","v":{"$error":"#REF!"}},{"$f":" IF(#REF!=\"\", \"\",#REF!)","v":{"$error":"#REF!"}},{"$f":" IF(#REF!=\"\", \"\",#REF!)","v":{"$error":"#REF!"}},{"$f":" IF(#REF!=\"\", \"\",#REF!)","v":{"$error":"#REF!"}},{"$f":" IF(#REF!=\"\", \"\",#REF!)","v":{"$error":"#REF!"}},{"$f":"IF(A190=\"\",\"\",#REF!)","v":{"$error":"#REF!"}},{"$f":" IF(Q190=\"\", \"\",#REF!)","v":{"$error":"#REF!"}},{"$f":" IF(Q190=\"\", \"\",#REF!)","v":{"$error":"#REF!"}},{"$f":" IF(Q190=\"\", \"\",#REF!)","v":{"$error":"#REF!"}},{"$f":" IF(Q190=\"\", \"\",#REF!)","v":{"$error":"#REF!"}},{"$f":" IF(#REF!=\"\", \"\",#REF!)","v":{"$error":"#REF!"}},{"$f":" IF(#REF!=\"\", \"\",#REF!)","v":{"$error":"#REF!"}},{"$f":"IF(Y190=\"\", \"\", IF($L190=\"男\", VLOOKUP(Y190, データ!$B$2:$C$101, 2, FALSE), IF($L190=\"女\", VLOOKUP(Y190, データ!$F$2:$H$101, 2, FALSE), \"\")))","v":{"$error":"#REF!"}},{"$f":"IF(A190=\"\",\"\", IF(#REF!=\"\", \"\",#REF!))","v":{"$error":"#REF!"}},{"$f":" IF(#REF!=\"\", \"\",#REF!)","v":{"$error":"#REF!"}},{"$f":" IF(#REF!=\"\", \"\",#REF!)","v":{"$error":"#REF!"}},{"$f":" IF(#REF!=\"\", \"\",#REF!)","v":{"$error":"#REF!"}},{"$f":" IF(#REF!=\"\", \"\",#REF!)","v":{"$error":"#REF!"}},{"$f":"IF(AE190=\"\", \"\", IF($L190=\"男\", VLOOKUP(AE190, データ!$B$2:$C$101, 2, FALSE), IF($L190=\"女\", VLOOKUP(AE190, データ!$F$2:$H$101, 2, FALSE), \"\")))","v":{"$error":"#REF!"}},{"$f":"IF(A190=\"\",\"\", IF(#REF!=\"\", \"\",#REF!))","v":{"$error":"#REF!"}},{"$f":" IF(#REF!=\"\", \"\",#REF!)","v":{"$error":"#REF!"}},{"$f":" IF(#REF!=\"\", \"\",#REF!)","v":{"$error":"#REF!"}},{"$f":" IF(#REF!=\"\", \"\",#REF!)","v":{"$error":"#REF!"}},{"$f":" IF(#REF!=\"\", \"\",#REF!)","v":{"$error":"#REF!"}},{"$f":"IF(AK190=\"\", \"\", IF($L190=\"男\", VLOOKUP(AK190, データ!$B$2:$C$101, 2, FALSE), IF($L190=\"女\", VLOOKUP(AK190, データ!$F$2:$H$101, 2, FALSE), \"\")))","v":{"$error":"#REF!"}},{"$f":"IF(A190=\"\",\"\", IF(#REF!=\"\", \"\",#REF!))","v":{"$error":"#REF!"}},{"$f":" IF(#REF!=\"\", \"\",#REF!)","v":{"$error":"#REF!"}},{"$f":" IF(#REF!=\"\", \"\",#REF!)","v":{"$error":"#REF!"}},{"$f":" IF(#REF!=\"\", \"\",#REF!)","v":{"$error":"#REF!"}},{"$f":" IF(#REF!=\"\", \"\",#REF!)","v":{"$error":"#REF!"}},{"$f":"IF(AQ190=\"\", \"\", IF($L190=\"男\", VLOOKUP(AQ190, データ!$B$2:$C$101, 2, FALSE), IF($L190=\"女\", VLOOKUP(AQ190, データ!$F$2:$H$101, 2, FALSE), \"\")))","v":{"$error":"#REF!"}},{"$f":"IF(A190=\"\",\"\", IF(#REF!=\"\", \"\",#REF!))","v":{"$error":"#REF!"}},{"$f":" IF(#REF!=\"\", \"\",#REF!)","v":{"$error":"#REF!"}},{"$f":" IF(#REF!=\"\", \"\",#REF!)","v":{"$error":"#REF!"}},{"$f":" IF(#REF!=\"\", \"\",#REF!)","v":{"$error":"#REF!"}},{"$f":" IF(#REF!=\"\", \"\",#REF!)","v":{"$error":"#REF!"}},{"$f":"IF(AW190=\"\", \"\", IF($L190=\"男\", VLOOKUP(AW190, データ!$B$2:$C$101, 2, FALSE), IF($L190=\"女\", VLOOKUP(AW190, データ!$F$2:$H$101, 2, FALSE), \"\")))","v":{"$error":"#REF!"}},{"$f":"IF(A190=\"\",\"\", IF(#REF!=\"\", \"\",#REF!))","v":{"$error":"#REF!"}},{"$f":" IF(#REF!=\"\", \"\",#REF!)","v":{"$error":"#REF!"}},{"$f":" IF(#REF!=\"\", \"\",#REF!)","v":{"$error":"#REF!"}},{"$f":" IF(#REF!=\"\", \"\",#REF!)","v":{"$error":"#REF!"}},{"$f":" IF(#REF!=\"\", \"\",#REF!)","v":{"$error":"#REF!"}},{"$error":"#REF!"}]
[{"$f":"#REF!","v":{"$error":"#REF!"}},{"$f":" IF(#REF!=\"\", \"\",#REF!)","v":{"$error":"#REF!"}},{"$f":" IF(#REF!=\"\", \"\",#REF!)","v":{"$error":"#REF!"}},{"$f":" IF(#REF!=\"\", \"\",#REF!)","v":{"$error":"#REF!"}},{"$error":"#REF!"},{"$error":"#REF!"},{"$error":"#REF!"},{"$error":"#REF!"},{"$f":" IF(#REF!=\"\", \"\",#REF!)","v":{"$error":"#REF!"}},{"$f":" IF(#REF!=\"\", \"\",#REF!)","v":{"$error":"#REF!"}},{"$f":" IF(#REF!=\"\", \"\",#REF!)","v":{"$error":"#REF!"}},{"$f":" IF(#REF!=\"\", \"\",#REF!)","v":{"$error":"#REF!"}},{"$f":" IF(#REF!=\"\", \"\",#REF!)","v":{"$error":"#REF!"}},{"$f":" IF(#REF!=\"\", \"\",#REF!)","v":{"$error":"#REF!"}},{"$f":" IF(#REF!=\"\", \"\",#REF!)","v":{"$error":"#REF!"}},{"$f":" IF(#REF!=\"\", \"\",#REF!)","v":{"$error":"#REF!"}},{"$f":"IF(A191=\"\",\"\",#REF!)","v":{"$error":"#REF!"}},{"$f":" IF(Q191=\"\", \"\",#REF!)","v":{"$error":"#REF!"}},{"$f":" IF(Q191=\"\", \"\",#REF!)","v":{"$error":"#REF!"}},{"$f":" IF(Q191=\"\", \"\",#REF!)","v":{"$error":"#REF!"}},{"$f":" IF(Q191=\"\", \"\",#REF!)","v":{"$error":"#REF!"}},{"$f":" IF(#REF!=\"\", \"\",#REF!)","v":{"$error":"#REF!"}},{"$f":" IF(#REF!=\"\", \"\",#REF!)","v":{"$error":"#REF!"}},{"$f":"IF(Y191=\"\", \"\", IF($L191=\"男\", VLOOKUP(Y191, データ!$B$2:$C$101, 2, FALSE), IF($L191=\"女\", VLOOKUP(Y191, データ!$F$2:$H$101, 2, FALSE), \"\")))","v":{"$error":"#REF!"}},{"$f":"IF(A191=\"\",\"\", IF(#REF!=\"\", \"\",#REF!))","v":{"$error":"#REF!"}},{"$f":" IF(#REF!=\"\", \"\",#REF!)","v":{"$error":"#REF!"}},{"$f":" IF(#REF!=\"\", \"\",#REF!)","v":{"$error":"#REF!"}},{"$f":" IF(#REF!=\"\", \"\",#REF!)","v":{"$error":"#REF!"}},{"$f":" IF(#REF!=\"\", \"\",#REF!)","v":{"$error":"#REF!"}},{"$f":"IF(AE191=\"\", \"\", IF($L191=\"男\", VLOOKUP(AE191, データ!$B$2:$C$101, 2, FALSE), IF($L191=\"女\", VLOOKUP(AE191, データ!$F$2:$H$101, 2, FALSE), \"\")))","v":{"$error":"#REF!"}},{"$f":"IF(A191=\"\",\"\", IF(#REF!=\"\", \"\",#REF!))","v":{"$error":"#REF!"}},{"$f":" IF(#REF!=\"\", \"\",#REF!)","v":{"$error":"#REF!"}},{"$f":" IF(#REF!=\"\", \"\",#REF!)","v":{"$error":"#REF!"}},{"$f":" IF(#REF!=\"\", \"\",#REF!)","v":{"$error":"#REF!"}},{"$f":" IF(#REF!=\"\", \"\",#REF!)","v":{"$error":"#REF!"}},{"$f":"IF(AK191=\"\", \"\", IF($L191=\"男\", VLOOKUP(AK191, データ!$B$2:$C$101, 2, FALSE), IF($L191=\"女\", VLOOKUP(AK191, データ!$F$2:$H$101, 2, FALSE), \"\")))","v":{"$error":"#REF!"}},{"$f":"IF(A191=\"\",\"\", IF(#REF!=\"\", \"\",#REF!))","v":{"$error":"#REF!"}},{"$f":" IF(#REF!=\"\", \"\",#REF!)","v":{"$error":"#REF!"}},{"$f":" IF(#REF!=\"\", \"\",#REF!)","v":{"$error":"#REF!"}},{"$f":" IF(#REF!=\"\", \"\",#REF!)","v":{"$error":"#REF!"}},{"$f":" IF(#REF!=\"\", \"\",#REF!)","v":{"$error":"#REF!"}},{"$f":"IF(AQ191=\"\", \"\", IF($L191=\"男\", VLOOKUP(AQ191, データ!$B$2:$C$101, 2, FALSE), IF($L191=\"女\", VLOOKUP(AQ191, データ!$F$2:$H$101, 2, FALSE), \"\")))","v":{"$error":"#REF!"}},{"$f":"IF(A191=\"\",\"\", IF(#REF!=\"\", \"\",#REF!))","v":{"$error":"#REF!"}},{"$f":" IF(#REF!=\"\", \"\",#REF!)","v":{"$error":"#REF!"}},{"$f":" IF(#REF!=\"\", \"\",#REF!)","v":{"$error":"#REF!"}},{"$f":" IF(#REF!=\"\", \"\",#REF!)","v":{"$error":"#REF!"}},{"$f":" IF(#REF!=\"\", \"\",#REF!)","v":{"$error":"#REF!"}},{"$f":"IF(AW191=\"\", \"\", IF($L191=\"男\", VLOOKUP(AW191, データ!$B$2:$C$101, 2, FALSE), IF($L191=\"女\", VLOOKUP(AW191, データ!$F$2:$H$101, 2, FALSE), \"\")))","v":{"$error":"#REF!"}},{"$f":"IF(A191=\"\",\"\", IF(#REF!=\"\", \"\",#REF!))","v":{"$error":"#REF!"}},{"$f":" IF(#REF!=\"\", \"\",#REF!)","v":{"$error":"#REF!"}},{"$f":" IF(#REF!=\"\", \"\",#REF!)","v":{"$error":"#REF!"}},{"$f":" IF(#REF!=\"\", \"\",#REF!)","v":{"$error":"#REF!"}},{"$f":" IF(#REF!=\"\", \"\",#REF!)","v":{"$error":"#REF!"}},{"$error":"#REF!"}]
[{"$f":"#REF!","v":{"$error":"#REF!"}},{"$f":" IF(#REF!=\"\", \"\",#REF!)","v":{"$error":"#REF!"}},{"$f":" IF(#REF!=\"\", \"\",#REF!)","v":{"$error":"#REF!"}},{"$f":" IF(#REF!=\"\", \"\",#REF!)","v":{"$error":"#REF!"}},{"$error":"#REF!"},{"$error":"#REF!"},{"$error":"#REF!"},{"$error":"#REF!"},{"$f":" IF(#REF!=\"\", \"\",#REF!)","v":{"$error":"#REF!"}},{"$f":" IF(#REF!=\"\", \"\",#REF!)","v":{"$error":"#REF!"}},{"$f":" IF(#REF!=\"\", \"\",#REF!)","v":{"$error":"#REF!"}},{"$f":" IF(#REF!=\"\", \"\",#REF!)","v":{"$error":"#REF!"}},{"$f":" IF(#REF!=\"\", \"\",#REF!)","v":{"$error":"#REF!"}},{"$f":" IF(#REF!=\"\", \"\",#REF!)","v":{"$error":"#REF!"}},{"$f":" IF(#REF!=\"\", \"\",#REF!)","v":{"$error":"#REF!"}},{"$f":" IF(#REF!=\"\", \"\",#REF!)","v":{"$error":"#REF!"}},{"$f":"IF(A192=\"\",\"\",#REF!)","v":{"$error":"#REF!"}},{"$f":" IF(Q192=\"\", \"\",#REF!)","v":{"$error":"#REF!"}},{"$f":" IF(Q192=\"\", \"\",#REF!)","v":{"$error":"#REF!"}},{"$f":" IF(Q192=\"\", \"\",#REF!)","v":{"$error":"#REF!"}},{"$f":" IF(Q192=\"\", \"\",#REF!)","v":{"$error":"#REF!"}},{"$f":" IF(#REF!=\"\", \"\",#REF!)","v":{"$error":"#REF!"}},{"$f":" IF(#REF!=\"\", \"\",#REF!)","v":{"$error":"#REF!"}},{"$f":"IF(Y192=\"\", \"\", IF($L192=\"男\", VLOOKUP(Y192, データ!$B$2:$C$101, 2, FALSE), IF($L192=\"女\", VLOOKUP(Y192, データ!$F$2:$H$101, 2, FALSE), \"\")))","v":{"$error":"#REF!"}},{"$f":"IF(A192=\"\",\"\", IF(#REF!=\"\", \"\",#REF!))","v":{"$error":"#REF!"}},{"$f":" IF(#REF!=\"\", \"\",#REF!)","v":{"$error":"#REF!"}},{"$f":" IF(#REF!=\"\", \"\",#REF!)","v":{"$error":"#REF!"}},{"$f":" IF(#REF!=\"\", \"\",#REF!)","v":{"$error":"#REF!"}},{"$f":" IF(#REF!=\"\", \"\",#REF!)","v":{"$error":"#REF!"}},{"$f":"IF(AE192=\"\", \"\", IF($L192=\"男\", VLOOKUP(AE192, データ!$B$2:$C$101, 2, FALSE), IF($L192=\"女\", VLOOKUP(AE192, データ!$F$2:$H$101, 2, FALSE), \"\")))","v":{"$error":"#REF!"}},{"$f":"IF(A192=\"\",\"\", IF(#REF!=\"\", \"\",#REF!))","v":{"$error":"#REF!"}},{"$f":" IF(#REF!=\"\", \"\",#REF!)","v":{"$error":"#REF!"}},{"$f":" IF(#REF!=\"\", \"\",#REF!)","v":{"$error":"#REF!"}},{"$f":" IF(#REF!=\"\", \"\",#REF!)","v":{"$error":"#REF!"}},{"$f":" IF(#REF!=\"\", \"\",#REF!)","v":{"$error":"#REF!"}},{"$f":"IF(AK192=\"\", \"\", IF($L192=\"男\", VLOOKUP(AK192, データ!$B$2:$C$101, 2, FALSE), IF($L192=\"女\", VLOOKUP(AK192, データ!$F$2:$H$101, 2, FALSE), \"\")))","v":{"$error":"#REF!"}},{"$f":"IF(A192=\"\",\"\", IF(#REF!=\"\", \"\",#REF!))","v":{"$error":"#REF!"}},{"$f":" IF(#REF!=\"\", \"\",#REF!)","v":{"$error":"#REF!"}},{"$f":" IF(#REF!=\"\", \"\",#REF!)","v":{"$error":"#REF!"}},{"$f":" IF(#REF!=\"\", \"\",#REF!)","v":{"$error":"#REF!"}},{"$f":" IF(#REF!=\"\", \"\",#REF!)","v":{"$error":"#REF!"}},{"$f":"IF(AQ192=\"\", \"\", IF($L192=\"男\", VLOOKUP(AQ192, データ!$B$2:$C$101, 2, FALSE), IF($L192=\"女\", VLOOKUP(AQ192, データ!$F$2:$H$101, 2, FALSE), \"\")))","v":{"$error":"#REF!"}},{"$f":"IF(A192=\"\",\"\", IF(#REF!=\"\", \"\",#REF!))","v":{"$error":"#REF!"}},{"$f":" IF(#REF!=\"\", \"\",#REF!)","v":{"$error":"#REF!"}},{"$f":" IF(#REF!=\"\", \"\",#REF!)","v":{"$error":"#REF!"}},{"$f":" IF(#REF!=\"\", \"\",#REF!)","v":{"$error":"#REF!"}},{"$f":" IF(#REF!=\"\", \"\",#REF!)","v":{"$error":"#REF!"}},{"$f":"IF(AW192=\"\", \"\", IF($L192=\"男\", VLOOKUP(AW192, データ!$B$2:$C$101, 2, FALSE), IF($L192=\"女\", VLOOKUP(AW192, データ!$F$2:$H$101, 2, FALSE), \"\")))","v":{"$error":"#REF!"}},{"$f":"IF(A192=\"\",\"\", IF(#REF!=\"\", \"\",#REF!))","v":{"$error":"#REF!"}},{"$f":" IF(#REF!=\"\", \"\",#REF!)","v":{"$error":"#REF!"}},{"$f":" IF(#REF!=\"\", \"\",#REF!)","v":{"$error":"#REF!"}},{"$f":" IF(#REF!=\"\", \"\",#REF!)","v":{"$error":"#REF!"}},{"$f":" IF(#REF!=\"\", \"\",#REF!)","v":{"$error":"#REF!"}},{"$error":"#REF!"}]
[{"$f":"#REF!","v":{"$error":"#REF!"}},{"$f":" IF(#REF!=\"\", \"\",#REF!)","v":{"$error":"#REF!"}},{"$f":" IF(#REF!=\"\", \"\",#REF!)","v":{"$error":"#REF!"}},{"$f":" IF(#REF!=\"\", \"\",#REF!)","v":{"$error":"#REF!"}},{"$error":"#REF!"},{"$error":"#REF!"},{"$error":"#REF!"},{"$error":"#REF!"},{"$f":" IF(#REF!=\"\", \"\",#REF!)","v":{"$error":"#REF!"}},{"$f":" IF(#REF!=\"\", \"\",#REF!)","v":{"$error":"#REF!"}},{"$f":" IF(#REF!=\"\", \"\",#REF!)","v":{"$error":"#REF!"}},{"$f":" IF(#REF!=\"\", \"\",#REF!)","v":{"$error":"#REF!"}},{"$f":" IF(#REF!=\"\", \"\",#REF!)","v":{"$error":"#REF!"}},{"$f":" IF(#REF!=\"\", \"\",#REF!)","v":{"$error":"#REF!"}},{"$f":" IF(#REF!=\"\", \"\",#REF!)","v":{"$error":"#REF!"}},{"$f":" IF(#REF!=\"\", \"\",#REF!)","v":{"$error":"#REF!"}},{"$f":"IF(A193=\"\",\"\",#REF!)","v":{"$error":"#REF!"}},{"$f":" IF(Q193=\"\", \"\",#REF!)","v":{"$error":"#REF!"}},{"$f":" IF(Q193=\"\", \"\",#REF!)","v":{"$error":"#REF!"}},{"$f":" IF(Q193=\"\", \"\",#REF!)","v":{"$error":"#REF!"}},{"$f":" IF(Q193=\"\", \"\",#REF!)","v":{"$error":"#REF!"}},{"$f":" IF(#REF!=\"\", \"\",#REF!)","v":{"$error":"#REF!"}},{"$f":" IF(#REF!=\"\", \"\",#REF!)","v":{"$error":"#REF!"}},{"$f":"IF(Y193=\"\", \"\", IF($L193=\"男\", VLOOKUP(Y193, データ!$B$2:$C$101, 2, FALSE), IF($L193=\"女\", VLOOKUP(Y193, データ!$F$2:$H$101, 2, FALSE), \"\")))","v":{"$error":"#REF!"}},{"$f":"IF(A193=\"\",\"\", IF(#REF!=\"\", \"\",#REF!))","v":{"$error":"#REF!"}},{"$f":" IF(#REF!=\"\", \"\",#REF!)","v":{"$error":"#REF!"}},{"$f":" IF(#REF!=\"\", \"\",#REF!)","v":{"$error":"#REF!"}},{"$f":" IF(#REF!=\"\", \"\",#REF!)","v":{"$error":"#REF!"}},{"$f":" IF(#REF!=\"\", \"\",#REF!)","v":{"$error":"#REF!"}},{"$f":"IF(AE193=\"\", \"\", IF($L193=\"男\", VLOOKUP(AE193, データ!$B$2:$C$101, 2, FALSE), IF($L193=\"女\", VLOOKUP(AE193, データ!$F$2:$H$101, 2, FALSE), \"\")))","v":{"$error":"#REF!"}},{"$f":"IF(A193=\"\",\"\", IF(#REF!=\"\", \"\",#REF!))","v":{"$error":"#REF!"}},{"$f":" IF(#REF!=\"\", \"\",#REF!)","v":{"$error":"#REF!"}},{"$f":" IF(#REF!=\"\", \"\",#REF!)","v":{"$error":"#REF!"}},{"$f":" IF(#REF!=\"\", \"\",#REF!)","v":{"$error":"#REF!"}},{"$f":" IF(#REF!=\"\", \"\",#REF!)","v":{"$error":"#REF!"}},{"$f":"IF(AK193=\"\", \"\", IF($L193=\"男\", VLOOKUP(AK193, データ!$B$2:$C$101, 2, FALSE), IF($L193=\"女\", VLOOKUP(AK193, データ!$F$2:$H$101, 2, FALSE), \"\")))","v":{"$error":"#REF!"}},{"$f":"IF(A193=\"\",\"\", IF(#REF!=\"\", \"\",#REF!))","v":{"$error":"#REF!"}},{"$f":" IF(#REF!=\"\", \"\",#REF!)","v":{"$error":"#REF!"}},{"$f":" IF(#REF!=\"\", \"\",#REF!)","v":{"$error":"#REF!"}},{"$f":" IF(#REF!=\"\", \"\",#REF!)","v":{"$error":"#REF!"}},{"$f":" IF(#REF!=\"\", \"\",#REF!)","v":{"$error":"#REF!"}},{"$f":"IF(AQ193=\"\", \"\", IF($L193=\"男\", VLOOKUP(AQ193, データ!$B$2:$C$101, 2, FALSE), IF($L193=\"女\", VLOOKUP(AQ193, データ!$F$2:$H$101, 2, FALSE), \"\")))","v":{"$error":"#REF!"}},{"$f":"IF(A193=\"\",\"\", IF(#REF!=\"\", \"\",#REF!))","v":{"$error":"#REF!"}},{"$f":" IF(#REF!=\"\", \"\",#REF!)","v":{"$error":"#REF!"}},{"$f":" IF(#REF!=\"\", \"\",#REF!)","v":{"$error":"#REF!"}},{"$f":" IF(#REF!=\"\", \"\",#REF!)","v":{"$error":"#REF!"}},{"$f":" IF(#REF!=\"\", \"\",#REF!)","v":{"$error":"#REF!"}},{"$f":"IF(AW193=\"\", \"\", IF($L193=\"男\", VLOOKUP(AW193, データ!$B$2:$C$101, 2, FALSE), IF($L193=\"女\", VLOOKUP(AW193, データ!$F$2:$H$101, 2, FALSE), \"\")))","v":{"$error":"#REF!"}},{"$f":"IF(A193=\"\",\"\", IF(#REF!=\"\", \"\",#REF!))","v":{"$error":"#REF!"}},{"$f":" IF(#REF!=\"\", \"\",#REF!)","v":{"$error":"#REF!"}},{"$f":" IF(#REF!=\"\", \"\",#REF!)","v":{"$error":"#REF!"}},{"$f":" IF(#REF!=\"\", \"\",#REF!)","v":{"$error":"#REF!"}},{"$f":" IF(#REF!=\"\", \"\",#REF!)","v":{"$error":"#REF!"}},{"$error":"#REF!"}]
[{"$f":"#REF!","v":{"$error":"#REF!"}},{"$f":" IF(#REF!=\"\", \"\",#REF!)","v":{"$error":"#REF!"}},{"$f":" IF(#REF!=\"\", \"\",#REF!)","v":{"$error":"#REF!"}},{"$f":" IF(#REF!=\"\", \"\",#REF!)","v":{"$error":"#REF!"}},{"$error":"#REF!"},{"$error":"#REF!"},{"$error":"#REF!"},{"$error":"#REF!"},{"$f":" IF(#REF!=\"\", \"\",#REF!)","v":{"$error":"#REF!"}},{"$f":" IF(#REF!=\"\", \"\",#REF!)","v":{"$error":"#REF!"}},{"$f":" IF(#REF!=\"\", \"\",#REF!)","v":{"$error":"#REF!"}},{"$f":" IF(#REF!=\"\", \"\",#REF!)","v":{"$error":"#REF!"}},{"$f":" IF(#REF!=\"\", \"\",#REF!)","v":{"$error":"#REF!"}},{"$f":" IF(#REF!=\"\", \"\",#REF!)","v":{"$error":"#REF!"}},{"$f":" IF(#REF!=\"\", \"\",#REF!)","v":{"$error":"#REF!"}},{"$f":" IF(#REF!=\"\", \"\",#REF!)","v":{"$error":"#REF!"}},{"$f":"IF(A194=\"\",\"\",#REF!)","v":{"$error":"#REF!"}},{"$f":" IF(Q194=\"\", \"\",#REF!)","v":{"$error":"#REF!"}},{"$f":" IF(Q194=\"\", \"\",#REF!)","v":{"$error":"#REF!"}},{"$f":" IF(Q194=\"\", \"\",#REF!)","v":{"$error":"#REF!"}},{"$f":" IF(Q194=\"\", \"\",#REF!)","v":{"$error":"#REF!"}},{"$f":" IF(#REF!=\"\", \"\",#REF!)","v":{"$error":"#REF!"}},{"$f":" IF(#REF!=\"\", \"\",#REF!)","v":{"$error":"#REF!"}},{"$f":"IF(Y194=\"\", \"\", IF($L194=\"男\", VLOOKUP(Y194, データ!$B$2:$C$101, 2, FALSE), IF($L194=\"女\", VLOOKUP(Y194, データ!$F$2:$H$101, 2, FALSE), \"\")))","v":{"$error":"#REF!"}},{"$f":"IF(A194=\"\",\"\", IF(#REF!=\"\", \"\",#REF!))","v":{"$error":"#REF!"}},{"$f":" IF(#REF!=\"\", \"\",#REF!)","v":{"$error":"#REF!"}},{"$f":" IF(#REF!=\"\", \"\",#REF!)","v":{"$error":"#REF!"}},{"$f":" IF(#REF!=\"\", \"\",#REF!)","v":{"$error":"#REF!"}},{"$f":" IF(#REF!=\"\", \"\",#REF!)","v":{"$error":"#REF!"}},{"$f":"IF(AE194=\"\", \"\", IF($L194=\"男\", VLOOKUP(AE194, データ!$B$2:$C$101, 2, FALSE), IF($L194=\"女\", VLOOKUP(AE194, データ!$F$2:$H$101, 2, FALSE), \"\")))","v":{"$error":"#REF!"}},{"$f":"IF(A194=\"\",\"\", IF(#REF!=\"\", \"\",#REF!))","v":{"$error":"#REF!"}},{"$f":" IF(#REF!=\"\", \"\",#REF!)","v":{"$error":"#REF!"}},{"$f":" IF(#REF!=\"\", \"\",#REF!)","v":{"$error":"#REF!"}},{"$f":" IF(#REF!=\"\", \"\",#REF!)","v":{"$error":"#REF!"}},{"$f":" IF(#REF!=\"\", \"\",#REF!)","v":{"$error":"#REF!"}},{"$f":"IF(AK194=\"\", \"\", IF($L194=\"男\", VLOOKUP(AK194, データ!$B$2:$C$101, 2, FALSE), IF($L194=\"女\", VLOOKUP(AK194, データ!$F$2:$H$101, 2, FALSE), \"\")))","v":{"$error":"#REF!"}},{"$f":"IF(A194=\"\",\"\", IF(#REF!=\"\", \"\",#REF!))","v":{"$error":"#REF!"}},{"$f":" IF(#REF!=\"\", \"\",#REF!)","v":{"$error":"#REF!"}},{"$f":" IF(#REF!=\"\", \"\",#REF!)","v":{"$error":"#REF!"}},{"$f":" IF(#REF!=\"\", \"\",#REF!)","v":{"$error":"#REF!"}},{"$f":" IF(#REF!=\"\", \"\",#REF!)","v":{"$error":"#REF!"}},{"$f":"IF(AQ194=\"\", \"\", IF($L194=\"男\", VLOOKUP(AQ194, データ!$B$2:$C$101, 2, FALSE), IF($L194=\"女\", VLOOKUP(AQ194, データ!$F$2:$H$101, 2, FALSE), \"\")))","v":{"$error":"#REF!"}},{"$f":"IF(A194=\"\",\"\", IF(#REF!=\"\", \"\",#REF!))","v":{"$error":"#REF!"}},{"$f":" IF(#REF!=\"\", \"\",#REF!)","v":{"$error":"#REF!"}},{"$f":" IF(#REF!=\"\", \"\",#REF!)","v":{"$error":"#REF!"}},{"$f":" IF(#REF!=\"\", \"\",#REF!)","v":{"$error":"#REF!"}},{"$f":" IF(#REF!=\"\", \"\",#REF!)","v":{"$error":"#REF!"}},{"$f":"IF(AW194=\"\", \"\", IF($L194=\"男\", VLOOKUP(AW194, データ!$B$2:$C$101, 2, FALSE), IF($L194=\"女\", VLOOKUP(AW194, データ!$F$2:$H$101, 2, FALSE), \"\")))","v":{"$error":"#REF!"}},{"$f":"IF(A194=\"\",\"\", IF(#REF!=\"\", \"\",#REF!))","v":{"$error":"#REF!"}},{"$f":" IF(#REF!=\"\", \"\",#REF!)","v":{"$error":"#REF!"}},{"$f":" IF(#REF!=\"\", \"\",#REF!)","v":{"$error":"#REF!"}},{"$f":" IF(#REF!=\"\", \"\",#REF!)","v":{"$error":"#REF!"}},{"$f":" IF(#REF!=\"\", \"\",#REF!)","v":{"$error":"#REF!"}},{"$error":"#REF!"}]
[{"$f":"#REF!","v":{"$error":"#REF!"}},{"$f":" IF(#REF!=\"\", \"\",#REF!)","v":{"$error":"#REF!"}},{"$f":" IF(#REF!=\"\", \"\",#REF!)","v":{"$error":"#REF!"}},{"$f":" IF(#REF!=\"\", \"\",#REF!)","v":{"$error":"#REF!"}},{"$error":"#REF!"},{"$error":"#REF!"},{"$error":"#REF!"},{"$error":"#REF!"},{"$f":" IF(#REF!=\"\", \"\",#REF!)","v":{"$error":"#REF!"}},{"$f":" IF(#REF!=\"\", \"\",#REF!)","v":{"$error":"#REF!"}},{"$f":" IF(#REF!=\"\", \"\",#REF!)","v":{"$error":"#REF!"}},{"$f":" IF(#REF!=\"\", \"\",#REF!)","v":{"$error":"#REF!"}},{"$f":" IF(#REF!=\"\", \"\",#REF!)","v":{"$error":"#REF!"}},{"$f":" IF(#REF!=\"\", \"\",#REF!)","v":{"$error":"#REF!"}},{"$f":" IF(#REF!=\"\", \"\",#REF!)","v":{"$error":"#REF!"}},{"$f":" IF(#REF!=\"\", \"\",#REF!)","v":{"$error":"#REF!"}},{"$f":"IF(A195=\"\",\"\",#REF!)","v":{"$error":"#REF!"}},{"$f":" IF(Q195=\"\", \"\",#REF!)","v":{"$error":"#REF!"}},{"$f":" IF(Q195=\"\", \"\",#REF!)","v":{"$error":"#REF!"}},{"$f":" IF(Q195=\"\", \"\",#REF!)","v":{"$error":"#REF!"}},{"$f":" IF(Q195=\"\", \"\",#REF!)","v":{"$error":"#REF!"}},{"$f":" IF(#REF!=\"\", \"\",#REF!)","v":{"$error":"#REF!"}},{"$f":" IF(#REF!=\"\", \"\",#REF!)","v":{"$error":"#REF!"}},{"$f":"IF(Y195=\"\", \"\", IF($L195=\"男\", VLOOKUP(Y195, データ!$B$2:$C$101, 2, FALSE), IF($L195=\"女\", VLOOKUP(Y195, データ!$F$2:$H$101, 2, FALSE), \"\")))","v":{"$error":"#REF!"}},{"$f":"IF(A195=\"\",\"\", IF(#REF!=\"\", \"\",#REF!))","v":{"$error":"#REF!"}},{"$f":" IF(#REF!=\"\", \"\",#REF!)","v":{"$error":"#REF!"}},{"$f":" IF(#REF!=\"\", \"\",#REF!)","v":{"$error":"#REF!"}},{"$f":" IF(#REF!=\"\", \"\",#REF!)","v":{"$error":"#REF!"}},{"$f":" IF(#REF!=\"\", \"\",#REF!)","v":{"$error":"#REF!"}},{"$f":"IF(AE195=\"\", \"\", IF($L195=\"男\", VLOOKUP(AE195, データ!$B$2:$C$101, 2, FALSE), IF($L195=\"女\", VLOOKUP(AE195, データ!$F$2:$H$101, 2, FALSE), \"\")))","v":{"$error":"#REF!"}},{"$f":"IF(A195=\"\",\"\", IF(#REF!=\"\", \"\",#REF!))","v":{"$error":"#REF!"}},{"$f":" IF(#REF!=\"\", \"\",#REF!)","v":{"$error":"#REF!"}},{"$f":" IF(#REF!=\"\", \"\",#REF!)","v":{"$error":"#REF!"}},{"$f":" IF(#REF!=\"\", \"\",#REF!)","v":{"$error":"#REF!"}},{"$f":" IF(#REF!=\"\", \"\",#REF!)","v":{"$error":"#REF!"}},{"$f":"IF(AK195=\"\", \"\", IF($L195=\"男\", VLOOKUP(AK195, データ!$B$2:$C$101, 2, FALSE), IF($L195=\"女\", VLOOKUP(AK195, データ!$F$2:$H$101, 2, FALSE), \"\")))","v":{"$error":"#REF!"}},{"$f":"IF(A195=\"\",\"\", IF(#REF!=\"\", \"\",#REF!))","v":{"$error":"#REF!"}},{"$f":" IF(#REF!=\"\", \"\",#REF!)","v":{"$error":"#REF!"}},{"$f":" IF(#REF!=\"\", \"\",#REF!)","v":{"$error":"#REF!"}},{"$f":" IF(#REF!=\"\", \"\",#REF!)","v":{"$error":"#REF!"}},{"$f":" IF(#REF!=\"\", \"\",#REF!)","v":{"$error":"#REF!"}},{"$f":"IF(AQ195=\"\", \"\", IF($L195=\"男\", VLOOKUP(AQ195, データ!$B$2:$C$101, 2, FALSE), IF($L195=\"女\", VLOOKUP(AQ195, データ!$F$2:$H$101, 2, FALSE), \"\")))","v":{"$error":"#REF!"}},{"$f":"IF(A195=\"\",\"\", IF(#REF!=\"\", \"\",#REF!))","v":{"$error":"#REF!"}},{"$f":" IF(#REF!=\"\", \"\",#REF!)","v":{"$error":"#REF!"}},{"$f":" IF(#REF!=\"\", \"\",#REF!)","v":{"$error":"#REF!"}},{"$f":" IF(#REF!=\"\", \"\",#REF!)","v":{"$error":"#REF!"}},{"$f":" IF(#REF!=\"\", \"\",#REF!)","v":{"$error":"#REF!"}},{"$f":"IF(AW195=\"\", \"\", IF($L195=\"男\", VLOOKUP(AW195, データ!$B$2:$C$101, 2, FALSE), IF($L195=\"女\", VLOOKUP(AW195, データ!$F$2:$H$101, 2, FALSE), \"\")))","v":{"$error":"#REF!"}},{"$f":"IF(A195=\"\",\"\", IF(#REF!=\"\", \"\",#REF!))","v":{"$error":"#REF!"}},{"$f":" IF(#REF!=\"\", \"\",#REF!)","v":{"$error":"#REF!"}},{"$f":" IF(#REF!=\"\", \"\",#REF!)","v":{"$error":"#REF!"}},{"$f":" IF(#REF!=\"\", \"\",#REF!)","v":{"$error":"#REF!"}},{"$f":" IF(#REF!=\"\", \"\",#REF!)","v":{"$error":"#REF!"}},{"$error":"#REF!"}]
[{"$f":"#REF!","v":{"$error":"#REF!"}},{"$f":" IF(#REF!=\"\", \"\",#REF!)","v":{"$error":"#REF!"}},{"$f":" IF(#REF!=\"\", \"\",#REF!)","v":{"$error":"#REF!"}},{"$f":" IF(#REF!=\"\", \"\",#REF!)","v":{"$error":"#REF!"}},{"$f":"IF(C196=\"\", \"\", C196)","v":{"$error":"#REF!"}},{"$f":"IF(D196=\"\", \"\", D196)","v":{"$error":"#REF!"}},{"$f":"IF(C196=\"\", \"\", C196)","v":{"$error":"#REF!"}},{"$f":"IF(D196=\"\", \"\", D196)","v":{"$error":"#REF!"}},{"$f":" IF(#REF!=\"\", \"\",#REF!)","v":{"$error":"#REF!"}},{"$f":" IF(#REF!=\"\", \"\",#REF!)","v":{"$error":"#REF!"}},{"$f":" IF(#REF!=\"\", \"\",#REF!)","v":{"$error":"#REF!"}},{"$f":" IF(#REF!=\"\", \"\",#REF!)","v":{"$error":"#REF!"}},{"$f":" IF(#REF!=\"\", \"\",#REF!)","v":{"$error":"#REF!"}},{"$f":" IF(#REF!=\"\", \"\",#REF!)","v":{"$error":"#REF!"}},{"$f":" IF(#REF!=\"\", \"\",#REF!)","v":{"$error":"#REF!"}},{"$f":" IF(#REF!=\"\", \"\",#REF!)","v":{"$error":"#REF!"}},{"$f":"IF(A196=\"\",\"\",#REF!)","v":{"$error":"#REF!"}},{"$f":" IF(Q196=\"\", \"\",#REF!)","v":{"$error":"#REF!"}},{"$f":" IF(Q196=\"\", \"\",#REF!)","v":{"$error":"#REF!"}},{"$f":" IF(Q196=\"\", \"\",#REF!)","v":{"$error":"#REF!"}},{"$f":" IF(Q196=\"\", \"\",#REF!)","v":{"$error":"#REF!"}},{"$f":" IF(#REF!=\"\", \"\",#REF!)","v":{"$error":"#REF!"}},{"$f":" IF(#REF!=\"\", \"\",#REF!)","v":{"$error":"#REF!"}},{"$f":"IF(Y196=\"\", \"\", IF($L196=\"男\", VLOOKUP(Y196, データ!$B$2:$C$101, 2, FALSE), IF($L196=\"女\", VLOOKUP(Y196, データ!$F$2:$H$101, 2, FALSE), \"\")))","v":{"$error":"#REF!"}},{"$f":"IF(A196=\"\",\"\", IF(#REF!=\"\", \"\",#REF!))","v":{"$error":"#REF!"}},{"$f":" IF(#REF!=\"\", \"\",#REF!)","v":{"$error":"#REF!"}},{"$f":" IF(#REF!=\"\", \"\",#REF!)","v":{"$error":"#REF!"}},{"$f":" IF(#REF!=\"\", \"\",#REF!)","v":{"$error":"#REF!"}},{"$f":" IF(#REF!=\"\", \"\",#REF!)","v":{"$error":"#REF!"}},{"$f":"IF(AE196=\"\", \"\", IF($L196=\"男\", VLOOKUP(AE196, データ!$B$2:$C$101, 2, FALSE), IF($L196=\"女\", VLOOKUP(AE196, データ!$F$2:$H$101, 2, FALSE), \"\")))","v":{"$error":"#REF!"}},{"$f":"IF(A196=\"\",\"\", IF(#REF!=\"\", \"\",#REF!))","v":{"$error":"#REF!"}},{"$f":" IF(#REF!=\"\", \"\",#REF!)","v":{"$error":"#REF!"}},{"$f":" IF(#REF!=\"\", \"\",#REF!)","v":{"$error":"#REF!"}},{"$f":" IF(#REF!=\"\", \"\",#REF!)","v":{"$error":"#REF!"}},{"$f":" IF(#REF!=\"\", \"\",#REF!)","v":{"$error":"#REF!"}},{"$f":"IF(AK196=\"\", \"\", IF($L196=\"男\", VLOOKUP(AK196, データ!$B$2:$C$101, 2, FALSE), IF($L196=\"女\", VLOOKUP(AK196, データ!$F$2:$H$101, 2, FALSE), \"\")))","v":{"$error":"#REF!"}},{"$f":"IF(A196=\"\",\"\", IF(#REF!=\"\", \"\",#REF!))","v":{"$error":"#REF!"}},{"$f":" IF(#REF!=\"\", \"\",#REF!)","v":{"$error":"#REF!"}},{"$f":" IF(#REF!=\"\", \"\",#REF!)","v":{"$error":"#REF!"}},{"$f":" IF(#REF!=\"\", \"\",#REF!)","v":{"$error":"#REF!"}},{"$f":" IF(#REF!=\"\", \"\",#REF!)","v":{"$error":"#REF!"}},{"$f":"IF(AQ196=\"\", \"\", IF($L196=\"男\", VLOOKUP(AQ196, データ!$B$2:$C$101, 2, FALSE), IF($L196=\"女\", VLOOKUP(AQ196, データ!$F$2:$H$101, 2, FALSE), \"\")))","v":{"$error":"#REF!"}},{"$f":"IF(A196=\"\",\"\", IF(#REF!=\"\", \"\",#REF!))","v":{"$error":"#REF!"}},{"$f":" IF(#REF!=\"\", \"\",#REF!)","v":{"$error":"#REF!"}},{"$f":" IF(#REF!=\"\", \"\",#REF!)","v":{"$error":"#REF!"}},{"$f":" IF(#REF!=\"\", \"\",#REF!)","v":{"$error":"#REF!"}},{"$f":" IF(#REF!=\"\", \"\",#REF!)","v":{"$error":"#REF!"}},{"$f":"IF(AW196=\"\", \"\", IF($L196=\"男\", VLOOKUP(AW196, データ!$B$2:$C$101, 2, FALSE), IF($L196=\"女\", VLOOKUP(AW196, データ!$F$2:$H$101, 2, FALSE), \"\")))","v":{"$error":"#REF!"}},{"$f":"IF(A196=\"\",\"\", IF(#REF!=\"\", \"\",#REF!))","v":{"$error":"#REF!"}},{"$f":" IF(#REF!=\"\", \"\",#REF!)","v":{"$error":"#REF!"}},{"$f":" IF(#REF!=\"\", \"\",#REF!)","v":{"$error":"#REF!"}},{"$f":" IF(#REF!=\"\", \"\",#REF!)","v":{"$error":"#REF!"}},{"$f":" IF(#REF!=\"\", \"\",#REF!)","v":{"$error":"#REF!"}},{"$f":"IF(A196=\"\",\"\",IF(LEN(C196)+LEN(D196)=2,C196&\"　　　\"&D196,IF(LEN(C196)+LEN(D196)=3,C196&\"　　\"&D196,IF(LEN(C196)+LEN(D196)=4,C196&\"　\"&D196,IF(LEN(C196)+LEN(D196)>4,C196&D196,\"\")))))","v":{"$error":"#REF!"}}]
[{"$f":"#REF!","v":{"$error":"#REF!"}},{"$f":" IF(#REF!=\"\", \"\",#REF!)","v":{"$error":"#REF!"}},{"$f":" IF(#REF!=\"\", \"\",#REF!)","v":{"$error":"#REF!"}},{"$f":" IF(#REF!=\"\", \"\",#REF!)","v":{"$error":"#REF!"}},{"$error":"#REF!"},{"$error":"#REF!"},{"$error":"#REF!"},{"$error":"#REF!"},{"$f":" IF(#REF!=\"\", \"\",#REF!)","v":{"$error":"#REF!"}},{"$f":" IF(#REF!=\"\", \"\",#REF!)","v":{"$error":"#REF!"}},{"$f":" IF(#REF!=\"\", \"\",#REF!)","v":{"$error":"#REF!"}},{"$f":" IF(#REF!=\"\", \"\",#REF!)","v":{"$error":"#REF!"}},{"$f":" IF(#REF!=\"\", \"\",#REF!)","v":{"$error":"#REF!"}},{"$f":" IF(#REF!=\"\", \"\",#REF!)","v":{"$error":"#REF!"}},{"$f":" IF(#REF!=\"\", \"\",#REF!)","v":{"$error":"#REF!"}},{"$f":" IF(#REF!=\"\", \"\",#REF!)","v":{"$error":"#REF!"}},{"$f":"IF(A197=\"\",\"\",#REF!)","v":{"$error":"#REF!"}},{"$f":" IF(Q197=\"\", \"\",#REF!)","v":{"$error":"#REF!"}},{"$f":" IF(Q197=\"\", \"\",#REF!)","v":{"$error":"#REF!"}},{"$f":" IF(Q197=\"\", \"\",#REF!)","v":{"$error":"#REF!"}},{"$f":" IF(Q197=\"\", \"\",#REF!)","v":{"$error":"#REF!"}},{"$f":" IF(#REF!=\"\", \"\",#REF!)","v":{"$error":"#REF!"}},{"$f":" IF(#REF!=\"\", \"\",#REF!)","v":{"$error":"#REF!"}},{"$f":"IF(Y197=\"\", \"\", IF($L197=\"男\", VLOOKUP(Y197, データ!$B$2:$C$101, 2, FALSE), IF($L197=\"女\", VLOOKUP(Y197, データ!$F$2:$H$101, 2, FALSE), \"\")))","v":{"$error":"#REF!"}},{"$f":"IF(A197=\"\",\"\", IF(#REF!=\"\", \"\",#REF!))","v":{"$error":"#REF!"}},{"$f":" IF(#REF!=\"\", \"\",#REF!)","v":{"$error":"#REF!"}},{"$f":" IF(#REF!=\"\", \"\",#REF!)","v":{"$error":"#REF!"}},{"$f":" IF(#REF!=\"\", \"\",#REF!)","v":{"$error":"#REF!"}},{"$f":" IF(#REF!=\"\", \"\",#REF!)","v":{"$error":"#REF!"}},{"$f":"IF(AE197=\"\", \"\", IF($L197=\"男\", VLOOKUP(AE197, データ!$B$2:$C$101, 2, FALSE), IF($L197=\"女\", VLOOKUP(AE197, データ!$F$2:$H$101, 2, FALSE), \"\")))","v":{"$error":"#REF!"}},{"$f":"IF(A197=\"\",\"\", IF(#REF!=\"\", \"\",#REF!))","v":{"$error":"#REF!"}},{"$f":" IF(#REF!=\"\", \"\",#REF!)","v":{"$error":"#REF!"}},{"$f":" IF(#REF!=\"\", \"\",#REF!)","v":{"$error":"#REF!"}},{"$f":" IF(#REF!=\"\", \"\",#REF!)","v":{"$error":"#REF!"}},{"$f":" IF(#REF!=\"\", \"\",#REF!)","v":{"$error":"#REF!"}},{"$f":"IF(AK197=\"\", \"\", IF($L197=\"男\", VLOOKUP(AK197, データ!$B$2:$C$101, 2, FALSE), IF($L197=\"女\", VLOOKUP(AK197, データ!$F$2:$H$101, 2, FALSE), \"\")))","v":{"$error":"#REF!"}},{"$f":"IF(A197=\"\",\"\", IF(#REF!=\"\", \"\",#REF!))","v":{"$error":"#REF!"}},{"$f":" IF(#REF!=\"\", \"\",#REF!)","v":{"$error":"#REF!"}},{"$f":" IF(#REF!=\"\", \"\",#REF!)","v":{"$error":"#REF!"}},{"$f":" IF(#REF!=\"\", \"\",#REF!)","v":{"$error":"#REF!"}},{"$f":" IF(#REF!=\"\", \"\",#REF!)","v":{"$error":"#REF!"}},{"$f":"IF(AQ197=\"\", \"\", IF($L197=\"男\", VLOOKUP(AQ197, データ!$B$2:$C$101, 2, FALSE), IF($L197=\"女\", VLOOKUP(AQ197, データ!$F$2:$H$101, 2, FALSE), \"\")))","v":{"$error":"#REF!"}},{"$f":"IF(A197=\"\",\"\", IF(#REF!=\"\", \"\",#REF!))","v":{"$error":"#REF!"}},{"$f":" IF(#REF!=\"\", \"\",#REF!)","v":{"$error":"#REF!"}},{"$f":" IF(#REF!=\"\", \"\",#REF!)","v":{"$error":"#REF!"}},{"$f":" IF(#REF!=\"\", \"\",#REF!)","v":{"$error":"#REF!"}},{"$f":" IF(#REF!=\"\", \"\",#REF!)","v":{"$error":"#REF!"}},{"$f":"IF(AW197=\"\", \"\", IF($L197=\"男\", VLOOKUP(AW197, データ!$B$2:$C$101, 2, FALSE), IF($L197=\"女\", VLOOKUP(AW197, データ!$F$2:$H$101, 2, FALSE), \"\")))","v":{"$error":"#REF!"}},{"$f":"IF(A197=\"\",\"\", IF(#REF!=\"\", \"\",#REF!))","v":{"$error":"#REF!"}},{"$f":" IF(#REF!=\"\", \"\",#REF!)","v":{"$error":"#REF!"}},{"$f":" IF(#REF!=\"\", \"\",#REF!)","v":{"$error":"#REF!"}},{"$f":" IF(#REF!=\"\", \"\",#REF!)","v":{"$error":"#REF!"}},{"$f":" IF(#REF!=\"\", \"\",#REF!)","v":{"$error":"#REF!"}},{"$error":"#REF!"}]
[{"$f":"#REF!","v":{"$error":"#REF!"}},{"$f":" IF(#REF!=\"\", \"\",#REF!)","v":{"$error":"#REF!"}},{"$f":" IF(#REF!=\"\", \"\",#REF!)","v":{"$error":"#REF!"}},{"$f":" IF(#REF!=\"\", \"\",#REF!)","v":{"$error":"#REF!"}},{"$error":"#REF!"},{"$error":"#REF!"},{"$error":"#REF!"},{"$error":"#REF!"},{"$f":" IF(#REF!=\"\", \"\",#REF!)","v":{"$error":"#REF!"}},{"$f":" IF(#REF!=\"\", \"\",#REF!)","v":{"$error":"#REF!"}},{"$f":" IF(#REF!=\"\", \"\",#REF!)","v":{"$error":"#REF!"}},{"$f":" IF(#REF!=\"\", \"\",#REF!)","v":{"$error":"#REF!"}},{"$f":" IF(#REF!=\"\", \"\",#REF!)","v":{"$error":"#REF!"}},{"$f":" IF(#REF!=\"\", \"\",#REF!)","v":{"$error":"#REF!"}},{"$f":" IF(#REF!=\"\", \"\",#REF!)","v":{"$error":"#REF!"}},{"$f":" IF(#REF!=\"\", \"\",#REF!)","v":{"$error":"#REF!"}},{"$f":"IF(A198=\"\",\"\",#REF!)","v":{"$error":"#REF!"}},{"$f":" IF(Q198=\"\", \"\",#REF!)","v":{"$error":"#REF!"}},{"$f":" IF(Q198=\"\", \"\",#REF!)","v":{"$error":"#REF!"}},{"$f":" IF(Q198=\"\", \"\",#REF!)","v":{"$error":"#REF!"}},{"$f":" IF(Q198=\"\", \"\",#REF!)","v":{"$error":"#REF!"}},{"$f":" IF(#REF!=\"\", \"\",#REF!)","v":{"$error":"#REF!"}},{"$f":" IF(#REF!=\"\", \"\",#REF!)","v":{"$error":"#REF!"}},{"$f":"IF(Y198=\"\", \"\", IF($L198=\"男\", VLOOKUP(Y198, データ!$B$2:$C$101, 2, FALSE), IF($L198=\"女\", VLOOKUP(Y198, データ!$F$2:$H$101, 2, FALSE), \"\")))","v":{"$error":"#REF!"}},{"$f":"IF(A198=\"\",\"\", IF(#REF!=\"\", \"\",#REF!))","v":{"$error":"#REF!"}},{"$f":" IF(#REF!=\"\", \"\",#REF!)","v":{"$error":"#REF!"}},{"$f":" IF(#REF!=\"\", \"\",#REF!)","v":{"$error":"#REF!"}},{"$f":" IF(#REF!=\"\", \"\",#REF!)","v":{"$error":"#REF!"}},{"$f":" IF(#REF!=\"\", \"\",#REF!)","v":{"$error":"#REF!"}},{"$f":"IF(AE198=\"\", \"\", IF($L198=\"男\", VLOOKUP(AE198, データ!$B$2:$C$101, 2, FALSE), IF($L198=\"女\", VLOOKUP(AE198, データ!$F$2:$H$101, 2, FALSE), \"\")))","v":{"$error":"#REF!"}},{"$f":"IF(A198=\"\",\"\", IF(#REF!=\"\", \"\",#REF!))","v":{"$error":"#REF!"}},{"$f":" IF(#REF!=\"\", \"\",#REF!)","v":{"$error":"#REF!"}},{"$f":" IF(#REF!=\"\", \"\",#REF!)","v":{"$error":"#REF!"}},{"$f":" IF(#REF!=\"\", \"\",#REF!)","v":{"$error":"#REF!"}},{"$f":" IF(#REF!=\"\", \"\",#REF!)","v":{"$error":"#REF!"}},{"$f":"IF(AK198=\"\", \"\", IF($L198=\"男\", VLOOKUP(AK198, データ!$B$2:$C$101, 2, FALSE), IF($L198=\"女\", VLOOKUP(AK198, データ!$F$2:$H$101, 2, FALSE), \"\")))","v":{"$error":"#REF!"}},{"$f":"IF(A198=\"\",\"\", IF(#REF!=\"\", \"\",#REF!))","v":{"$error":"#REF!"}},{"$f":" IF(#REF!=\"\", \"\",#REF!)","v":{"$error":"#REF!"}},{"$f":" IF(#REF!=\"\", \"\",#REF!)","v":{"$error":"#REF!"}},{"$f":" IF(#REF!=\"\", \"\",#REF!)","v":{"$error":"#REF!"}},{"$f":" IF(#REF!=\"\", \"\",#REF!)","v":{"$error":"#REF!"}},{"$f":"IF(AQ198=\"\", \"\", IF($L198=\"男\", VLOOKUP(AQ198, データ!$B$2:$C$101, 2, FALSE), IF($L198=\"女\", VLOOKUP(AQ198, データ!$F$2:$H$101, 2, FALSE), \"\")))","v":{"$error":"#REF!"}},{"$f":"IF(A198=\"\",\"\", IF(#REF!=\"\", \"\",#REF!))","v":{"$error":"#REF!"}},{"$f":" IF(#REF!=\"\", \"\",#REF!)","v":{"$error":"#REF!"}},{"$f":" IF(#REF!=\"\", \"\",#REF!)","v":{"$error":"#REF!"}},{"$f":" IF(#REF!=\"\", \"\",#REF!)","v":{"$error":"#REF!"}},{"$f":" IF(#REF!=\"\", \"\",#REF!)","v":{"$error":"#REF!"}},{"$f":"IF(AW198=\"\", \"\", IF($L198=\"男\", VLOOKUP(AW198, データ!$B$2:$C$101, 2, FALSE), IF($L198=\"女\", VLOOKUP(AW198, データ!$F$2:$H$101, 2, FALSE), \"\")))","v":{"$error":"#REF!"}},{"$f":"IF(A198=\"\",\"\", IF(#REF!=\"\", \"\",#REF!))","v":{"$error":"#REF!"}},{"$f":" IF(#REF!=\"\", \"\",#REF!)","v":{"$error":"#REF!"}},{"$f":" IF(#REF!=\"\", \"\",#REF!)","v":{"$error":"#REF!"}},{"$f":" IF(#REF!=\"\", \"\",#REF!)","v":{"$error":"#REF!"}},{"$f":" IF(#REF!=\"\", \"\",#REF!)","v":{"$error":"#REF!"}},{"$error":"#REF!"}]
[{"$f":"#REF!","v":{"$error":"#REF!"}},{"$f":" IF(#REF!=\"\", \"\",#REF!)","v":{"$error":"#REF!"}},{"$f":" IF(#REF!=\"\", \"\",#REF!)","v":{"$error":"#REF!"}},{"$f":" IF(#REF!=\"\", \"\",#REF!)","v":{"$error":"#REF!"}},{"$error":"#REF!"},{"$error":"#REF!"},{"$error":"#REF!"},{"$error":"#REF!"},{"$f":" IF(#REF!=\"\", \"\",#REF!)","v":{"$error":"#REF!"}},{"$f":" IF(#REF!=\"\", \"\",#REF!)","v":{"$error":"#REF!"}},{"$f":" IF(#REF!=\"\", \"\",#REF!)","v":{"$error":"#REF!"}},{"$f":" IF(#REF!=\"\", \"\",#REF!)","v":{"$error":"#REF!"}},{"$f":" IF(#REF!=\"\", \"\",#REF!)","v":{"$error":"#REF!"}},{"$f":" IF(#REF!=\"\", \"\",#REF!)","v":{"$error":"#REF!"}},{"$f":" IF(#REF!=\"\", \"\",#REF!)","v":{"$error":"#REF!"}},{"$f":" IF(#REF!=\"\", \"\",#REF!)","v":{"$error":"#REF!"}},{"$f":"IF(A199=\"\",\"\",#REF!)","v":{"$error":"#REF!"}},{"$f":" IF(Q199=\"\", \"\",#REF!)","v":{"$error":"#REF!"}},{"$f":" IF(Q199=\"\", \"\",#REF!)","v":{"$error":"#REF!"}},{"$f":" IF(Q199=\"\", \"\",#REF!)","v":{"$error":"#REF!"}},{"$f":" IF(Q199=\"\", \"\",#REF!)","v":{"$error":"#REF!"}},{"$f":" IF(#REF!=\"\", \"\",#REF!)","v":{"$error":"#REF!"}},{"$f":" IF(#REF!=\"\", \"\",#REF!)","v":{"$error":"#REF!"}},{"$f":"IF(Y199=\"\", \"\", IF($L199=\"男\", VLOOKUP(Y199, データ!$B$2:$C$101, 2, FALSE), IF($L199=\"女\", VLOOKUP(Y199, データ!$F$2:$H$101, 2, FALSE), \"\")))","v":{"$error":"#REF!"}},{"$f":"IF(A199=\"\",\"\", IF(#REF!=\"\", \"\",#REF!))","v":{"$error":"#REF!"}},{"$f":" IF(#REF!=\"\", \"\",#REF!)","v":{"$error":"#REF!"}},{"$f":" IF(#REF!=\"\", \"\",#REF!)","v":{"$error":"#REF!"}},{"$f":" IF(#REF!=\"\", \"\",#REF!)","v":{"$error":"#REF!"}},{"$f":" IF(#REF!=\"\", \"\",#REF!)","v":{"$error":"#REF!"}},{"$f":"IF(AE199=\"\", \"\", IF($L199=\"男\", VLOOKUP(AE199, データ!$B$2:$C$101, 2, FALSE), IF($L199=\"女\", VLOOKUP(AE199, データ!$F$2:$H$101, 2, FALSE), \"\")))","v":{"$error":"#REF!"}},{"$f":"IF(A199=\"\",\"\", IF(#REF!=\"\", \"\",#REF!))","v":{"$error":"#REF!"}},{"$f":" IF(#REF!=\"\", \"\",#REF!)","v":{"$error":"#REF!"}},{"$f":" IF(#REF!=\"\", \"\",#REF!)","v":{"$error":"#REF!"}},{"$f":" IF(#REF!=\"\", \"\",#REF!)","v":{"$error":"#REF!"}},{"$f":" IF(#REF!=\"\", \"\",#REF!)","v":{"$error":"#REF!"}},{"$f":"IF(AK199=\"\", \"\", IF($L199=\"男\", VLOOKUP(AK199, データ!$B$2:$C$101, 2, FALSE), IF($L199=\"女\", VLOOKUP(AK199, データ!$F$2:$H$101, 2, FALSE), \"\")))","v":{"$error":"#REF!"}},{"$f":"IF(A199=\"\",\"\", IF(#REF!=\"\", \"\",#REF!))","v":{"$error":"#REF!"}},{"$f":" IF(#REF!=\"\", \"\",#REF!)","v":{"$error":"#REF!"}},{"$f":" IF(#REF!=\"\", \"\",#REF!)","v":{"$error":"#REF!"}},{"$f":" IF(#REF!=\"\", \"\",#REF!)","v":{"$error":"#REF!"}},{"$f":" IF(#REF!=\"\", \"\",#REF!)","v":{"$error":"#REF!"}},{"$f":"IF(AQ199=\"\", \"\", IF($L199=\"男\", VLOOKUP(AQ199, データ!$B$2:$C$101, 2, FALSE), IF($L199=\"女\", VLOOKUP(AQ199, データ!$F$2:$H$101, 2, FALSE), \"\")))","v":{"$error":"#REF!"}},{"$f":"IF(A199=\"\",\"\", IF(#REF!=\"\", \"\",#REF!))","v":{"$error":"#REF!"}},{"$f":" IF(#REF!=\"\", \"\",#REF!)","v":{"$error":"#REF!"}},{"$f":" IF(#REF!=\"\", \"\",#REF!)","v":{"$error":"#REF!"}},{"$f":" IF(#REF!=\"\", \"\",#REF!)","v":{"$error":"#REF!"}},{"$f":" IF(#REF!=\"\", \"\",#REF!)","v":{"$error":"#REF!"}},{"$f":"IF(AW199=\"\", \"\", IF($L199=\"男\", VLOOKUP(AW199, データ!$B$2:$C$101, 2, FALSE), IF($L199=\"女\", VLOOKUP(AW199, データ!$F$2:$H$101, 2, FALSE), \"\")))","v":{"$error":"#REF!"}},{"$f":"IF(A199=\"\",\"\", IF(#REF!=\"\", \"\",#REF!))","v":{"$error":"#REF!"}},{"$f":" IF(#REF!=\"\", \"\",#REF!)","v":{"$error":"#REF!"}},{"$f":" IF(#REF!=\"\", \"\",#REF!)","v":{"$error":"#REF!"}},{"$f":" IF(#REF!=\"\", \"\",#REF!)","v":{"$error":"#REF!"}},{"$f":" IF(#REF!=\"\", \"\",#REF!)","v":{"$error":"#REF!"}},{"$error":"#REF!"}]
[{"$f":"#REF!","v":{"$error":"#REF!"}},{"$f":" IF(#REF!=\"\", \"\",#REF!)","v":{"$error":"#REF!"}},{"$f":" IF(#REF!=\"\", \"\",#REF!)","v":{"$error":"#REF!"}},{"$f":" IF(#REF!=\"\", \"\",#REF!)","v":{"$error":"#REF!"}},{"$error":"#REF!"},{"$error":"#REF!"},{"$error":"#REF!"},{"$error":"#REF!"},{"$f":" IF(#REF!=\"\", \"\",#REF!)","v":{"$error":"#REF!"}},{"$f":" IF(#REF!=\"\", \"\",#REF!)","v":{"$error":"#REF!"}},{"$f":" IF(#REF!=\"\", \"\",#REF!)","v":{"$error":"#REF!"}},{"$f":" IF(#REF!=\"\", \"\",#REF!)","v":{"$error":"#REF!"}},{"$f":" IF(#REF!=\"\", \"\",#REF!)","v":{"$error":"#REF!"}},{"$f":" IF(#REF!=\"\", \"\",#REF!)","v":{"$error":"#REF!"}},{"$f":" IF(#REF!=\"\", \"\",#REF!)","v":{"$error":"#REF!"}},{"$f":" IF(#REF!=\"\", \"\",#REF!)","v":{"$error":"#REF!"}},{"$f":"IF(A200=\"\",\"\",#REF!)","v":{"$error":"#REF!"}},{"$f":" IF(Q200=\"\", \"\",#REF!)","v":{"$error":"#REF!"}},{"$f":" IF(Q200=\"\", \"\",#REF!)","v":{"$error":"#REF!"}},{"$f":" IF(Q200=\"\", \"\",#REF!)","v":{"$error":"#REF!"}},{"$f":" IF(Q200=\"\", \"\",#REF!)","v":{"$error":"#REF!"}},{"$f":" IF(#REF!=\"\", \"\",#REF!)","v":{"$error":"#REF!"}},{"$f":" IF(#REF!=\"\", \"\",#REF!)","v":{"$error":"#REF!"}},{"$f":"IF(Y200=\"\", \"\", IF($L200=\"男\", VLOOKUP(Y200, データ!$B$2:$C$101, 2, FALSE), IF($L200=\"女\", VLOOKUP(Y200, データ!$F$2:$H$101, 2, FALSE), \"\")))","v":{"$error":"#REF!"}},{"$f":"IF(A200=\"\",\"\", IF(#REF!=\"\", \"\",#REF!))","v":{"$error":"#REF!"}},{"$f":" IF(#REF!=\"\", \"\",#REF!)","v":{"$error":"#REF!"}},{"$f":" IF(#REF!=\"\", \"\",#REF!)","v":{"$error":"#REF!"}},{"$f":" IF(#REF!=\"\", \"\",#REF!)","v":{"$error":"#REF!"}},{"$f":" IF(#REF!=\"\", \"\",#REF!)","v":{"$error":"#REF!"}},{"$f":"IF(AE200=\"\", \"\", IF($L200=\"男\", VLOOKUP(AE200, データ!$B$2:$C$101, 2, FALSE), IF($L200=\"女\", VLOOKUP(AE200, データ!$F$2:$H$101, 2, FALSE), \"\")))","v":{"$error":"#REF!"}},{"$f":"IF(A200=\"\",\"\", IF(#REF!=\"\", \"\",#REF!))","v":{"$error":"#REF!"}},{"$f":" IF(#REF!=\"\", \"\",#REF!)","v":{"$error":"#REF!"}},{"$f":" IF(#REF!=\"\", \"\",#REF!)","v":{"$error":"#REF!"}},{"$f":" IF(#REF!=\"\", \"\",#REF!)","v":{"$error":"#REF!"}},{"$f":" IF(#REF!=\"\", \"\",#REF!)","v":{"$error":"#REF!"}},{"$f":"IF(AK200=\"\", \"\", IF($L200=\"男\", VLOOKUP(AK200, データ!$B$2:$C$101, 2, FALSE), IF($L200=\"女\", VLOOKUP(AK200, データ!$F$2:$H$101, 2, FALSE), \"\")))","v":{"$error":"#REF!"}},{"$f":"IF(A200=\"\",\"\", IF(#REF!=\"\", \"\",#REF!))","v":{"$error":"#REF!"}},{"$f":" IF(#REF!=\"\", \"\",#REF!)","v":{"$error":"#REF!"}},{"$f":" IF(#REF!=\"\", \"\",#REF!)","v":{"$error":"#REF!"}},{"$f":" IF(#REF!=\"\", \"\",#REF!)","v":{"$error":"#REF!"}},{"$f":" IF(#REF!=\"\", \"\",#REF!)","v":{"$error":"#REF!"}},{"$f":"IF(AQ200=\"\", \"\", IF($L200=\"男\", VLOOKUP(AQ200, データ!$B$2:$C$101, 2, FALSE), IF($L200=\"女\", VLOOKUP(AQ200, データ!$F$2:$H$101, 2, FALSE), \"\")))","v":{"$error":"#REF!"}},{"$f":"IF(A200=\"\",\"\", IF(#REF!=\"\", \"\",#REF!))","v":{"$error":"#REF!"}},{"$f":" IF(#REF!=\"\", \"\",#REF!)","v":{"$error":"#REF!"}},{"$f":" IF(#REF!=\"\", \"\",#REF!)","v":{"$error":"#REF!"}},{"$f":" IF(#REF!=\"\", \"\",#REF!)","v":{"$error":"#REF!"}},{"$f":" IF(#REF!=\"\", \"\",#REF!)","v":{"$error":"#REF!"}},{"$f":"IF(AW200=\"\", \"\", IF($L200=\"男\", VLOOKUP(AW200, データ!$B$2:$C$101, 2, FALSE), IF($L200=\"女\", VLOOKUP(AW200, データ!$F$2:$H$101, 2, FALSE), \"\")))","v":{"$error":"#REF!"}},{"$f":"IF(A200=\"\",\"\", IF(#REF!=\"\", \"\",#REF!))","v":{"$error":"#REF!"}},{"$f":" IF(#REF!=\"\", \"\",#REF!)","v":{"$error":"#REF!"}},{"$f":" IF(#REF!=\"\", \"\",#REF!)","v":{"$error":"#REF!"}},{"$f":" IF(#REF!=\"\", \"\",#REF!)","v":{"$error":"#REF!"}},{"$f":" IF(#REF!=\"\", \"\",#REF!)","v":{"$error":"#REF!"}},{"$error":"#REF!"}]
[{"$f":"#REF!","v":{"$error":"#REF!"}},{"$f":" IF(#REF!=\"\", \"\",#REF!)","v":{"$error":"#REF!"}},{"$f":" IF(#REF!=\"\", \"\",#REF!)","v":{"$error":"#REF!"}},{"$f":" IF(#REF!=\"\", \"\",#REF!)","v":{"$error":"#REF!"}},{"$error":"#REF!"},{"$error":"#REF!"},{"$error":"#REF!"},{"$error":"#REF!"},{"$f":" IF(#REF!=\"\", \"\",#REF!)","v":{"$error":"#REF!"}},{"$f":" IF(#REF!=\"\", \"\",#REF!)","v":{"$error":"#REF!"}},{"$f":" IF(#REF!=\"\", \"\",#REF!)","v":{"$error":"#REF!"}},{"$f":" IF(#REF!=\"\", \"\",#REF!)","v":{"$error":"#REF!"}},{"$f":" IF(#REF!=\"\", \"\",#REF!)","v":{"$error":"#REF!"}},{"$f":" IF(#REF!=\"\", \"\",#REF!)","v":{"$error":"#REF!"}},{"$f":" IF(#REF!=\"\", \"\",#REF!)","v":{"$error":"#REF!"}},{"$f":" IF(#REF!=\"\", \"\",#REF!)","v":{"$error":"#REF!"}},{"$f":"IF(A201=\"\",\"\",#REF!)","v":{"$error":"#REF!"}},{"$f":" IF(Q201=\"\", \"\",#REF!)","v":{"$error":"#REF!"}},{"$f":" IF(Q201=\"\", \"\",#REF!)","v":{"$error":"#REF!"}},{"$f":" IF(Q201=\"\", \"\",#REF!)","v":{"$error":"#REF!"}},{"$f":" IF(Q201=\"\", \"\",#REF!)","v":{"$error":"#REF!"}},{"$f":" IF(#REF!=\"\", \"\",#REF!)","v":{"$error":"#REF!"}},{"$f":" IF(#REF!=\"\", \"\",#REF!)","v":{"$error":"#REF!"}},{"$f":"IF(Y201=\"\", \"\", IF($L201=\"男\", VLOOKUP(Y201, データ!$B$2:$C$101, 2, FALSE), IF($L201=\"女\", VLOOKUP(Y201, データ!$F$2:$H$101, 2, FALSE), \"\")))","v":{"$error":"#REF!"}},{"$f":"IF(A201=\"\",\"\", IF(#REF!=\"\", \"\",#REF!))","v":{"$error":"#REF!"}},{"$f":" IF(#REF!=\"\", \"\",#REF!)","v":{"$error":"#REF!"}},{"$f":" IF(#REF!=\"\", \"\",#REF!)","v":{"$error":"#REF!"}},{"$f":" IF(#REF!=\"\", \"\",#REF!)","v":{"$error":"#REF!"}},{"$f":" IF(#REF!=\"\", \"\",#REF!)","v":{"$error":"#REF!"}},{"$f":"IF(AE201=\"\", \"\", IF($L201=\"男\", VLOOKUP(AE201, データ!$B$2:$C$101, 2, FALSE), IF($L201=\"女\", VLOOKUP(AE201, データ!$F$2:$H$101, 2, FALSE), \"\")))","v":{"$error":"#REF!"}},{"$f":"IF(A201=\"\",\"\", IF(#REF!=\"\", \"\",#REF!))","v":{"$error":"#REF!"}},{"$f":" IF(#REF!=\"\", \"\",#REF!)","v":{"$error":"#REF!"}},{"$f":" IF(#REF!=\"\", \"\",#REF!)","v":{"$error":"#REF!"}},{"$f":" IF(#REF!=\"\", \"\",#REF!)","v":{"$error":"#REF!"}},{"$f":" IF(#REF!=\"\", \"\",#REF!)","v":{"$error":"#REF!"}},{"$f":"IF(AK201=\"\", \"\", IF($L201=\"男\", VLOOKUP(AK201, データ!$B$2:$C$101, 2, FALSE), IF($L201=\"女\", VLOOKUP(AK201, データ!$F$2:$H$101, 2, FALSE), \"\")))","v":{"$error":"#REF!"}},{"$f":"IF(A201=\"\",\"\", IF(#REF!=\"\", \"\",#REF!))","v":{"$error":"#REF!"}},{"$f":" IF(#REF!=\"\", \"\",#REF!)","v":{"$error":"#REF!"}},{"$f":" IF(#REF!=\"\", \"\",#REF!)","v":{"$error":"#REF!"}},{"$f":" IF(#REF!=\"\", \"\",#REF!)","v":{"$error":"#REF!"}},{"$f":" IF(#REF!=\"\", \"\",#REF!)","v":{"$error":"#REF!"}},{"$f":"IF(AQ201=\"\", \"\", IF($L201=\"男\", VLOOKUP(AQ201, データ!$B$2:$C$101, 2, FALSE), IF($L201=\"女\", VLOOKUP(AQ201, データ!$F$2:$H$101, 2, FALSE), \"\")))","v":{"$error":"#REF!"}},{"$f":"IF(A201=\"\",\"\", IF(#REF!=\"\", \"\",#REF!))","v":{"$error":"#REF!"}},{"$f":" IF(#REF!=\"\", \"\",#REF!)","v":{"$error":"#REF!"}},{"$f":" IF(#REF!=\"\", \"\",#REF!)","v":{"$error":"#REF!"}},{"$f":" IF(#REF!=\"\", \"\",#REF!)","v":{"$error":"#REF!"}},{"$f":" IF(#REF!=\"\", \"\",#REF!)","v":{"$error":"#REF!"}},{"$f":"IF(AW201=\"\", \"\", IF($L201=\"男\", VLOOKUP(AW201, データ!$B$2:$C$101, 2, FALSE), IF($L201=\"女\", VLOOKUP(AW201, データ!$F$2:$H$101, 2, FALSE), \"\")))","v":{"$error":"#REF!"}},{"$f":"IF(A201=\"\",\"\", IF(#REF!=\"\", \"\",#REF!))","v":{"$error":"#REF!"}},{"$f":" IF(#REF!=\"\", \"\",#REF!)","v":{"$error":"#REF!"}},{"$f":" IF(#REF!=\"\", \"\",#REF!)","v":{"$error":"#REF!"}},{"$f":" IF(#REF!=\"\", \"\",#REF!)","v":{"$error":"#REF!"}},{"$f":" IF(#REF!=\"\", \"\",#REF!)","v":{"$error":"#REF!"}},{"$error":"#REF!"}]
[{"$f":"#REF!","v":{"$error":"#REF!"}},{"$f":" IF(#REF!=\"\", \"\",#REF!)","v":{"$error":"#REF!"}},{"$f":" IF(#REF!=\"\", \"\",#REF!)","v":{"$error":"#REF!"}},{"$f":" IF(#REF!=\"\", \"\",#REF!)","v":{"$error":"#REF!"}},{"$error":"#REF!"},{"$error":"#REF!"},{"$error":"#REF!"},{"$error":"#REF!"},{"$f":" IF(#REF!=\"\", \"\",#REF!)","v":{"$error":"#REF!"}},{"$f":" IF(#REF!=\"\", \"\",#REF!)","v":{"$error":"#REF!"}},{"$f":" IF(#REF!=\"\", \"\",#REF!)","v":{"$error":"#REF!"}},{"$f":" IF(#REF!=\"\", \"\",#REF!)","v":{"$error":"#REF!"}},{"$f":" IF(#REF!=\"\", \"\",#REF!)","v":{"$error":"#REF!"}},{"$f":" IF(#REF!=\"\", \"\",#REF!)","v":{"$error":"#REF!"}},{"$f":" IF(#REF!=\"\", \"\",#REF!)","v":{"$error":"#REF!"}},{"$f":" IF(#REF!=\"\", \"\",#REF!)","v":{"$error":"#REF!"}},{"$f":"IF(A202=\"\",\"\",#REF!)","v":{"$error":"#REF!"}},{"$f":" IF(Q202=\"\", \"\",#REF!)","v":{"$error":"#REF!"}},{"$f":" IF(Q202=\"\", \"\",#REF!)","v":{"$error":"#REF!"}},{"$f":" IF(Q202=\"\", \"\",#REF!)","v":{"$error":"#REF!"}},{"$f":" IF(Q202=\"\", \"\",#REF!)","v":{"$error":"#REF!"}},{"$f":" IF(#REF!=\"\", \"\",#REF!)","v":{"$error":"#REF!"}},{"$f":" IF(#REF!=\"\", \"\",#REF!)","v":{"$error":"#REF!"}},{"$f":"IF(Y202=\"\", \"\", IF($L202=\"男\", VLOOKUP(Y202, データ!$B$2:$C$101, 2, FALSE), IF($L202=\"女\", VLOOKUP(Y202, データ!$F$2:$H$101, 2, FALSE), \"\")))","v":{"$error":"#REF!"}},{"$f":"IF(A202=\"\",\"\", IF(#REF!=\"\", \"\",#REF!))","v":{"$error":"#REF!"}},{"$f":" IF(#REF!=\"\", \"\",#REF!)","v":{"$error":"#REF!"}},{"$f":" IF(#REF!=\"\", \"\",#REF!)","v":{"$error":"#REF!"}},{"$f":" IF(#REF!=\"\", \"\",#REF!)","v":{"$error":"#REF!"}},{"$f":" IF(#REF!=\"\", \"\",#REF!)","v":{"$error":"#REF!"}},{"$f":"IF(AE202=\"\", \"\", IF($L202=\"男\", VLOOKUP(AE202, データ!$B$2:$C$101, 2, FALSE), IF($L202=\"女\", VLOOKUP(AE202, データ!$F$2:$H$101, 2, FALSE), \"\")))","v":{"$error":"#REF!"}},{"$f":"IF(A202=\"\",\"\", IF(#REF!=\"\", \"\",#REF!))","v":{"$error":"#REF!"}},{"$f":" IF(#REF!=\"\", \"\",#REF!)","v":{"$error":"#REF!"}},{"$f":" IF(#REF!=\"\", \"\",#REF!)","v":{"$error":"#REF!"}},{"$f":" IF(#REF!=\"\", \"\",#REF!)","v":{"$error":"#REF!"}},{"$f":" IF(#REF!=\"\", \"\",#REF!)","v":{"$error":"#REF!"}},{"$f":"IF(AK202=\"\", \"\", IF($L202=\"男\", VLOOKUP(AK202, データ!$B$2:$C$101, 2, FALSE), IF($L202=\"女\", VLOOKUP(AK202, データ!$F$2:$H$101, 2, FALSE), \"\")))","v":{"$error":"#REF!"}},{"$f":"IF(A202=\"\",\"\", IF(#REF!=\"\", \"\",#REF!))","v":{"$error":"#REF!"}},{"$f":" IF(#REF!=\"\", \"\",#REF!)","v":{"$error":"#REF!"}},{"$f":" IF(#REF!=\"\", \"\",#REF!)","v":{"$error":"#REF!"}},{"$f":" IF(#REF!=\"\", \"\",#REF!)","v":{"$error":"#REF!"}},{"$f":" IF(#REF!=\"\", \"\",#REF!)","v":{"$error":"#REF!"}},{"$f":"IF(AQ202=\"\", \"\", IF($L202=\"男\", VLOOKUP(AQ202, データ!$B$2:$C$101, 2, FALSE), IF($L202=\"女\", VLOOKUP(AQ202, データ!$F$2:$H$101, 2, FALSE), \"\")))","v":{"$error":"#REF!"}},{"$f":"IF(A202=\"\",\"\", IF(#REF!=\"\", \"\",#REF!))","v":{"$error":"#REF!"}},{"$f":" IF(#REF!=\"\", \"\",#REF!)","v":{"$error":"#REF!"}},{"$f":" IF(#REF!=\"\", \"\",#REF!)","v":{"$error":"#REF!"}},{"$f":" IF(#REF!=\"\", \"\",#REF!)","v":{"$error":"#REF!"}},{"$f":" IF(#REF!=\"\", \"\",#REF!)","v":{"$error":"#REF!"}},{"$f":"IF(AW202=\"\", \"\", IF($L202=\"男\", VLOOKUP(AW202, データ!$B$2:$C$101, 2, FALSE), IF($L202=\"女\", VLOOKUP(AW202, データ!$F$2:$H$101, 2, FALSE), \"\")))","v":{"$error":"#REF!"}},{"$f":"IF(A202=\"\",\"\", IF(#REF!=\"\", \"\",#REF!))","v":{"$error":"#REF!"}},{"$f":" IF(#REF!=\"\", \"\",#REF!)","v":{"$error":"#REF!"}},{"$f":" IF(#REF!=\"\", \"\",#REF!)","v":{"$error":"#REF!"}},{"$f":" IF(#REF!=\"\", \"\",#REF!)","v":{"$error":"#REF!"}},{"$f":" IF(#REF!=\"\", \"\",#REF!)","v":{"$error":"#REF!"}},{"$error":"#REF!"}]
[]
[]
[]
[]
[]
[]
[]
[]
[]
[]
[]
[]
[]
[]
[]
[]
[]
[]
[]
[]
[]
[]
[]
[]
[]
[]
[]
[]
[]
[]
[]
[]
[]
[]
[]
[]
[]
[]
[]
[]
[]
[]
[]
[]
[]
[]
[]
[]
[]
[]
[]
[]
[]
[]
[]
[]
[1,2,3,4,5,6,7,8,9,9,10,11,12,13,14,15,16,17,18,19,19,20,null,21,22,23,23,24,25,26,27,28,28,29,30,31,32,33,33,34,35,36,37,38,38,39,40,41,42,43,43,44,45,46]

{"sheet":"集計シート","index":3,"n_rows":202,"n_cols":15,"rows_kept":202,"cut":false,"hidden":true,"merged":[]}
["参加競技",null,null,null,null,"リレーチーム判定"]
[{"$f":"#REF!&\",\"&#REF!&\",\"&data!X3","v":{"$error":"#REF!"}},{"$f":"#REF!&\",\"&#REF!&\",\"&data!AD3","v":{"$error":"#REF!"}},{"$f":"#REF!&\",\"&#REF!&\",\"&data!AJ3","v":{"$error":"#REF!"}},{"$f":"#REF!&\",\"&#REF!&\",\"&data!AP3","v":{"$error":"#REF!"}},{"$f":"#REF!&\",\"&#REF!&\",\"&data!AV3","v":{"$error":"#REF!"}},{"$f":"data!X3&\",\"&#REF!","v":{"$error":"#REF!"}},{"$f":"data!AD3&\",\"&#REF!","v":{"$error":"#REF!"}},{"$f":"data!AJ3&\",\"&#REF!","v":{"$error":"#REF!"}},{"$f":"data!AP3&\",\"&#REF!","v":{"$error":"#REF!"}},{"$f":"data!AV3&\",\"&#REF!","v":{"$error":"#REF!"}},{"$f":"data!X3&\",\"&COUNTIF($F$2:$J2,F2)","v":{"$error":"#REF!"}},{"$f":"data!AD3&\",\"&COUNTIF($F$2:$J2,G2)","v":{"$error":"#REF!"}},{"$f":"data!AJ3&\",\"&COUNTIF($F$2:$J2,H2)","v":{"$error":"#REF!"}},{"$f":"data!AP3&\",\"&COUNTIF($F$2:$J2,I2)","v":{"$error":"#REF!"}},{"$f":"data!AV3&\",\"&COUNTIF($F$2:$J2,J2)","v":{"$error":"#REF!"}}]
[{"$f":"#REF!&\",\"&#REF!&\",\"&data!X4","v":{"$error":"#REF!"}},{"$f":"#REF!&\",\"&#REF!&\",\"&data!AD4","v":{"$error":"#REF!"}},{"$f":"#REF!&\",\"&#REF!&\",\"&data!AJ4","v":{"$error":"#REF!"}},{"$f":"#REF!&\",\"&#REF!&\",\"&data!AP4","v":{"$error":"#REF!"}},{"$f":"#REF!&\",\"&#REF!&\",\"&data!AV4","v":{"$error":"#REF!"}},{"$f":"data!X4&\",\"&#REF!","v":{"$error":"#REF!"}},{"$f":"data!AD4&\",\"&#REF!","v":{"$error":"#REF!"}},{"$f":"data!AJ4&\",\"&#REF!","v":{"$error":"#REF!"}},{"$f":"data!AP4&\",\"&#REF!","v":{"$error":"#REF!"}},{"$f":"data!AV4&\",\"&#REF!","v":{"$error":"#REF!"}},{"$f":"data!X4&\",\"&COUNTIF($F$2:$J3,F3)","v":{"$error":"#REF!"}},{"$f":"data!AD4&\",\"&COUNTIF($F$2:$J3,G3)","v":{"$error":"#REF!"}},{"$f":"data!AJ4&\",\"&COUNTIF($F$2:$J3,H3)","v":{"$error":"#REF!"}},{"$f":"data!AP4&\",\"&COUNTIF($F$2:$J3,I3)","v":{"$error":"#REF!"}},{"$f":"data!AV4&\",\"&COUNTIF($F$2:$J3,J3)","v":{"$error":"#REF!"}}]
[{"$f":"#REF!&\",\"&#REF!&\",\"&data!X5","v":{"$error":"#REF!"}},{"$f":"#REF!&\",\"&#REF!&\",\"&data!AD5","v":{"$error":"#REF!"}},{"$f":"#REF!&\",\"&#REF!&\",\"&data!AJ5","v":{"$error":"#REF!"}},{"$f":"#REF!&\",\"&#REF!&\",\"&data!AP5","v":{"$error":"#REF!"}},{"$f":"#REF!&\",\"&#REF!&\",\"&data!AV5","v":{"$error":"#REF!"}},{"$f":"data!X5&\",\"&#REF!","v":{"$error":"#REF!"}},{"$f":"data!AD5&\",\"&#REF!","v":{"$error":"#REF!"}},{"$f":"data!AJ5&\",\"&#REF!","v":{"$error":"#REF!"}},{"$f":"data!AP5&\",\"&#REF!","v":{"$error":"#REF!"}},{"$f":"data!AV5&\",\"&#REF!","v":{"$error":"#REF!"}},{"$f":"data!X5&\",\"&COUNTIF($F$2:$J4,F4)","v":{"$error":"#REF!"}},{"$f":"data!AD5&\",\"&COUNTIF($F$2:$J4,G4)","v":{"$error":"#REF!"}},{"$f":"data!AJ5&\",\"&COUNTIF($F$2:$J4,H4)","v":{"$error":"#REF!"}},{"$f":"data!AP5&\",\"&COUNTIF($F$2:$J4,I4)","v":{"$error":"#REF!"}},{"$f":"data!AV5&\",\"&COUNTIF($F$2:$J4,J4)","v":{"$error":"#REF!"}}]
[{"$f":"#REF!&\",\"&#REF!&\",\"&data!X6","v":{"$error":"#REF!"}},{"$f":"#REF!&\",\"&#REF!&\",\"&data!AD6","v":{"$error":"#REF!"}},{"$f":"#REF!&\",\"&#REF!&\",\"&data!AJ6","v":{"$error":"#REF!"}},{"$f":"#REF!&\",\"&#REF!&\",\"&data!AP6","v":{"$error":"#REF!"}},{"$f":"#REF!&\",\"&#REF!&\",\"&data!AV6","v":{"$error":"#REF!"}},{"$f":"data!X6&\",\"&#REF!","v":{"$error":"#REF!"}},{"$f":"data!AD6&\",\"&#REF!","v":{"$error":"#REF!"}},{"$f":"data!AJ6&\",\"&#REF!","v":{"$error":"#REF!"}},{"$f":"data!AP6&\",\"&#REF!","v":{"$error":"#REF!"}},{"$f":"data!AV6&\",\"&#REF!","v":{"$error":"#REF!"}},{"$f":"data!X6&\",\"&COUNTIF($F$2:$J5,F5)","v":{"$error":"#REF!"}},{"$f":"data!AD6&\",\"&COUNTIF($F$2:$J5,G5)","v":{"$error":"#REF!"}},{"$f":"data!AJ6&\",\"&COUNTIF($F$2:$J5,H5)","v":{"$error":"#REF!"}},{"$f":"data!AP6&\",\"&COUNTIF($F$2:$J5,I5)","v":{"$error":"#REF!"}},{"$f":"data!AV6&\",\"&COUNTIF($F$2:$J5,J5)","v":{"$error":"#REF!"}}]
[{"$f":"#REF!&\",\"&#REF!&\",\"&data!X7","v":{"$error":"#REF!"}},{"$f":"#REF!&\",\"&#REF!&\",\"&data!AD7","v":{"$error":"#REF!"}},{"$f":"#REF!&\",\"&#REF!&\",\"&data!AJ7","v":{"$error":"#REF!"}},{"$f":"#REF!&\",\"&#REF!&\",\"&data!AP7","v":{"$error":"#REF!"}},{"$f":"#REF!&\",\"&#REF!&\",\"&data!AV7","v":{"$error":"#REF!"}},{"$f":"data!X7&\",\"&#REF!","v":{"$error":"#REF!"}},{"$f":"data!AD7&\",\"&#REF!","v":{"$error":"#REF!"}},{"$f":"data!AJ7&\",\"&#REF!","v":{"$error":"#REF!"}},{"$f":"data!AP7&\",\"&#REF!","v":{"$error":"#REF!"}},{"$f":"data!AV7&\",\"&#REF!","v":{"$error":"#REF!"}},{"$f":"data!X7&\",\"&COUNTIF($F$2:$J6,F6)","v":{"$error":"#REF!"}},{"$f":"data!AD7&\",\"&COUNTIF($F$2:$J6,G6)","v":{"$error":"#REF!"}},{"$f":"data!AJ7&\",\"&COUNTIF($F$2:$J6,H6)","v":{"$error":"#REF!"}},{"$f":"data!AP7&\",\"&COUNTIF($F$2:$J6,I6)","v":{"$error":"#REF!"}},{"$f":"data!AV7&\",\"&COUNTIF($F$2:$J6,J6)","v":{"$error":"#REF!"}}]
[{"$f":"#REF!&\",\"&#REF!&\",\"&data!X8","v":{"$error":"#REF!"}},{"$f":"#REF!&\",\"&#REF!&\",\"&data!AD8","v":{"$error":"#REF!"}},{"$f":"#REF!&\",\"&#REF!&\",\"&data!AJ8","v":{"$error":"#REF!"}},{"$f":"#REF!&\",\"&#REF!&\",\"&data!AP8","v":{"$error":"#REF!"}},{"$f":"#REF!&\",\"&#REF!&\",\"&data!AV8","v":{"$error":"#REF!"}},{"$f":"data!X8&\",\"&#REF!","v":{"$error":"#REF!"}},{"$f":"data!AD8&\",\"&#REF!","v":{"$error":"#REF!"}},{"$f":"data!AJ8&\",\"&#REF!","v":{"$error":"#REF!"}},{"$f":"data!AP8&\",\"&#REF!","v":{"$error":"#REF!"}},{"$f":"data!AV8&\",\"&#REF!","v":{"$error":"#REF!"}},{"$f":"data!X8&\",\"&COUNTIF($F$2:$J7,F7)","v":{"$error":"#REF!"}},{"$f":"data!AD8&\",\"&COUNTIF($F$2:$J7,G7)","v":{"$error":"#REF!"}},{"$f":"data!AJ8&\",\"&COUNTIF($F$2:$J7,H7)","v":{"$error":"#REF!"}},{"$f":"data!AP8&\",\"&COUNTIF($F$2:$J7,I7)","v":{"$error":"#REF!"}},{"$f":"data!AV8&\",\"&COUNTIF($F$2:$J7,J7)","v":{"$error":"#REF!"}}]
[{"$f":"#REF!&\",\"&#REF!&\",\"&data!X9","v":{"$error":"#REF!"}},{"$f":"#REF!&\",\"&#REF!&\",\"&data!AD9","v":{"$error":"#REF!"}},{"$f":"#REF!&\",\"&#REF!&\",\"&data!AJ9","v":{"$error":"#REF!"}},{"$f":"#REF!&\",\"&#REF!&\",\"&data!AP9","v":{"$error":"#REF!"}},{"$f":"#REF!&\",\"&#REF!&\",\"&data!AV9","v":{"$error":"#REF!"}},{"$f":"data!X9&\",\"&#REF!","v":{"$error":"#REF!"}},{"$f":"data!AD9&\",\"&#REF!","v":{"$error":"#REF!"}},{"$f":"data!AJ9&\",\"&#REF!","v":{"$error":"#REF!"}},{"$f":"data!AP9&\",\"&#REF!","v":{"$error":"#REF!"}},{"$f":"data!AV9&\",\"&#REF!","v":{"$error":"#REF!"}},{"$f":"data!X9&\",\"&COUNTIF($F$2:$J8,F8)","v":{"$error":"#REF!"}},{"$f":"data!AD9&\",\"&COUNTIF($F$2:$J8,G8)","v":{"$error":"#REF!"}},{"$f":"data!AJ9&\",\"&COUNTIF($F$2:$J8,H8)","v":{"$error":"#REF!"}},{"$f":"data!AP9&\",\"&COUNTIF($F$2:$J8,I8)","v":{"$error":"#REF!"}},{"$f":"data!AV9&\",\"&COUNTIF($F$2:$J8,J8)","v":{"$error":"#REF!"}}]
[{"$f":"#REF!&\",\"&#REF!&\",\"&data!X10","v":{"$error":"#REF!"}},{"$f":"#REF!&\",\"&#REF!&\",\"&data!AD10","v":{"$error":"#REF!"}},{"$f":"#REF!&\",\"&#REF!&\",\"&data!AJ10","v":{"$error":"#REF!"}},{"$f":"#REF!&\",\"&#REF!&\",\"&data!AP10","v":{"$error":"#REF!"}},{"$f":"#REF!&\",\"&#REF!&\",\"&data!AV10","v":{"$error":"#REF!"}},{"$f":"data!X10&\",\"&#REF!","v":{"$error":"#REF!"}},{"$f":"data!AD10&\",\"&#REF!","v":{"$error":"#REF!"}},{"$f":"data!AJ10&\",\"&#REF!","v":{"$error":"#REF!"}},{"$f":"data!AP10&\",\"&#REF!","v":{"$error":"#REF!"}},{"$f":"data!AV10&\",\"&#REF!","v":{"$error":"#REF!"}},{"$f":"data!X10&\",\"&COUNTIF($F$2:$J9,F9)","v":{"$error":"#REF!"}},{"$f":"data!AD10&\",\"&COUNTIF($F$2:$J9,G9)","v":{"$error":"#REF!"}},{"$f":"data!AJ10&\",\"&COUNTIF($F$2:$J9,H9)","v":{"$error":"#REF!"}},{"$f":"data!AP10&\",\"&COUNTIF($F$2:$J9,I9)","v":{"$error":"#REF!"}},{"$f":"data!AV10&\",\"&COUNTIF($F$2:$J9,J9)","v":{"$error":"#REF!"}}]
[{"$f":"#REF!&\",\"&#REF!&\",\"&data!X11","v":{"$error":"#REF!"}},{"$f":"#REF!&\",\"&#REF!&\",\"&data!AD11","v":{"$error":"#REF!"}},{"$f":"#REF!&\",\"&#REF!&\",\"&data!AJ11","v":{"$error":"#REF!"}},{"$f":"#REF!&\",\"&#REF!&\",\"&data!AP11","v":{"$error":"#REF!"}},{"$f":"#REF!&\",\"&#REF!&\",\"&data!AV11","v":{"$error":"#REF!"}},{"$f":"data!X11&\",\"&#REF!","v":{"$error":"#REF!"}},{"$f":"data!AD11&\",\"&#REF!","v":{"$error":"#REF!"}},{"$f":"data!AJ11&\",\"&#REF!","v":{"$error":"#REF!"}},{"$f":"data!AP11&\",\"&#REF!","v":{"$error":"#REF!"}},{"$f":"data!AV11&\",\"&#REF!","v":{"$error":"#REF!"}},{"$f":"data!X11&\",\"&COUNTIF($F$2:$J10,F10)","v":{"$error":"#REF!"}},{"$f":"data!AD11&\",\"&COUNTIF($F$2:$J10,G10)","v":{"$error":"#REF!"}},{"$f":"data!AJ11&\",\"&COUNTIF($F$2:$J10,H10)","v":{"$error":"#REF!"}},{"$f":"data!AP11&\",\"&COUNTIF($F$2:$J10,I10)","v":{"$error":"#REF!"}},{"$f":"data!AV11&\",\"&COUNTIF($F$2:$J10,J10)","v":{"$error":"#REF!"}}]
[{"$f":"#REF!&\",\"&#REF!&\",\"&data!X12","v":{"$error":"#REF!"}},{"$f":"#REF!&\",\"&#REF!&\",\"&data!AD12","v":{"$error":"#REF!"}},{"$f":"#REF!&\",\"&#REF!&\",\"&data!AJ12","v":{"$error":"#REF!"}},{"$f":"#REF!&\",\"&#REF!&\",\"&data!AP12","v":{"$error":"#REF!"}},{"$f":"#REF!&\",\"&#REF!&\",\"&data!AV12","v":{"$error":"#REF!"}},{"$f":"data!X12&\",\"&#REF!","v":{"$error":"#REF!"}},{"$f":"data!AD12&\",\"&#REF!","v":{"$error":"#REF!"}},{"$f":"data!AJ12&\",\"&#REF!","v":{"$error":"#REF!"}},{"$f":"data!AP12&\",\"&#REF!","v":{"$error":"#REF!"}},{"$f":"data!AV12&\",\"&#REF!","v":{"$error":"#REF!"}},{"$f":"data!X12&\",\"&COUNTIF($F$2:$J11,F11)","v":{"$error":"#REF!"}},{"$f":"data!AD12&\",\"&COUNTIF($F$2:$J11,G11)","v":{"$error":"#REF!"}},{"$f":"data!AJ12&\",\"&COUNTIF($F$2:$J11,H11)","v":{"$error":"#REF!"}},{"$f":"data!AP12&\",\"&COUNTIF($F$2:$J11,I11)","v":{"$error":"#REF!"}},{"$f":"data!AV12&\",\"&COUNTIF($F$2:$J11,J11)","v":{"$error":"#REF!"}}]
[{"$f":"#REF!&\",\"&#REF!&\",\"&data!X13","v":{"$error":"#REF!"}},{"$f":"#REF!&\",\"&#REF!&\",\"&data!AD13","v":{"$error":"#REF!"}},{"$f":"#REF!&\",\"&#REF!&\",\"&data!AJ13","v":{"$error":"#REF!"}},{"$f":"#REF!&\",\"&#REF!&\",\"&data!AP13","v":{"$error":"#REF!"}},{"$f":"#REF!&\",\"&#REF!&\",\"&data!AV13","v":{"$error":"#REF!"}},{"$f":"data!X13&\",\"&#REF!","v":{"$error":"#REF!"}},{"$f":"data!AD13&\",\"&#REF!","v":{"$error":"#REF!"}},{"$f":"data!AJ13&\",\"&#REF!","v":{"$error":"#REF!"}},{"$f":"data!AP13&\",\"&#REF!","v":{"$error":"#REF!"}},{"$f":"data!AV13&\",\"&#REF!","v":{"$error":"#REF!"}},{"$f":"data!X13&\",\"&COUNTIF($F$2:$J12,F12)","v":{"$error":"#REF!"}},{"$f":"data!AD13&\",\"&COUNTIF($F$2:$J12,G12)","v":{"$error":"#REF!"}},{"$f":"data!AJ13&\",\"&COUNTIF($F$2:$J12,H12)","v":{"$error":"#REF!"}},{"$f":"data!AP13&\",\"&COUNTIF($F$2:$J12,I12)","v":{"$error":"#REF!"}},{"$f":"data!AV13&\",\"&COUNTIF($F$2:$J12,J12)","v":{"$error":"#REF!"}}]
[{"$f":"#REF!&\",\"&#REF!&\",\"&data!X14","v":{"$error":"#REF!"}},{"$f":"#REF!&\",\"&#REF!&\",\"&data!AD14","v":{"$error":"#REF!"}},{"$f":"#REF!&\",\"&#REF!&\",\"&data!AJ14","v":{"$error":"#REF!"}},{"$f":"#REF!&\",\"&#REF!&\",\"&data!AP14","v":{"$error":"#REF!"}},{"$f":"#REF!&\",\"&#REF!&\",\"&data!AV14","v":{"$error":"#REF!"}},{"$f":"data!X14&\",\"&#REF!","v":{"$error":"#REF!"}},{"$f":"data!AD14&\",\"&#REF!","v":{"$error":"#REF!"}},{"$f":"data!AJ14&\",\"&#REF!","v":{"$error":"#REF!"}},{"$f":"data!AP14&\",\"&#REF!","v":{"$error":"#REF!"}},{"$f":"data!AV14&\",\"&#REF!","v":{"$error":"#REF!"}},{"$f":"data!X14&\",\"&COUNTIF($F$2:$J13,F13)","v":{"$error":"#REF!"}},{"$f":"data!AD14&\",\"&COUNTIF($F$2:$J13,G13)","v":{"$error":"#REF!"}},{"$f":"data!AJ14&\",\"&COUNTIF($F$2:$J13,H13)","v":{"$error":"#REF!"}},{"$f":"data!AP14&\",\"&COUNTIF($F$2:$J13,I13)","v":{"$error":"#REF!"}},{"$f":"data!AV14&\",\"&COUNTIF($F$2:$J13,J13)","v":{"$error":"#REF!"}}]
[{"$f":"#REF!&\",\"&#REF!&\",\"&data!X15","v":{"$error":"#REF!"}},{"$f":"#REF!&\",\"&#REF!&\",\"&data!AD15","v":{"$error":"#REF!"}},{"$f":"#REF!&\",\"&#REF!&\",\"&data!AJ15","v":{"$error":"#REF!"}},{"$f":"#REF!&\",\"&#REF!&\",\"&data!AP15","v":{"$error":"#REF!"}},{"$f":"#REF!&\",\"&#REF!&\",\"&data!AV15","v":{"$error":"#REF!"}},{"$f":"data!X15&\",\"&#REF!","v":{"$error":"#REF!"}},{"$f":"data!AD15&\",\"&#REF!","v":{"$error":"#REF!"}},{"$f":"data!AJ15&\",\"&#REF!","v":{"$error":"#REF!"}},{"$f":"data!AP15&\",\"&#REF!","v":{"$error":"#REF!"}},{"$f":"data!AV15&\",\"&#REF!","v":{"$error":"#REF!"}},{"$f":"data!X15&\",\"&COUNTIF($F$2:$J14,F14)","v":{"$error":"#REF!"}},{"$f":"data!AD15&\",\"&COUNTIF($F$2:$J14,G14)","v":{"$error":"#REF!"}},{"$f":"data!AJ15&\",\"&COUNTIF($F$2:$J14,H14)","v":{"$error":"#REF!"}},{"$f":"data!AP15&\",\"&COUNTIF($F$2:$J14,I14)","v":{"$error":"#REF!"}},{"$f":"data!AV15&\",\"&COUNTIF($F$2:$J14,J14)","v":{"$error":"#REF!"}}]
[{"$f":"#REF!&\",\"&#REF!&\",\"&data!X16","v":{"$error":"#REF!"}},{"$f":"#REF!&\",\"&#REF!&\",\"&data!AD16","v":{"$error":"#REF!"}},{"$f":"#REF!&\",\"&#REF!&\",\"&data!AJ16","v":{"$error":"#REF!"}},{"$f":"#REF!&\",\"&#REF!&\",\"&data!AP16","v":{"$error":"#REF!"}},{"$f":"#REF!&\",\"&#REF!&\",\"&data!AV16","v":{"$error":"#REF!"}},{"$f":"data!X16&\",\"&#REF!","v":{"$error":"#REF!"}},{"$f":"data!AD16&\",\"&#REF!","v":{"$error":"#REF!"}},{"$f":"data!AJ16&\",\"&#REF!","v":{"$error":"#REF!"}},{"$f":"data!AP16&\",\"&#REF!","v":{"$error":"#REF!"}},{"$f":"data!AV16&\",\"&#REF!","v":{"$error":"#REF!"}},{"$f":"data!X16&\",\"&COUNTIF($F$2:$J15,F15)","v":{"$error":"#REF!"}},{"$f":"data!AD16&\",\"&COUNTIF($F$2:$J15,G15)","v":{"$error":"#REF!"}},{"$f":"data!AJ16&\",\"&COUNTIF($F$2:$J15,H15)","v":{"$error":"#REF!"}},{"$f":"data!AP16&\",\"&COUNTIF($F$2:$J15,I15)","v":{"$error":"#REF!"}},{"$f":"data!AV16&\",\"&COUNTIF($F$2:$J15,J15)","v":{"$error":"#REF!"}}]
[{"$f":"#REF!&\",\"&#REF!&\",\"&data!X17","v":{"$error":"#REF!"}},{"$f":"#REF!&\",\"&#REF!&\",\"&data!AD17","v":{"$error":"#REF!"}},{"$f":"#REF!&\",\"&#REF!&\",\"&data!AJ17","v":{"$error":"#REF!"}},{"$f":"#REF!&\",\"&#REF!&\",\"&data!AP17","v":{"$error":"#REF!"}},{"$f":"#REF!&\",\"&#REF!&\",\"&data!AV17","v":{"$error":"#REF!"}},{"$f":"data!X17&\",\"&#REF!","v":{"$error":"#REF!"}},{"$f":"data!AD17&\",\"&#REF!","v":{"$error":"#REF!"}},{"$f":"data!AJ17&\",\"&#REF!","v":{"$error":"#REF!"}},{"$f":"data!AP17&\",\"&#REF!","v":{"$error":"#REF!"}},{"$f":"data!AV17&\",\"&#REF!","v":{"$error":"#REF!"}},{"$f":"data!X17&\",\"&COUNTIF($F$2:$J16,F16)","v":{"$error":"#REF!"}},{"$f":"data!AD17&\",\"&COUNTIF($F$2:$J16,G16)","v":{"$error":"#REF!"}},{"$f":"data!AJ17&\",\"&COUNTIF($F$2:$J16,H16)","v":{"$error":"#REF!"}},{"$f":"data!AP17&\",\"&COUNTIF($F$2:$J16,I16)","v":{"$error":"#REF!"}},{"$f":"data!AV17&\",\"&COUNTIF($F$2:$J16,J16)","v":{"$error":"#REF!"}}]
[{"$f":"#REF!&\",\"&#REF!&\",\"&data!X18","v":{"$error":"#REF!"}},{"$f":"#REF!&\",\"&#REF!&\",\"&data!AD18","v":{"$error":"#REF!"}},{"$f":"#REF!&\",\"&#REF!&\",\"&data!AJ18","v":{"$error":"#REF!"}},{"$f":"#REF!&\",\"&#REF!&\",\"&data!AP18","v":{"$error":"#REF!"}},{"$f":"#REF!&\",\"&#REF!&\",\"&data!AV18","v":{"$error":"#REF!"}},{"$f":"data!X18&\",\"&#REF!","v":{"$error":"#REF!"}},{"$f":"data!AD18&\",\"&#REF!","v":{"$error":"#REF!"}},{"$f":"data!AJ18&\",\"&#REF!","v":{"$error":"#REF!"}},{"$f":"data!AP18&\",\"&#REF!","v":{"$error":"#REF!"}},{"$f":"data!AV18&\",\"&#REF!","v":{"$error":"#REF!"}},{"$f":"data!X18&\",\"&COUNTIF($F$2:$J17,F17)","v":{"$error":"#REF!"}},{"$f":"data!AD18&\",\"&COUNTIF($F$2:$J17,G17)","v":{"$error":"#REF!"}},{"$f":"data!AJ18&\",\"&COUNTIF($F$2:$J17,H17)","v":{"$error":"#REF!"}},{"$f":"data!AP18&\",\"&COUNTIF($F$2:$J17,I17)","v":{"$error":"#REF!"}},{"$f":"data!AV18&\",\"&COUNTIF($F$2:$J17,J17)","v":{"$error":"#REF!"}}]
[{"$f":"#REF!&\",\"&#REF!&\",\"&data!X19","v":{"$error":"#REF!"}},{"$f":"#REF!&\",\"&#REF!&\",\"&data!AD19","v":{"$error":"#REF!"}},{"$f":"#REF!&\",\"&#REF!&\",\"&data!AJ19","v":{"$error":"#REF!"}},{"$f":"#REF!&\",\"&#REF!&\",\"&data!AP19","v":{"$error":"#REF!"}},{"$f":"#REF!&\",\"&#REF!&\",\"&data!AV19","v":{"$error":"#REF!"}},{"$f":"data!X19&\",\"&#REF!","v":{"$error":"#REF!"}},{"$f":"data!AD19&\",\"&#REF!","v":{"$error":"#REF!"}},{"$f":"data!AJ19&\",\"&#REF!","v":{"$error":"#REF!"}},{"$f":"data!AP19&\",\"&#REF!","v":{"$error":"#REF!"}},{"$f":"data!AV19&\",\"&#REF!","v":{"$error":"#REF!"}},{"$f":"data!X19&\",\"&COUNTIF($F$2:$J18,F18)","v":{"$error":"#REF!"}},{"$f":"data!AD19&\",\"&COUNTIF($F$2:$J18,G18)","v":{"$error":"#REF!"}},{"$f":"data!AJ19&\",\"&COUNTIF($F$2:$J18,H18)","v":{"$error":"#REF!"}},{"$f":"data!AP19&\",\"&COUNTIF($F$2:$J18,I18)","v":{"$error":"#REF!"}},{"$f":"data!AV19&\",\"&COUNTIF($F$2:$J18,J18)","v":{"$error":"#REF!"}}]
[{"$f":"#REF!&\",\"&#REF!&\",\"&data!X20","v":{"$error":"#REF!"}},{"$f":"#REF!&\",\"&#REF!&\",\"&data!AD20","v":{"$error":"#REF!"}},{"$f":"#REF!&\",\"&#REF!&\",\"&data!AJ20","v":{"$error":"#REF!"}},{"$f":"#REF!&\",\"&#REF!&\",\"&data!AP20","v":{"$error":"#REF!"}},{"$f":"#REF!&\",\"&#REF!&\",\"&data!AV20","v":{"$error":"#REF!"}},{"$f":"data!X20&\",\"&#REF!","v":{"$error":"#REF!"}},{"$f":"data!AD20&\",\"&#REF!","v":{"$error":"#REF!"}},{"$f":"data!AJ20&\",\"&#REF!","v":{"$error":"#REF!"}},{"$f":"data!AP20&\",\"&#REF!","v":{"$error":"#REF!"}},{"$f":"data!AV20&\",\"&#REF!","v":{"$error":"#REF!"}},{"$f":"data!X20&\",\"&COUNTIF($F$2:$J19,F19)","v":{"$error":"#REF!"}},{"$f":"data!AD20&\",\"&COUNTIF($F$2:$J19,G19)","v":{"$error":"#REF!"}},{"$f":"data!AJ20&\",\"&COUNTIF($F$2:$J19,H19)","v":{"$error":"#REF!"}},{"$f":"data!AP20&\",\"&COUNTIF($F$2:$J19,I19)","v":{"$error":"#REF!"}},{"$f":"data!AV20&\",\"&COUNTIF($F$2:$J19,J19)","v":{"$error":"#REF!"}}]
[{"$f":"#REF!&\",\"&#REF!&\",\"&data!X21","v":{"$error":"#REF!"}},{"$f":"#REF!&\",\"&#REF!&\",\"&data!AD21","v":{"$error":"#REF!"}},{"$f":"#REF!&\",\"&#REF!&\",\"&data!AJ21","v":{"$error":"#REF!"}},{"$f":"#REF!&\",\"&#REF!&\",\"&data!AP21","v":{"$error":"#REF!"}},{"$f":"#REF!&\",\"&#REF!&\",\"&data!AV21","v":{"$error":"#REF!"}},{"$f":"data!X21&\",\"&#REF!","v":{"$error":"#REF!"}},{"$f":"data!AD21&\",\"&#REF!","v":{"$error":"#REF!"}},{"$f":"data!AJ21&\",\"&#REF!","v":{"$error":"#REF!"}},{"$f":"data!AP21&\",\"&#REF!","v":{"$error":"#REF!"}},{"$f":"data!AV21&\",\"&#REF!","v":{"$error":"#REF!"}},{"$f":"data!X21&\",\"&COUNTIF($F$2:$J20,F20)","v":{"$error":"#REF!"}},{"$f":"data!AD21&\",\"&COUNTIF($F$2:$J20,G20)","v":{"$error":"#REF!"}},{"$f":"data!AJ21&\",\"&COUNTIF($F$2:$J20,H20)","v":{"$error":"#REF!"}},{"$f":"data!AP21&\",\"&COUNTIF($F$2:$J20,I20)","v":{"$error":"#REF!"}},{"$f":"data!AV21&\",\"&COUNTIF($F$2:$J20,J20)","v":{"$error":"#REF!"}}]
[{"$f":"#REF!&\",\"&#REF!&\",\"&data!X22","v":{"$error":"#REF!"}},{"$f":"#REF!&\",\"&#REF!&\",\"&data!AD22","v":{"$error":"#REF!"}},{"$f":"#REF!&\",\"&#REF!&\",\"&data!AJ22","v":{"$error":"#REF!"}},{"$f":"#REF!&\",\"&#REF!&\",\"&data!AP22","v":{"$error":"#REF!"}},{"$f":"#REF!&\",\"&#REF!&\",\"&data!AV22","v":{"$error":"#REF!"}},{"$f":"data!X22&\",\"&#REF!","v":{"$error":"#REF!"}},{"$f":"data!AD22&\",\"&#REF!","v":{"$error":"#REF!"}},{"$f":"data!AJ22&\",\"&#REF!","v":{"$error":"#REF!"}},{"$f":"data!AP22&\",\"&#REF!","v":{"$error":"#REF!"}},{"$f":"data!AV22&\",\"&#REF!","v":{"$error":"#REF!"}},{"$f":"data!X22&\",\"&COUNTIF($F$2:$J21,F21)","v":{"$error":"#REF!"}},{"$f":"data!AD22&\",\"&COUNTIF($F$2:$J21,G21)","v":{"$error":"#REF!"}},{"$f":"data!AJ22&\",\"&COUNTIF($F$2:$J21,H21)","v":{"$error":"#REF!"}},{"$f":"data!AP22&\",\"&COUNTIF($F$2:$J21,I21)","v":{"$error":"#REF!"}},{"$f":"data!AV22&\",\"&COUNTIF($F$2:$J21,J21)","v":{"$error":"#REF!"}}]
[{"$f":"#REF!&\",\"&#REF!&\",\"&data!X23","v":{"$error":"#REF!"}},{"$f":"#REF!&\",\"&#REF!&\",\"&data!AD23","v":{"$error":"#REF!"}},{"$f":"#REF!&\",\"&#REF!&\",\"&data!AJ23","v":{"$error":"#REF!"}},{"$f":"#REF!&\",\"&#REF!&\",\"&data!AP23","v":{"$error":"#REF!"}},{"$f":"#REF!&\",\"&#REF!&\",\"&data!AV23","v":{"$error":"#REF!"}},{"$f":"data!X23&\",\"&#REF!","v":{"$error":"#REF!"}},{"$f":"data!AD23&\",\"&#REF!","v":{"$error":"#REF!"}},{"$f":"data!AJ23&\",\"&#REF!","v":{"$error":"#REF!"}},{"$f":"data!AP23&\",\"&#REF!","v":{"$error":"#REF!"}},{"$f":"data!AV23&\",\"&#REF!","v":{"$error":"#REF!"}},{"$f":"data!X23&\",\"&COUNTIF($F$2:$J22,F22)","v":{"$error":"#REF!"}},{"$f":"data!AD23&\",\"&COUNTIF($F$2:$J22,G22)","v":{"$error":"#REF!"}},{"$f":"data!AJ23&\",\"&COUNTIF($F$2:$J22,H22)","v":{"$error":"#REF!"}},{"$f":"data!AP23&\",\"&COUNTIF($F$2:$J22,I22)","v":{"$error":"#REF!"}},{"$f":"data!AV23&\",\"&COUNTIF($F$2:$J22,J22)","v":{"$error":"#REF!"}}]
[{"$f":"#REF!&\",\"&#REF!&\",\"&data!X24","v":{"$error":"#REF!"}},{"$f":"#REF!&\",\"&#REF!&\",\"&data!AD24","v":{"$error":"#REF!"}},{"$f":"#REF!&\",\"&#REF!&\",\"&data!AJ24","v":{"$error":"#REF!"}},{"$f":"#REF!&\",\"&#REF!&\",\"&data!AP24","v":{"$error":"#REF!"}},{"$f":"#REF!&\",\"&#REF!&\",\"&data!AV24","v":{"$error":"#REF!"}},{"$f":"data!X24&\",\"&#REF!","v":{"$error":"#REF!"}},{"$f":"data!AD24&\",\"&#REF!","v":{"$error":"#REF!"}},{"$f":"data!AJ24&\",\"&#REF!","v":{"$error":"#REF!"}},{"$f":"data!AP24&\",\"&#REF!","v":{"$error":"#REF!"}},{"$f":"data!AV24&\",\"&#REF!","v":{"$error":"#REF!"}},{"$f":"data!X24&\",\"&COUNTIF($F$2:$J23,F23)","v":{"$error":"#REF!"}},{"$f":"data!AD24&\",\"&COUNTIF($F$2:$J23,G23)","v":{"$error":"#REF!"}},{"$f":"data!AJ24&\",\"&COUNTIF($F$2:$J23,H23)","v":{"$error":"#REF!"}},{"$f":"data!AP24&\",\"&COUNTIF($F$2:$J23,I23)","v":{"$error":"#REF!"}},{"$f":"data!AV24&\",\"&COUNTIF($F$2:$J23,J23)","v":{"$error":"#REF!"}}]
[{"$f":"#REF!&\",\"&#REF!&\",\"&data!X25","v":{"$error":"#REF!"}},{"$f":"#REF!&\",\"&#REF!&\",\"&data!AD25","v":{"$error":"#REF!"}},{"$f":"#REF!&\",\"&#REF!&\",\"&data!AJ25","v":{"$error":"#REF!"}},{"$f":"#REF!&\",\"&#REF!&\",\"&data!AP25","v":{"$error":"#REF!"}},{"$f":"#REF!&\",\"&#REF!&\",\"&data!AV25","v":{"$error":"#REF!"}},{"$f":"data!X25&\",\"&#REF!","v":{"$error":"#REF!"}},{"$f":"data!AD25&\",\"&#REF!","v":{"$error":"#REF!"}},{"$f":"data!AJ25&\",\"&#REF!","v":{"$error":"#REF!"}},{"$f":"data!AP25&\",\"&#REF!","v":{"$error":"#REF!"}},{"$f":"data!AV25&\",\"&#REF!","v":{"$error":"#REF!"}},{"$f":"data!X25&\",\"&COUNTIF($F$2:$J24,F24)","v":{"$error":"#REF!"}},{"$f":"data!AD25&\",\"&COUNTIF($F$2:$J24,G24)","v":{"$error":"#REF!"}},{"$f":"data!AJ25&\",\"&COUNTIF($F$2:$J24,H24)","v":{"$error":"#REF!"}},{"$f":"data!AP25&\",\"&COUNTIF($F$2:$J24,I24)","v":{"$error":"#REF!"}},{"$f":"data!AV25&\",\"&COUNTIF($F$2:$J24,J24)","v":{"$error":"#REF!"}}]
[{"$f":"#REF!&\",\"&#REF!&\",\"&data!X26","v":{"$error":"#REF!"}},{"$f":"#REF!&\",\"&#REF!&\",\"&data!AD26","v":{"$error":"#REF!"}},{"$f":"#REF!&\",\"&#REF!&\",\"&data!AJ26","v":{"$error":"#REF!"}},{"$f":"#REF!&\",\"&#REF!&\",\"&data!AP26","v":{"$error":"#REF!"}},{"$f":"#REF!&\",\"&#REF!&\",\"&data!AV26","v":{"$error":"#REF!"}},{"$f":"data!X26&\",\"&#REF!","v":{"$error":"#REF!"}},{"$f":"data!AD26&\",\"&#REF!","v":{"$error":"#REF!"}},{"$f":"data!AJ26&\",\"&#REF!","v":{"$error":"#REF!"}},{"$f":"data!AP26&\",\"&#REF!","v":{"$error":"#REF!"}},{"$f":"data!AV26&\",\"&#REF!","v":{"$error":"#REF!"}},{"$f":"data!X26&\",\"&COUNTIF($F$2:$J25,F25)","v":{"$error":"#REF!"}},{"$f":"data!AD26&\",\"&COUNTIF($F$2:$J25,G25)","v":{"$error":"#REF!"}},{"$f":"data!AJ26&\",\"&COUNTIF($F$2:$J25,H25)","v":{"$error":"#REF!"}},{"$f":"data!AP26&\",\"&COUNTIF($F$2:$J25,I25)","v":{"$error":"#REF!"}},{"$f":"data!AV26&\",\"&COUNTIF($F$2:$J25,J25)","v":{"$error":"#REF!"}}]
[{"$f":"#REF!&\",\"&#REF!&\",\"&data!X27","v":{"$error":"#REF!"}},{"$f":"#REF!&\",\"&#REF!&\",\"&data!AD27","v":{"$error":"#REF!"}},{"$f":"#REF!&\",\"&#REF!&\",\"&data!AJ27","v":{"$error":"#REF!"}},{"$f":"#REF!&\",\"&#REF!&\",\"&data!AP27","v":{"$error":"#REF!"}},{"$f":"#REF!&\",\"&#REF!&\",\"&data!AV27","v":{"$error":"#REF!"}},{"$f":"data!X27&\",\"&#REF!","v":{"$error":"#REF!"}},{"$f":"data!AD27&\",\"&#REF!","v":{"$error":"#REF!"}},{"$f":"data!AJ27&\",\"&#REF!","v":{"$error":"#REF!"}},{"$f":"data!AP27&\",\"&#REF!","v":{"$error":"#REF!"}},{"$f":"data!AV27&\",\"&#REF!","v":{"$error":"#REF!"}},{"$f":"data!X27&\",\"&COUNTIF($F$2:$J26,F26)","v":{"$error":"#REF!"}},{"$f":"data!AD27&\",\"&COUNTIF($F$2:$J26,G26)","v":{"$error":"#REF!"}},{"$f":"data!AJ27&\",\"&COUNTIF($F$2:$J26,H26)","v":{"$error":"#REF!"}},{"$f":"data!AP27&\",\"&COUNTIF($F$2:$J26,I26)","v":{"$error":"#REF!"}},{"$f":"data!AV27&\",\"&COUNTIF($F$2:$J26,J26)","v":{"$error":"#REF!"}}]
[{"$f":"#REF!&\",\"&#REF!&\",\"&data!X28","v":{"$error":"#REF!"}},{"$f":"#REF!&\",\"&#REF!&\",\"&data!AD28","v":{"$error":"#REF!"}},{"$f":"#REF!&\",\"&#REF!&\",\"&data!AJ28","v":{"$error":"#REF!"}},{"$f":"#REF!&\",\"&#REF!&\",\"&data!AP28","v":{"$error":"#REF!"}},{"$f":"#REF!&\",\"&#REF!&\",\"&data!AV28","v":{"$error":"#REF!"}},{"$f":"data!X28&\",\"&#REF!","v":{"$error":"#REF!"}},{"$f":"data!AD28&\",\"&#REF!","v":{"$error":"#REF!"}},{"$f":"data!AJ28&\",\"&#REF!","v":{"$error":"#REF!"}},{"$f":"data!AP28&\",\"&#REF!","v":{"$error":"#REF!"}},{"$f":"data!AV28&\",\"&#REF!","v":{"$error":"#REF!"}},{"$f":"data!X28&\",\"&COUNTIF($F$2:$J27,F27)","v":{"$error":"#REF!"}},{"$f":"data!AD28&\",\"&COUNTIF($F$2:$J27,G27)","v":{"$error":"#REF!"}},{"$f":"data!AJ28&\",\"&COUNTIF($F$2:$J27,H27)","v":{"$error":"#REF!"}},{"$f":"data!AP28&\",\"&COUNTIF($F$2:$J27,I27)","v":{"$error":"#REF!"}},{"$f":"data!AV28&\",\"&COUNTIF($F$2:$J27,J27)","v":{"$error":"#REF!"}}]
[{"$f":"#REF!&\",\"&#REF!&\",\"&data!X29","v":{"$error":"#REF!"}},{"$f":"#REF!&\",\"&#REF!&\",\"&data!AD29","v":{"$error":"#REF!"}},{"$f":"#REF!&\",\"&#REF!&\",\"&data!AJ29","v":{"$error":"#REF!"}},{"$f":"#REF!&\",\"&#REF!&\",\"&data!AP29","v":{"$error":"#REF!"}},{"$f":"#REF!&\",\"&#REF!&\",\"&data!AV29","v":{"$error":"#REF!"}},{"$f":"data!X29&\",\"&#REF!","v":{"$error":"#REF!"}},{"$f":"data!AD29&\",\"&#REF!","v":{"$error":"#REF!"}},{"$f":"data!AJ29&\",\"&#REF!","v":{"$error":"#REF!"}},{"$f":"data!AP29&\",\"&#REF!","v":{"$error":"#REF!"}},{"$f":"data!AV29&\",\"&#REF!","v":{"$error":"#REF!"}},{"$f":"data!X29&\",\"&COUNTIF($F$2:$J28,F28)","v":{"$error":"#REF!"}},{"$f":"data!AD29&\",\"&COUNTIF($F$2:$J28,G28)","v":{"$error":"#REF!"}},{"$f":"data!AJ29&\",\"&COUNTIF($F$2:$J28,H28)","v":{"$error":"#REF!"}},{"$f":"data!AP29&\",\"&COUNTIF($F$2:$J28,I28)","v":{"$error":"#REF!"}},{"$f":"data!AV29&\",\"&COUNTIF($F$2:$J28,J28)","v":{"$error":"#REF!"}}]
[{"$f":"#REF!&\",\"&#REF!&\",\"&data!X30","v":{"$error":"#REF!"}},{"$f":"#REF!&\",\"&#REF!&\",\"&data!AD30","v":{"$error":"#REF!"}},{"$f":"#REF!&\",\"&#REF!&\",\"&data!AJ30","v":{"$error":"#REF!"}},{"$f":"#REF!&\",\"&#REF!&\",\"&data!AP30","v":{"$error":"#REF!"}},{"$f":"#REF!&\",\"&#REF!&\",\"&data!AV30","v":{"$error":"#REF!"}},{"$f":"data!X30&\",\"&#REF!","v":{"$error":"#REF!"}},{"$f":"data!AD30&\",\"&#REF!","v":{"$error":"#REF!"}},{"$f":"data!AJ30&\",\"&#REF!","v":{"$error":"#REF!"}},{"$f":"data!AP30&\",\"&#REF!","v":{"$error":"#REF!"}},{"$f":"data!AV30&\",\"&#REF!","v":{"$error":"#REF!"}},{"$f":"data!X30&\",\"&COUNTIF($F$2:$J29,F29)","v":{"$error":"#REF!"}},{"$f":"data!AD30&\",\"&COUNTIF($F$2:$J29,G29)","v":{"$error":"#REF!"}},{"$f":"data!AJ30&\",\"&COUNTIF($F$2:$J29,H29)","v":{"$error":"#REF!"}},{"$f":"data!AP30&\",\"&COUNTIF($F$2:$J29,I29)","v":{"$error":"#REF!"}},{"$f":"data!AV30&\",\"&COUNTIF($F$2:$J29,J29)","v":{"$error":"#REF!"}}]
[{"$f":"#REF!&\",\"&#REF!&\",\"&data!X31","v":{"$error":"#REF!"}},{"$f":"#REF!&\",\"&#REF!&\",\"&data!AD31","v":{"$error":"#REF!"}},{"$f":"#REF!&\",\"&#REF!&\",\"&data!AJ31","v":{"$error":"#REF!"}},{"$f":"#REF!&\",\"&#REF!&\",\"&data!AP31","v":{"$error":"#REF!"}},{"$f":"#REF!&\",\"&#REF!&\",\"&data!AV31","v":{"$error":"#REF!"}},{"$f":"data!X31&\",\"&#REF!","v":{"$error":"#REF!"}},{"$f":"data!AD31&\",\"&#REF!","v":{"$error":"#REF!"}},{"$f":"data!AJ31&\",\"&#REF!","v":{"$error":"#REF!"}},{"$f":"data!AP31&\",\"&#REF!","v":{"$error":"#REF!"}},{"$f":"data!AV31&\",\"&#REF!","v":{"$error":"#REF!"}},{"$f":"data!X31&\",\"&COUNTIF($F$2:$J30,F30)","v":{"$error":"#REF!"}},{"$f":"data!AD31&\",\"&COUNTIF($F$2:$J30,G30)","v":{"$error":"#REF!"}},{"$f":"data!AJ31&\",\"&COUNTIF($F$2:$J30,H30)","v":{"$error":"#REF!"}},{"$f":"data!AP31&\",\"&COUNTIF($F$2:$J30,I30)","v":{"$error":"#REF!"}},{"$f":"data!AV31&\",\"&COUNTIF($F$2:$J30,J30)","v":{"$error":"#REF!"}}]
[{"$f":"#REF!&\",\"&#REF!&\",\"&data!X32","v":{"$error":"#REF!"}},{"$f":"#REF!&\",\"&#REF!&\",\"&data!AD32","v":{"$error":"#REF!"}},{"$f":"#REF!&\",\"&#REF!&\",\"&data!AJ32","v":{"$error":"#REF!"}},{"$f":"#REF!&\",\"&#REF!&\",\"&data!AP32","v":{"$error":"#REF!"}},{"$f":"#REF!&\",\"&#REF!&\",\"&data!AV32","v":{"$error":"#REF!"}},{"$f":"data!X32&\",\"&#REF!","v":{"$error":"#REF!"}},{"$f":"data!AD32&\",\"&#REF!","v":{"$error":"#REF!"}},{"$f":"data!AJ32&\",\"&#REF!","v":{"$error":"#REF!"}},{"$f":"data!AP32&\",\"&#REF!","v":{"$error":"#REF!"}},{"$f":"data!AV32&\",\"&#REF!","v":{"$error":"#REF!"}},{"$f":"data!X32&\",\"&COUNTIF($F$2:$J31,F31)","v":{"$error":"#REF!"}},{"$f":"data!AD32&\",\"&COUNTIF($F$2:$J31,G31)","v":{"$error":"#REF!"}},{"$f":"data!AJ32&\",\"&COUNTIF($F$2:$J31,H31)","v":{"$error":"#REF!"}},{"$f":"data!AP32&\",\"&COUNTIF($F$2:$J31,I31)","v":{"$error":"#REF!"}},{"$f":"data!AV32&\",\"&COUNTIF($F$2:$J31,J31)","v":{"$error":"#REF!"}}]
[{"$f":"#REF!&\",\"&#REF!&\",\"&data!X33","v":{"$error":"#REF!"}},{"$f":"#REF!&\",\"&#REF!&\",\"&data!AD33","v":{"$error":"#REF!"}},{"$f":"#REF!&\",\"&#REF!&\",\"&data!AJ33","v":{"$error":"#REF!"}},{"$f":"#REF!&\",\"&#REF!&\",\"&data!AP33","v":{"$error":"#REF!"}},{"$f":"#REF!&\",\"&#REF!&\",\"&data!AV33","v":{"$error":"#REF!"}},{"$f":"data!X33&\",\"&#REF!","v":{"$error":"#REF!"}},{"$f":"data!AD33&\",\"&#REF!","v":{"$error":"#REF!"}},{"$f":"data!AJ33&\",\"&#REF!","v":{"$error":"#REF!"}},{"$f":"data!AP33&\",\"&#REF!","v":{"$error":"#REF!"}},{"$f":"data!AV33&\",\"&#REF!","v":{"$error":"#REF!"}},{"$f":"data!X33&\",\"&COUNTIF($F$2:$J32,F32)","v":{"$error":"#REF!"}},{"$f":"data!AD33&\",\"&COUNTIF($F$2:$J32,G32)","v":{"$error":"#REF!"}},{"$f":"data!AJ33&\",\"&COUNTIF($F$2:$J32,H32)","v":{"$error":"#REF!"}},{"$f":"data!AP33&\",\"&COUNTIF($F$2:$J32,I32)","v":{"$error":"#REF!"}},{"$f":"data!AV33&\",\"&COUNTIF($F$2:$J32,J32)","v":{"$error":"#REF!"}}]
[{"$f":"#REF!&\",\"&#REF!&\",\"&data!X34","v":{"$error":"#REF!"}},{"$f":"#REF!&\",\"&#REF!&\",\"&data!AD34","v":{"$error":"#REF!"}},{"$f":"#REF!&\",\"&#REF!&\",\"&data!AJ34","v":{"$error":"#REF!"}},{"$f":"#REF!&\",\"&#REF!&\",\"&data!AP34","v":{"$error":"#REF!"}},{"$f":"#REF!&\",\"&#REF!&\",\"&data!AV34","v":{"$error":"#REF!"}},{"$f":"data!X34&\",\"&#REF!","v":{"$error":"#REF!"}},{"$f":"data!AD34&\",\"&#REF!","v":{"$error":"#REF!"}},{"$f":"data!AJ34&\",\"&#REF!","v":{"$error":"#REF!"}},{"$f":"data!AP34&\",\"&#REF!","v":{"$error":"#REF!"}},{"$f":"data!AV34&\",\"&#REF!","v":{"$error":"#REF!"}},{"$f":"data!X34&\",\"&COUNTIF($F$2:$J33,F33)","v":{"$error":"#REF!"}},{"$f":"data!AD34&\",\"&COUNTIF($F$2:$J33,G33)","v":{"$error":"#REF!"}},{"$f":"data!AJ34&\",\"&COUNTIF($F$2:$J33,H33)","v":{"$error":"#REF!"}},{"$f":"data!AP34&\",\"&COUNTIF($F$2:$J33,I33)","v":{"$error":"#REF!"}},{"$f":"data!AV34&\",\"&COUNTIF($F$2:$J33,J33)","v":{"$error":"#REF!"}}]
[{"$f":"#REF!&\",\"&#REF!&\",\"&data!X35","v":{"$error":"#REF!"}},{"$f":"#REF!&\",\"&#REF!&\",\"&data!AD35","v":{"$error":"#REF!"}},{"$f":"#REF!&\",\"&#REF!&\",\"&data!AJ35","v":{"$error":"#REF!"}},{"$f":"#REF!&\",\"&#REF!&\",\"&data!AP35","v":{"$error":"#REF!"}},{"$f":"#REF!&\",\"&#REF!&\",\"&data!AV35","v":{"$error":"#REF!"}},{"$f":"data!X35&\",\"&#REF!","v":{"$error":"#REF!"}},{"$f":"data!AD35&\",\"&#REF!","v":{"$error":"#REF!"}},{"$f":"data!AJ35&\",\"&#REF!","v":{"$error":"#REF!"}},{"$f":"data!AP35&\",\"&#REF!","v":{"$error":"#REF!"}},{"$f":"data!AV35&\",\"&#REF!","v":{"$error":"#REF!"}},{"$f":"data!X35&\",\"&COUNTIF($F$2:$J34,F34)","v":{"$error":"#REF!"}},{"$f":"data!AD35&\",\"&COUNTIF($F$2:$J34,G34)","v":{"$error":"#REF!"}},{"$f":"data!AJ35&\",\"&COUNTIF($F$2:$J34,H34)","v":{"$error":"#REF!"}},{"$f":"data!AP35&\",\"&COUNTIF($F$2:$J34,I34)","v":{"$error":"#REF!"}},{"$f":"data!AV35&\",\"&COUNTIF($F$2:$J34,J34)","v":{"$error":"#REF!"}}]
[{"$f":"#REF!&\",\"&#REF!&\",\"&data!X36","v":{"$error":"#REF!"}},{"$f":"#REF!&\",\"&#REF!&\",\"&data!AD36","v":{"$error":"#REF!"}},{"$f":"#REF!&\",\"&#REF!&\",\"&data!AJ36","v":{"$error":"#REF!"}},{"$f":"#REF!&\",\"&#REF!&\",\"&data!AP36","v":{"$error":"#REF!"}},{"$f":"#REF!&\",\"&#REF!&\",\"&data!AV36","v":{"$error":"#REF!"}},{"$f":"data!X36&\",\"&#REF!","v":{"$error":"#REF!"}},{"$f":"data!AD36&\",\"&#REF!","v":{"$error":"#REF!"}},{"$f":"data!AJ36&\",\"&#REF!","v":{"$error":"#REF!"}},{"$f":"data!AP36&\",\"&#REF!","v":{"$error":"#REF!"}},{"$f":"data!AV36&\",\"&#REF!","v":{"$error":"#REF!"}},{"$f":"data!X36&\",\"&COUNTIF($F$2:$J35,F35)","v":{"$error":"#REF!"}},{"$f":"data!AD36&\",\"&COUNTIF($F$2:$J35,G35)","v":{"$error":"#REF!"}},{"$f":"data!AJ36&\",\"&COUNTIF($F$2:$J35,H35)","v":{"$error":"#REF!"}},{"$f":"data!AP36&\",\"&COUNTIF($F$2:$J35,I35)","v":{"$error":"#REF!"}},{"$f":"data!AV36&\",\"&COUNTIF($F$2:$J35,J35)","v":{"$error":"#REF!"}}]
[{"$f":"#REF!&\",\"&#REF!&\",\"&data!X37","v":{"$error":"#REF!"}},{"$f":"#REF!&\",\"&#REF!&\",\"&data!AD37","v":{"$error":"#REF!"}},{"$f":"#REF!&\",\"&#REF!&\",\"&data!AJ37","v":{"$error":"#REF!"}},{"$f":"#REF!&\",\"&#REF!&\",\"&data!AP37","v":{"$error":"#REF!"}},{"$f":"#REF!&\",\"&#REF!&\",\"&data!AV37","v":{"$error":"#REF!"}},{"$f":"data!X37&\",\"&#REF!","v":{"$error":"#REF!"}},{"$f":"data!AD37&\",\"&#REF!","v":{"$error":"#REF!"}},{"$f":"data!AJ37&\",\"&#REF!","v":{"$error":"#REF!"}},{"$f":"data!AP37&\",\"&#REF!","v":{"$error":"#REF!"}},{"$f":"data!AV37&\",\"&#REF!","v":{"$error":"#REF!"}},{"$f":"data!X37&\",\"&COUNTIF($F$2:$J36,F36)","v":{"$error":"#REF!"}},{"$f":"data!AD37&\",\"&COUNTIF($F$2:$J36,G36)","v":{"$error":"#REF!"}},{"$f":"data!AJ37&\",\"&COUNTIF($F$2:$J36,H36)","v":{"$error":"#REF!"}},{"$f":"data!AP37&\",\"&COUNTIF($F$2:$J36,I36)","v":{"$error":"#REF!"}},{"$f":"data!AV37&\",\"&COUNTIF($F$2:$J36,J36)","v":{"$error":"#REF!"}}]
[{"$f":"#REF!&\",\"&#REF!&\",\"&data!X38","v":{"$error":"#REF!"}},{"$f":"#REF!&\",\"&#REF!&\",\"&data!AD38","v":{"$error":"#REF!"}},{"$f":"#REF!&\",\"&#REF!&\",\"&data!AJ38","v":{"$error":"#REF!"}},{"$f":"#REF!&\",\"&#REF!&\",\"&data!AP38","v":{"$error":"#REF!"}},{"$f":"#REF!&\",\"&#REF!&\",\"&data!AV38","v":{"$error":"#REF!"}},{"$f":"data!X38&\",\"&#REF!","v":{"$error":"#REF!"}},{"$f":"data!AD38&\",\"&#REF!","v":{"$error":"#REF!"}},{"$f":"data!AJ38&\",\"&#REF!","v":{"$error":"#REF!"}},{"$f":"data!AP38&\",\"&#REF!","v":{"$error":"#REF!"}},{"$f":"data!AV38&\",\"&#REF!","v":{"$error":"#REF!"}},{"$f":"data!X38&\",\"&COUNTIF($F$2:$J37,F37)","v":{"$error":"#REF!"}},{"$f":"data!AD38&\",\"&COUNTIF($F$2:$J37,G37)","v":{"$error":"#REF!"}},{"$f":"data!AJ38&\",\"&COUNTIF($F$2:$J37,H37)","v":{"$error":"#REF!"}},{"$f":"data!AP38&\",\"&COUNTIF($F$2:$J37,I37)","v":{"$error":"#REF!"}},{"$f":"data!AV38&\",\"&COUNTIF($F$2:$J37,J37)","v":{"$error":"#REF!"}}]
[{"$f":"#REF!&\",\"&#REF!&\",\"&data!X39","v":{"$error":"#REF!"}},{"$f":"#REF!&\",\"&#REF!&\",\"&data!AD39","v":{"$error":"#REF!"}},{"$f":"#REF!&\",\"&#REF!&\",\"&data!AJ39","v":{"$error":"#REF!"}},{"$f":"#REF!&\",\"&#REF!&\",\"&data!AP39","v":{"$error":"#REF!"}},{"$f":"#REF!&\",\"&#REF!&\",\"&data!AV39","v":{"$error":"#REF!"}},{"$f":"data!X39&\",\"&#REF!","v":{"$error":"#REF!"}},{"$f":"data!AD39&\",\"&#REF!","v":{"$error":"#REF!"}},{"$f":"data!AJ39&\",\"&#REF!","v":{"$error":"#REF!"}},{"$f":"data!AP39&\",\"&#REF!","v":{"$error":"#REF!"}},{"$f":"data!AV39&\",\"&#REF!","v":{"$error":"#REF!"}},{"$f":"data!X39&\",\"&COUNTIF($F$2:$J38,F38)","v":{"$error":"#REF!"}},{"$f":"data!AD39&\",\"&COUNTIF($F$2:$J38,G38)","v":{"$error":"#REF!"}},{"$f":"data!AJ39&\",\"&COUNTIF($F$2:$J38,H38)","v":{"$error":"#REF!"}},{"$f":"data!AP39&\",\"&COUNTIF($F$2:$J38,I38)","v":{"$error":"#REF!"}},{"$f":"data!AV39&\",\"&COUNTIF($F$2:$J38,J38)","v":{"$error":"#REF!"}}]
[{"$f":"#REF!&\",\"&#REF!&\",\"&data!X40","v":{"$error":"#REF!"}},{"$f":"#REF!&\",\"&#REF!&\",\"&data!AD40","v":{"$error":"#REF!"}},{"$f":"#REF!&\",\"&#REF!&\",\"&data!AJ40","v":{"$error":"#REF!"}},{"$f":"#REF!&\",\"&#REF!&\",\"&data!AP40","v":{"$error":"#REF!"}},{"$f":"#REF!&\",\"&#REF!&\",\"&data!AV40","v":{"$error":"#REF!"}},{"$f":"data!X40&\",\"&#REF!","v":{"$error":"#REF!"}},{"$f":"data!AD40&\",\"&#REF!","v":{"$error":"#REF!"}},{"$f":"data!AJ40&\",\"&#REF!","v":{"$error":"#REF!"}},{"$f":"data!AP40&\",\"&#REF!","v":{"$error":"#REF!"}},{"$f":"data!AV40&\",\"&#REF!","v":{"$error":"#REF!"}},{"$f":"data!X40&\",\"&COUNTIF($F$2:$J39,F39)","v":{"$error":"#REF!"}},{"$f":"data!AD40&\",\"&COUNTIF($F$2:$J39,G39)","v":{"$error":"#REF!"}},{"$f":"data!AJ40&\",\"&COUNTIF($F$2:$J39,H39)","v":{"$error":"#REF!"}},{"$f":"data!AP40&\",\"&COUNTIF($F$2:$J39,I39)","v":{"$error":"#REF!"}},{"$f":"data!AV40&\",\"&COUNTIF($F$2:$J39,J39)","v":{"$error":"#REF!"}}]
[{"$f":"#REF!&\",\"&#REF!&\",\"&data!X41","v":{"$error":"#REF!"}},{"$f":"#REF!&\",\"&#REF!&\",\"&data!AD41","v":{"$error":"#REF!"}},{"$f":"#REF!&\",\"&#REF!&\",\"&data!AJ41","v":{"$error":"#REF!"}},{"$f":"#REF!&\",\"&#REF!&\",\"&data!AP41","v":{"$error":"#REF!"}},{"$f":"#REF!&\",\"&#REF!&\",\"&data!AV41","v":{"$error":"#REF!"}},{"$f":"data!X41&\",\"&#REF!","v":{"$error":"#REF!"}},{"$f":"data!AD41&\",\"&#REF!","v":{"$error":"#REF!"}},{"$f":"data!AJ41&\",\"&#REF!","v":{"$error":"#REF!"}},{"$f":"data!AP41&\",\"&#REF!","v":{"$error":"#REF!"}},{"$f":"data!AV41&\",\"&#REF!","v":{"$error":"#REF!"}},{"$f":"data!X41&\",\"&COUNTIF($F$2:$J40,F40)","v":{"$error":"#REF!"}},{"$f":"data!AD41&\",\"&COUNTIF($F$2:$J40,G40)","v":{"$error":"#REF!"}},{"$f":"data!AJ41&\",\"&COUNTIF($F$2:$J40,H40)","v":{"$error":"#REF!"}},{"$f":"data!AP41&\",\"&COUNTIF($F$2:$J40,I40)","v":{"$error":"#REF!"}},{"$f":"data!AV41&\",\"&COUNTIF($F$2:$J40,J40)","v":{"$error":"#REF!"}}]
[{"$f":"#REF!&\",\"&#REF!&\",\"&data!X42","v":{"$error":"#REF!"}},{"$f":"#REF!&\",\"&#REF!&\",\"&data!AD42","v":{"$error":"#REF!"}},{"$f":"#REF!&\",\"&#REF!&\",\"&data!AJ42","v":{"$error":"#REF!"}},{"$f":"#REF!&\",\"&#REF!&\",\"&data!AP42","v":{"$error":"#REF!"}},{"$f":"#REF!&\",\"&#REF!&\",\"&data!AV42","v":{"$error":"#REF!"}},{"$f":"data!X42&\",\"&#REF!","v":{"$error":"#REF!"}},{"$f":"data!AD42&\",\"&#REF!","v":{"$error":"#REF!"}},{"$f":"data!AJ42&\",\"&#REF!","v":{"$error":"#REF!"}},{"$f":"data!AP42&\",\"&#REF!","v":{"$error":"#REF!"}},{"$f":"data!AV42&\",\"&#REF!","v":{"$error":"#REF!"}},{"$f":"data!X42&\",\"&COUNTIF($F$2:$J41,F41)","v":{"$error":"#REF!"}},{"$f":"data!AD42&\",\"&COUNTIF($F$2:$J41,G41)","v":{"$error":"#REF!"}},{"$f":"data!AJ42&\",\"&COUNTIF($F$2:$J41,H41)","v":{"$error":"#REF!"}},{"$f":"data!AP42&\",\"&COUNTIF($F$2:$J41,I41)","v":{"$error":"#REF!"}},{"$f":"data!AV42&\",\"&COUNTIF($F$2:$J41,J41)","v":{"$error":"#REF!"}}]
[{"$f":"#REF!&\",\"&#REF!&\",\"&data!X43","v":{"$error":"#REF!"}},{"$f":"#REF!&\",\"&#REF!&\",\"&data!AD43","v":{"$error":"#REF!"}},{"$f":"#REF!&\",\"&#REF!&\",\"&data!AJ43","v":{"$error":"#REF!"}},{"$f":"#REF!&\",\"&#REF!&\",\"&data!AP43","v":{"$error":"#REF!"}},{"$f":"#REF!&\",\"&#REF!&\",\"&data!AV43","v":{"$error":"#REF!"}},{"$f":"data!X43&\",\"&#REF!","v":{"$error":"#REF!"}},{"$f":"data!AD43&\",\"&#REF!","v":{"$error":"#REF!"}},{"$f":"data!AJ43&\",\"&#REF!","v":{"$error":"#REF!"}},{"$f":"data!AP43&\",\"&#REF!","v":{"$error":"#REF!"}},{"$f":"data!AV43&\",\"&#REF!","v":{"$error":"#REF!"}},{"$f":"data!X43&\",\"&COUNTIF($F$2:$J42,F42)","v":{"$error":"#REF!"}},{"$f":"data!AD43&\",\"&COUNTIF($F$2:$J42,G42)","v":{"$error":"#REF!"}},{"$f":"data!AJ43&\",\"&COUNTIF($F$2:$J42,H42)","v":{"$error":"#REF!"}},{"$f":"data!AP43&\",\"&COUNTIF($F$2:$J42,I42)","v":{"$error":"#REF!"}},{"$f":"data!AV43&\",\"&COUNTIF($F$2:$J42,J42)","v":{"$error":"#REF!"}}]
[{"$f":"#REF!&\",\"&#REF!&\",\"&data!X44","v":{"$error":"#REF!"}},{"$f":"#REF!&\",\"&#REF!&\",\"&data!AD44","v":{"$error":"#REF!"}},{"$f":"#REF!&\",\"&#REF!&\",\"&data!AJ44","v":{"$error":"#REF!"}},{"$f":"#REF!&\",\"&#REF!&\",\"&data!AP44","v":{"$error":"#REF!"}},{"$f":"#REF!&\",\"&#REF!&\",\"&data!AV44","v":{"$error":"#REF!"}},{"$f":"data!X44&\",\"&#REF!","v":{"$error":"#REF!"}},{"$f":"data!AD44&\",\"&#REF!","v":{"$error":"#REF!"}},{"$f":"data!AJ44&\",\"&#REF!","v":{"$error":"#REF!"}},{"$f":"data!AP44&\",\"&#REF!","v":{"$error":"#REF!"}},{"$f":"data!AV44&\",\"&#REF!","v":{"$error":"#REF!"}},{"$f":"data!X44&\",\"&COUNTIF($F$2:$J43,F43)","v":{"$error":"#REF!"}},{"$f":"data!AD44&\",\"&COUNTIF($F$2:$J43,G43)","v":{"$error":"#REF!"}},{"$f":"data!AJ44&\",\"&COUNTIF($F$2:$J43,H43)","v":{"$error":"#REF!"}},{"$f":"data!AP44&\",\"&COUNTIF($F$2:$J43,I43)","v":{"$error":"#REF!"}},{"$f":"data!AV44&\",\"&COUNTIF($F$2:$J43,J43)","v":{"$error":"#REF!"}}]
[{"$f":"#REF!&\",\"&#REF!&\",\"&data!X45","v":{"$error":"#REF!"}},{"$f":"#REF!&\",\"&#REF!&\",\"&data!AD45","v":{"$error":"#REF!"}},{"$f":"#REF!&\",\"&#REF!&\",\"&data!AJ45","v":{"$error":"#REF!"}},{"$f":"#REF!&\",\"&#REF!&\",\"&data!AP45","v":{"$error":"#REF!"}},{"$f":"#REF!&\",\"&#REF!&\",\"&data!AV45","v":{"$error":"#REF!"}},{"$f":"data!X45&\",\"&#REF!","v":{"$error":"#REF!"}},{"$f":"data!AD45&\",\"&#REF!","v":{"$error":"#REF!"}},{"$f":"data!AJ45&\",\"&#REF!","v":{"$error":"#REF!"}},{"$f":"data!AP45&\",\"&#REF!","v":{"$error":"#REF!"}},{"$f":"data!AV45&\",\"&#REF!","v":{"$error":"#REF!"}},{"$f":"data!X45&\",\"&COUNTIF($F$2:$J44,F44)","v":{"$error":"#REF!"}},{"$f":"data!AD45&\",\"&COUNTIF($F$2:$J44,G44)","v":{"$error":"#REF!"}},{"$f":"data!AJ45&\",\"&COUNTIF($F$2:$J44,H44)","v":{"$error":"#REF!"}},{"$f":"data!AP45&\",\"&COUNTIF($F$2:$J44,I44)","v":{"$error":"#REF!"}},{"$f":"data!AV45&\",\"&COUNTIF($F$2:$J44,J44)","v":{"$error":"#REF!"}}]
[{"$f":"#REF!&\",\"&#REF!&\",\"&data!X46","v":{"$error":"#REF!"}},{"$f":"#REF!&\",\"&#REF!&\",\"&data!AD46","v":{"$error":"#REF!"}},{"$f":"#REF!&\",\"&#REF!&\",\"&data!AJ46","v":{"$error":"#REF!"}},{"$f":"#REF!&\",\"&#REF!&\",\"&data!AP46","v":{"$error":"#REF!"}},{"$f":"#REF!&\",\"&#REF!&\",\"&data!AV46","v":{"$error":"#REF!"}},{"$f":"data!X46&\",\"&#REF!","v":{"$error":"#REF!"}},{"$f":"data!AD46&\",\"&#REF!","v":{"$error":"#REF!"}},{"$f":"data!AJ46&\",\"&#REF!","v":{"$error":"#REF!"}},{"$f":"data!AP46&\",\"&#REF!","v":{"$error":"#REF!"}},{"$f":"data!AV46&\",\"&#REF!","v":{"$error":"#REF!"}},{"$f":"data!X46&\",\"&COUNTIF($F$2:$J45,F45)","v":{"$error":"#REF!"}},{"$f":"data!AD46&\",\"&COUNTIF($F$2:$J45,G45)","v":{"$error":"#REF!"}},{"$f":"data!AJ46&\",\"&COUNTIF($F$2:$J45,H45)","v":{"$error":"#REF!"}},{"$f":"data!AP46&\",\"&COUNTIF($F$2:$J45,I45)","v":{"$error":"#REF!"}},{"$f":"data!AV46&\",\"&COUNTIF($F$2:$J45,J45)","v":{"$error":"#REF!"}}]
[{"$f":"#REF!&\",\"&#REF!&\",\"&data!X47","v":{"$error":"#REF!"}},{"$f":"#REF!&\",\"&#REF!&\",\"&data!AD47","v":{"$error":"#REF!"}},{"$f":"#REF!&\",\"&#REF!&\",\"&data!AJ47","v":{"$error":"#REF!"}},{"$f":"#REF!&\",\"&#REF!&\",\"&data!AP47","v":{"$error":"#REF!"}},{"$f":"#REF!&\",\"&#REF!&\",\"&data!AV47","v":{"$error":"#REF!"}},{"$f":"data!X47&\",\"&#REF!","v":{"$error":"#REF!"}},{"$f":"data!AD47&\",\"&#REF!","v":{"$error":"#REF!"}},{"$f":"data!AJ47&\",\"&#REF!","v":{"$error":"#REF!"}},{"$f":"data!AP47&\",\"&#REF!","v":{"$error":"#REF!"}},{"$f":"data!AV47&\",\"&#REF!","v":{"$error":"#REF!"}},{"$f":"data!X47&\",\"&COUNTIF($F$2:$J46,F46)","v":{"$error":"#REF!"}},{"$f":"data!AD47&\",\"&COUNTIF($F$2:$J46,G46)","v":{"$error":"#REF!"}},{"$f":"data!AJ47&\",\"&COUNTIF($F$2:$J46,H46)","v":{"$error":"#REF!"}},{"$f":"data!AP47&\",\"&COUNTIF($F$2:$J46,I46)","v":{"$error":"#REF!"}},{"$f":"data!AV47&\",\"&COUNTIF($F$2:$J46,J46)","v":{"$error":"#REF!"}}]
[{"$f":"#REF!&\",\"&#REF!&\",\"&data!X48","v":{"$error":"#REF!"}},{"$f":"#REF!&\",\"&#REF!&\",\"&data!AD48","v":{"$error":"#REF!"}},{"$f":"#REF!&\",\"&#REF!&\",\"&data!AJ48","v":{"$error":"#REF!"}},{"$f":"#REF!&\",\"&#REF!&\",\"&data!AP48","v":{"$error":"#REF!"}},{"$f":"#REF!&\",\"&#REF!&\",\"&data!AV48","v":{"$error":"#REF!"}},{"$f":"data!X48&\",\"&#REF!","v":{"$error":"#REF!"}},{"$f":"data!AD48&\",\"&#REF!","v":{"$error":"#REF!"}},{"$f":"data!AJ48&\",\"&#REF!","v":{"$error":"#REF!"}},{"$f":"data!AP48&\",\"&#REF!","v":{"$error":"#REF!"}},{"$f":"data!AV48&\",\"&#REF!","v":{"$error":"#REF!"}},{"$f":"data!X48&\",\"&COUNTIF($F$2:$J47,F47)","v":{"$error":"#REF!"}},{"$f":"data!AD48&\",\"&COUNTIF($F$2:$J47,G47)","v":{"$error":"#REF!"}},{"$f":"data!AJ48&\",\"&COUNTIF($F$2:$J47,H47)","v":{"$error":"#REF!"}},{"$f":"data!AP48&\",\"&COUNTIF($F$2:$J47,I47)","v":{"$error":"#REF!"}},{"$f":"data!AV48&\",\"&COUNTIF($F$2:$J47,J47)","v":{"$error":"#REF!"}}]
[{"$f":"#REF!&\",\"&#REF!&\",\"&data!X49","v":{"$error":"#REF!"}},{"$f":"#REF!&\",\"&#REF!&\",\"&data!AD49","v":{"$error":"#REF!"}},{"$f":"#REF!&\",\"&#REF!&\",\"&data!AJ49","v":{"$error":"#REF!"}},{"$f":"#REF!&\",\"&#REF!&\",\"&data!AP49","v":{"$error":"#REF!"}},{"$f":"#REF!&\",\"&#REF!&\",\"&data!AV49","v":{"$error":"#REF!"}},{"$f":"data!X49&\",\"&#REF!","v":{"$error":"#REF!"}},{"$f":"data!AD49&\",\"&#REF!","v":{"$error":"#REF!"}},{"$f":"data!AJ49&\",\"&#REF!","v":{"$error":"#REF!"}},{"$f":"data!AP49&\",\"&#REF!","v":{"$error":"#REF!"}},{"$f":"data!AV49&\",\"&#REF!","v":{"$error":"#REF!"}},{"$f":"data!X49&\",\"&COUNTIF($F$2:$J48,F48)","v":{"$error":"#REF!"}},{"$f":"data!AD49&\",\"&COUNTIF($F$2:$J48,G48)","v":{"$error":"#REF!"}},{"$f":"data!AJ49&\",\"&COUNTIF($F$2:$J48,H48)","v":{"$error":"#REF!"}},{"$f":"data!AP49&\",\"&COUNTIF($F$2:$J48,I48)","v":{"$error":"#REF!"}},{"$f":"data!AV49&\",\"&COUNTIF($F$2:$J48,J48)","v":{"$error":"#REF!"}}]
[{"$f":"#REF!&\",\"&#REF!&\",\"&data!X50","v":{"$error":"#REF!"}},{"$f":"#REF!&\",\"&#REF!&\",\"&data!AD50","v":{"$error":"#REF!"}},{"$f":"#REF!&\",\"&#REF!&\",\"&data!AJ50","v":{"$error":"#REF!"}},{"$f":"#REF!&\",\"&#REF!&\",\"&data!AP50","v":{"$error":"#REF!"}},{"$f":"#REF!&\",\"&#REF!&\",\"&data!AV50","v":{"$error":"#REF!"}},{"$f":"data!X50&\",\"&#REF!","v":{"$error":"#REF!"}},{"$f":"data!AD50&\",\"&#REF!","v":{"$error":"#REF!"}},{"$f":"data!AJ50&\",\"&#REF!","v":{"$error":"#REF!"}},{"$f":"data!AP50&\",\"&#REF!","v":{"$error":"#REF!"}},{"$f":"data!AV50&\",\"&#REF!","v":{"$error":"#REF!"}},{"$f":"data!X50&\",\"&COUNTIF($F$2:$J49,F49)","v":{"$error":"#REF!"}},{"$f":"data!AD50&\",\"&COUNTIF($F$2:$J49,G49)","v":{"$error":"#REF!"}},{"$f":"data!AJ50&\",\"&COUNTIF($F$2:$J49,H49)","v":{"$error":"#REF!"}},{"$f":"data!AP50&\",\"&COUNTIF($F$2:$J49,I49)","v":{"$error":"#REF!"}},{"$f":"data!AV50&\",\"&COUNTIF($F$2:$J49,J49)","v":{"$error":"#REF!"}}]
[{"$f":"#REF!&\",\"&#REF!&\",\"&data!X51","v":{"$error":"#REF!"}},{"$f":"#REF!&\",\"&#REF!&\",\"&data!AD51","v":{"$error":"#REF!"}},{"$f":"#REF!&\",\"&#REF!&\",\"&data!AJ51","v":{"$error":"#REF!"}},{"$f":"#REF!&\",\"&#REF!&\",\"&data!AP51","v":{"$error":"#REF!"}},{"$f":"#REF!&\",\"&#REF!&\",\"&data!AV51","v":{"$error":"#REF!"}},{"$f":"data!X51&\",\"&#REF!","v":{"$error":"#REF!"}},{"$f":"data!AD51&\",\"&#REF!","v":{"$error":"#REF!"}},{"$f":"data!AJ51&\",\"&#REF!","v":{"$error":"#REF!"}},{"$f":"data!AP51&\",\"&#REF!","v":{"$error":"#REF!"}},{"$f":"data!AV51&\",\"&#REF!","v":{"$error":"#REF!"}},{"$f":"data!X51&\",\"&COUNTIF($F$2:$J50,F50)","v":{"$error":"#REF!"}},{"$f":"data!AD51&\",\"&COUNTIF($F$2:$J50,G50)","v":{"$error":"#REF!"}},{"$f":"data!AJ51&\",\"&COUNTIF($F$2:$J50,H50)","v":{"$error":"#REF!"}},{"$f":"data!AP51&\",\"&COUNTIF($F$2:$J50,I50)","v":{"$error":"#REF!"}},{"$f":"data!AV51&\",\"&COUNTIF($F$2:$J50,J50)","v":{"$error":"#REF!"}}]
[{"$f":"#REF!&\",\"&#REF!&\",\"&data!X52","v":{"$error":"#REF!"}},{"$f":"#REF!&\",\"&#REF!&\",\"&data!AD52","v":{"$error":"#REF!"}},{"$f":"#REF!&\",\"&#REF!&\",\"&data!AJ52","v":{"$error":"#REF!"}},{"$f":"#REF!&\",\"&#REF!&\",\"&data!AP52","v":{"$error":"#REF!"}},{"$f":"#REF!&\",\"&#REF!&\",\"&data!AV52","v":{"$error":"#REF!"}},{"$f":"data!X52&\",\"&#REF!","v":{"$error":"#REF!"}},{"$f":"data!AD52&\",\"&#REF!","v":{"$error":"#REF!"}},{"$f":"data!AJ52&\",\"&#REF!","v":{"$error":"#REF!"}},{"$f":"data!AP52&\",\"&#REF!","v":{"$error":"#REF!"}},{"$f":"data!AV52&\",\"&#REF!","v":{"$error":"#REF!"}},{"$f":"data!X52&\",\"&COUNTIF($F$2:$J51,F51)","v":{"$error":"#REF!"}},{"$f":"data!AD52&\",\"&COUNTIF($F$2:$J51,G51)","v":{"$error":"#REF!"}},{"$f":"data!AJ52&\",\"&COUNTIF($F$2:$J51,H51)","v":{"$error":"#REF!"}},{"$f":"data!AP52&\",\"&COUNTIF($F$2:$J51,I51)","v":{"$error":"#REF!"}},{"$f":"data!AV52&\",\"&COUNTIF($F$2:$J51,J51)","v":{"$error":"#REF!"}}]
[{"$f":"#REF!&\",\"&#REF!&\",\"&data!X53","v":{"$error":"#REF!"}},{"$f":"#REF!&\",\"&#REF!&\",\"&data!AD53","v":{"$error":"#REF!"}},{"$f":"#REF!&\",\"&#REF!&\",\"&data!AJ53","v":{"$error":"#REF!"}},{"$f":"#REF!&\",\"&#REF!&\",\"&data!AP53","v":{"$error":"#REF!"}},{"$f":"#REF!&\",\"&#REF!&\",\"&data!AV53","v":{"$error":"#REF!"}},{"$f":"data!X53&\",\"&#REF!","v":{"$error":"#REF!"}},{"$f":"data!AD53&\",\"&#REF!","v":{"$error":"#REF!"}},{"$f":"data!AJ53&\",\"&#REF!","v":{"$error":"#REF!"}},{"$f":"data!AP53&\",\"&#REF!","v":{"$error":"#REF!"}},{"$f":"data!AV53&\",\"&#REF!","v":{"$error":"#REF!"}},{"$f":"data!X53&\",\"&COUNTIF($F$2:$J52,F52)","v":{"$error":"#REF!"}},{"$f":"data!AD53&\",\"&COUNTIF($F$2:$J52,G52)","v":{"$error":"#REF!"}},{"$f":"data!AJ53&\",\"&COUNTIF($F$2:$J52,H52)","v":{"$error":"#REF!"}},{"$f":"data!AP53&\",\"&COUNTIF($F$2:$J52,I52)","v":{"$error":"#REF!"}},{"$f":"data!AV53&\",\"&COUNTIF($F$2:$J52,J52)","v":{"$error":"#REF!"}}]
[{"$f":"#REF!&\",\"&#REF!&\",\"&data!X54","v":{"$error":"#REF!"}},{"$f":"#REF!&\",\"&#REF!&\",\"&data!AD54","v":{"$error":"#REF!"}},{"$f":"#REF!&\",\"&#REF!&\",\"&data!AJ54","v":{"$error":"#REF!"}},{"$f":"#REF!&\",\"&#REF!&\",\"&data!AP54","v":{"$error":"#REF!"}},{"$f":"#REF!&\",\"&#REF!&\",\"&data!AV54","v":{"$error":"#REF!"}},{"$f":"data!X54&\",\"&#REF!","v":{"$error":"#REF!"}},{"$f":"data!AD54&\",\"&#REF!","v":{"$error":"#REF!"}},{"$f":"data!AJ54&\",\"&#REF!","v":{"$error":"#REF!"}},{"$f":"data!AP54&\",\"&#REF!","v":{"$error":"#REF!"}},{"$f":"data!AV54&\",\"&#REF!","v":{"$error":"#REF!"}},{"$f":"data!X54&\",\"&COUNTIF($F$2:$J53,F53)","v":{"$error":"#REF!"}},{"$f":"data!AD54&\",\"&COUNTIF($F$2:$J53,G53)","v":{"$error":"#REF!"}},{"$f":"data!AJ54&\",\"&COUNTIF($F$2:$J53,H53)","v":{"$error":"#REF!"}},{"$f":"data!AP54&\",\"&COUNTIF($F$2:$J53,I53)","v":{"$error":"#REF!"}},{"$f":"data!AV54&\",\"&COUNTIF($F$2:$J53,J53)","v":{"$error":"#REF!"}}]
[{"$f":"#REF!&\",\"&#REF!&\",\"&data!X55","v":{"$error":"#REF!"}},{"$f":"#REF!&\",\"&#REF!&\",\"&data!AD55","v":{"$error":"#REF!"}},{"$f":"#REF!&\",\"&#REF!&\",\"&data!AJ55","v":{"$error":"#REF!"}},{"$f":"#REF!&\",\"&#REF!&\",\"&data!AP55","v":{"$error":"#REF!"}},{"$f":"#REF!&\",\"&#REF!&\",\"&data!AV55","v":{"$error":"#REF!"}},{"$f":"data!X55&\",\"&#REF!","v":{"$error":"#REF!"}},{"$f":"data!AD55&\",\"&#REF!","v":{"$error":"#REF!"}},{"$f":"data!AJ55&\",\"&#REF!","v":{"$error":"#REF!"}},{"$f":"data!AP55&\",\"&#REF!","v":{"$error":"#REF!"}},{"$f":"data!AV55&\",\"&#REF!","v":{"$error":"#REF!"}},{"$f":"data!X55&\",\"&COUNTIF($F$2:$J54,F54)","v":{"$error":"#REF!"}},{"$f":"data!AD55&\",\"&COUNTIF($F$2:$J54,G54)","v":{"$error":"#REF!"}},{"$f":"data!AJ55&\",\"&COUNTIF($F$2:$J54,H54)","v":{"$error":"#REF!"}},{"$f":"data!AP55&\",\"&COUNTIF($F$2:$J54,I54)","v":{"$error":"#REF!"}},{"$f":"data!AV55&\",\"&COUNTIF($F$2:$J54,J54)","v":{"$error":"#REF!"}}]
[{"$f":"#REF!&\",\"&#REF!&\",\"&data!X56","v":{"$error":"#REF!"}},{"$f":"#REF!&\",\"&#REF!&\",\"&data!AD56","v":{"$error":"#REF!"}},{"$f":"#REF!&\",\"&#REF!&\",\"&data!AJ56","v":{"$error":"#REF!"}},{"$f":"#REF!&\",\"&#REF!&\",\"&data!AP56","v":{"$error":"#REF!"}},{"$f":"#REF!&\",\"&#REF!&\",\"&data!AV56","v":{"$error":"#REF!"}},{"$f":"data!X56&\",\"&#REF!","v":{"$error":"#REF!"}},{"$f":"data!AD56&\",\"&#REF!","v":{"$error":"#REF!"}},{"$f":"data!AJ56&\",\"&#REF!","v":{"$error":"#REF!"}},{"$f":"data!AP56&\",\"&#REF!","v":{"$error":"#REF!"}},{"$f":"data!AV56&\",\"&#REF!","v":{"$error":"#REF!"}},{"$f":"data!X56&\",\"&COUNTIF($F$2:$J55,F55)","v":{"$error":"#REF!"}},{"$f":"data!AD56&\",\"&COUNTIF($F$2:$J55,G55)","v":{"$error":"#REF!"}},{"$f":"data!AJ56&\",\"&COUNTIF($F$2:$J55,H55)","v":{"$error":"#REF!"}},{"$f":"data!AP56&\",\"&COUNTIF($F$2:$J55,I55)","v":{"$error":"#REF!"}},{"$f":"data!AV56&\",\"&COUNTIF($F$2:$J55,J55)","v":{"$error":"#REF!"}}]
[{"$f":"#REF!&\",\"&#REF!&\",\"&data!X57","v":{"$error":"#REF!"}},{"$f":"#REF!&\",\"&#REF!&\",\"&data!AD57","v":{"$error":"#REF!"}},{"$f":"#REF!&\",\"&#REF!&\",\"&data!AJ57","v":{"$error":"#REF!"}},{"$f":"#REF!&\",\"&#REF!&\",\"&data!AP57","v":{"$error":"#REF!"}},{"$f":"#REF!&\",\"&#REF!&\",\"&data!AV57","v":{"$error":"#REF!"}},{"$f":"data!X57&\",\"&#REF!","v":{"$error":"#REF!"}},{"$f":"data!AD57&\",\"&#REF!","v":{"$error":"#REF!"}},{"$f":"data!AJ57&\",\"&#REF!","v":{"$error":"#REF!"}},{"$f":"data!AP57&\",\"&#REF!","v":{"$error":"#REF!"}},{"$f":"data!AV57&\",\"&#REF!","v":{"$error":"#REF!"}},{"$f":"data!X57&\",\"&COUNTIF($F$2:$J56,F56)","v":{"$error":"#REF!"}},{"$f":"data!AD57&\",\"&COUNTIF($F$2:$J56,G56)","v":{"$error":"#REF!"}},{"$f":"data!AJ57&\",\"&COUNTIF($F$2:$J56,H56)","v":{"$error":"#REF!"}},{"$f":"data!AP57&\",\"&COUNTIF($F$2:$J56,I56)","v":{"$error":"#REF!"}},{"$f":"data!AV57&\",\"&COUNTIF($F$2:$J56,J56)","v":{"$error":"#REF!"}}]
[{"$f":"#REF!&\",\"&#REF!&\",\"&data!X58","v":{"$error":"#REF!"}},{"$f":"#REF!&\",\"&#REF!&\",\"&data!AD58","v":{"$error":"#REF!"}},{"$f":"#REF!&\",\"&#REF!&\",\"&data!AJ58","v":{"$error":"#REF!"}},{"$f":"#REF!&\",\"&#REF!&\",\"&data!AP58","v":{"$error":"#REF!"}},{"$f":"#REF!&\",\"&#REF!&\",\"&data!AV58","v":{"$error":"#REF!"}},{"$f":"data!X58&\",\"&#REF!","v":{"$error":"#REF!"}},{"$f":"data!AD58&\",\"&#REF!","v":{"$error":"#REF!"}},{"$f":"data!AJ58&\",\"&#REF!","v":{"$error":"#REF!"}},{"$f":"data!AP58&\",\"&#REF!","v":{"$error":"#REF!"}},{"$f":"data!AV58&\",\"&#REF!","v":{"$error":"#REF!"}},{"$f":"data!X58&\",\"&COUNTIF($F$2:$J57,F57)","v":{"$error":"#REF!"}},{"$f":"data!AD58&\",\"&COUNTIF($F$2:$J57,G57)","v":{"$error":"#REF!"}},{"$f":"data!AJ58&\",\"&COUNTIF($F$2:$J57,H57)","v":{"$error":"#REF!"}},{"$f":"data!AP58&\",\"&COUNTIF($F$2:$J57,I57)","v":{"$error":"#REF!"}},{"$f":"data!AV58&\",\"&COUNTIF($F$2:$J57,J57)","v":{"$error":"#REF!"}}]
[{"$f":"#REF!&\",\"&#REF!&\",\"&data!X59","v":{"$error":"#REF!"}},{"$f":"#REF!&\",\"&#REF!&\",\"&data!AD59","v":{"$error":"#REF!"}},{"$f":"#REF!&\",\"&#REF!&\",\"&data!AJ59","v":{"$error":"#REF!"}},{"$f":"#REF!&\",\"&#REF!&\",\"&data!AP59","v":{"$error":"#REF!"}},{"$f":"#REF!&\",\"&#REF!&\",\"&data!AV59","v":{"$error":"#REF!"}},{"$f":"data!X59&\",\"&#REF!","v":{"$error":"#REF!"}},{"$f":"data!AD59&\",\"&#REF!","v":{"$error":"#REF!"}},{"$f":"data!AJ59&\",\"&#REF!","v":{"$error":"#REF!"}},{"$f":"data!AP59&\",\"&#REF!","v":{"$error":"#REF!"}},{"$f":"data!AV59&\",\"&#REF!","v":{"$error":"#REF!"}},{"$f":"data!X59&\",\"&COUNTIF($F$2:$J58,F58)","v":{"$error":"#REF!"}},{"$f":"data!AD59&\",\"&COUNTIF($F$2:$J58,G58)","v":{"$error":"#REF!"}},{"$f":"data!AJ59&\",\"&COUNTIF($F$2:$J58,H58)","v":{"$error":"#REF!"}},{"$f":"data!AP59&\",\"&COUNTIF($F$2:$J58,I58)","v":{"$error":"#REF!"}},{"$f":"data!AV59&\",\"&COUNTIF($F$2:$J58,J58)","v":{"$error":"#REF!"}}]
[{"$f":"#REF!&\",\"&#REF!&\",\"&data!X60","v":{"$error":"#REF!"}},{"$f":"#REF!&\",\"&#REF!&\",\"&data!AD60","v":{"$error":"#REF!"}},{"$f":"#REF!&\",\"&#REF!&\",\"&data!AJ60","v":{"$error":"#REF!"}},{"$f":"#REF!&\",\"&#REF!&\",\"&data!AP60","v":{"$error":"#REF!"}},{"$f":"#REF!&\",\"&#REF!&\",\"&data!AV60","v":{"$error":"#REF!"}},{"$f":"data!X60&\",\"&#REF!","v":{"$error":"#REF!"}},{"$f":"data!AD60&\",\"&#REF!","v":{"$error":"#REF!"}},{"$f":"data!AJ60&\",\"&#REF!","v":{"$error":"#REF!"}},{"$f":"data!AP60&\",\"&#REF!","v":{"$error":"#REF!"}},{"$f":"data!AV60&\",\"&#REF!","v":{"$error":"#REF!"}},{"$f":"data!X60&\",\"&COUNTIF($F$2:$J59,F59)","v":{"$error":"#REF!"}},{"$f":"data!AD60&\",\"&COUNTIF($F$2:$J59,G59)","v":{"$error":"#REF!"}},{"$f":"data!AJ60&\",\"&COUNTIF($F$2:$J59,H59)","v":{"$error":"#REF!"}},{"$f":"data!AP60&\",\"&COUNTIF($F$2:$J59,I59)","v":{"$error":"#REF!"}},{"$f":"data!AV60&\",\"&COUNTIF($F$2:$J59,J59)","v":{"$error":"#REF!"}}]
[{"$f":"#REF!&\",\"&#REF!&\",\"&data!X61","v":{"$error":"#REF!"}},{"$f":"#REF!&\",\"&#REF!&\",\"&data!AD61","v":{"$error":"#REF!"}},{"$f":"#REF!&\",\"&#REF!&\",\"&data!AJ61","v":{"$error":"#REF!"}},{"$f":"#REF!&\",\"&#REF!&\",\"&data!AP61","v":{"$error":"#REF!"}},{"$f":"#REF!&\",\"&#REF!&\",\"&data!AV61","v":{"$error":"#REF!"}},{"$f":"data!X61&\",\"&#REF!","v":{"$error":"#REF!"}},{"$f":"data!AD61&\",\"&#REF!","v":{"$error":"#REF!"}},{"$f":"data!AJ61&\",\"&#REF!","v":{"$error":"#REF!"}},{"$f":"data!AP61&\",\"&#REF!","v":{"$error":"#REF!"}},{"$f":"data!AV61&\",\"&#REF!","v":{"$error":"#REF!"}},{"$f":"data!X61&\",\"&COUNTIF($F$2:$J60,F60)","v":{"$error":"#REF!"}},{"$f":"data!AD61&\",\"&COUNTIF($F$2:$J60,G60)","v":{"$error":"#REF!"}},{"$f":"data!AJ61&\",\"&COUNTIF($F$2:$J60,H60)","v":{"$error":"#REF!"}},{"$f":"data!AP61&\",\"&COUNTIF($F$2:$J60,I60)","v":{"$error":"#REF!"}},{"$f":"data!AV61&\",\"&COUNTIF($F$2:$J60,J60)","v":{"$error":"#REF!"}}]
[{"$f":"#REF!&\",\"&#REF!&\",\"&data!X62","v":{"$error":"#REF!"}},{"$f":"#REF!&\",\"&#REF!&\",\"&data!AD62","v":{"$error":"#REF!"}},{"$f":"#REF!&\",\"&#REF!&\",\"&data!AJ62","v":{"$error":"#REF!"}},{"$f":"#REF!&\",\"&#REF!&\",\"&data!AP62","v":{"$error":"#REF!"}},{"$f":"#REF!&\",\"&#REF!&\",\"&data!AV62","v":{"$error":"#REF!"}},{"$f":"data!X62&\",\"&#REF!","v":{"$error":"#REF!"}},{"$f":"data!AD62&\",\"&#REF!","v":{"$error":"#REF!"}},{"$f":"data!AJ62&\",\"&#REF!","v":{"$error":"#REF!"}},{"$f":"data!AP62&\",\"&#REF!","v":{"$error":"#REF!"}},{"$f":"data!AV62&\",\"&#REF!","v":{"$error":"#REF!"}},{"$f":"data!X62&\",\"&COUNTIF($F$2:$J61,F61)","v":{"$error":"#REF!"}},{"$f":"data!AD62&\",\"&COUNTIF($F$2:$J61,G61)","v":{"$error":"#REF!"}},{"$f":"data!AJ62&\",\"&COUNTIF($F$2:$J61,H61)","v":{"$error":"#REF!"}},{"$f":"data!AP62&\",\"&COUNTIF($F$2:$J61,I61)","v":{"$error":"#REF!"}},{"$f":"data!AV62&\",\"&COUNTIF($F$2:$J61,J61)","v":{"$error":"#REF!"}}]
[{"$f":"#REF!&\",\"&#REF!&\",\"&data!X63","v":{"$error":"#REF!"}},{"$f":"#REF!&\",\"&#REF!&\",\"&data!AD63","v":{"$error":"#REF!"}},{"$f":"#REF!&\",\"&#REF!&\",\"&data!AJ63","v":{"$error":"#REF!"}},{"$f":"#REF!&\",\"&#REF!&\",\"&data!AP63","v":{"$error":"#REF!"}},{"$f":"#REF!&\",\"&#REF!&\",\"&data!AV63","v":{"$error":"#REF!"}},{"$f":"data!X63&\",\"&#REF!","v":{"$error":"#REF!"}},{"$f":"data!AD63&\",\"&#REF!","v":{"$error":"#REF!"}},{"$f":"data!AJ63&\",\"&#REF!","v":{"$error":"#REF!"}},{"$f":"data!AP63&\",\"&#REF!","v":{"$error":"#REF!"}},{"$f":"data!AV63&\",\"&#REF!","v":{"$error":"#REF!"}},{"$f":"data!X63&\",\"&COUNTIF($F$2:$J62,F62)","v":{"$error":"#REF!"}},{"$f":"data!AD63&\",\"&COUNTIF($F$2:$J62,G62)","v":{"$error":"#REF!"}},{"$f":"data!AJ63&\",\"&COUNTIF($F$2:$J62,H62)","v":{"$error":"#REF!"}},{"$f":"data!AP63&\",\"&COUNTIF($F$2:$J62,I62)","v":{"$error":"#REF!"}},{"$f":"data!AV63&\",\"&COUNTIF($F$2:$J62,J62)","v":{"$error":"#REF!"}}]
[{"$f":"#REF!&\",\"&#REF!&\",\"&data!X64","v":{"$error":"#REF!"}},{"$f":"#REF!&\",\"&#REF!&\",\"&data!AD64","v":{"$error":"#REF!"}},{"$f":"#REF!&\",\"&#REF!&\",\"&data!AJ64","v":{"$error":"#REF!"}},{"$f":"#REF!&\",\"&#REF!&\",\"&data!AP64","v":{"$error":"#REF!"}},{"$f":"#REF!&\",\"&#REF!&\",\"&data!AV64","v":{"$error":"#REF!"}},{"$f":"data!X64&\",\"&#REF!","v":{"$error":"#REF!"}},{"$f":"data!AD64&\",\"&#REF!","v":{"$error":"#REF!"}},{"$f":"data!AJ64&\",\"&#REF!","v":{"$error":"#REF!"}},{"$f":"data!AP64&\",\"&#REF!","v":{"$error":"#REF!"}},{"$f":"data!AV64&\",\"&#REF!","v":{"$error":"#REF!"}},{"$f":"data!X64&\",\"&COUNTIF($F$2:$J63,F63)","v":{"$error":"#REF!"}},{"$f":"data!AD64&\",\"&COUNTIF($F$2:$J63,G63)","v":{"$error":"#REF!"}},{"$f":"data!AJ64&\",\"&COUNTIF($F$2:$J63,H63)","v":{"$error":"#REF!"}},{"$f":"data!AP64&\",\"&COUNTIF($F$2:$J63,I63)","v":{"$error":"#REF!"}},{"$f":"data!AV64&\",\"&COUNTIF($F$2:$J63,J63)","v":{"$error":"#REF!"}}]
[{"$f":"#REF!&\",\"&#REF!&\",\"&data!X65","v":{"$error":"#REF!"}},{"$f":"#REF!&\",\"&#REF!&\",\"&data!AD65","v":{"$error":"#REF!"}},{"$f":"#REF!&\",\"&#REF!&\",\"&data!AJ65","v":{"$error":"#REF!"}},{"$f":"#REF!&\",\"&#REF!&\",\"&data!AP65","v":{"$error":"#REF!"}},{"$f":"#REF!&\",\"&#REF!&\",\"&data!AV65","v":{"$error":"#REF!"}},{"$f":"data!X65&\",\"&#REF!","v":{"$error":"#REF!"}},{"$f":"data!AD65&\",\"&#REF!","v":{"$error":"#REF!"}},{"$f":"data!AJ65&\",\"&#REF!","v":{"$error":"#REF!"}},{"$f":"data!AP65&\",\"&#REF!","v":{"$error":"#REF!"}},{"$f":"data!AV65&\",\"&#REF!","v":{"$error":"#REF!"}},{"$f":"data!X65&\",\"&COUNTIF($F$2:$J64,F64)","v":{"$error":"#REF!"}},{"$f":"data!AD65&\",\"&COUNTIF($F$2:$J64,G64)","v":{"$error":"#REF!"}},{"$f":"data!AJ65&\",\"&COUNTIF($F$2:$J64,H64)","v":{"$error":"#REF!"}},{"$f":"data!AP65&\",\"&COUNTIF($F$2:$J64,I64)","v":{"$error":"#REF!"}},{"$f":"data!AV65&\",\"&COUNTIF($F$2:$J64,J64)","v":{"$error":"#REF!"}}]
[{"$f":"#REF!&\",\"&#REF!&\",\"&data!X66","v":{"$error":"#REF!"}},{"$f":"#REF!&\",\"&#REF!&\",\"&data!AD66","v":{"$error":"#REF!"}},{"$f":"#REF!&\",\"&#REF!&\",\"&data!AJ66","v":{"$error":"#REF!"}},{"$f":"#REF!&\",\"&#REF!&\",\"&data!AP66","v":{"$error":"#REF!"}},{"$f":"#REF!&\",\"&#REF!&\",\"&data!AV66","v":{"$error":"#REF!"}},{"$f":"data!X66&\",\"&#REF!","v":{"$error":"#REF!"}},{"$f":"data!AD66&\",\"&#REF!","v":{"$error":"#REF!"}},{"$f":"data!AJ66&\",\"&#REF!","v":{"$error":"#REF!"}},{"$f":"data!AP66&\",\"&#REF!","v":{"$error":"#REF!"}},{"$f":"data!AV66&\",\"&#REF!","v":{"$error":"#REF!"}},{"$f":"data!X66&\",\"&COUNTIF($F$2:$J65,F65)","v":{"$error":"#REF!"}},{"$f":"data!AD66&\",\"&COUNTIF($F$2:$J65,G65)","v":{"$error":"#REF!"}},{"$f":"data!AJ66&\",\"&COUNTIF($F$2:$J65,H65)","v":{"$error":"#REF!"}},{"$f":"data!AP66&\",\"&COUNTIF($F$2:$J65,I65)","v":{"$error":"#REF!"}},{"$f":"data!AV66&\",\"&COUNTIF($F$2:$J65,J65)","v":{"$error":"#REF!"}}]
[{"$f":"#REF!&\",\"&#REF!&\",\"&data!X67","v":{"$error":"#REF!"}},{"$f":"#REF!&\",\"&#REF!&\",\"&data!AD67","v":{"$error":"#REF!"}},{"$f":"#REF!&\",\"&#REF!&\",\"&data!AJ67","v":{"$error":"#REF!"}},{"$f":"#REF!&\",\"&#REF!&\",\"&data!AP67","v":{"$error":"#REF!"}},{"$f":"#REF!&\",\"&#REF!&\",\"&data!AV67","v":{"$error":"#REF!"}},{"$f":"data!X67&\",\"&#REF!","v":{"$error":"#REF!"}},{"$f":"data!AD67&\",\"&#REF!","v":{"$error":"#REF!"}},{"$f":"data!AJ67&\",\"&#REF!","v":{"$error":"#REF!"}},{"$f":"data!AP67&\",\"&#REF!","v":{"$error":"#REF!"}},{"$f":"data!AV67&\",\"&#REF!","v":{"$error":"#REF!"}},{"$f":"data!X67&\",\"&COUNTIF($F$2:$J66,F66)","v":{"$error":"#REF!"}},{"$f":"data!AD67&\",\"&COUNTIF($F$2:$J66,G66)","v":{"$error":"#REF!"}},{"$f":"data!AJ67&\",\"&COUNTIF($F$2:$J66,H66)","v":{"$error":"#REF!"}},{"$f":"data!AP67&\",\"&COUNTIF($F$2:$J66,I66)","v":{"$error":"#REF!"}},{"$f":"data!AV67&\",\"&COUNTIF($F$2:$J66,J66)","v":{"$error":"#REF!"}}]
[{"$f":"#REF!&\",\"&#REF!&\",\"&data!X68","v":{"$error":"#REF!"}},{"$f":"#REF!&\",\"&#REF!&\",\"&data!AD68","v":{"$error":"#REF!"}},{"$f":"#REF!&\",\"&#REF!&\",\"&data!AJ68","v":{"$error":"#REF!"}},{"$f":"#REF!&\",\"&#REF!&\",\"&data!AP68","v":{"$error":"#REF!"}},{"$f":"#REF!&\",\"&#REF!&\",\"&data!AV68","v":{"$error":"#REF!"}},{"$f":"data!X68&\",\"&#REF!","v":{"$error":"#REF!"}},{"$f":"data!AD68&\",\"&#REF!","v":{"$error":"#REF!"}},{"$f":"data!AJ68&\",\"&#REF!","v":{"$error":"#REF!"}},{"$f":"data!AP68&\",\"&#REF!","v":{"$error":"#REF!"}},{"$f":"data!AV68&\",\"&#REF!","v":{"$error":"#REF!"}},{"$f":"data!X68&\",\"&COUNTIF($F$2:$J67,F67)","v":{"$error":"#REF!"}},{"$f":"data!AD68&\",\"&COUNTIF($F$2:$J67,G67)","v":{"$error":"#REF!"}},{"$f":"data!AJ68&\",\"&COUNTIF($F$2:$J67,H67)","v":{"$error":"#REF!"}},{"$f":"data!AP68&\",\"&COUNTIF($F$2:$J67,I67)","v":{"$error":"#REF!"}},{"$f":"data!AV68&\",\"&COUNTIF($F$2:$J67,J67)","v":{"$error":"#REF!"}}]
[{"$f":"#REF!&\",\"&#REF!&\",\"&data!X69","v":{"$error":"#REF!"}},{"$f":"#REF!&\",\"&#REF!&\",\"&data!AD69","v":{"$error":"#REF!"}},{"$f":"#REF!&\",\"&#REF!&\",\"&data!AJ69","v":{"$error":"#REF!"}},{"$f":"#REF!&\",\"&#REF!&\",\"&data!AP69","v":{"$error":"#REF!"}},{"$f":"#REF!&\",\"&#REF!&\",\"&data!AV69","v":{"$error":"#REF!"}},{"$f":"data!X69&\",\"&#REF!","v":{"$error":"#REF!"}},{"$f":"data!AD69&\",\"&#REF!","v":{"$error":"#REF!"}},{"$f":"data!AJ69&\",\"&#REF!","v":{"$error":"#REF!"}},{"$f":"data!AP69&\",\"&#REF!","v":{"$error":"#REF!"}},{"$f":"data!AV69&\",\"&#REF!","v":{"$error":"#REF!"}},{"$f":"data!X69&\",\"&COUNTIF($F$2:$J68,F68)","v":{"$error":"#REF!"}},{"$f":"data!AD69&\",\"&COUNTIF($F$2:$J68,G68)","v":{"$error":"#REF!"}},{"$f":"data!AJ69&\",\"&COUNTIF($F$2:$J68,H68)","v":{"$error":"#REF!"}},{"$f":"data!AP69&\",\"&COUNTIF($F$2:$J68,I68)","v":{"$error":"#REF!"}},{"$f":"data!AV69&\",\"&COUNTIF($F$2:$J68,J68)","v":{"$error":"#REF!"}}]
[{"$f":"#REF!&\",\"&#REF!&\",\"&data!X70","v":{"$error":"#REF!"}},{"$f":"#REF!&\",\"&#REF!&\",\"&data!AD70","v":{"$error":"#REF!"}},{"$f":"#REF!&\",\"&#REF!&\",\"&data!AJ70","v":{"$error":"#REF!"}},{"$f":"#REF!&\",\"&#REF!&\",\"&data!AP70","v":{"$error":"#REF!"}},{"$f":"#REF!&\",\"&#REF!&\",\"&data!AV70","v":{"$error":"#REF!"}},{"$f":"data!X70&\",\"&#REF!","v":{"$error":"#REF!"}},{"$f":"data!AD70&\",\"&#REF!","v":{"$error":"#REF!"}},{"$f":"data!AJ70&\",\"&#REF!","v":{"$error":"#REF!"}},{"$f":"data!AP70&\",\"&#REF!","v":{"$error":"#REF!"}},{"$f":"data!AV70&\",\"&#REF!","v":{"$error":"#REF!"}},{"$f":"data!X70&\",\"&COUNTIF($F$2:$J69,F69)","v":{"$error":"#REF!"}},{"$f":"data!AD70&\",\"&COUNTIF($F$2:$J69,G69)","v":{"$error":"#REF!"}},{"$f":"data!AJ70&\",\"&COUNTIF($F$2:$J69,H69)","v":{"$error":"#REF!"}},{"$f":"data!AP70&\",\"&COUNTIF($F$2:$J69,I69)","v":{"$error":"#REF!"}},{"$f":"data!AV70&\",\"&COUNTIF($F$2:$J69,J69)","v":{"$error":"#REF!"}}]
[{"$f":"#REF!&\",\"&#REF!&\",\"&data!X71","v":{"$error":"#REF!"}},{"$f":"#REF!&\",\"&#REF!&\",\"&data!AD71","v":{"$error":"#REF!"}},{"$f":"#REF!&\",\"&#REF!&\",\"&data!AJ71","v":{"$error":"#REF!"}},{"$f":"#REF!&\",\"&#REF!&\",\"&data!AP71","v":{"$error":"#REF!"}},{"$f":"#REF!&\",\"&#REF!&\",\"&data!AV71","v":{"$error":"#REF!"}},{"$f":"data!X71&\",\"&#REF!","v":{"$error":"#REF!"}},{"$f":"data!AD71&\",\"&#REF!","v":{"$error":"#REF!"}},{"$f":"data!AJ71&\",\"&#REF!","v":{"$error":"#REF!"}},{"$f":"data!AP71&\",\"&#REF!","v":{"$error":"#REF!"}},{"$f":"data!AV71&\",\"&#REF!","v":{"$error":"#REF!"}},{"$f":"data!X71&\",\"&COUNTIF($F$2:$J70,F70)","v":{"$error":"#REF!"}},{"$f":"data!AD71&\",\"&COUNTIF($F$2:$J70,G70)","v":{"$error":"#REF!"}},{"$f":"data!AJ71&\",\"&COUNTIF($F$2:$J70,H70)","v":{"$error":"#REF!"}},{"$f":"data!AP71&\",\"&COUNTIF($F$2:$J70,I70)","v":{"$error":"#REF!"}},{"$f":"data!AV71&\",\"&COUNTIF($F$2:$J70,J70)","v":{"$error":"#REF!"}}]
[{"$f":"#REF!&\",\"&#REF!&\",\"&data!X72","v":{"$error":"#REF!"}},{"$f":"#REF!&\",\"&#REF!&\",\"&data!AD72","v":{"$error":"#REF!"}},{"$f":"#REF!&\",\"&#REF!&\",\"&data!AJ72","v":{"$error":"#REF!"}},{"$f":"#REF!&\",\"&#REF!&\",\"&data!AP72","v":{"$error":"#REF!"}},{"$f":"#REF!&\",\"&#REF!&\",\"&data!AV72","v":{"$error":"#REF!"}},{"$f":"data!X72&\",\"&#REF!","v":{"$error":"#REF!"}},{"$f":"data!AD72&\",\"&#REF!","v":{"$error":"#REF!"}},{"$f":"data!AJ72&\",\"&#REF!","v":{"$error":"#REF!"}},{"$f":"data!AP72&\",\"&#REF!","v":{"$error":"#REF!"}},{"$f":"data!AV72&\",\"&#REF!","v":{"$error":"#REF!"}},{"$f":"data!X72&\",\"&COUNTIF($F$2:$J71,F71)","v":{"$error":"#REF!"}},{"$f":"data!AD72&\",\"&COUNTIF($F$2:$J71,G71)","v":{"$error":"#REF!"}},{"$f":"data!AJ72&\",\"&COUNTIF($F$2:$J71,H71)","v":{"$error":"#REF!"}},{"$f":"data!AP72&\",\"&COUNTIF($F$2:$J71,I71)","v":{"$error":"#REF!"}},{"$f":"data!AV72&\",\"&COUNTIF($F$2:$J71,J71)","v":{"$error":"#REF!"}}]
[{"$f":"#REF!&\",\"&#REF!&\",\"&data!X73","v":{"$error":"#REF!"}},{"$f":"#REF!&\",\"&#REF!&\",\"&data!AD73","v":{"$error":"#REF!"}},{"$f":"#REF!&\",\"&#REF!&\",\"&data!AJ73","v":{"$error":"#REF!"}},{"$f":"#REF!&\",\"&#REF!&\",\"&data!AP73","v":{"$error":"#REF!"}},{"$f":"#REF!&\",\"&#REF!&\",\"&data!AV73","v":{"$error":"#REF!"}},{"$f":"data!X73&\",\"&#REF!","v":{"$error":"#REF!"}},{"$f":"data!AD73&\",\"&#REF!","v":{"$error":"#REF!"}},{"$f":"data!AJ73&\",\"&#REF!","v":{"$error":"#REF!"}},{"$f":"data!AP73&\",\"&#REF!","v":{"$error":"#REF!"}},{"$f":"data!AV73&\",\"&#REF!","v":{"$error":"#REF!"}},{"$f":"data!X73&\",\"&COUNTIF($F$2:$J72,F72)","v":{"$error":"#REF!"}},{"$f":"data!AD73&\",\"&COUNTIF($F$2:$J72,G72)","v":{"$error":"#REF!"}},{"$f":"data!AJ73&\",\"&COUNTIF($F$2:$J72,H72)","v":{"$error":"#REF!"}},{"$f":"data!AP73&\",\"&COUNTIF($F$2:$J72,I72)","v":{"$error":"#REF!"}},{"$f":"data!AV73&\",\"&COUNTIF($F$2:$J72,J72)","v":{"$error":"#REF!"}}]
[{"$f":"#REF!&\",\"&#REF!&\",\"&data!X74","v":{"$error":"#REF!"}},{"$f":"#REF!&\",\"&#REF!&\",\"&data!AD74","v":{"$error":"#REF!"}},{"$f":"#REF!&\",\"&#REF!&\",\"&data!AJ74","v":{"$error":"#REF!"}},{"$f":"#REF!&\",\"&#REF!&\",\"&data!AP74","v":{"$error":"#REF!"}},{"$f":"#REF!&\",\"&#REF!&\",\"&data!AV74","v":{"$error":"#REF!"}},{"$f":"data!X74&\",\"&#REF!","v":{"$error":"#REF!"}},{"$f":"data!AD74&\",\"&#REF!","v":{"$error":"#REF!"}},{"$f":"data!AJ74&\",\"&#REF!","v":{"$error":"#REF!"}},{"$f":"data!AP74&\",\"&#REF!","v":{"$error":"#REF!"}},{"$f":"data!AV74&\",\"&#REF!","v":{"$error":"#REF!"}},{"$f":"data!X74&\",\"&COUNTIF($F$2:$J73,F73)","v":{"$error":"#REF!"}},{"$f":"data!AD74&\",\"&COUNTIF($F$2:$J73,G73)","v":{"$error":"#REF!"}},{"$f":"data!AJ74&\",\"&COUNTIF($F$2:$J73,H73)","v":{"$error":"#REF!"}},{"$f":"data!AP74&\",\"&COUNTIF($F$2:$J73,I73)","v":{"$error":"#REF!"}},{"$f":"data!AV74&\",\"&COUNTIF($F$2:$J73,J73)","v":{"$error":"#REF!"}}]
[{"$f":"#REF!&\",\"&#REF!&\",\"&data!X75","v":{"$error":"#REF!"}},{"$f":"#REF!&\",\"&#REF!&\",\"&data!AD75","v":{"$error":"#REF!"}},{"$f":"#REF!&\",\"&#REF!&\",\"&data!AJ75","v":{"$error":"#REF!"}},{"$f":"#REF!&\",\"&#REF!&\",\"&data!AP75","v":{"$error":"#REF!"}},{"$f":"#REF!&\",\"&#REF!&\",\"&data!AV75","v":{"$error":"#REF!"}},{"$f":"data!X75&\",\"&#REF!","v":{"$error":"#REF!"}},{"$f":"data!AD75&\",\"&#REF!","v":{"$error":"#REF!"}},{"$f":"data!AJ75&\",\"&#REF!","v":{"$error":"#REF!"}},{"$f":"data!AP75&\",\"&#REF!","v":{"$error":"#REF!"}},{"$f":"data!AV75&\",\"&#REF!","v":{"$error":"#REF!"}},{"$f":"data!X75&\",\"&COUNTIF($F$2:$J74,F74)","v":{"$error":"#REF!"}},{"$f":"data!AD75&\",\"&COUNTIF($F$2:$J74,G74)","v":{"$error":"#REF!"}},{"$f":"data!AJ75&\",\"&COUNTIF($F$2:$J74,H74)","v":{"$error":"#REF!"}},{"$f":"data!AP75&\",\"&COUNTIF($F$2:$J74,I74)","v":{"$error":"#REF!"}},{"$f":"data!AV75&\",\"&COUNTIF($F$2:$J74,J74)","v":{"$error":"#REF!"}}]
[{"$f":"#REF!&\",\"&#REF!&\",\"&data!X76","v":{"$error":"#REF!"}},{"$f":"#REF!&\",\"&#REF!&\",\"&data!AD76","v":{"$error":"#REF!"}},{"$f":"#REF!&\",\"&#REF!&\",\"&data!AJ76","v":{"$error":"#REF!"}},{"$f":"#REF!&\",\"&#REF!&\",\"&data!AP76","v":{"$error":"#REF!"}},{"$f":"#REF!&\",\"&#REF!&\",\"&data!AV76","v":{"$error":"#REF!"}},{"$f":"data!X76&\",\"&#REF!","v":{"$error":"#REF!"}},{"$f":"data!AD76&\",\"&#REF!","v":{"$error":"#REF!"}},{"$f":"data!AJ76&\",\"&#REF!","v":{"$error":"#REF!"}},{"$f":"data!AP76&\",\"&#REF!","v":{"$error":"#REF!"}},{"$f":"data!AV76&\",\"&#REF!","v":{"$error":"#REF!"}},{"$f":"data!X76&\",\"&COUNTIF($F$2:$J75,F75)","v":{"$error":"#REF!"}},{"$f":"data!AD76&\",\"&COUNTIF($F$2:$J75,G75)","v":{"$error":"#REF!"}},{"$f":"data!AJ76&\",\"&COUNTIF($F$2:$J75,H75)","v":{"$error":"#REF!"}},{"$f":"data!AP76&\",\"&COUNTIF($F$2:$J75,I75)","v":{"$error":"#REF!"}},{"$f":"data!AV76&\",\"&COUNTIF($F$2:$J75,J75)","v":{"$error":"#REF!"}}]
[{"$f":"#REF!&\",\"&#REF!&\",\"&data!X77","v":{"$error":"#REF!"}},{"$f":"#REF!&\",\"&#REF!&\",\"&data!AD77","v":{"$error":"#REF!"}},{"$f":"#REF!&\",\"&#REF!&\",\"&data!AJ77","v":{"$error":"#REF!"}},{"$f":"#REF!&\",\"&#REF!&\",\"&data!AP77","v":{"$error":"#REF!"}},{"$f":"#REF!&\",\"&#REF!&\",\"&data!AV77","v":{"$error":"#REF!"}},{"$f":"data!X77&\",\"&#REF!","v":{"$error":"#REF!"}},{"$f":"data!AD77&\",\"&#REF!","v":{"$error":"#REF!"}},{"$f":"data!AJ77&\",\"&#REF!","v":{"$error":"#REF!"}},{"$f":"data!AP77&\",\"&#REF!","v":{"$error":"#REF!"}},{"$f":"data!AV77&\",\"&#REF!","v":{"$error":"#REF!"}},{"$f":"data!X77&\",\"&COUNTIF($F$2:$J76,F76)","v":{"$error":"#REF!"}},{"$f":"data!AD77&\",\"&COUNTIF($F$2:$J76,G76)","v":{"$error":"#REF!"}},{"$f":"data!AJ77&\",\"&COUNTIF($F$2:$J76,H76)","v":{"$error":"#REF!"}},{"$f":"data!AP77&\",\"&COUNTIF($F$2:$J76,I76)","v":{"$error":"#REF!"}},{"$f":"data!AV77&\",\"&COUNTIF($F$2:$J76,J76)","v":{"$error":"#REF!"}}]
[{"$f":"#REF!&\",\"&#REF!&\",\"&data!X78","v":{"$error":"#REF!"}},{"$f":"#REF!&\",\"&#REF!&\",\"&data!AD78","v":{"$error":"#REF!"}},{"$f":"#REF!&\",\"&#REF!&\",\"&data!AJ78","v":{"$error":"#REF!"}},{"$f":"#REF!&\",\"&#REF!&\",\"&data!AP78","v":{"$error":"#REF!"}},{"$f":"#REF!&\",\"&#REF!&\",\"&data!AV78","v":{"$error":"#REF!"}},{"$f":"data!X78&\",\"&#REF!","v":{"$error":"#REF!"}},{"$f":"data!AD78&\",\"&#REF!","v":{"$error":"#REF!"}},{"$f":"data!AJ78&\",\"&#REF!","v":{"$error":"#REF!"}},{"$f":"data!AP78&\",\"&#REF!","v":{"$error":"#REF!"}},{"$f":"data!AV78&\",\"&#REF!","v":{"$error":"#REF!"}},{"$f":"data!X78&\",\"&COUNTIF($F$2:$J77,F77)","v":{"$error":"#REF!"}},{"$f":"data!AD78&\",\"&COUNTIF($F$2:$J77,G77)","v":{"$error":"#REF!"}},{"$f":"data!AJ78&\",\"&COUNTIF($F$2:$J77,H77)","v":{"$error":"#REF!"}},{"$f":"data!AP78&\",\"&COUNTIF($F$2:$J77,I77)","v":{"$error":"#REF!"}},{"$f":"data!AV78&\",\"&COUNTIF($F$2:$J77,J77)","v":{"$error":"#REF!"}}]
[{"$f":"#REF!&\",\"&#REF!&\",\"&data!X79","v":{"$error":"#REF!"}},{"$f":"#REF!&\",\"&#REF!&\",\"&data!AD79","v":{"$error":"#REF!"}},{"$f":"#REF!&\",\"&#REF!&\",\"&data!AJ79","v":{"$error":"#REF!"}},{"$f":"#REF!&\",\"&#REF!&\",\"&data!AP79","v":{"$error":"#REF!"}},{"$f":"#REF!&\",\"&#REF!&\",\"&data!AV79","v":{"$error":"#REF!"}},{"$f":"data!X79&\",\"&#REF!","v":{"$error":"#REF!"}},{"$f":"data!AD79&\",\"&#REF!","v":{"$error":"#REF!"}},{"$f":"data!AJ79&\",\"&#REF!","v":{"$error":"#REF!"}},{"$f":"data!AP79&\",\"&#REF!","v":{"$error":"#REF!"}},{"$f":"data!AV79&\",\"&#REF!","v":{"$error":"#REF!"}},{"$f":"data!X79&\",\"&COUNTIF($F$2:$J78,F78)","v":{"$error":"#REF!"}},{"$f":"data!AD79&\",\"&COUNTIF($F$2:$J78,G78)","v":{"$error":"#REF!"}},{"$f":"data!AJ79&\",\"&COUNTIF($F$2:$J78,H78)","v":{"$error":"#REF!"}},{"$f":"data!AP79&\",\"&COUNTIF($F$2:$J78,I78)","v":{"$error":"#REF!"}},{"$f":"data!AV79&\",\"&COUNTIF($F$2:$J78,J78)","v":{"$error":"#REF!"}}]
[{"$f":"#REF!&\",\"&#REF!&\",\"&data!X80","v":{"$error":"#REF!"}},{"$f":"#REF!&\",\"&#REF!&\",\"&data!AD80","v":{"$error":"#REF!"}},{"$f":"#REF!&\",\"&#REF!&\",\"&data!AJ80","v":{"$error":"#REF!"}},{"$f":"#REF!&\",\"&#REF!&\",\"&data!AP80","v":{"$error":"#REF!"}},{"$f":"#REF!&\",\"&#REF!&\",\"&data!AV80","v":{"$error":"#REF!"}},{"$f":"data!X80&\",\"&#REF!","v":{"$error":"#REF!"}},{"$f":"data!AD80&\",\"&#REF!","v":{"$error":"#REF!"}},{"$f":"data!AJ80&\",\"&#REF!","v":{"$error":"#REF!"}},{"$f":"data!AP80&\",\"&#REF!","v":{"$error":"#REF!"}},{"$f":"data!AV80&\",\"&#REF!","v":{"$error":"#REF!"}},{"$f":"data!X80&\",\"&COUNTIF($F$2:$J79,F79)","v":{"$error":"#REF!"}},{"$f":"data!AD80&\",\"&COUNTIF($F$2:$J79,G79)","v":{"$error":"#REF!"}},{"$f":"data!AJ80&\",\"&COUNTIF($F$2:$J79,H79)","v":{"$error":"#REF!"}},{"$f":"data!AP80&\",\"&COUNTIF($F$2:$J79,I79)","v":{"$error":"#REF!"}},{"$f":"data!AV80&\",\"&COUNTIF($F$2:$J79,J79)","v":{"$error":"#REF!"}}]
[{"$f":"#REF!&\",\"&#REF!&\",\"&data!X81","v":{"$error":"#REF!"}},{"$f":"#REF!&\",\"&#REF!&\",\"&data!AD81","v":{"$error":"#REF!"}},{"$f":"#REF!&\",\"&#REF!&\",\"&data!AJ81","v":{"$error":"#REF!"}},{"$f":"#REF!&\",\"&#REF!&\",\"&data!AP81","v":{"$error":"#REF!"}},{"$f":"#REF!&\",\"&#REF!&\",\"&data!AV81","v":{"$error":"#REF!"}},{"$f":"data!X81&\",\"&#REF!","v":{"$error":"#REF!"}},{"$f":"data!AD81&\",\"&#REF!","v":{"$error":"#REF!"}},{"$f":"data!AJ81&\",\"&#REF!","v":{"$error":"#REF!"}},{"$f":"data!AP81&\",\"&#REF!","v":{"$error":"#REF!"}},{"$f":"data!AV81&\",\"&#REF!","v":{"$error":"#REF!"}},{"$f":"data!X81&\",\"&COUNTIF($F$2:$J80,F80)","v":{"$error":"#REF!"}},{"$f":"data!AD81&\",\"&COUNTIF($F$2:$J80,G80)","v":{"$error":"#REF!"}},{"$f":"data!AJ81&\",\"&COUNTIF($F$2:$J80,H80)","v":{"$error":"#REF!"}},{"$f":"data!AP81&\",\"&COUNTIF($F$2:$J80,I80)","v":{"$error":"#REF!"}},{"$f":"data!AV81&\",\"&COUNTIF($F$2:$J80,J80)","v":{"$error":"#REF!"}}]
[{"$f":"#REF!&\",\"&#REF!&\",\"&data!X82","v":{"$error":"#REF!"}},{"$f":"#REF!&\",\"&#REF!&\",\"&data!AD82","v":{"$error":"#REF!"}},{"$f":"#REF!&\",\"&#REF!&\",\"&data!AJ82","v":{"$error":"#REF!"}},{"$f":"#REF!&\",\"&#REF!&\",\"&data!AP82","v":{"$error":"#REF!"}},{"$f":"#REF!&\",\"&#REF!&\",\"&data!AV82","v":{"$error":"#REF!"}},{"$f":"data!X82&\",\"&#REF!","v":{"$error":"#REF!"}},{"$f":"data!AD82&\",\"&#REF!","v":{"$error":"#REF!"}},{"$f":"data!AJ82&\",\"&#REF!","v":{"$error":"#REF!"}},{"$f":"data!AP82&\",\"&#REF!","v":{"$error":"#REF!"}},{"$f":"data!AV82&\",\"&#REF!","v":{"$error":"#REF!"}},{"$f":"data!X82&\",\"&COUNTIF($F$2:$J81,F81)","v":{"$error":"#REF!"}},{"$f":"data!AD82&\",\"&COUNTIF($F$2:$J81,G81)","v":{"$error":"#REF!"}},{"$f":"data!AJ82&\",\"&COUNTIF($F$2:$J81,H81)","v":{"$error":"#REF!"}},{"$f":"data!AP82&\",\"&COUNTIF($F$2:$J81,I81)","v":{"$error":"#REF!"}},{"$f":"data!AV82&\",\"&COUNTIF($F$2:$J81,J81)","v":{"$error":"#REF!"}}]
[{"$f":"#REF!&\",\"&#REF!&\",\"&data!X83","v":{"$error":"#REF!"}},{"$f":"#REF!&\",\"&#REF!&\",\"&data!AD83","v":{"$error":"#REF!"}},{"$f":"#REF!&\",\"&#REF!&\",\"&data!AJ83","v":{"$error":"#REF!"}},{"$f":"#REF!&\",\"&#REF!&\",\"&data!AP83","v":{"$error":"#REF!"}},{"$f":"#REF!&\",\"&#REF!&\",\"&data!AV83","v":{"$error":"#REF!"}},{"$f":"data!X83&\",\"&#REF!","v":{"$error":"#REF!"}},{"$f":"data!AD83&\",\"&#REF!","v":{"$error":"#REF!"}},{"$f":"data!AJ83&\",\"&#REF!","v":{"$error":"#REF!"}},{"$f":"data!AP83&\",\"&#REF!","v":{"$error":"#REF!"}},{"$f":"data!AV83&\",\"&#REF!","v":{"$error":"#REF!"}},{"$f":"data!X83&\",\"&COUNTIF($F$2:$J82,F82)","v":{"$error":"#REF!"}},{"$f":"data!AD83&\",\"&COUNTIF($F$2:$J82,G82)","v":{"$error":"#REF!"}},{"$f":"data!AJ83&\",\"&COUNTIF($F$2:$J82,H82)","v":{"$error":"#REF!"}},{"$f":"data!AP83&\",\"&COUNTIF($F$2:$J82,I82)","v":{"$error":"#REF!"}},{"$f":"data!AV83&\",\"&COUNTIF($F$2:$J82,J82)","v":{"$error":"#REF!"}}]
[{"$f":"#REF!&\",\"&#REF!&\",\"&data!X84","v":{"$error":"#REF!"}},{"$f":"#REF!&\",\"&#REF!&\",\"&data!AD84","v":{"$error":"#REF!"}},{"$f":"#REF!&\",\"&#REF!&\",\"&data!AJ84","v":{"$error":"#REF!"}},{"$f":"#REF!&\",\"&#REF!&\",\"&data!AP84","v":{"$error":"#REF!"}},{"$f":"#REF!&\",\"&#REF!&\",\"&data!AV84","v":{"$error":"#REF!"}},{"$f":"data!X84&\",\"&#REF!","v":{"$error":"#REF!"}},{"$f":"data!AD84&\",\"&#REF!","v":{"$error":"#REF!"}},{"$f":"data!AJ84&\",\"&#REF!","v":{"$error":"#REF!"}},{"$f":"data!AP84&\",\"&#REF!","v":{"$error":"#REF!"}},{"$f":"data!AV84&\",\"&#REF!","v":{"$error":"#REF!"}},{"$f":"data!X84&\",\"&COUNTIF($F$2:$J83,F83)","v":{"$error":"#REF!"}},{"$f":"data!AD84&\",\"&COUNTIF($F$2:$J83,G83)","v":{"$error":"#REF!"}},{"$f":"data!AJ84&\",\"&COUNTIF($F$2:$J83,H83)","v":{"$error":"#REF!"}},{"$f":"data!AP84&\",\"&COUNTIF($F$2:$J83,I83)","v":{"$error":"#REF!"}},{"$f":"data!AV84&\",\"&COUNTIF($F$2:$J83,J83)","v":{"$error":"#REF!"}}]
[{"$f":"#REF!&\",\"&#REF!&\",\"&data!X85","v":{"$error":"#REF!"}},{"$f":"#REF!&\",\"&#REF!&\",\"&data!AD85","v":{"$error":"#REF!"}},{"$f":"#REF!&\",\"&#REF!&\",\"&data!AJ85","v":{"$error":"#REF!"}},{"$f":"#REF!&\",\"&#REF!&\",\"&data!AP85","v":{"$error":"#REF!"}},{"$f":"#REF!&\",\"&#REF!&\",\"&data!AV85","v":{"$error":"#REF!"}},{"$f":"data!X85&\",\"&#REF!","v":{"$error":"#REF!"}},{"$f":"data!AD85&\",\"&#REF!","v":{"$error":"#REF!"}},{"$f":"data!AJ85&\",\"&#REF!","v":{"$error":"#REF!"}},{"$f":"data!AP85&\",\"&#REF!","v":{"$error":"#REF!"}},{"$f":"data!AV85&\",\"&#REF!","v":{"$error":"#REF!"}},{"$f":"data!X85&\",\"&COUNTIF($F$2:$J84,F84)","v":{"$error":"#REF!"}},{"$f":"data!AD85&\",\"&COUNTIF($F$2:$J84,G84)","v":{"$error":"#REF!"}},{"$f":"data!AJ85&\",\"&COUNTIF($F$2:$J84,H84)","v":{"$error":"#REF!"}},{"$f":"data!AP85&\",\"&COUNTIF($F$2:$J84,I84)","v":{"$error":"#REF!"}},{"$f":"data!AV85&\",\"&COUNTIF($F$2:$J84,J84)","v":{"$error":"#REF!"}}]
[{"$f":"#REF!&\",\"&#REF!&\",\"&data!X86","v":{"$error":"#REF!"}},{"$f":"#REF!&\",\"&#REF!&\",\"&data!AD86","v":{"$error":"#REF!"}},{"$f":"#REF!&\",\"&#REF!&\",\"&data!AJ86","v":{"$error":"#REF!"}},{"$f":"#REF!&\",\"&#REF!&\",\"&data!AP86","v":{"$error":"#REF!"}},{"$f":"#REF!&\",\"&#REF!&\",\"&data!AV86","v":{"$error":"#REF!"}},{"$f":"data!X86&\",\"&#REF!","v":{"$error":"#REF!"}},{"$f":"data!AD86&\",\"&#REF!","v":{"$error":"#REF!"}},{"$f":"data!AJ86&\",\"&#REF!","v":{"$error":"#REF!"}},{"$f":"data!AP86&\",\"&#REF!","v":{"$error":"#REF!"}},{"$f":"data!AV86&\",\"&#REF!","v":{"$error":"#REF!"}},{"$f":"data!X86&\",\"&COUNTIF($F$2:$J85,F85)","v":{"$error":"#REF!"}},{"$f":"data!AD86&\",\"&COUNTIF($F$2:$J85,G85)","v":{"$error":"#REF!"}},{"$f":"data!AJ86&\",\"&COUNTIF($F$2:$J85,H85)","v":{"$error":"#REF!"}},{"$f":"data!AP86&\",\"&COUNTIF($F$2:$J85,I85)","v":{"$error":"#REF!"}},{"$f":"data!AV86&\",\"&COUNTIF($F$2:$J85,J85)","v":{"$error":"#REF!"}}]
[{"$f":"#REF!&\",\"&#REF!&\",\"&data!X87","v":{"$error":"#REF!"}},{"$f":"#REF!&\",\"&#REF!&\",\"&data!AD87","v":{"$error":"#REF!"}},{"$f":"#REF!&\",\"&#REF!&\",\"&data!AJ87","v":{"$error":"#REF!"}},{"$f":"#REF!&\",\"&#REF!&\",\"&data!AP87","v":{"$error":"#REF!"}},{"$f":"#REF!&\",\"&#REF!&\",\"&data!AV87","v":{"$error":"#REF!"}},{"$f":"data!X87&\",\"&#REF!","v":{"$error":"#REF!"}},{"$f":"data!AD87&\",\"&#REF!","v":{"$error":"#REF!"}},{"$f":"data!AJ87&\",\"&#REF!","v":{"$error":"#REF!"}},{"$f":"data!AP87&\",\"&#REF!","v":{"$error":"#REF!"}},{"$f":"data!AV87&\",\"&#REF!","v":{"$error":"#REF!"}},{"$f":"data!X87&\",\"&COUNTIF($F$2:$J86,F86)","v":{"$error":"#REF!"}},{"$f":"data!AD87&\",\"&COUNTIF($F$2:$J86,G86)","v":{"$error":"#REF!"}},{"$f":"data!AJ87&\",\"&COUNTIF($F$2:$J86,H86)","v":{"$error":"#REF!"}},{"$f":"data!AP87&\",\"&COUNTIF($F$2:$J86,I86)","v":{"$error":"#REF!"}},{"$f":"data!AV87&\",\"&COUNTIF($F$2:$J86,J86)","v":{"$error":"#REF!"}}]
[{"$f":"#REF!&\",\"&#REF!&\",\"&data!X88","v":{"$error":"#REF!"}},{"$f":"#REF!&\",\"&#REF!&\",\"&data!AD88","v":{"$error":"#REF!"}},{"$f":"#REF!&\",\"&#REF!&\",\"&data!AJ88","v":{"$error":"#REF!"}},{"$f":"#REF!&\",\"&#REF!&\",\"&data!AP88","v":{"$error":"#REF!"}},{"$f":"#REF!&\",\"&#REF!&\",\"&data!AV88","v":{"$error":"#REF!"}},{"$f":"data!X88&\",\"&#REF!","v":{"$error":"#REF!"}},{"$f":"data!AD88&\",\"&#REF!","v":{"$error":"#REF!"}},{"$f":"data!AJ88&\",\"&#REF!","v":{"$error":"#REF!"}},{"$f":"data!AP88&\",\"&#REF!","v":{"$error":"#REF!"}},{"$f":"data!AV88&\",\"&#REF!","v":{"$error":"#REF!"}},{"$f":"data!X88&\",\"&COUNTIF($F$2:$J87,F87)","v":{"$error":"#REF!"}},{"$f":"data!AD88&\",\"&COUNTIF($F$2:$J87,G87)","v":{"$error":"#REF!"}},{"$f":"data!AJ88&\",\"&COUNTIF($F$2:$J87,H87)","v":{"$error":"#REF!"}},{"$f":"data!AP88&\",\"&COUNTIF($F$2:$J87,I87)","v":{"$error":"#REF!"}},{"$f":"data!AV88&\",\"&COUNTIF($F$2:$J87,J87)","v":{"$error":"#REF!"}}]
[{"$f":"#REF!&\",\"&#REF!&\",\"&data!X89","v":{"$error":"#REF!"}},{"$f":"#REF!&\",\"&#REF!&\",\"&data!AD89","v":{"$error":"#REF!"}},{"$f":"#REF!&\",\"&#REF!&\",\"&data!AJ89","v":{"$error":"#REF!"}},{"$f":"#REF!&\",\"&#REF!&\",\"&data!AP89","v":{"$error":"#REF!"}},{"$f":"#REF!&\",\"&#REF!&\",\"&data!AV89","v":{"$error":"#REF!"}},{"$f":"data!X89&\",\"&#REF!","v":{"$error":"#REF!"}},{"$f":"data!AD89&\",\"&#REF!","v":{"$error":"#REF!"}},{"$f":"data!AJ89&\",\"&#REF!","v":{"$error":"#REF!"}},{"$f":"data!AP89&\",\"&#REF!","v":{"$error":"#REF!"}},{"$f":"data!AV89&\",\"&#REF!","v":{"$error":"#REF!"}},{"$f":"data!X89&\",\"&COUNTIF($F$2:$J88,F88)","v":{"$error":"#REF!"}},{"$f":"data!AD89&\",\"&COUNTIF($F$2:$J88,G88)","v":{"$error":"#REF!"}},{"$f":"data!AJ89&\",\"&COUNTIF($F$2:$J88,H88)","v":{"$error":"#REF!"}},{"$f":"data!AP89&\",\"&COUNTIF($F$2:$J88,I88)","v":{"$error":"#REF!"}},{"$f":"data!AV89&\",\"&COUNTIF($F$2:$J88,J88)","v":{"$error":"#REF!"}}]
[{"$f":"#REF!&\",\"&#REF!&\",\"&data!X90","v":{"$error":"#REF!"}},{"$f":"#REF!&\",\"&#REF!&\",\"&data!AD90","v":{"$error":"#REF!"}},{"$f":"#REF!&\",\"&#REF!&\",\"&data!AJ90","v":{"$error":"#REF!"}},{"$f":"#REF!&\",\"&#REF!&\",\"&data!AP90","v":{"$error":"#REF!"}},{"$f":"#REF!&\",\"&#REF!&\",\"&data!AV90","v":{"$error":"#REF!"}},{"$f":"data!X90&\",\"&#REF!","v":{"$error":"#REF!"}},{"$f":"data!AD90&\",\"&#REF!","v":{"$error":"#REF!"}},{"$f":"data!AJ90&\",\"&#REF!","v":{"$error":"#REF!"}},{"$f":"data!AP90&\",\"&#REF!","v":{"$error":"#REF!"}},{"$f":"data!AV90&\",\"&#REF!","v":{"$error":"#REF!"}},{"$f":"data!X90&\",\"&COUNTIF($F$2:$J89,F89)","v":{"$error":"#REF!"}},{"$f":"data!AD90&\",\"&COUNTIF($F$2:$J89,G89)","v":{"$error":"#REF!"}},{"$f":"data!AJ90&\",\"&COUNTIF($F$2:$J89,H89)","v":{"$error":"#REF!"}},{"$f":"data!AP90&\",\"&COUNTIF($F$2:$J89,I89)","v":{"$error":"#REF!"}},{"$f":"data!AV90&\",\"&COUNTIF($F$2:$J89,J89)","v":{"$error":"#REF!"}}]
[{"$f":"#REF!&\",\"&#REF!&\",\"&data!X91","v":{"$error":"#REF!"}},{"$f":"#REF!&\",\"&#REF!&\",\"&data!AD91","v":{"$error":"#REF!"}},{"$f":"#REF!&\",\"&#REF!&\",\"&data!AJ91","v":{"$error":"#REF!"}},{"$f":"#REF!&\",\"&#REF!&\",\"&data!AP91","v":{"$error":"#REF!"}},{"$f":"#REF!&\",\"&#REF!&\",\"&data!AV91","v":{"$error":"#REF!"}},{"$f":"data!X91&\",\"&#REF!","v":{"$error":"#REF!"}},{"$f":"data!AD91&\",\"&#REF!","v":{"$error":"#REF!"}},{"$f":"data!AJ91&\",\"&#REF!","v":{"$error":"#REF!"}},{"$f":"data!AP91&\",\"&#REF!","v":{"$error":"#REF!"}},{"$f":"data!AV91&\",\"&#REF!","v":{"$error":"#REF!"}},{"$f":"data!X91&\",\"&COUNTIF($F$2:$J90,F90)","v":{"$error":"#REF!"}},{"$f":"data!AD91&\",\"&COUNTIF($F$2:$J90,G90)","v":{"$error":"#REF!"}},{"$f":"data!AJ91&\",\"&COUNTIF($F$2:$J90,H90)","v":{"$error":"#REF!"}},{"$f":"data!AP91&\",\"&COUNTIF($F$2:$J90,I90)","v":{"$error":"#REF!"}},{"$f":"data!AV91&\",\"&COUNTIF($F$2:$J90,J90)","v":{"$error":"#REF!"}}]
[{"$f":"#REF!&\",\"&#REF!&\",\"&data!X92","v":{"$error":"#REF!"}},{"$f":"#REF!&\",\"&#REF!&\",\"&data!AD92","v":{"$error":"#REF!"}},{"$f":"#REF!&\",\"&#REF!&\",\"&data!AJ92","v":{"$error":"#REF!"}},{"$f":"#REF!&\",\"&#REF!&\",\"&data!AP92","v":{"$error":"#REF!"}},{"$f":"#REF!&\",\"&#REF!&\",\"&data!AV92","v":{"$error":"#REF!"}},{"$f":"data!X92&\",\"&#REF!","v":{"$error":"#REF!"}},{"$f":"data!AD92&\",\"&#REF!","v":{"$error":"#REF!"}},{"$f":"data!AJ92&\",\"&#REF!","v":{"$error":"#REF!"}},{"$f":"data!AP92&\",\"&#REF!","v":{"$error":"#REF!"}},{"$f":"data!AV92&\",\"&#REF!","v":{"$error":"#REF!"}},{"$f":"data!X92&\",\"&COUNTIF($F$2:$J91,F91)","v":{"$error":"#REF!"}},{"$f":"data!AD92&\",\"&COUNTIF($F$2:$J91,G91)","v":{"$error":"#REF!"}},{"$f":"data!AJ92&\",\"&COUNTIF($F$2:$J91,H91)","v":{"$error":"#REF!"}},{"$f":"data!AP92&\",\"&COUNTIF($F$2:$J91,I91)","v":{"$error":"#REF!"}},{"$f":"data!AV92&\",\"&COUNTIF($F$2:$J91,J91)","v":{"$error":"#REF!"}}]
[{"$f":"#REF!&\",\"&#REF!&\",\"&data!X93","v":{"$error":"#REF!"}},{"$f":"#REF!&\",\"&#REF!&\",\"&data!AD93","v":{"$error":"#REF!"}},{"$f":"#REF!&\",\"&#REF!&\",\"&data!AJ93","v":{"$error":"#REF!"}},{"$f":"#REF!&\",\"&#REF!&\",\"&data!AP93","v":{"$error":"#REF!"}},{"$f":"#REF!&\",\"&#REF!&\",\"&data!AV93","v":{"$error":"#REF!"}},{"$f":"data!X93&\",\"&#REF!","v":{"$error":"#REF!"}},{"$f":"data!AD93&\",\"&#REF!","v":{"$error":"#REF!"}},{"$f":"data!AJ93&\",\"&#REF!","v":{"$error":"#REF!"}},{"$f":"data!AP93&\",\"&#REF!","v":{"$error":"#REF!"}},{"$f":"data!AV93&\",\"&#REF!","v":{"$error":"#REF!"}},{"$f":"data!X93&\",\"&COUNTIF($F$2:$J92,F92)","v":{"$error":"#REF!"}},{"$f":"data!AD93&\",\"&COUNTIF($F$2:$J92,G92)","v":{"$error":"#REF!"}},{"$f":"data!AJ93&\",\"&COUNTIF($F$2:$J92,H92)","v":{"$error":"#REF!"}},{"$f":"data!AP93&\",\"&COUNTIF($F$2:$J92,I92)","v":{"$error":"#REF!"}},{"$f":"data!AV93&\",\"&COUNTIF($F$2:$J92,J92)","v":{"$error":"#REF!"}}]
[{"$f":"#REF!&\",\"&#REF!&\",\"&data!X94","v":{"$error":"#REF!"}},{"$f":"#REF!&\",\"&#REF!&\",\"&data!AD94","v":{"$error":"#REF!"}},{"$f":"#REF!&\",\"&#REF!&\",\"&data!AJ94","v":{"$error":"#REF!"}},{"$f":"#REF!&\",\"&#REF!&\",\"&data!AP94","v":{"$error":"#REF!"}},{"$f":"#REF!&\",\"&#REF!&\",\"&data!AV94","v":{"$error":"#REF!"}},{"$f":"data!X94&\",\"&#REF!","v":{"$error":"#REF!"}},{"$f":"data!AD94&\",\"&#REF!","v":{"$error":"#REF!"}},{"$f":"data!AJ94&\",\"&#REF!","v":{"$error":"#REF!"}},{"$f":"data!AP94&\",\"&#REF!","v":{"$error":"#REF!"}},{"$f":"data!AV94&\",\"&#REF!","v":{"$error":"#REF!"}},{"$f":"data!X94&\",\"&COUNTIF($F$2:$J93,F93)","v":{"$error":"#REF!"}},{"$f":"data!AD94&\",\"&COUNTIF($F$2:$J93,G93)","v":{"$error":"#REF!"}},{"$f":"data!AJ94&\",\"&COUNTIF($F$2:$J93,H93)","v":{"$error":"#REF!"}},{"$f":"data!AP94&\",\"&COUNTIF($F$2:$J93,I93)","v":{"$error":"#REF!"}},{"$f":"data!AV94&\",\"&COUNTIF($F$2:$J93,J93)","v":{"$error":"#REF!"}}]
[{"$f":"#REF!&\",\"&#REF!&\",\"&data!X95","v":{"$error":"#REF!"}},{"$f":"#REF!&\",\"&#REF!&\",\"&data!AD95","v":{"$error":"#REF!"}},{"$f":"#REF!&\",\"&#REF!&\",\"&data!AJ95","v":{"$error":"#REF!"}},{"$f":"#REF!&\",\"&#REF!&\",\"&data!AP95","v":{"$error":"#REF!"}},{"$f":"#REF!&\",\"&#REF!&\",\"&data!AV95","v":{"$error":"#REF!"}},{"$f":"data!X95&\",\"&#REF!","v":{"$error":"#REF!"}},{"$f":"data!AD95&\",\"&#REF!","v":{"$error":"#REF!"}},{"$f":"data!AJ95&\",\"&#REF!","v":{"$error":"#REF!"}},{"$f":"data!AP95&\",\"&#REF!","v":{"$error":"#REF!"}},{"$f":"data!AV95&\",\"&#REF!","v":{"$error":"#REF!"}},{"$f":"data!X95&\",\"&COUNTIF($F$2:$J94,F94)","v":{"$error":"#REF!"}},{"$f":"data!AD95&\",\"&COUNTIF($F$2:$J94,G94)","v":{"$error":"#REF!"}},{"$f":"data!AJ95&\",\"&COUNTIF($F$2:$J94,H94)","v":{"$error":"#REF!"}},{"$f":"data!AP95&\",\"&COUNTIF($F$2:$J94,I94)","v":{"$error":"#REF!"}},{"$f":"data!AV95&\",\"&COUNTIF($F$2:$J94,J94)","v":{"$error":"#REF!"}}]
[{"$f":"#REF!&\",\"&#REF!&\",\"&data!X96","v":{"$error":"#REF!"}},{"$f":"#REF!&\",\"&#REF!&\",\"&data!AD96","v":{"$error":"#REF!"}},{"$f":"#REF!&\",\"&#REF!&\",\"&data!AJ96","v":{"$error":"#REF!"}},{"$f":"#REF!&\",\"&#REF!&\",\"&data!AP96","v":{"$error":"#REF!"}},{"$f":"#REF!&\",\"&#REF!&\",\"&data!AV96","v":{"$error":"#REF!"}},{"$f":"data!X96&\",\"&#REF!","v":{"$error":"#REF!"}},{"$f":"data!AD96&\",\"&#REF!","v":{"$error":"#REF!"}},{"$f":"data!AJ96&\",\"&#REF!","v":{"$error":"#REF!"}},{"$f":"data!AP96&\",\"&#REF!","v":{"$error":"#REF!"}},{"$f":"data!AV96&\",\"&#REF!","v":{"$error":"#REF!"}},{"$f":"data!X96&\",\"&COUNTIF($F$2:$J95,F95)","v":{"$error":"#REF!"}},{"$f":"data!AD96&\",\"&COUNTIF($F$2:$J95,G95)","v":{"$error":"#REF!"}},{"$f":"data!AJ96&\",\"&COUNTIF($F$2:$J95,H95)","v":{"$error":"#REF!"}},{"$f":"data!AP96&\",\"&COUNTIF($F$2:$J95,I95)","v":{"$error":"#REF!"}},{"$f":"data!AV96&\",\"&COUNTIF($F$2:$J95,J95)","v":{"$error":"#REF!"}}]
[{"$f":"#REF!&\",\"&#REF!&\",\"&data!X97","v":{"$error":"#REF!"}},{"$f":"#REF!&\",\"&#REF!&\",\"&data!AD97","v":{"$error":"#REF!"}},{"$f":"#REF!&\",\"&#REF!&\",\"&data!AJ97","v":{"$error":"#REF!"}},{"$f":"#REF!&\",\"&#REF!&\",\"&data!AP97","v":{"$error":"#REF!"}},{"$f":"#REF!&\",\"&#REF!&\",\"&data!AV97","v":{"$error":"#REF!"}},{"$f":"data!X97&\",\"&#REF!","v":{"$error":"#REF!"}},{"$f":"data!AD97&\",\"&#REF!","v":{"$error":"#REF!"}},{"$f":"data!AJ97&\",\"&#REF!","v":{"$error":"#REF!"}},{"$f":"data!AP97&\",\"&#REF!","v":{"$error":"#REF!"}},{"$f":"data!AV97&\",\"&#REF!","v":{"$error":"#REF!"}},{"$f":"data!X97&\",\"&COUNTIF($F$2:$J96,F96)","v":{"$error":"#REF!"}},{"$f":"data!AD97&\",\"&COUNTIF($F$2:$J96,G96)","v":{"$error":"#REF!"}},{"$f":"data!AJ97&\",\"&COUNTIF($F$2:$J96,H96)","v":{"$error":"#REF!"}},{"$f":"data!AP97&\",\"&COUNTIF($F$2:$J96,I96)","v":{"$error":"#REF!"}},{"$f":"data!AV97&\",\"&COUNTIF($F$2:$J96,J96)","v":{"$error":"#REF!"}}]
[{"$f":"#REF!&\",\"&#REF!&\",\"&data!X98","v":{"$error":"#REF!"}},{"$f":"#REF!&\",\"&#REF!&\",\"&data!AD98","v":{"$error":"#REF!"}},{"$f":"#REF!&\",\"&#REF!&\",\"&data!AJ98","v":{"$error":"#REF!"}},{"$f":"#REF!&\",\"&#REF!&\",\"&data!AP98","v":{"$error":"#REF!"}},{"$f":"#REF!&\",\"&#REF!&\",\"&data!AV98","v":{"$error":"#REF!"}},{"$f":"data!X98&\",\"&#REF!","v":{"$error":"#REF!"}},{"$f":"data!AD98&\",\"&#REF!","v":{"$error":"#REF!"}},{"$f":"data!AJ98&\",\"&#REF!","v":{"$error":"#REF!"}},{"$f":"data!AP98&\",\"&#REF!","v":{"$error":"#REF!"}},{"$f":"data!AV98&\",\"&#REF!","v":{"$error":"#REF!"}},{"$f":"data!X98&\",\"&COUNTIF($F$2:$J97,F97)","v":{"$error":"#REF!"}},{"$f":"data!AD98&\",\"&COUNTIF($F$2:$J97,G97)","v":{"$error":"#REF!"}},{"$f":"data!AJ98&\",\"&COUNTIF($F$2:$J97,H97)","v":{"$error":"#REF!"}},{"$f":"data!AP98&\",\"&COUNTIF($F$2:$J97,I97)","v":{"$error":"#REF!"}},{"$f":"data!AV98&\",\"&COUNTIF($F$2:$J97,J97)","v":{"$error":"#REF!"}}]
[{"$f":"#REF!&\",\"&#REF!&\",\"&data!X99","v":{"$error":"#REF!"}},{"$f":"#REF!&\",\"&#REF!&\",\"&data!AD99","v":{"$error":"#REF!"}},{"$f":"#REF!&\",\"&#REF!&\",\"&data!AJ99","v":{"$error":"#REF!"}},{"$f":"#REF!&\",\"&#REF!&\",\"&data!AP99","v":{"$error":"#REF!"}},{"$f":"#REF!&\",\"&#REF!&\",\"&data!AV99","v":{"$error":"#REF!"}},{"$f":"data!X99&\",\"&#REF!","v":{"$error":"#REF!"}},{"$f":"data!AD99&\",\"&#REF!","v":{"$error":"#REF!"}},{"$f":"data!AJ99&\",\"&#REF!","v":{"$error":"#REF!"}},{"$f":"data!AP99&\",\"&#REF!","v":{"$error":"#REF!"}},{"$f":"data!AV99&\",\"&#REF!","v":{"$error":"#REF!"}},{"$f":"data!X99&\",\"&COUNTIF($F$2:$J98,F98)","v":{"$error":"#REF!"}},{"$f":"data!AD99&\",\"&COUNTIF($F$2:$J98,G98)","v":{"$error":"#REF!"}},{"$f":"data!AJ99&\",\"&COUNTIF($F$2:$J98,H98)","v":{"$error":"#REF!"}},{"$f":"data!AP99&\",\"&COUNTIF($F$2:$J98,I98)","v":{"$error":"#REF!"}},{"$f":"data!AV99&\",\"&COUNTIF($F$2:$J98,J98)","v":{"$error":"#REF!"}}]
[{"$f":"#REF!&\",\"&#REF!&\",\"&data!X100","v":{"$error":"#REF!"}},{"$f":"#REF!&\",\"&#REF!&\",\"&data!AD100","v":{"$error":"#REF!"}},{"$f":"#REF!&\",\"&#REF!&\",\"&data!AJ100","v":{"$error":"#REF!"}},{"$f":"#REF!&\",\"&#REF!&\",\"&data!AP100","v":{"$error":"#REF!"}},{"$f":"#REF!&\",\"&#REF!&\",\"&data!AV100","v":{"$error":"#REF!"}},{"$f":"data!X100&\",\"&#REF!","v":{"$error":"#REF!"}},{"$f":"data!AD100&\",\"&#REF!","v":{"$error":"#REF!"}},{"$f":"data!AJ100&\",\"&#REF!","v":{"$error":"#REF!"}},{"$f":"data!AP100&\",\"&#REF!","v":{"$error":"#REF!"}},{"$f":"data!AV100&\",\"&#REF!","v":{"$error":"#REF!"}},{"$f":"data!X100&\",\"&COUNTIF($F$2:$J99,F99)","v":{"$error":"#REF!"}},{"$f":"data!AD100&\",\"&COUNTIF($F$2:$J99,G99)","v":{"$error":"#REF!"}},{"$f":"data!AJ100&\",\"&COUNTIF($F$2:$J99,H99)","v":{"$error":"#REF!"}},{"$f":"data!AP100&\",\"&COUNTIF($F$2:$J99,I99)","v":{"$error":"#REF!"}},{"$f":"data!AV100&\",\"&COUNTIF($F$2:$J99,J99)","v":{"$error":"#REF!"}}]
[{"$f":"#REF!&\",\"&#REF!&\",\"&data!X101","v":{"$error":"#REF!"}},{"$f":"#REF!&\",\"&#REF!&\",\"&data!AD101","v":{"$error":"#REF!"}},{"$f":"#REF!&\",\"&#REF!&\",\"&data!AJ101","v":{"$error":"#REF!"}},{"$f":"#REF!&\",\"&#REF!&\",\"&data!AP101","v":{"$error":"#REF!"}},{"$f":"#REF!&\",\"&#REF!&\",\"&data!AV101","v":{"$error":"#REF!"}},{"$f":"data!X101&\",\"&#REF!","v":{"$error":"#REF!"}},{"$f":"data!AD101&\",\"&#REF!","v":{"$error":"#REF!"}},{"$f":"data!AJ101&\",\"&#REF!","v":{"$error":"#REF!"}},{"$f":"data!AP101&\",\"&#REF!","v":{"$error":"#REF!"}},{"$f":"data!AV101&\",\"&#REF!","v":{"$error":"#REF!"}},{"$f":"data!X101&\",\"&COUNTIF($F$2:$J100,F100)","v":{"$error":"#REF!"}},{"$f":"data!AD101&\",\"&COUNTIF($F$2:$J100,G100)","v":{"$error":"#REF!"}},{"$f":"data!AJ101&\",\"&COUNTIF($F$2:$J100,H100)","v":{"$error":"#REF!"}},{"$f":"data!AP101&\",\"&COUNTIF($F$2:$J100,I100)","v":{"$error":"#REF!"}},{"$f":"data!AV101&\",\"&COUNTIF($F$2:$J100,J100)","v":{"$error":"#REF!"}}]
[{"$f":"#REF!&\",\"&#REF!&\",\"&data!X102","v":{"$error":"#REF!"}},{"$f":"#REF!&\",\"&#REF!&\",\"&data!AD102","v":{"$error":"#REF!"}},{"$f":"#REF!&\",\"&#REF!&\",\"&data!AJ102","v":{"$error":"#REF!"}},{"$f":"#REF!&\",\"&#REF!&\",\"&data!AP102","v":{"$error":"#REF!"}},{"$f":"#REF!&\",\"&#REF!&\",\"&data!AV102","v":{"$error":"#REF!"}},{"$f":"data!X102&\",\"&#REF!","v":{"$error":"#REF!"}},{"$f":"data!AD102&\",\"&#REF!","v":{"$error":"#REF!"}},{"$f":"data!AJ102&\",\"&#REF!","v":{"$error":"#REF!"}},{"$f":"data!AP102&\",\"&#REF!","v":{"$error":"#REF!"}},{"$f":"data!AV102&\",\"&#REF!","v":{"$error":"#REF!"}},{"$f":"data!X102&\",\"&COUNTIF($F$2:$J101,F101)","v":{"$error":"#REF!"}},{"$f":"data!AD102&\",\"&COUNTIF($F$2:$J101,G101)","v":{"$error":"#REF!"}},{"$f":"data!AJ102&\",\"&COUNTIF($F$2:$J101,H101)","v":{"$error":"#REF!"}},{"$f":"data!AP102&\",\"&COUNTIF($F$2:$J101,I101)","v":{"$error":"#REF!"}},{"$f":"data!AV102&\",\"&COUNTIF($F$2:$J101,J101)","v":{"$error":"#REF!"}}]
[{"$f":"#REF!&\",\"&#REF!&\",\"&data!X103","v":{"$error":"#REF!"}},{"$f":"#REF!&\",\"&#REF!&\",\"&data!AD103","v":{"$error":"#REF!"}},{"$f":"#REF!&\",\"&#REF!&\",\"&data!AJ103","v":{"$error":"#REF!"}},{"$f":"#REF!&\",\"&#REF!&\",\"&data!AP103","v":{"$error":"#REF!"}},{"$f":"#REF!&\",\"&#REF!&\",\"&data!AV103","v":{"$error":"#REF!"}},{"$f":"data!X103&\",\"&#REF!","v":{"$error":"#REF!"}},{"$f":"data!AD103&\",\"&#REF!","v":{"$error":"#REF!"}},{"$f":"data!AJ103&\",\"&#REF!","v":{"$error":"#REF!"}},{"$f":"data!AP103&\",\"&#REF!","v":{"$error":"#REF!"}},{"$f":"data!AV103&\",\"&#REF!","v":{"$error":"#REF!"}},{"$f":"data!X103&\",\"&COUNTIF($F$2:$J102,F102)","v":{"$error":"#REF!"}},{"$f":"data!AD103&\",\"&COUNTIF($F$2:$J102,G102)","v":{"$error":"#REF!"}},{"$f":"data!AJ103&\",\"&COUNTIF($F$2:$J102,H102)","v":{"$error":"#REF!"}},{"$f":"data!AP103&\",\"&COUNTIF($F$2:$J102,I102)","v":{"$error":"#REF!"}},{"$f":"data!AV103&\",\"&COUNTIF($F$2:$J102,J102)","v":{"$error":"#REF!"}}]
[{"$f":"#REF!&\",\"&#REF!&\",\"&data!X104","v":{"$error":"#REF!"}},{"$f":"#REF!&\",\"&#REF!&\",\"&data!AD104","v":{"$error":"#REF!"}},{"$f":"#REF!&\",\"&#REF!&\",\"&data!AJ104","v":{"$error":"#REF!"}},{"$f":"#REF!&\",\"&#REF!&\",\"&data!AP104","v":{"$error":"#REF!"}},{"$f":"#REF!&\",\"&#REF!&\",\"&data!AV104","v":{"$error":"#REF!"}},{"$f":"data!X104&\",\"&#REF!","v":{"$error":"#REF!"}},{"$f":"data!AD104&\",\"&#REF!","v":{"$error":"#REF!"}},{"$f":"data!AJ104&\",\"&#REF!","v":{"$error":"#REF!"}},{"$f":"data!AP104&\",\"&#REF!","v":{"$error":"#REF!"}},{"$f":"data!AV104&\",\"&#REF!","v":{"$error":"#REF!"}},{"$f":"data!X104&\",\"&COUNTIF($F$2:$J103,F103)","v":{"$error":"#REF!"}},{"$f":"data!AD104&\",\"&COUNTIF($F$2:$J103,G103)","v":{"$error":"#REF!"}},{"$f":"data!AJ104&\",\"&COUNTIF($F$2:$J103,H103)","v":{"$error":"#REF!"}},{"$f":"data!AP104&\",\"&COUNTIF($F$2:$J103,I103)","v":{"$error":"#REF!"}},{"$f":"data!AV104&\",\"&COUNTIF($F$2:$J103,J103)","v":{"$error":"#REF!"}}]
[{"$f":"#REF!&\",\"&#REF!&\",\"&data!X105","v":{"$error":"#REF!"}},{"$f":"#REF!&\",\"&#REF!&\",\"&data!AD105","v":{"$error":"#REF!"}},{"$f":"#REF!&\",\"&#REF!&\",\"&data!AJ105","v":{"$error":"#REF!"}},{"$f":"#REF!&\",\"&#REF!&\",\"&data!AP105","v":{"$error":"#REF!"}},{"$f":"#REF!&\",\"&#REF!&\",\"&data!AV105","v":{"$error":"#REF!"}},{"$f":"data!X105&\",\"&#REF!","v":{"$error":"#REF!"}},{"$f":"data!AD105&\",\"&#REF!","v":{"$error":"#REF!"}},{"$f":"data!AJ105&\",\"&#REF!","v":{"$error":"#REF!"}},{"$f":"data!AP105&\",\"&#REF!","v":{"$error":"#REF!"}},{"$f":"data!AV105&\",\"&#REF!","v":{"$error":"#REF!"}},{"$f":"data!X105&\",\"&COUNTIF($F$2:$J104,F104)","v":{"$error":"#REF!"}},{"$f":"data!AD105&\",\"&COUNTIF($F$2:$J104,G104)","v":{"$error":"#REF!"}},{"$f":"data!AJ105&\",\"&COUNTIF($F$2:$J104,H104)","v":{"$error":"#REF!"}},{"$f":"data!AP105&\",\"&COUNTIF($F$2:$J104,I104)","v":{"$error":"#REF!"}},{"$f":"data!AV105&\",\"&COUNTIF($F$2:$J104,J104)","v":{"$error":"#REF!"}}]
[{"$f":"#REF!&\",\"&#REF!&\",\"&data!X106","v":{"$error":"#REF!"}},{"$f":"#REF!&\",\"&#REF!&\",\"&data!AD106","v":{"$error":"#REF!"}},{"$f":"#REF!&\",\"&#REF!&\",\"&data!AJ106","v":{"$error":"#REF!"}},{"$f":"#REF!&\",\"&#REF!&\",\"&data!AP106","v":{"$error":"#REF!"}},{"$f":"#REF!&\",\"&#REF!&\",\"&data!AV106","v":{"$error":"#REF!"}},{"$f":"data!X106&\",\"&#REF!","v":{"$error":"#REF!"}},{"$f":"data!AD106&\",\"&#REF!","v":{"$error":"#REF!"}},{"$f":"data!AJ106&\",\"&#REF!","v":{"$error":"#REF!"}},{"$f":"data!AP106&\",\"&#REF!","v":{"$error":"#REF!"}},{"$f":"data!AV106&\",\"&#REF!","v":{"$error":"#REF!"}},{"$f":"data!X106&\",\"&COUNTIF($F$2:$J105,F105)","v":{"$error":"#REF!"}},{"$f":"data!AD106&\",\"&COUNTIF($F$2:$J105,G105)","v":{"$error":"#REF!"}},{"$f":"data!AJ106&\",\"&COUNTIF($F$2:$J105,H105)","v":{"$error":"#REF!"}},{"$f":"data!AP106&\",\"&COUNTIF($F$2:$J105,I105)","v":{"$error":"#REF!"}},{"$f":"data!AV106&\",\"&COUNTIF($F$2:$J105,J105)","v":{"$error":"#REF!"}}]
[{"$f":"#REF!&\",\"&#REF!&\",\"&data!X107","v":{"$error":"#REF!"}},{"$f":"#REF!&\",\"&#REF!&\",\"&data!AD107","v":{"$error":"#REF!"}},{"$f":"#REF!&\",\"&#REF!&\",\"&data!AJ107","v":{"$error":"#REF!"}},{"$f":"#REF!&\",\"&#REF!&\",\"&data!AP107","v":{"$error":"#REF!"}},{"$f":"#REF!&\",\"&#REF!&\",\"&data!AV107","v":{"$error":"#REF!"}},{"$f":"data!X107&\",\"&#REF!","v":{"$error":"#REF!"}},{"$f":"data!AD107&\",\"&#REF!","v":{"$error":"#REF!"}},{"$f":"data!AJ107&\",\"&#REF!","v":{"$error":"#REF!"}},{"$f":"data!AP107&\",\"&#REF!","v":{"$error":"#REF!"}},{"$f":"data!AV107&\",\"&#REF!","v":{"$error":"#REF!"}},{"$f":"data!X107&\",\"&COUNTIF($F$2:$J106,F106)","v":{"$error":"#REF!"}},{"$f":"data!AD107&\",\"&COUNTIF($F$2:$J106,G106)","v":{"$error":"#REF!"}},{"$f":"data!AJ107&\",\"&COUNTIF($F$2:$J106,H106)","v":{"$error":"#REF!"}},{"$f":"data!AP107&\",\"&COUNTIF($F$2:$J106,I106)","v":{"$error":"#REF!"}},{"$f":"data!AV107&\",\"&COUNTIF($F$2:$J106,J106)","v":{"$error":"#REF!"}}]
[{"$f":"#REF!&\",\"&#REF!&\",\"&data!X108","v":{"$error":"#REF!"}},{"$f":"#REF!&\",\"&#REF!&\",\"&data!AD108","v":{"$error":"#REF!"}},{"$f":"#REF!&\",\"&#REF!&\",\"&data!AJ108","v":{"$error":"#REF!"}},{"$f":"#REF!&\",\"&#REF!&\",\"&data!AP108","v":{"$error":"#REF!"}},{"$f":"#REF!&\",\"&#REF!&\",\"&data!AV108","v":{"$error":"#REF!"}},{"$f":"data!X108&\",\"&#REF!","v":{"$error":"#REF!"}},{"$f":"data!AD108&\",\"&#REF!","v":{"$error":"#REF!"}},{"$f":"data!AJ108&\",\"&#REF!","v":{"$error":"#REF!"}},{"$f":"data!AP108&\",\"&#REF!","v":{"$error":"#REF!"}},{"$f":"data!AV108&\",\"&#REF!","v":{"$error":"#REF!"}},{"$f":"data!X108&\",\"&COUNTIF($F$2:$J107,F107)","v":{"$error":"#REF!"}},{"$f":"data!AD108&\",\"&COUNTIF($F$2:$J107,G107)","v":{"$error":"#REF!"}},{"$f":"data!AJ108&\",\"&COUNTIF($F$2:$J107,H107)","v":{"$error":"#REF!"}},{"$f":"data!AP108&\",\"&COUNTIF($F$2:$J107,I107)","v":{"$error":"#REF!"}},{"$f":"data!AV108&\",\"&COUNTIF($F$2:$J107,J107)","v":{"$error":"#REF!"}}]
[{"$f":"#REF!&\",\"&#REF!&\",\"&data!X109","v":{"$error":"#REF!"}},{"$f":"#REF!&\",\"&#REF!&\",\"&data!AD109","v":{"$error":"#REF!"}},{"$f":"#REF!&\",\"&#REF!&\",\"&data!AJ109","v":{"$error":"#REF!"}},{"$f":"#REF!&\",\"&#REF!&\",\"&data!AP109","v":{"$error":"#REF!"}},{"$f":"#REF!&\",\"&#REF!&\",\"&data!AV109","v":{"$error":"#REF!"}},{"$f":"data!X109&\",\"&#REF!","v":{"$error":"#REF!"}},{"$f":"data!AD109&\",\"&#REF!","v":{"$error":"#REF!"}},{"$f":"data!AJ109&\",\"&#REF!","v":{"$error":"#REF!"}},{"$f":"data!AP109&\",\"&#REF!","v":{"$error":"#REF!"}},{"$f":"data!AV109&\",\"&#REF!","v":{"$error":"#REF!"}},{"$f":"data!X109&\",\"&COUNTIF($F$2:$J108,F108)","v":{"$error":"#REF!"}},{"$f":"data!AD109&\",\"&COUNTIF($F$2:$J108,G108)","v":{"$error":"#REF!"}},{"$f":"data!AJ109&\",\"&COUNTIF($F$2:$J108,H108)","v":{"$error":"#REF!"}},{"$f":"data!AP109&\",\"&COUNTIF($F$2:$J108,I108)","v":{"$error":"#REF!"}},{"$f":"data!AV109&\",\"&COUNTIF($F$2:$J108,J108)","v":{"$error":"#REF!"}}]
[{"$f":"#REF!&\",\"&#REF!&\",\"&data!X110","v":{"$error":"#REF!"}},{"$f":"#REF!&\",\"&#REF!&\",\"&data!AD110","v":{"$error":"#REF!"}},{"$f":"#REF!&\",\"&#REF!&\",\"&data!AJ110","v":{"$error":"#REF!"}},{"$f":"#REF!&\",\"&#REF!&\",\"&data!AP110","v":{"$error":"#REF!"}},{"$f":"#REF!&\",\"&#REF!&\",\"&data!AV110","v":{"$error":"#REF!"}},{"$f":"data!X110&\",\"&#REF!","v":{"$error":"#REF!"}},{"$f":"data!AD110&\",\"&#REF!","v":{"$error":"#REF!"}},{"$f":"data!AJ110&\",\"&#REF!","v":{"$error":"#REF!"}},{"$f":"data!AP110&\",\"&#REF!","v":{"$error":"#REF!"}},{"$f":"data!AV110&\",\"&#REF!","v":{"$error":"#REF!"}},{"$f":"data!X110&\",\"&COUNTIF($F$2:$J109,F109)","v":{"$error":"#REF!"}},{"$f":"data!AD110&\",\"&COUNTIF($F$2:$J109,G109)","v":{"$error":"#REF!"}},{"$f":"data!AJ110&\",\"&COUNTIF($F$2:$J109,H109)","v":{"$error":"#REF!"}},{"$f":"data!AP110&\",\"&COUNTIF($F$2:$J109,I109)","v":{"$error":"#REF!"}},{"$f":"data!AV110&\",\"&COUNTIF($F$2:$J109,J109)","v":{"$error":"#REF!"}}]
[{"$f":"#REF!&\",\"&#REF!&\",\"&data!X111","v":{"$error":"#REF!"}},{"$f":"#REF!&\",\"&#REF!&\",\"&data!AD111","v":{"$error":"#REF!"}},{"$f":"#REF!&\",\"&#REF!&\",\"&data!AJ111","v":{"$error":"#REF!"}},{"$f":"#REF!&\",\"&#REF!&\",\"&data!AP111","v":{"$error":"#REF!"}},{"$f":"#REF!&\",\"&#REF!&\",\"&data!AV111","v":{"$error":"#REF!"}},{"$f":"data!X111&\",\"&#REF!","v":{"$error":"#REF!"}},{"$f":"data!AD111&\",\"&#REF!","v":{"$error":"#REF!"}},{"$f":"data!AJ111&\",\"&#REF!","v":{"$error":"#REF!"}},{"$f":"data!AP111&\",\"&#REF!","v":{"$error":"#REF!"}},{"$f":"data!AV111&\",\"&#REF!","v":{"$error":"#REF!"}},{"$f":"data!X111&\",\"&COUNTIF($F$2:$J110,F110)","v":{"$error":"#REF!"}},{"$f":"data!AD111&\",\"&COUNTIF($F$2:$J110,G110)","v":{"$error":"#REF!"}},{"$f":"data!AJ111&\",\"&COUNTIF($F$2:$J110,H110)","v":{"$error":"#REF!"}},{"$f":"data!AP111&\",\"&COUNTIF($F$2:$J110,I110)","v":{"$error":"#REF!"}},{"$f":"data!AV111&\",\"&COUNTIF($F$2:$J110,J110)","v":{"$error":"#REF!"}}]
[{"$f":"#REF!&\",\"&#REF!&\",\"&data!X112","v":{"$error":"#REF!"}},{"$f":"#REF!&\",\"&#REF!&\",\"&data!AD112","v":{"$error":"#REF!"}},{"$f":"#REF!&\",\"&#REF!&\",\"&data!AJ112","v":{"$error":"#REF!"}},{"$f":"#REF!&\",\"&#REF!&\",\"&data!AP112","v":{"$error":"#REF!"}},{"$f":"#REF!&\",\"&#REF!&\",\"&data!AV112","v":{"$error":"#REF!"}},{"$f":"data!X112&\",\"&#REF!","v":{"$error":"#REF!"}},{"$f":"data!AD112&\",\"&#REF!","v":{"$error":"#REF!"}},{"$f":"data!AJ112&\",\"&#REF!","v":{"$error":"#REF!"}},{"$f":"data!AP112&\",\"&#REF!","v":{"$error":"#REF!"}},{"$f":"data!AV112&\",\"&#REF!","v":{"$error":"#REF!"}},{"$f":"data!X112&\",\"&COUNTIF($F$2:$J111,F111)","v":{"$error":"#REF!"}},{"$f":"data!AD112&\",\"&COUNTIF($F$2:$J111,G111)","v":{"$error":"#REF!"}},{"$f":"data!AJ112&\",\"&COUNTIF($F$2:$J111,H111)","v":{"$error":"#REF!"}},{"$f":"data!AP112&\",\"&COUNTIF($F$2:$J111,I111)","v":{"$error":"#REF!"}},{"$f":"data!AV112&\",\"&COUNTIF($F$2:$J111,J111)","v":{"$error":"#REF!"}}]
[{"$f":"#REF!&\",\"&#REF!&\",\"&data!X113","v":{"$error":"#REF!"}},{"$f":"#REF!&\",\"&#REF!&\",\"&data!AD113","v":{"$error":"#REF!"}},{"$f":"#REF!&\",\"&#REF!&\",\"&data!AJ113","v":{"$error":"#REF!"}},{"$f":"#REF!&\",\"&#REF!&\",\"&data!AP113","v":{"$error":"#REF!"}},{"$f":"#REF!&\",\"&#REF!&\",\"&data!AV113","v":{"$error":"#REF!"}},{"$f":"data!X113&\",\"&#REF!","v":{"$error":"#REF!"}},{"$f":"data!AD113&\",\"&#REF!","v":{"$error":"#REF!"}},{"$f":"data!AJ113&\",\"&#REF!","v":{"$error":"#REF!"}},{"$f":"data!AP113&\",\"&#REF!","v":{"$error":"#REF!"}},{"$f":"data!AV113&\",\"&#REF!","v":{"$error":"#REF!"}},{"$f":"data!X113&\",\"&COUNTIF($F$2:$J112,F112)","v":{"$error":"#REF!"}},{"$f":"data!AD113&\",\"&COUNTIF($F$2:$J112,G112)","v":{"$error":"#REF!"}},{"$f":"data!AJ113&\",\"&COUNTIF($F$2:$J112,H112)","v":{"$error":"#REF!"}},{"$f":"data!AP113&\",\"&COUNTIF($F$2:$J112,I112)","v":{"$error":"#REF!"}},{"$f":"data!AV113&\",\"&COUNTIF($F$2:$J112,J112)","v":{"$error":"#REF!"}}]
[{"$f":"#REF!&\",\"&#REF!&\",\"&data!X114","v":{"$error":"#REF!"}},{"$f":"#REF!&\",\"&#REF!&\",\"&data!AD114","v":{"$error":"#REF!"}},{"$f":"#REF!&\",\"&#REF!&\",\"&data!AJ114","v":{"$error":"#REF!"}},{"$f":"#REF!&\",\"&#REF!&\",\"&data!AP114","v":{"$error":"#REF!"}},{"$f":"#REF!&\",\"&#REF!&\",\"&data!AV114","v":{"$error":"#REF!"}},{"$f":"data!X114&\",\"&#REF!","v":{"$error":"#REF!"}},{"$f":"data!AD114&\",\"&#REF!","v":{"$error":"#REF!"}},{"$f":"data!AJ114&\",\"&#REF!","v":{"$error":"#REF!"}},{"$f":"data!AP114&\",\"&#REF!","v":{"$error":"#REF!"}},{"$f":"data!AV114&\",\"&#REF!","v":{"$error":"#REF!"}},{"$f":"data!X114&\",\"&COUNTIF($F$2:$J113,F113)","v":{"$error":"#REF!"}},{"$f":"data!AD114&\",\"&COUNTIF($F$2:$J113,G113)","v":{"$error":"#REF!"}},{"$f":"data!AJ114&\",\"&COUNTIF($F$2:$J113,H113)","v":{"$error":"#REF!"}},{"$f":"data!AP114&\",\"&COUNTIF($F$2:$J113,I113)","v":{"$error":"#REF!"}},{"$f":"data!AV114&\",\"&COUNTIF($F$2:$J113,J113)","v":{"$error":"#REF!"}}]
[{"$f":"#REF!&\",\"&#REF!&\",\"&data!X115","v":{"$error":"#REF!"}},{"$f":"#REF!&\",\"&#REF!&\",\"&data!AD115","v":{"$error":"#REF!"}},{"$f":"#REF!&\",\"&#REF!&\",\"&data!AJ115","v":{"$error":"#REF!"}},{"$f":"#REF!&\",\"&#REF!&\",\"&data!AP115","v":{"$error":"#REF!"}},{"$f":"#REF!&\",\"&#REF!&\",\"&data!AV115","v":{"$error":"#REF!"}},{"$f":"data!X115&\",\"&#REF!","v":{"$error":"#REF!"}},{"$f":"data!AD115&\",\"&#REF!","v":{"$error":"#REF!"}},{"$f":"data!AJ115&\",\"&#REF!","v":{"$error":"#REF!"}},{"$f":"data!AP115&\",\"&#REF!","v":{"$error":"#REF!"}},{"$f":"data!AV115&\",\"&#REF!","v":{"$error":"#REF!"}},{"$f":"data!X115&\",\"&COUNTIF($F$2:$J114,F114)","v":{"$error":"#REF!"}},{"$f":"data!AD115&\",\"&COUNTIF($F$2:$J114,G114)","v":{"$error":"#REF!"}},{"$f":"data!AJ115&\",\"&COUNTIF($F$2:$J114,H114)","v":{"$error":"#REF!"}},{"$f":"data!AP115&\",\"&COUNTIF($F$2:$J114,I114)","v":{"$error":"#REF!"}},{"$f":"data!AV115&\",\"&COUNTIF($F$2:$J114,J114)","v":{"$error":"#REF!"}}]
[{"$f":"#REF!&\",\"&#REF!&\",\"&data!X116","v":{"$error":"#REF!"}},{"$f":"#REF!&\",\"&#REF!&\",\"&data!AD116","v":{"$error":"#REF!"}},{"$f":"#REF!&\",\"&#REF!&\",\"&data!AJ116","v":{"$error":"#REF!"}},{"$f":"#REF!&\",\"&#REF!&\",\"&data!AP116","v":{"$error":"#REF!"}},{"$f":"#REF!&\",\"&#REF!&\",\"&data!AV116","v":{"$error":"#REF!"}},{"$f":"data!X116&\",\"&#REF!","v":{"$error":"#REF!"}},{"$f":"data!AD116&\",\"&#REF!","v":{"$error":"#REF!"}},{"$f":"data!AJ116&\",\"&#REF!","v":{"$error":"#REF!"}},{"$f":"data!AP116&\",\"&#REF!","v":{"$error":"#REF!"}},{"$f":"data!AV116&\",\"&#REF!","v":{"$error":"#REF!"}},{"$f":"data!X116&\",\"&COUNTIF($F$2:$J115,F115)","v":{"$error":"#REF!"}},{"$f":"data!AD116&\",\"&COUNTIF($F$2:$J115,G115)","v":{"$error":"#REF!"}},{"$f":"data!AJ116&\",\"&COUNTIF($F$2:$J115,H115)","v":{"$error":"#REF!"}},{"$f":"data!AP116&\",\"&COUNTIF($F$2:$J115,I115)","v":{"$error":"#REF!"}},{"$f":"data!AV116&\",\"&COUNTIF($F$2:$J115,J115)","v":{"$error":"#REF!"}}]
[{"$f":"#REF!&\",\"&#REF!&\",\"&data!X117","v":{"$error":"#REF!"}},{"$f":"#REF!&\",\"&#REF!&\",\"&data!AD117","v":{"$error":"#REF!"}},{"$f":"#REF!&\",\"&#REF!&\",\"&data!AJ117","v":{"$error":"#REF!"}},{"$f":"#REF!&\",\"&#REF!&\",\"&data!AP117","v":{"$error":"#REF!"}},{"$f":"#REF!&\",\"&#REF!&\",\"&data!AV117","v":{"$error":"#REF!"}},{"$f":"data!X117&\",\"&#REF!","v":{"$error":"#REF!"}},{"$f":"data!AD117&\",\"&#REF!","v":{"$error":"#REF!"}},{"$f":"data!AJ117&\",\"&#REF!","v":{"$error":"#REF!"}},{"$f":"data!AP117&\",\"&#REF!","v":{"$error":"#REF!"}},{"$f":"data!AV117&\",\"&#REF!","v":{"$error":"#REF!"}},{"$f":"data!X117&\",\"&COUNTIF($F$2:$J116,F116)","v":{"$error":"#REF!"}},{"$f":"data!AD117&\",\"&COUNTIF($F$2:$J116,G116)","v":{"$error":"#REF!"}},{"$f":"data!AJ117&\",\"&COUNTIF($F$2:$J116,H116)","v":{"$error":"#REF!"}},{"$f":"data!AP117&\",\"&COUNTIF($F$2:$J116,I116)","v":{"$error":"#REF!"}},{"$f":"data!AV117&\",\"&COUNTIF($F$2:$J116,J116)","v":{"$error":"#REF!"}}]
[{"$f":"#REF!&\",\"&#REF!&\",\"&data!X118","v":{"$error":"#REF!"}},{"$f":"#REF!&\",\"&#REF!&\",\"&data!AD118","v":{"$error":"#REF!"}},{"$f":"#REF!&\",\"&#REF!&\",\"&data!AJ118","v":{"$error":"#REF!"}},{"$f":"#REF!&\",\"&#REF!&\",\"&data!AP118","v":{"$error":"#REF!"}},{"$f":"#REF!&\",\"&#REF!&\",\"&data!AV118","v":{"$error":"#REF!"}},{"$f":"data!X118&\",\"&#REF!","v":{"$error":"#REF!"}},{"$f":"data!AD118&\",\"&#REF!","v":{"$error":"#REF!"}},{"$f":"data!AJ118&\",\"&#REF!","v":{"$error":"#REF!"}},{"$f":"data!AP118&\",\"&#REF!","v":{"$error":"#REF!"}},{"$f":"data!AV118&\",\"&#REF!","v":{"$error":"#REF!"}},{"$f":"data!X118&\",\"&COUNTIF($F$2:$J117,F117)","v":{"$error":"#REF!"}},{"$f":"data!AD118&\",\"&COUNTIF($F$2:$J117,G117)","v":{"$error":"#REF!"}},{"$f":"data!AJ118&\",\"&COUNTIF($F$2:$J117,H117)","v":{"$error":"#REF!"}},{"$f":"data!AP118&\",\"&COUNTIF($F$2:$J117,I117)","v":{"$error":"#REF!"}},{"$f":"data!AV118&\",\"&COUNTIF($F$2:$J117,J117)","v":{"$error":"#REF!"}}]
[{"$f":"#REF!&\",\"&#REF!&\",\"&data!X119","v":{"$error":"#REF!"}},{"$f":"#REF!&\",\"&#REF!&\",\"&data!AD119","v":{"$error":"#REF!"}},{"$f":"#REF!&\",\"&#REF!&\",\"&data!AJ119","v":{"$error":"#REF!"}},{"$f":"#REF!&\",\"&#REF!&\",\"&data!AP119","v":{"$error":"#REF!"}},{"$f":"#REF!&\",\"&#REF!&\",\"&data!AV119","v":{"$error":"#REF!"}},{"$f":"data!X119&\",\"&#REF!","v":{"$error":"#REF!"}},{"$f":"data!AD119&\",\"&#REF!","v":{"$error":"#REF!"}},{"$f":"data!AJ119&\",\"&#REF!","v":{"$error":"#REF!"}},{"$f":"data!AP119&\",\"&#REF!","v":{"$error":"#REF!"}},{"$f":"data!AV119&\",\"&#REF!","v":{"$error":"#REF!"}},{"$f":"data!X119&\",\"&COUNTIF($F$2:$J118,F118)","v":{"$error":"#REF!"}},{"$f":"data!AD119&\",\"&COUNTIF($F$2:$J118,G118)","v":{"$error":"#REF!"}},{"$f":"data!AJ119&\",\"&COUNTIF($F$2:$J118,H118)","v":{"$error":"#REF!"}},{"$f":"data!AP119&\",\"&COUNTIF($F$2:$J118,I118)","v":{"$error":"#REF!"}},{"$f":"data!AV119&\",\"&COUNTIF($F$2:$J118,J118)","v":{"$error":"#REF!"}}]
[{"$f":"#REF!&\",\"&#REF!&\",\"&data!X120","v":{"$error":"#REF!"}},{"$f":"#REF!&\",\"&#REF!&\",\"&data!AD120","v":{"$error":"#REF!"}},{"$f":"#REF!&\",\"&#REF!&\",\"&data!AJ120","v":{"$error":"#REF!"}},{"$f":"#REF!&\",\"&#REF!&\",\"&data!AP120","v":{"$error":"#REF!"}},{"$f":"#REF!&\",\"&#REF!&\",\"&data!AV120","v":{"$error":"#REF!"}},{"$f":"data!X120&\",\"&#REF!","v":{"$error":"#REF!"}},{"$f":"data!AD120&\",\"&#REF!","v":{"$error":"#REF!"}},{"$f":"data!AJ120&\",\"&#REF!","v":{"$error":"#REF!"}},{"$f":"data!AP120&\",\"&#REF!","v":{"$error":"#REF!"}},{"$f":"data!AV120&\",\"&#REF!","v":{"$error":"#REF!"}},{"$f":"data!X120&\",\"&COUNTIF($F$2:$J119,F119)","v":{"$error":"#REF!"}},{"$f":"data!AD120&\",\"&COUNTIF($F$2:$J119,G119)","v":{"$error":"#REF!"}},{"$f":"data!AJ120&\",\"&COUNTIF($F$2:$J119,H119)","v":{"$error":"#REF!"}},{"$f":"data!AP120&\",\"&COUNTIF($F$2:$J119,I119)","v":{"$error":"#REF!"}},{"$f":"data!AV120&\",\"&COUNTIF($F$2:$J119,J119)","v":{"$error":"#REF!"}}]
[{"$f":"#REF!&\",\"&#REF!&\",\"&data!X121","v":{"$error":"#REF!"}},{"$f":"#REF!&\",\"&#REF!&\",\"&data!AD121","v":{"$error":"#REF!"}},{"$f":"#REF!&\",\"&#REF!&\",\"&data!AJ121","v":{"$error":"#REF!"}},{"$f":"#REF!&\",\"&#REF!&\",\"&data!AP121","v":{"$error":"#REF!"}},{"$f":"#REF!&\",\"&#REF!&\",\"&data!AV121","v":{"$error":"#REF!"}},{"$f":"data!X121&\",\"&#REF!","v":{"$error":"#REF!"}},{"$f":"data!AD121&\",\"&#REF!","v":{"$error":"#REF!"}},{"$f":"data!AJ121&\",\"&#REF!","v":{"$error":"#REF!"}},{"$f":"data!AP121&\",\"&#REF!","v":{"$error":"#REF!"}},{"$f":"data!AV121&\",\"&#REF!","v":{"$error":"#REF!"}},{"$f":"data!X121&\",\"&COUNTIF($F$2:$J120,F120)","v":{"$error":"#REF!"}},{"$f":"data!AD121&\",\"&COUNTIF($F$2:$J120,G120)","v":{"$error":"#REF!"}},{"$f":"data!AJ121&\",\"&COUNTIF($F$2:$J120,H120)","v":{"$error":"#REF!"}},{"$f":"data!AP121&\",\"&COUNTIF($F$2:$J120,I120)","v":{"$error":"#REF!"}},{"$f":"data!AV121&\",\"&COUNTIF($F$2:$J120,J120)","v":{"$error":"#REF!"}}]
[{"$f":"#REF!&\",\"&#REF!&\",\"&data!X122","v":{"$error":"#REF!"}},{"$f":"#REF!&\",\"&#REF!&\",\"&data!AD122","v":{"$error":"#REF!"}},{"$f":"#REF!&\",\"&#REF!&\",\"&data!AJ122","v":{"$error":"#REF!"}},{"$f":"#REF!&\",\"&#REF!&\",\"&data!AP122","v":{"$error":"#REF!"}},{"$f":"#REF!&\",\"&#REF!&\",\"&data!AV122","v":{"$error":"#REF!"}},{"$f":"data!X122&\",\"&#REF!","v":{"$error":"#REF!"}},{"$f":"data!AD122&\",\"&#REF!","v":{"$error":"#REF!"}},{"$f":"data!AJ122&\",\"&#REF!","v":{"$error":"#REF!"}},{"$f":"data!AP122&\",\"&#REF!","v":{"$error":"#REF!"}},{"$f":"data!AV122&\",\"&#REF!","v":{"$error":"#REF!"}},{"$f":"data!X122&\",\"&COUNTIF($F$2:$J121,F121)","v":{"$error":"#REF!"}},{"$f":"data!AD122&\",\"&COUNTIF($F$2:$J121,G121)","v":{"$error":"#REF!"}},{"$f":"data!AJ122&\",\"&COUNTIF($F$2:$J121,H121)","v":{"$error":"#REF!"}},{"$f":"data!AP122&\",\"&COUNTIF($F$2:$J121,I121)","v":{"$error":"#REF!"}},{"$f":"data!AV122&\",\"&COUNTIF($F$2:$J121,J121)","v":{"$error":"#REF!"}}]
[{"$f":"#REF!&\",\"&#REF!&\",\"&data!X123","v":{"$error":"#REF!"}},{"$f":"#REF!&\",\"&#REF!&\",\"&data!AD123","v":{"$error":"#REF!"}},{"$f":"#REF!&\",\"&#REF!&\",\"&data!AJ123","v":{"$error":"#REF!"}},{"$f":"#REF!&\",\"&#REF!&\",\"&data!AP123","v":{"$error":"#REF!"}},{"$f":"#REF!&\",\"&#REF!&\",\"&data!AV123","v":{"$error":"#REF!"}},{"$f":"data!X123&\",\"&#REF!","v":{"$error":"#REF!"}},{"$f":"data!AD123&\",\"&#REF!","v":{"$error":"#REF!"}},{"$f":"data!AJ123&\",\"&#REF!","v":{"$error":"#REF!"}},{"$f":"data!AP123&\",\"&#REF!","v":{"$error":"#REF!"}},{"$f":"data!AV123&\",\"&#REF!","v":{"$error":"#REF!"}},{"$f":"data!X123&\",\"&COUNTIF($F$2:$J122,F122)","v":{"$error":"#REF!"}},{"$f":"data!AD123&\",\"&COUNTIF($F$2:$J122,G122)","v":{"$error":"#REF!"}},{"$f":"data!AJ123&\",\"&COUNTIF($F$2:$J122,H122)","v":{"$error":"#REF!"}},{"$f":"data!AP123&\",\"&COUNTIF($F$2:$J122,I122)","v":{"$error":"#REF!"}},{"$f":"data!AV123&\",\"&COUNTIF($F$2:$J122,J122)","v":{"$error":"#REF!"}}]
[{"$f":"#REF!&\",\"&#REF!&\",\"&data!X124","v":{"$error":"#REF!"}},{"$f":"#REF!&\",\"&#REF!&\",\"&data!AD124","v":{"$error":"#REF!"}},{"$f":"#REF!&\",\"&#REF!&\",\"&data!AJ124","v":{"$error":"#REF!"}},{"$f":"#REF!&\",\"&#REF!&\",\"&data!AP124","v":{"$error":"#REF!"}},{"$f":"#REF!&\",\"&#REF!&\",\"&data!AV124","v":{"$error":"#REF!"}},{"$f":"data!X124&\",\"&#REF!","v":{"$error":"#REF!"}},{"$f":"data!AD124&\",\"&#REF!","v":{"$error":"#REF!"}},{"$f":"data!AJ124&\",\"&#REF!","v":{"$error":"#REF!"}},{"$f":"data!AP124&\",\"&#REF!","v":{"$error":"#REF!"}},{"$f":"data!AV124&\",\"&#REF!","v":{"$error":"#REF!"}},{"$f":"data!X124&\",\"&COUNTIF($F$2:$J123,F123)","v":{"$error":"#REF!"}},{"$f":"data!AD124&\",\"&COUNTIF($F$2:$J123,G123)","v":{"$error":"#REF!"}},{"$f":"data!AJ124&\",\"&COUNTIF($F$2:$J123,H123)","v":{"$error":"#REF!"}},{"$f":"data!AP124&\",\"&COUNTIF($F$2:$J123,I123)","v":{"$error":"#REF!"}},{"$f":"data!AV124&\",\"&COUNTIF($F$2:$J123,J123)","v":{"$error":"#REF!"}}]
[{"$f":"#REF!&\",\"&#REF!&\",\"&data!X125","v":{"$error":"#REF!"}},{"$f":"#REF!&\",\"&#REF!&\",\"&data!AD125","v":{"$error":"#REF!"}},{"$f":"#REF!&\",\"&#REF!&\",\"&data!AJ125","v":{"$error":"#REF!"}},{"$f":"#REF!&\",\"&#REF!&\",\"&data!AP125","v":{"$error":"#REF!"}},{"$f":"#REF!&\",\"&#REF!&\",\"&data!AV125","v":{"$error":"#REF!"}},{"$f":"data!X125&\",\"&#REF!","v":{"$error":"#REF!"}},{"$f":"data!AD125&\",\"&#REF!","v":{"$error":"#REF!"}},{"$f":"data!AJ125&\",\"&#REF!","v":{"$error":"#REF!"}},{"$f":"data!AP125&\",\"&#REF!","v":{"$error":"#REF!"}},{"$f":"data!AV125&\",\"&#REF!","v":{"$error":"#REF!"}},{"$f":"data!X125&\",\"&COUNTIF($F$2:$J124,F124)","v":{"$error":"#REF!"}},{"$f":"data!AD125&\",\"&COUNTIF($F$2:$J124,G124)","v":{"$error":"#REF!"}},{"$f":"data!AJ125&\",\"&COUNTIF($F$2:$J124,H124)","v":{"$error":"#REF!"}},{"$f":"data!AP125&\",\"&COUNTIF($F$2:$J124,I124)","v":{"$error":"#REF!"}},{"$f":"data!AV125&\",\"&COUNTIF($F$2:$J124,J124)","v":{"$error":"#REF!"}}]
[{"$f":"#REF!&\",\"&#REF!&\",\"&data!X126","v":{"$error":"#REF!"}},{"$f":"#REF!&\",\"&#REF!&\",\"&data!AD126","v":{"$error":"#REF!"}},{"$f":"#REF!&\",\"&#REF!&\",\"&data!AJ126","v":{"$error":"#REF!"}},{"$f":"#REF!&\",\"&#REF!&\",\"&data!AP126","v":{"$error":"#REF!"}},{"$f":"#REF!&\",\"&#REF!&\",\"&data!AV126","v":{"$error":"#REF!"}},{"$f":"data!X126&\",\"&#REF!","v":{"$error":"#REF!"}},{"$f":"data!AD126&\",\"&#REF!","v":{"$error":"#REF!"}},{"$f":"data!AJ126&\",\"&#REF!","v":{"$error":"#REF!"}},{"$f":"data!AP126&\",\"&#REF!","v":{"$error":"#REF!"}},{"$f":"data!AV126&\",\"&#REF!","v":{"$error":"#REF!"}},{"$f":"data!X126&\",\"&COUNTIF($F$2:$J125,F125)","v":{"$error":"#REF!"}},{"$f":"data!AD126&\",\"&COUNTIF($F$2:$J125,G125)","v":{"$error":"#REF!"}},{"$f":"data!AJ126&\",\"&COUNTIF($F$2:$J125,H125)","v":{"$error":"#REF!"}},{"$f":"data!AP126&\",\"&COUNTIF($F$2:$J125,I125)","v":{"$error":"#REF!"}},{"$f":"data!AV126&\",\"&COUNTIF($F$2:$J125,J125)","v":{"$error":"#REF!"}}]
[{"$f":"#REF!&\",\"&#REF!&\",\"&data!X127","v":{"$error":"#REF!"}},{"$f":"#REF!&\",\"&#REF!&\",\"&data!AD127","v":{"$error":"#REF!"}},{"$f":"#REF!&\",\"&#REF!&\",\"&data!AJ127","v":{"$error":"#REF!"}},{"$f":"#REF!&\",\"&#REF!&\",\"&data!AP127","v":{"$error":"#REF!"}},{"$f":"#REF!&\",\"&#REF!&\",\"&data!AV127","v":{"$error":"#REF!"}},{"$f":"data!X127&\",\"&#REF!","v":{"$error":"#REF!"}},{"$f":"data!AD127&\",\"&#REF!","v":{"$error":"#REF!"}},{"$f":"data!AJ127&\",\"&#REF!","v":{"$error":"#REF!"}},{"$f":"data!AP127&\",\"&#REF!","v":{"$error":"#REF!"}},{"$f":"data!AV127&\",\"&#REF!","v":{"$error":"#REF!"}},{"$f":"data!X127&\",\"&COUNTIF($F$2:$J126,F126)","v":{"$error":"#REF!"}},{"$f":"data!AD127&\",\"&COUNTIF($F$2:$J126,G126)","v":{"$error":"#REF!"}},{"$f":"data!AJ127&\",\"&COUNTIF($F$2:$J126,H126)","v":{"$error":"#REF!"}},{"$f":"data!AP127&\",\"&COUNTIF($F$2:$J126,I126)","v":{"$error":"#REF!"}},{"$f":"data!AV127&\",\"&COUNTIF($F$2:$J126,J126)","v":{"$error":"#REF!"}}]
[{"$f":"#REF!&\",\"&#REF!&\",\"&data!X128","v":{"$error":"#REF!"}},{"$f":"#REF!&\",\"&#REF!&\",\"&data!AD128","v":{"$error":"#REF!"}},{"$f":"#REF!&\",\"&#REF!&\",\"&data!AJ128","v":{"$error":"#REF!"}},{"$f":"#REF!&\",\"&#REF!&\",\"&data!AP128","v":{"$error":"#REF!"}},{"$f":"#REF!&\",\"&#REF!&\",\"&data!AV128","v":{"$error":"#REF!"}},{"$f":"data!X128&\",\"&#REF!","v":{"$error":"#REF!"}},{"$f":"data!AD128&\",\"&#REF!","v":{"$error":"#REF!"}},{"$f":"data!AJ128&\",\"&#REF!","v":{"$error":"#REF!"}},{"$f":"data!AP128&\",\"&#REF!","v":{"$error":"#REF!"}},{"$f":"data!AV128&\",\"&#REF!","v":{"$error":"#REF!"}},{"$f":"data!X128&\",\"&COUNTIF($F$2:$J127,F127)","v":{"$error":"#REF!"}},{"$f":"data!AD128&\",\"&COUNTIF($F$2:$J127,G127)","v":{"$error":"#REF!"}},{"$f":"data!AJ128&\",\"&COUNTIF($F$2:$J127,H127)","v":{"$error":"#REF!"}},{"$f":"data!AP128&\",\"&COUNTIF($F$2:$J127,I127)","v":{"$error":"#REF!"}},{"$f":"data!AV128&\",\"&COUNTIF($F$2:$J127,J127)","v":{"$error":"#REF!"}}]
[{"$f":"#REF!&\",\"&#REF!&\",\"&data!X129","v":{"$error":"#REF!"}},{"$f":"#REF!&\",\"&#REF!&\",\"&data!AD129","v":{"$error":"#REF!"}},{"$f":"#REF!&\",\"&#REF!&\",\"&data!AJ129","v":{"$error":"#REF!"}},{"$f":"#REF!&\",\"&#REF!&\",\"&data!AP129","v":{"$error":"#REF!"}},{"$f":"#REF!&\",\"&#REF!&\",\"&data!AV129","v":{"$error":"#REF!"}},{"$f":"data!X129&\",\"&#REF!","v":{"$error":"#REF!"}},{"$f":"data!AD129&\",\"&#REF!","v":{"$error":"#REF!"}},{"$f":"data!AJ129&\",\"&#REF!","v":{"$error":"#REF!"}},{"$f":"data!AP129&\",\"&#REF!","v":{"$error":"#REF!"}},{"$f":"data!AV129&\",\"&#REF!","v":{"$error":"#REF!"}},{"$f":"data!X129&\",\"&COUNTIF($F$2:$J128,F128)","v":{"$error":"#REF!"}},{"$f":"data!AD129&\",\"&COUNTIF($F$2:$J128,G128)","v":{"$error":"#REF!"}},{"$f":"data!AJ129&\",\"&COUNTIF($F$2:$J128,H128)","v":{"$error":"#REF!"}},{"$f":"data!AP129&\",\"&COUNTIF($F$2:$J128,I128)","v":{"$error":"#REF!"}},{"$f":"data!AV129&\",\"&COUNTIF($F$2:$J128,J128)","v":{"$error":"#REF!"}}]
[{"$f":"#REF!&\",\"&#REF!&\",\"&data!X130","v":{"$error":"#REF!"}},{"$f":"#REF!&\",\"&#REF!&\",\"&data!AD130","v":{"$error":"#REF!"}},{"$f":"#REF!&\",\"&#REF!&\",\"&data!AJ130","v":{"$error":"#REF!"}},{"$f":"#REF!&\",\"&#REF!&\",\"&data!AP130","v":{"$error":"#REF!"}},{"$f":"#REF!&\",\"&#REF!&\",\"&data!AV130","v":{"$error":"#REF!"}},{"$f":"data!X130&\",\"&#REF!","v":{"$error":"#REF!"}},{"$f":"data!AD130&\",\"&#REF!","v":{"$error":"#REF!"}},{"$f":"data!AJ130&\",\"&#REF!","v":{"$error":"#REF!"}},{"$f":"data!AP130&\",\"&#REF!","v":{"$error":"#REF!"}},{"$f":"data!AV130&\",\"&#REF!","v":{"$error":"#REF!"}},{"$f":"data!X130&\",\"&COUNTIF($F$2:$J129,F129)","v":{"$error":"#REF!"}},{"$f":"data!AD130&\",\"&COUNTIF($F$2:$J129,G129)","v":{"$error":"#REF!"}},{"$f":"data!AJ130&\",\"&COUNTIF($F$2:$J129,H129)","v":{"$error":"#REF!"}},{"$f":"data!AP130&\",\"&COUNTIF($F$2:$J129,I129)","v":{"$error":"#REF!"}},{"$f":"data!AV130&\",\"&COUNTIF($F$2:$J129,J129)","v":{"$error":"#REF!"}}]
[{"$f":"#REF!&\",\"&#REF!&\",\"&data!X131","v":{"$error":"#REF!"}},{"$f":"#REF!&\",\"&#REF!&\",\"&data!AD131","v":{"$error":"#REF!"}},{"$f":"#REF!&\",\"&#REF!&\",\"&data!AJ131","v":{"$error":"#REF!"}},{"$f":"#REF!&\",\"&#REF!&\",\"&data!AP131","v":{"$error":"#REF!"}},{"$f":"#REF!&\",\"&#REF!&\",\"&data!AV131","v":{"$error":"#REF!"}},{"$f":"data!X131&\",\"&#REF!","v":{"$error":"#REF!"}},{"$f":"data!AD131&\",\"&#REF!","v":{"$error":"#REF!"}},{"$f":"data!AJ131&\",\"&#REF!","v":{"$error":"#REF!"}},{"$f":"data!AP131&\",\"&#REF!","v":{"$error":"#REF!"}},{"$f":"data!AV131&\",\"&#REF!","v":{"$error":"#REF!"}},{"$f":"data!X131&\",\"&COUNTIF($F$2:$J130,F130)","v":{"$error":"#REF!"}},{"$f":"data!AD131&\",\"&COUNTIF($F$2:$J130,G130)","v":{"$error":"#REF!"}},{"$f":"data!AJ131&\",\"&COUNTIF($F$2:$J130,H130)","v":{"$error":"#REF!"}},{"$f":"data!AP131&\",\"&COUNTIF($F$2:$J130,I130)","v":{"$error":"#REF!"}},{"$f":"data!AV131&\",\"&COUNTIF($F$2:$J130,J130)","v":{"$error":"#REF!"}}]
[{"$f":"#REF!&\",\"&#REF!&\",\"&data!X132","v":{"$error":"#REF!"}},{"$f":"#REF!&\",\"&#REF!&\",\"&data!AD132","v":{"$error":"#REF!"}},{"$f":"#REF!&\",\"&#REF!&\",\"&data!AJ132","v":{"$error":"#REF!"}},{"$f":"#REF!&\",\"&#REF!&\",\"&data!AP132","v":{"$error":"#REF!"}},{"$f":"#REF!&\",\"&#REF!&\",\"&data!AV132","v":{"$error":"#REF!"}},{"$f":"data!X132&\",\"&#REF!","v":{"$error":"#REF!"}},{"$f":"data!AD132&\",\"&#REF!","v":{"$error":"#REF!"}},{"$f":"data!AJ132&\",\"&#REF!","v":{"$error":"#REF!"}},{"$f":"data!AP132&\",\"&#REF!","v":{"$error":"#REF!"}},{"$f":"data!AV132&\",\"&#REF!","v":{"$error":"#REF!"}},{"$f":"data!X132&\",\"&COUNTIF($F$2:$J131,F131)","v":{"$error":"#REF!"}},{"$f":"data!AD132&\",\"&COUNTIF($F$2:$J131,G131)","v":{"$error":"#REF!"}},{"$f":"data!AJ132&\",\"&COUNTIF($F$2:$J131,H131)","v":{"$error":"#REF!"}},{"$f":"data!AP132&\",\"&COUNTIF($F$2:$J131,I131)","v":{"$error":"#REF!"}},{"$f":"data!AV132&\",\"&COUNTIF($F$2:$J131,J131)","v":{"$error":"#REF!"}}]
[{"$f":"#REF!&\",\"&#REF!&\",\"&data!X133","v":{"$error":"#REF!"}},{"$f":"#REF!&\",\"&#REF!&\",\"&data!AD133","v":{"$error":"#REF!"}},{"$f":"#REF!&\",\"&#REF!&\",\"&data!AJ133","v":{"$error":"#REF!"}},{"$f":"#REF!&\",\"&#REF!&\",\"&data!AP133","v":{"$error":"#REF!"}},{"$f":"#REF!&\",\"&#REF!&\",\"&data!AV133","v":{"$error":"#REF!"}},{"$f":"data!X133&\",\"&#REF!","v":{"$error":"#REF!"}},{"$f":"data!AD133&\",\"&#REF!","v":{"$error":"#REF!"}},{"$f":"data!AJ133&\",\"&#REF!","v":{"$error":"#REF!"}},{"$f":"data!AP133&\",\"&#REF!","v":{"$error":"#REF!"}},{"$f":"data!AV133&\",\"&#REF!","v":{"$error":"#REF!"}},{"$f":"data!X133&\",\"&COUNTIF($F$2:$J132,F132)","v":{"$error":"#REF!"}},{"$f":"data!AD133&\",\"&COUNTIF($F$2:$J132,G132)","v":{"$error":"#REF!"}},{"$f":"data!AJ133&\",\"&COUNTIF($F$2:$J132,H132)","v":{"$error":"#REF!"}},{"$f":"data!AP133&\",\"&COUNTIF($F$2:$J132,I132)","v":{"$error":"#REF!"}},{"$f":"data!AV133&\",\"&COUNTIF($F$2:$J132,J132)","v":{"$error":"#REF!"}}]
[{"$f":"#REF!&\",\"&#REF!&\",\"&data!X134","v":{"$error":"#REF!"}},{"$f":"#REF!&\",\"&#REF!&\",\"&data!AD134","v":{"$error":"#REF!"}},{"$f":"#REF!&\",\"&#REF!&\",\"&data!AJ134","v":{"$error":"#REF!"}},{"$f":"#REF!&\",\"&#REF!&\",\"&data!AP134","v":{"$error":"#REF!"}},{"$f":"#REF!&\",\"&#REF!&\",\"&data!AV134","v":{"$error":"#REF!"}},{"$f":"data!X134&\",\"&#REF!","v":{"$error":"#REF!"}},{"$f":"data!AD134&\",\"&#REF!","v":{"$error":"#REF!"}},{"$f":"data!AJ134&\",\"&#REF!","v":{"$error":"#REF!"}},{"$f":"data!AP134&\",\"&#REF!","v":{"$error":"#REF!"}},{"$f":"data!AV134&\",\"&#REF!","v":{"$error":"#REF!"}},{"$f":"data!X134&\",\"&COUNTIF($F$2:$J133,F133)","v":{"$error":"#REF!"}},{"$f":"data!AD134&\",\"&COUNTIF($F$2:$J133,G133)","v":{"$error":"#REF!"}},{"$f":"data!AJ134&\",\"&COUNTIF($F$2:$J133,H133)","v":{"$error":"#REF!"}},{"$f":"data!AP134&\",\"&COUNTIF($F$2:$J133,I133)","v":{"$error":"#REF!"}},{"$f":"data!AV134&\",\"&COUNTIF($F$2:$J133,J133)","v":{"$error":"#REF!"}}]
[{"$f":"#REF!&\",\"&#REF!&\",\"&data!X135","v":{"$error":"#REF!"}},{"$f":"#REF!&\",\"&#REF!&\",\"&data!AD135","v":{"$error":"#REF!"}},{"$f":"#REF!&\",\"&#REF!&\",\"&data!AJ135","v":{"$error":"#REF!"}},{"$f":"#REF!&\",\"&#REF!&\",\"&data!AP135","v":{"$error":"#REF!"}},{"$f":"#REF!&\",\"&#REF!&\",\"&data!AV135","v":{"$error":"#REF!"}},{"$f":"data!X135&\",\"&#REF!","v":{"$error":"#REF!"}},{"$f":"data!AD135&\",\"&#REF!","v":{"$error":"#REF!"}},{"$f":"data!AJ135&\",\"&#REF!","v":{"$error":"#REF!"}},{"$f":"data!AP135&\",\"&#REF!","v":{"$error":"#REF!"}},{"$f":"data!AV135&\",\"&#REF!","v":{"$error":"#REF!"}},{"$f":"data!X135&\",\"&COUNTIF($F$2:$J134,F134)","v":{"$error":"#REF!"}},{"$f":"data!AD135&\",\"&COUNTIF($F$2:$J134,G134)","v":{"$error":"#REF!"}},{"$f":"data!AJ135&\",\"&COUNTIF($F$2:$J134,H134)","v":{"$error":"#REF!"}},{"$f":"data!AP135&\",\"&COUNTIF($F$2:$J134,I134)","v":{"$error":"#REF!"}},{"$f":"data!AV135&\",\"&COUNTIF($F$2:$J134,J134)","v":{"$error":"#REF!"}}]
[{"$f":"#REF!&\",\"&#REF!&\",\"&data!X136","v":{"$error":"#REF!"}},{"$f":"#REF!&\",\"&#REF!&\",\"&data!AD136","v":{"$error":"#REF!"}},{"$f":"#REF!&\",\"&#REF!&\",\"&data!AJ136","v":{"$error":"#REF!"}},{"$f":"#REF!&\",\"&#REF!&\",\"&data!AP136","v":{"$error":"#REF!"}},{"$f":"#REF!&\",\"&#REF!&\",\"&data!AV136","v":{"$error":"#REF!"}},{"$f":"data!X136&\",\"&#REF!","v":{"$error":"#REF!"}},{"$f":"data!AD136&\",\"&#REF!","v":{"$error":"#REF!"}},{"$f":"data!AJ136&\",\"&#REF!","v":{"$error":"#REF!"}},{"$f":"data!AP136&\",\"&#REF!","v":{"$error":"#REF!"}},{"$f":"data!AV136&\",\"&#REF!","v":{"$error":"#REF!"}},{"$f":"data!X136&\",\"&COUNTIF($F$2:$J135,F135)","v":{"$error":"#REF!"}},{"$f":"data!AD136&\",\"&COUNTIF($F$2:$J135,G135)","v":{"$error":"#REF!"}},{"$f":"data!AJ136&\",\"&COUNTIF($F$2:$J135,H135)","v":{"$error":"#REF!"}},{"$f":"data!AP136&\",\"&COUNTIF($F$2:$J135,I135)","v":{"$error":"#REF!"}},{"$f":"data!AV136&\",\"&COUNTIF($F$2:$J135,J135)","v":{"$error":"#REF!"}}]
[{"$f":"#REF!&\",\"&#REF!&\",\"&data!X137","v":{"$error":"#REF!"}},{"$f":"#REF!&\",\"&#REF!&\",\"&data!AD137","v":{"$error":"#REF!"}},{"$f":"#REF!&\",\"&#REF!&\",\"&data!AJ137","v":{"$error":"#REF!"}},{"$f":"#REF!&\",\"&#REF!&\",\"&data!AP137","v":{"$error":"#REF!"}},{"$f":"#REF!&\",\"&#REF!&\",\"&data!AV137","v":{"$error":"#REF!"}},{"$f":"data!X137&\",\"&#REF!","v":{"$error":"#REF!"}},{"$f":"data!AD137&\",\"&#REF!","v":{"$error":"#REF!"}},{"$f":"data!AJ137&\",\"&#REF!","v":{"$error":"#REF!"}},{"$f":"data!AP137&\",\"&#REF!","v":{"$error":"#REF!"}},{"$f":"data!AV137&\",\"&#REF!","v":{"$error":"#REF!"}},{"$f":"data!X137&\",\"&COUNTIF($F$2:$J136,F136)","v":{"$error":"#REF!"}},{"$f":"data!AD137&\",\"&COUNTIF($F$2:$J136,G136)","v":{"$error":"#REF!"}},{"$f":"data!AJ137&\",\"&COUNTIF($F$2:$J136,H136)","v":{"$error":"#REF!"}},{"$f":"data!AP137&\",\"&COUNTIF($F$2:$J136,I136)","v":{"$error":"#REF!"}},{"$f":"data!AV137&\",\"&COUNTIF($F$2:$J136,J136)","v":{"$error":"#REF!"}}]
[{"$f":"#REF!&\",\"&#REF!&\",\"&data!X138","v":{"$error":"#REF!"}},{"$f":"#REF!&\",\"&#REF!&\",\"&data!AD138","v":{"$error":"#REF!"}},{"$f":"#REF!&\",\"&#REF!&\",\"&data!AJ138","v":{"$error":"#REF!"}},{"$f":"#REF!&\",\"&#REF!&\",\"&data!AP138","v":{"$error":"#REF!"}},{"$f":"#REF!&\",\"&#REF!&\",\"&data!AV138","v":{"$error":"#REF!"}},{"$f":"data!X138&\",\"&#REF!","v":{"$error":"#REF!"}},{"$f":"data!AD138&\",\"&#REF!","v":{"$error":"#REF!"}},{"$f":"data!AJ138&\",\"&#REF!","v":{"$error":"#REF!"}},{"$f":"data!AP138&\",\"&#REF!","v":{"$error":"#REF!"}},{"$f":"data!AV138&\",\"&#REF!","v":{"$error":"#REF!"}},{"$f":"data!X138&\",\"&COUNTIF($F$2:$J137,F137)","v":{"$error":"#REF!"}},{"$f":"data!AD138&\",\"&COUNTIF($F$2:$J137,G137)","v":{"$error":"#REF!"}},{"$f":"data!AJ138&\",\"&COUNTIF($F$2:$J137,H137)","v":{"$error":"#REF!"}},{"$f":"data!AP138&\",\"&COUNTIF($F$2:$J137,I137)","v":{"$error":"#REF!"}},{"$f":"data!AV138&\",\"&COUNTIF($F$2:$J137,J137)","v":{"$error":"#REF!"}}]
[{"$f":"#REF!&\",\"&#REF!&\",\"&data!X139","v":{"$error":"#REF!"}},{"$f":"#REF!&\",\"&#REF!&\",\"&data!AD139","v":{"$error":"#REF!"}},{"$f":"#REF!&\",\"&#REF!&\",\"&data!AJ139","v":{"$error":"#REF!"}},{"$f":"#REF!&\",\"&#REF!&\",\"&data!AP139","v":{"$error":"#REF!"}},{"$f":"#REF!&\",\"&#REF!&\",\"&data!AV139","v":{"$error":"#REF!"}},{"$f":"data!X139&\",\"&#REF!","v":{"$error":"#REF!"}},{"$f":"data!AD139&\",\"&#REF!","v":{"$error":"#REF!"}},{"$f":"data!AJ139&\",\"&#REF!","v":{"$error":"#REF!"}},{"$f":"data!AP139&\",\"&#REF!","v":{"$error":"#REF!"}},{"$f":"data!AV139&\",\"&#REF!","v":{"$error":"#REF!"}},{"$f":"data!X139&\",\"&COUNTIF($F$2:$J138,F138)","v":{"$error":"#REF!"}},{"$f":"data!AD139&\",\"&COUNTIF($F$2:$J138,G138)","v":{"$error":"#REF!"}},{"$f":"data!AJ139&\",\"&COUNTIF($F$2:$J138,H138)","v":{"$error":"#REF!"}},{"$f":"data!AP139&\",\"&COUNTIF($F$2:$J138,I138)","v":{"$error":"#REF!"}},{"$f":"data!AV139&\",\"&COUNTIF($F$2:$J138,J138)","v":{"$error":"#REF!"}}]
[{"$f":"#REF!&\",\"&#REF!&\",\"&data!X140","v":{"$error":"#REF!"}},{"$f":"#REF!&\",\"&#REF!&\",\"&data!AD140","v":{"$error":"#REF!"}},{"$f":"#REF!&\",\"&#REF!&\",\"&data!AJ140","v":{"$error":"#REF!"}},{"$f":"#REF!&\",\"&#REF!&\",\"&data!AP140","v":{"$error":"#REF!"}},{"$f":"#REF!&\",\"&#REF!&\",\"&data!AV140","v":{"$error":"#REF!"}},{"$f":"data!X140&\",\"&#REF!","v":{"$error":"#REF!"}},{"$f":"data!AD140&\",\"&#REF!","v":{"$error":"#REF!"}},{"$f":"data!AJ140&\",\"&#REF!","v":{"$error":"#REF!"}},{"$f":"data!AP140&\",\"&#REF!","v":{"$error":"#REF!"}},{"$f":"data!AV140&\",\"&#REF!","v":{"$error":"#REF!"}},{"$f":"data!X140&\",\"&COUNTIF($F$2:$J139,F139)","v":{"$error":"#REF!"}},{"$f":"data!AD140&\",\"&COUNTIF($F$2:$J139,G139)","v":{"$error":"#REF!"}},{"$f":"data!AJ140&\",\"&COUNTIF($F$2:$J139,H139)","v":{"$error":"#REF!"}},{"$f":"data!AP140&\",\"&COUNTIF($F$2:$J139,I139)","v":{"$error":"#REF!"}},{"$f":"data!AV140&\",\"&COUNTIF($F$2:$J139,J139)","v":{"$error":"#REF!"}}]
[{"$f":"#REF!&\",\"&#REF!&\",\"&data!X141","v":{"$error":"#REF!"}},{"$f":"#REF!&\",\"&#REF!&\",\"&data!AD141","v":{"$error":"#REF!"}},{"$f":"#REF!&\",\"&#REF!&\",\"&data!AJ141","v":{"$error":"#REF!"}},{"$f":"#REF!&\",\"&#REF!&\",\"&data!AP141","v":{"$error":"#REF!"}},{"$f":"#REF!&\",\"&#REF!&\",\"&data!AV141","v":{"$error":"#REF!"}},{"$f":"data!X141&\",\"&#REF!","v":{"$error":"#REF!"}},{"$f":"data!AD141&\",\"&#REF!","v":{"$error":"#REF!"}},{"$f":"data!AJ141&\",\"&#REF!","v":{"$error":"#REF!"}},{"$f":"data!AP141&\",\"&#REF!","v":{"$error":"#REF!"}},{"$f":"data!AV141&\",\"&#REF!","v":{"$error":"#REF!"}},{"$f":"data!X141&\",\"&COUNTIF($F$2:$J140,F140)","v":{"$error":"#REF!"}},{"$f":"data!AD141&\",\"&COUNTIF($F$2:$J140,G140)","v":{"$error":"#REF!"}},{"$f":"data!AJ141&\",\"&COUNTIF($F$2:$J140,H140)","v":{"$error":"#REF!"}},{"$f":"data!AP141&\",\"&COUNTIF($F$2:$J140,I140)","v":{"$error":"#REF!"}},{"$f":"data!AV141&\",\"&COUNTIF($F$2:$J140,J140)","v":{"$error":"#REF!"}}]
[{"$f":"#REF!&\",\"&#REF!&\",\"&data!X142","v":{"$error":"#REF!"}},{"$f":"#REF!&\",\"&#REF!&\",\"&data!AD142","v":{"$error":"#REF!"}},{"$f":"#REF!&\",\"&#REF!&\",\"&data!AJ142","v":{"$error":"#REF!"}},{"$f":"#REF!&\",\"&#REF!&\",\"&data!AP142","v":{"$error":"#REF!"}},{"$f":"#REF!&\",\"&#REF!&\",\"&data!AV142","v":{"$error":"#REF!"}},{"$f":"data!X142&\",\"&#REF!","v":{"$error":"#REF!"}},{"$f":"data!AD142&\",\"&#REF!","v":{"$error":"#REF!"}},{"$f":"data!AJ142&\",\"&#REF!","v":{"$error":"#REF!"}},{"$f":"data!AP142&\",\"&#REF!","v":{"$error":"#REF!"}},{"$f":"data!AV142&\",\"&#REF!","v":{"$error":"#REF!"}},{"$f":"data!X142&\",\"&COUNTIF($F$2:$J141,F141)","v":{"$error":"#REF!"}},{"$f":"data!AD142&\",\"&COUNTIF($F$2:$J141,G141)","v":{"$error":"#REF!"}},{"$f":"data!AJ142&\",\"&COUNTIF($F$2:$J141,H141)","v":{"$error":"#REF!"}},{"$f":"data!AP142&\",\"&COUNTIF($F$2:$J141,I141)","v":{"$error":"#REF!"}},{"$f":"data!AV142&\",\"&COUNTIF($F$2:$J141,J141)","v":{"$error":"#REF!"}}]
[{"$f":"#REF!&\",\"&#REF!&\",\"&data!X143","v":{"$error":"#REF!"}},{"$f":"#REF!&\",\"&#REF!&\",\"&data!AD143","v":{"$error":"#REF!"}},{"$f":"#REF!&\",\"&#REF!&\",\"&data!AJ143","v":{"$error":"#REF!"}},{"$f":"#REF!&\",\"&#REF!&\",\"&data!AP143","v":{"$error":"#REF!"}},{"$f":"#REF!&\",\"&#REF!&\",\"&data!AV143","v":{"$error":"#REF!"}},{"$f":"data!X143&\",\"&#REF!","v":{"$error":"#REF!"}},{"$f":"data!AD143&\",\"&#REF!","v":{"$error":"#REF!"}},{"$f":"data!AJ143&\",\"&#REF!","v":{"$error":"#REF!"}},{"$f":"data!AP143&\",\"&#REF!","v":{"$error":"#REF!"}},{"$f":"data!AV143&\",\"&#REF!","v":{"$error":"#REF!"}},{"$f":"data!X143&\",\"&COUNTIF($F$2:$J142,F142)","v":{"$error":"#REF!"}},{"$f":"data!AD143&\",\"&COUNTIF($F$2:$J142,G142)","v":{"$error":"#REF!"}},{"$f":"data!AJ143&\",\"&COUNTIF($F$2:$J142,H142)","v":{"$error":"#REF!"}},{"$f":"data!AP143&\",\"&COUNTIF($F$2:$J142,I142)","v":{"$error":"#REF!"}},{"$f":"data!AV143&\",\"&COUNTIF($F$2:$J142,J142)","v":{"$error":"#REF!"}}]
[{"$f":"#REF!&\",\"&#REF!&\",\"&data!X144","v":{"$error":"#REF!"}},{"$f":"#REF!&\",\"&#REF!&\",\"&data!AD144","v":{"$error":"#REF!"}},{"$f":"#REF!&\",\"&#REF!&\",\"&data!AJ144","v":{"$error":"#REF!"}},{"$f":"#REF!&\",\"&#REF!&\",\"&data!AP144","v":{"$error":"#REF!"}},{"$f":"#REF!&\",\"&#REF!&\",\"&data!AV144","v":{"$error":"#REF!"}},{"$f":"data!X144&\",\"&#REF!","v":{"$error":"#REF!"}},{"$f":"data!AD144&\",\"&#REF!","v":{"$error":"#REF!"}},{"$f":"data!AJ144&\",\"&#REF!","v":{"$error":"#REF!"}},{"$f":"data!AP144&\",\"&#REF!","v":{"$error":"#REF!"}},{"$f":"data!AV144&\",\"&#REF!","v":{"$error":"#REF!"}},{"$f":"data!X144&\",\"&COUNTIF($F$2:$J143,F143)","v":{"$error":"#REF!"}},{"$f":"data!AD144&\",\"&COUNTIF($F$2:$J143,G143)","v":{"$error":"#REF!"}},{"$f":"data!AJ144&\",\"&COUNTIF($F$2:$J143,H143)","v":{"$error":"#REF!"}},{"$f":"data!AP144&\",\"&COUNTIF($F$2:$J143,I143)","v":{"$error":"#REF!"}},{"$f":"data!AV144&\",\"&COUNTIF($F$2:$J143,J143)","v":{"$error":"#REF!"}}]
[{"$f":"#REF!&\",\"&#REF!&\",\"&data!X145","v":{"$error":"#REF!"}},{"$f":"#REF!&\",\"&#REF!&\",\"&data!AD145","v":{"$error":"#REF!"}},{"$f":"#REF!&\",\"&#REF!&\",\"&data!AJ145","v":{"$error":"#REF!"}},{"$f":"#REF!&\",\"&#REF!&\",\"&data!AP145","v":{"$error":"#REF!"}},{"$f":"#REF!&\",\"&#REF!&\",\"&data!AV145","v":{"$error":"#REF!"}},{"$f":"data!X145&\",\"&#REF!","v":{"$error":"#REF!"}},{"$f":"data!AD145&\",\"&#REF!","v":{"$error":"#REF!"}},{"$f":"data!AJ145&\",\"&#REF!","v":{"$error":"#REF!"}},{"$f":"data!AP145&\",\"&#REF!","v":{"$error":"#REF!"}},{"$f":"data!AV145&\",\"&#REF!","v":{"$error":"#REF!"}},{"$f":"data!X145&\",\"&COUNTIF($F$2:$J144,F144)","v":{"$error":"#REF!"}},{"$f":"data!AD145&\",\"&COUNTIF($F$2:$J144,G144)","v":{"$error":"#REF!"}},{"$f":"data!AJ145&\",\"&COUNTIF($F$2:$J144,H144)","v":{"$error":"#REF!"}},{"$f":"data!AP145&\",\"&COUNTIF($F$2:$J144,I144)","v":{"$error":"#REF!"}},{"$f":"data!AV145&\",\"&COUNTIF($F$2:$J144,J144)","v":{"$error":"#REF!"}}]
[{"$f":"#REF!&\",\"&#REF!&\",\"&data!X146","v":{"$error":"#REF!"}},{"$f":"#REF!&\",\"&#REF!&\",\"&data!AD146","v":{"$error":"#REF!"}},{"$f":"#REF!&\",\"&#REF!&\",\"&data!AJ146","v":{"$error":"#REF!"}},{"$f":"#REF!&\",\"&#REF!&\",\"&data!AP146","v":{"$error":"#REF!"}},{"$f":"#REF!&\",\"&#REF!&\",\"&data!AV146","v":{"$error":"#REF!"}},{"$f":"data!X146&\",\"&#REF!","v":{"$error":"#REF!"}},{"$f":"data!AD146&\",\"&#REF!","v":{"$error":"#REF!"}},{"$f":"data!AJ146&\",\"&#REF!","v":{"$error":"#REF!"}},{"$f":"data!AP146&\",\"&#REF!","v":{"$error":"#REF!"}},{"$f":"data!AV146&\",\"&#REF!","v":{"$error":"#REF!"}},{"$f":"data!X146&\",\"&COUNTIF($F$2:$J145,F145)","v":{"$error":"#REF!"}},{"$f":"data!AD146&\",\"&COUNTIF($F$2:$J145,G145)","v":{"$error":"#REF!"}},{"$f":"data!AJ146&\",\"&COUNTIF($F$2:$J145,H145)","v":{"$error":"#REF!"}},{"$f":"data!AP146&\",\"&COUNTIF($F$2:$J145,I145)","v":{"$error":"#REF!"}},{"$f":"data!AV146&\",\"&COUNTIF($F$2:$J145,J145)","v":{"$error":"#REF!"}}]
[{"$f":"#REF!&\",\"&#REF!&\",\"&data!X147","v":{"$error":"#REF!"}},{"$f":"#REF!&\",\"&#REF!&\",\"&data!AD147","v":{"$error":"#REF!"}},{"$f":"#REF!&\",\"&#REF!&\",\"&data!AJ147","v":{"$error":"#REF!"}},{"$f":"#REF!&\",\"&#REF!&\",\"&data!AP147","v":{"$error":"#REF!"}},{"$f":"#REF!&\",\"&#REF!&\",\"&data!AV147","v":{"$error":"#REF!"}},{"$f":"data!X147&\",\"&#REF!","v":{"$error":"#REF!"}},{"$f":"data!AD147&\",\"&#REF!","v":{"$error":"#REF!"}},{"$f":"data!AJ147&\",\"&#REF!","v":{"$error":"#REF!"}},{"$f":"data!AP147&\",\"&#REF!","v":{"$error":"#REF!"}},{"$f":"data!AV147&\",\"&#REF!","v":{"$error":"#REF!"}},{"$f":"data!X147&\",\"&COUNTIF($F$2:$J146,F146)","v":{"$error":"#REF!"}},{"$f":"data!AD147&\",\"&COUNTIF($F$2:$J146,G146)","v":{"$error":"#REF!"}},{"$f":"data!AJ147&\",\"&COUNTIF($F$2:$J146,H146)","v":{"$error":"#REF!"}},{"$f":"data!AP147&\",\"&COUNTIF($F$2:$J146,I146)","v":{"$error":"#REF!"}},{"$f":"data!AV147&\",\"&COUNTIF($F$2:$J146,J146)","v":{"$error":"#REF!"}}]
[{"$f":"#REF!&\",\"&#REF!&\",\"&data!X148","v":{"$error":"#REF!"}},{"$f":"#REF!&\",\"&#REF!&\",\"&data!AD148","v":{"$error":"#REF!"}},{"$f":"#REF!&\",\"&#REF!&\",\"&data!AJ148","v":{"$error":"#REF!"}},{"$f":"#REF!&\",\"&#REF!&\",\"&data!AP148","v":{"$error":"#REF!"}},{"$f":"#REF!&\",\"&#REF!&\",\"&data!AV148","v":{"$error":"#REF!"}},{"$f":"data!X148&\",\"&#REF!","v":{"$error":"#REF!"}},{"$f":"data!AD148&\",\"&#REF!","v":{"$error":"#REF!"}},{"$f":"data!AJ148&\",\"&#REF!","v":{"$error":"#REF!"}},{"$f":"data!AP148&\",\"&#REF!","v":{"$error":"#REF!"}},{"$f":"data!AV148&\",\"&#REF!","v":{"$error":"#REF!"}},{"$f":"data!X148&\",\"&COUNTIF($F$2:$J147,F147)","v":{"$error":"#REF!"}},{"$f":"data!AD148&\",\"&COUNTIF($F$2:$J147,G147)","v":{"$error":"#REF!"}},{"$f":"data!AJ148&\",\"&COUNTIF($F$2:$J147,H147)","v":{"$error":"#REF!"}},{"$f":"data!AP148&\",\"&COUNTIF($F$2:$J147,I147)","v":{"$error":"#REF!"}},{"$f":"data!AV148&\",\"&COUNTIF($F$2:$J147,J147)","v":{"$error":"#REF!"}}]
[{"$f":"#REF!&\",\"&#REF!&\",\"&data!X149","v":{"$error":"#REF!"}},{"$f":"#REF!&\",\"&#REF!&\",\"&data!AD149","v":{"$error":"#REF!"}},{"$f":"#REF!&\",\"&#REF!&\",\"&data!AJ149","v":{"$error":"#REF!"}},{"$f":"#REF!&\",\"&#REF!&\",\"&data!AP149","v":{"$error":"#REF!"}},{"$f":"#REF!&\",\"&#REF!&\",\"&data!AV149","v":{"$error":"#REF!"}},{"$f":"data!X149&\",\"&#REF!","v":{"$error":"#REF!"}},{"$f":"data!AD149&\",\"&#REF!","v":{"$error":"#REF!"}},{"$f":"data!AJ149&\",\"&#REF!","v":{"$error":"#REF!"}},{"$f":"data!AP149&\",\"&#REF!","v":{"$error":"#REF!"}},{"$f":"data!AV149&\",\"&#REF!","v":{"$error":"#REF!"}},{"$f":"data!X149&\",\"&COUNTIF($F$2:$J148,F148)","v":{"$error":"#REF!"}},{"$f":"data!AD149&\",\"&COUNTIF($F$2:$J148,G148)","v":{"$error":"#REF!"}},{"$f":"data!AJ149&\",\"&COUNTIF($F$2:$J148,H148)","v":{"$error":"#REF!"}},{"$f":"data!AP149&\",\"&COUNTIF($F$2:$J148,I148)","v":{"$error":"#REF!"}},{"$f":"data!AV149&\",\"&COUNTIF($F$2:$J148,J148)","v":{"$error":"#REF!"}}]
[{"$f":"#REF!&\",\"&#REF!&\",\"&data!X150","v":{"$error":"#REF!"}},{"$f":"#REF!&\",\"&#REF!&\",\"&data!AD150","v":{"$error":"#REF!"}},{"$f":"#REF!&\",\"&#REF!&\",\"&data!AJ150","v":{"$error":"#REF!"}},{"$f":"#REF!&\",\"&#REF!&\",\"&data!AP150","v":{"$error":"#REF!"}},{"$f":"#REF!&\",\"&#REF!&\",\"&data!AV150","v":{"$error":"#REF!"}},{"$f":"data!X150&\",\"&#REF!","v":{"$error":"#REF!"}},{"$f":"data!AD150&\",\"&#REF!","v":{"$error":"#REF!"}},{"$f":"data!AJ150&\",\"&#REF!","v":{"$error":"#REF!"}},{"$f":"data!AP150&\",\"&#REF!","v":{"$error":"#REF!"}},{"$f":"data!AV150&\",\"&#REF!","v":{"$error":"#REF!"}},{"$f":"data!X150&\",\"&COUNTIF($F$2:$J149,F149)","v":{"$error":"#REF!"}},{"$f":"data!AD150&\",\"&COUNTIF($F$2:$J149,G149)","v":{"$error":"#REF!"}},{"$f":"data!AJ150&\",\"&COUNTIF($F$2:$J149,H149)","v":{"$error":"#REF!"}},{"$f":"data!AP150&\",\"&COUNTIF($F$2:$J149,I149)","v":{"$error":"#REF!"}},{"$f":"data!AV150&\",\"&COUNTIF($F$2:$J149,J149)","v":{"$error":"#REF!"}}]
[{"$f":"#REF!&\",\"&#REF!&\",\"&data!X151","v":{"$error":"#REF!"}},{"$f":"#REF!&\",\"&#REF!&\",\"&data!AD151","v":{"$error":"#REF!"}},{"$f":"#REF!&\",\"&#REF!&\",\"&data!AJ151","v":{"$error":"#REF!"}},{"$f":"#REF!&\",\"&#REF!&\",\"&data!AP151","v":{"$error":"#REF!"}},{"$f":"#REF!&\",\"&#REF!&\",\"&data!AV151","v":{"$error":"#REF!"}},{"$f":"data!X151&\",\"&#REF!","v":{"$error":"#REF!"}},{"$f":"data!AD151&\",\"&#REF!","v":{"$error":"#REF!"}},{"$f":"data!AJ151&\",\"&#REF!","v":{"$error":"#REF!"}},{"$f":"data!AP151&\",\"&#REF!","v":{"$error":"#REF!"}},{"$f":"data!AV151&\",\"&#REF!","v":{"$error":"#REF!"}},{"$f":"data!X151&\",\"&COUNTIF($F$2:$J150,F150)","v":{"$error":"#REF!"}},{"$f":"data!AD151&\",\"&COUNTIF($F$2:$J150,G150)","v":{"$error":"#REF!"}},{"$f":"data!AJ151&\",\"&COUNTIF($F$2:$J150,H150)","v":{"$error":"#REF!"}},{"$f":"data!AP151&\",\"&COUNTIF($F$2:$J150,I150)","v":{"$error":"#REF!"}},{"$f":"data!AV151&\",\"&COUNTIF($F$2:$J150,J150)","v":{"$error":"#REF!"}}]
[{"$f":"#REF!&\",\"&#REF!&\",\"&data!X152","v":{"$error":"#REF!"}},{"$f":"#REF!&\",\"&#REF!&\",\"&data!AD152","v":{"$error":"#REF!"}},{"$f":"#REF!&\",\"&#REF!&\",\"&data!AJ152","v":{"$error":"#REF!"}},{"$f":"#REF!&\",\"&#REF!&\",\"&data!AP152","v":{"$error":"#REF!"}},{"$f":"#REF!&\",\"&#REF!&\",\"&data!AV152","v":{"$error":"#REF!"}},{"$f":"data!X152&\",\"&#REF!","v":{"$error":"#REF!"}},{"$f":"data!AD152&\",\"&#REF!","v":{"$error":"#REF!"}},{"$f":"data!AJ152&\",\"&#REF!","v":{"$error":"#REF!"}},{"$f":"data!AP152&\",\"&#REF!","v":{"$error":"#REF!"}},{"$f":"data!AV152&\",\"&#REF!","v":{"$error":"#REF!"}},{"$f":"data!X152&\",\"&COUNTIF($F$2:$J151,F151)","v":{"$error":"#REF!"}},{"$f":"data!AD152&\",\"&COUNTIF($F$2:$J151,G151)","v":{"$error":"#REF!"}},{"$f":"data!AJ152&\",\"&COUNTIF($F$2:$J151,H151)","v":{"$error":"#REF!"}},{"$f":"data!AP152&\",\"&COUNTIF($F$2:$J151,I151)","v":{"$error":"#REF!"}},{"$f":"data!AV152&\",\"&COUNTIF($F$2:$J151,J151)","v":{"$error":"#REF!"}}]
[{"$f":"#REF!&\",\"&#REF!&\",\"&data!X153","v":{"$error":"#REF!"}},{"$f":"#REF!&\",\"&#REF!&\",\"&data!AD153","v":{"$error":"#REF!"}},{"$f":"#REF!&\",\"&#REF!&\",\"&data!AJ153","v":{"$error":"#REF!"}},{"$f":"#REF!&\",\"&#REF!&\",\"&data!AP153","v":{"$error":"#REF!"}},{"$f":"#REF!&\",\"&#REF!&\",\"&data!AV153","v":{"$error":"#REF!"}},{"$f":"data!X153&\",\"&#REF!","v":{"$error":"#REF!"}},{"$f":"data!AD153&\",\"&#REF!","v":{"$error":"#REF!"}},{"$f":"data!AJ153&\",\"&#REF!","v":{"$error":"#REF!"}},{"$f":"data!AP153&\",\"&#REF!","v":{"$error":"#REF!"}},{"$f":"data!AV153&\",\"&#REF!","v":{"$error":"#REF!"}},{"$f":"data!X153&\",\"&COUNTIF($F$2:$J152,F152)","v":{"$error":"#REF!"}},{"$f":"data!AD153&\",\"&COUNTIF($F$2:$J152,G152)","v":{"$error":"#REF!"}},{"$f":"data!AJ153&\",\"&COUNTIF($F$2:$J152,H152)","v":{"$error":"#REF!"}},{"$f":"data!AP153&\",\"&COUNTIF($F$2:$J152,I152)","v":{"$error":"#REF!"}},{"$f":"data!AV153&\",\"&COUNTIF($F$2:$J152,J152)","v":{"$error":"#REF!"}}]
[{"$f":"#REF!&\",\"&#REF!&\",\"&data!X154","v":{"$error":"#REF!"}},{"$f":"#REF!&\",\"&#REF!&\",\"&data!AD154","v":{"$error":"#REF!"}},{"$f":"#REF!&\",\"&#REF!&\",\"&data!AJ154","v":{"$error":"#REF!"}},{"$f":"#REF!&\",\"&#REF!&\",\"&data!AP154","v":{"$error":"#REF!"}},{"$f":"#REF!&\",\"&#REF!&\",\"&data!AV154","v":{"$error":"#REF!"}},{"$f":"data!X154&\",\"&#REF!","v":{"$error":"#REF!"}},{"$f":"data!AD154&\",\"&#REF!","v":{"$error":"#REF!"}},{"$f":"data!AJ154&\",\"&#REF!","v":{"$error":"#REF!"}},{"$f":"data!AP154&\",\"&#REF!","v":{"$error":"#REF!"}},{"$f":"data!AV154&\",\"&#REF!","v":{"$error":"#REF!"}},{"$f":"data!X154&\",\"&COUNTIF($F$2:$J153,F153)","v":{"$error":"#REF!"}},{"$f":"data!AD154&\",\"&COUNTIF($F$2:$J153,G153)","v":{"$error":"#REF!"}},{"$f":"data!AJ154&\",\"&COUNTIF($F$2:$J153,H153)","v":{"$error":"#REF!"}},{"$f":"data!AP154&\",\"&COUNTIF($F$2:$J153,I153)","v":{"$error":"#REF!"}},{"$f":"data!AV154&\",\"&COUNTIF($F$2:$J153,J153)","v":{"$error":"#REF!"}}]
[{"$f":"#REF!&\",\"&#REF!&\",\"&data!X155","v":{"$error":"#REF!"}},{"$f":"#REF!&\",\"&#REF!&\",\"&data!AD155","v":{"$error":"#REF!"}},{"$f":"#REF!&\",\"&#REF!&\",\"&data!AJ155","v":{"$error":"#REF!"}},{"$f":"#REF!&\",\"&#REF!&\",\"&data!AP155","v":{"$error":"#REF!"}},{"$f":"#REF!&\",\"&#REF!&\",\"&data!AV155","v":{"$error":"#REF!"}},{"$f":"data!X155&\",\"&#REF!","v":{"$error":"#REF!"}},{"$f":"data!AD155&\",\"&#REF!","v":{"$error":"#REF!"}},{"$f":"data!AJ155&\",\"&#REF!","v":{"$error":"#REF!"}},{"$f":"data!AP155&\",\"&#REF!","v":{"$error":"#REF!"}},{"$f":"data!AV155&\",\"&#REF!","v":{"$error":"#REF!"}},{"$f":"data!X155&\",\"&COUNTIF($F$2:$J154,F154)","v":{"$error":"#REF!"}},{"$f":"data!AD155&\",\"&COUNTIF($F$2:$J154,G154)","v":{"$error":"#REF!"}},{"$f":"data!AJ155&\",\"&COUNTIF($F$2:$J154,H154)","v":{"$error":"#REF!"}},{"$f":"data!AP155&\",\"&COUNTIF($F$2:$J154,I154)","v":{"$error":"#REF!"}},{"$f":"data!AV155&\",\"&COUNTIF($F$2:$J154,J154)","v":{"$error":"#REF!"}}]
[{"$f":"#REF!&\",\"&#REF!&\",\"&data!X156","v":{"$error":"#REF!"}},{"$f":"#REF!&\",\"&#REF!&\",\"&data!AD156","v":{"$error":"#REF!"}},{"$f":"#REF!&\",\"&#REF!&\",\"&data!AJ156","v":{"$error":"#REF!"}},{"$f":"#REF!&\",\"&#REF!&\",\"&data!AP156","v":{"$error":"#REF!"}},{"$f":"#REF!&\",\"&#REF!&\",\"&data!AV156","v":{"$error":"#REF!"}},{"$f":"data!X156&\",\"&#REF!","v":{"$error":"#REF!"}},{"$f":"data!AD156&\",\"&#REF!","v":{"$error":"#REF!"}},{"$f":"data!AJ156&\",\"&#REF!","v":{"$error":"#REF!"}},{"$f":"data!AP156&\",\"&#REF!","v":{"$error":"#REF!"}},{"$f":"data!AV156&\",\"&#REF!","v":{"$error":"#REF!"}},{"$f":"data!X156&\",\"&COUNTIF($F$2:$J155,F155)","v":{"$error":"#REF!"}},{"$f":"data!AD156&\",\"&COUNTIF($F$2:$J155,G155)","v":{"$error":"#REF!"}},{"$f":"data!AJ156&\",\"&COUNTIF($F$2:$J155,H155)","v":{"$error":"#REF!"}},{"$f":"data!AP156&\",\"&COUNTIF($F$2:$J155,I155)","v":{"$error":"#REF!"}},{"$f":"data!AV156&\",\"&COUNTIF($F$2:$J155,J155)","v":{"$error":"#REF!"}}]
[{"$f":"#REF!&\",\"&#REF!&\",\"&data!X157","v":{"$error":"#REF!"}},{"$f":"#REF!&\",\"&#REF!&\",\"&data!AD157","v":{"$error":"#REF!"}},{"$f":"#REF!&\",\"&#REF!&\",\"&data!AJ157","v":{"$error":"#REF!"}},{"$f":"#REF!&\",\"&#REF!&\",\"&data!AP157","v":{"$error":"#REF!"}},{"$f":"#REF!&\",\"&#REF!&\",\"&data!AV157","v":{"$error":"#REF!"}},{"$f":"data!X157&\",\"&#REF!","v":{"$error":"#REF!"}},{"$f":"data!AD157&\",\"&#REF!","v":{"$error":"#REF!"}},{"$f":"data!AJ157&\",\"&#REF!","v":{"$error":"#REF!"}},{"$f":"data!AP157&\",\"&#REF!","v":{"$error":"#REF!"}},{"$f":"data!AV157&\",\"&#REF!","v":{"$error":"#REF!"}},{"$f":"data!X157&\",\"&COUNTIF($F$2:$J156,F156)","v":{"$error":"#REF!"}},{"$f":"data!AD157&\",\"&COUNTIF($F$2:$J156,G156)","v":{"$error":"#REF!"}},{"$f":"data!AJ157&\",\"&COUNTIF($F$2:$J156,H156)","v":{"$error":"#REF!"}},{"$f":"data!AP157&\",\"&COUNTIF($F$2:$J156,I156)","v":{"$error":"#REF!"}},{"$f":"data!AV157&\",\"&COUNTIF($F$2:$J156,J156)","v":{"$error":"#REF!"}}]
[{"$f":"#REF!&\",\"&#REF!&\",\"&data!X158","v":{"$error":"#REF!"}},{"$f":"#REF!&\",\"&#REF!&\",\"&data!AD158","v":{"$error":"#REF!"}},{"$f":"#REF!&\",\"&#REF!&\",\"&data!AJ158","v":{"$error":"#REF!"}},{"$f":"#REF!&\",\"&#REF!&\",\"&data!AP158","v":{"$error":"#REF!"}},{"$f":"#REF!&\",\"&#REF!&\",\"&data!AV158","v":{"$error":"#REF!"}},{"$f":"data!X158&\",\"&#REF!","v":{"$error":"#REF!"}},{"$f":"data!AD158&\",\"&#REF!","v":{"$error":"#REF!"}},{"$f":"data!AJ158&\",\"&#REF!","v":{"$error":"#REF!"}},{"$f":"data!AP158&\",\"&#REF!","v":{"$error":"#REF!"}},{"$f":"data!AV158&\",\"&#REF!","v":{"$error":"#REF!"}},{"$f":"data!X158&\",\"&COUNTIF($F$2:$J157,F157)","v":{"$error":"#REF!"}},{"$f":"data!AD158&\",\"&COUNTIF($F$2:$J157,G157)","v":{"$error":"#REF!"}},{"$f":"data!AJ158&\",\"&COUNTIF($F$2:$J157,H157)","v":{"$error":"#REF!"}},{"$f":"data!AP158&\",\"&COUNTIF($F$2:$J157,I157)","v":{"$error":"#REF!"}},{"$f":"data!AV158&\",\"&COUNTIF($F$2:$J157,J157)","v":{"$error":"#REF!"}}]
[{"$f":"#REF!&\",\"&#REF!&\",\"&data!X159","v":{"$error":"#REF!"}},{"$f":"#REF!&\",\"&#REF!&\",\"&data!AD159","v":{"$error":"#REF!"}},{"$f":"#REF!&\",\"&#REF!&\",\"&data!AJ159","v":{"$error":"#REF!"}},{"$f":"#REF!&\",\"&#REF!&\",\"&data!AP159","v":{"$error":"#REF!"}},{"$f":"#REF!&\",\"&#REF!&\",\"&data!AV159","v":{"$error":"#REF!"}},{"$f":"data!X159&\",\"&#REF!","v":{"$error":"#REF!"}},{"$f":"data!AD159&\",\"&#REF!","v":{"$error":"#REF!"}},{"$f":"data!AJ159&\",\"&#REF!","v":{"$error":"#REF!"}},{"$f":"data!AP159&\",\"&#REF!","v":{"$error":"#REF!"}},{"$f":"data!AV159&\",\"&#REF!","v":{"$error":"#REF!"}},{"$f":"data!X159&\",\"&COUNTIF($F$2:$J158,F158)","v":{"$error":"#REF!"}},{"$f":"data!AD159&\",\"&COUNTIF($F$2:$J158,G158)","v":{"$error":"#REF!"}},{"$f":"data!AJ159&\",\"&COUNTIF($F$2:$J158,H158)","v":{"$error":"#REF!"}},{"$f":"data!AP159&\",\"&COUNTIF($F$2:$J158,I158)","v":{"$error":"#REF!"}},{"$f":"data!AV159&\",\"&COUNTIF($F$2:$J158,J158)","v":{"$error":"#REF!"}}]
[{"$f":"#REF!&\",\"&#REF!&\",\"&data!X160","v":{"$error":"#REF!"}},{"$f":"#REF!&\",\"&#REF!&\",\"&data!AD160","v":{"$error":"#REF!"}},{"$f":"#REF!&\",\"&#REF!&\",\"&data!AJ160","v":{"$error":"#REF!"}},{"$f":"#REF!&\",\"&#REF!&\",\"&data!AP160","v":{"$error":"#REF!"}},{"$f":"#REF!&\",\"&#REF!&\",\"&data!AV160","v":{"$error":"#REF!"}},{"$f":"data!X160&\",\"&#REF!","v":{"$error":"#REF!"}},{"$f":"data!AD160&\",\"&#REF!","v":{"$error":"#REF!"}},{"$f":"data!AJ160&\",\"&#REF!","v":{"$error":"#REF!"}},{"$f":"data!AP160&\",\"&#REF!","v":{"$error":"#REF!"}},{"$f":"data!AV160&\",\"&#REF!","v":{"$error":"#REF!"}},{"$f":"data!X160&\",\"&COUNTIF($F$2:$J159,F159)","v":{"$error":"#REF!"}},{"$f":"data!AD160&\",\"&COUNTIF($F$2:$J159,G159)","v":{"$error":"#REF!"}},{"$f":"data!AJ160&\",\"&COUNTIF($F$2:$J159,H159)","v":{"$error":"#REF!"}},{"$f":"data!AP160&\",\"&COUNTIF($F$2:$J159,I159)","v":{"$error":"#REF!"}},{"$f":"data!AV160&\",\"&COUNTIF($F$2:$J159,J159)","v":{"$error":"#REF!"}}]
[{"$f":"#REF!&\",\"&#REF!&\",\"&data!X161","v":{"$error":"#REF!"}},{"$f":"#REF!&\",\"&#REF!&\",\"&data!AD161","v":{"$error":"#REF!"}},{"$f":"#REF!&\",\"&#REF!&\",\"&data!AJ161","v":{"$error":"#REF!"}},{"$f":"#REF!&\",\"&#REF!&\",\"&data!AP161","v":{"$error":"#REF!"}},{"$f":"#REF!&\",\"&#REF!&\",\"&data!AV161","v":{"$error":"#REF!"}},{"$f":"data!X161&\",\"&#REF!","v":{"$error":"#REF!"}},{"$f":"data!AD161&\",\"&#REF!","v":{"$error":"#REF!"}},{"$f":"data!AJ161&\",\"&#REF!","v":{"$error":"#REF!"}},{"$f":"data!AP161&\",\"&#REF!","v":{"$error":"#REF!"}},{"$f":"data!AV161&\",\"&#REF!","v":{"$error":"#REF!"}},{"$f":"data!X161&\",\"&COUNTIF($F$2:$J160,F160)","v":{"$error":"#REF!"}},{"$f":"data!AD161&\",\"&COUNTIF($F$2:$J160,G160)","v":{"$error":"#REF!"}},{"$f":"data!AJ161&\",\"&COUNTIF($F$2:$J160,H160)","v":{"$error":"#REF!"}},{"$f":"data!AP161&\",\"&COUNTIF($F$2:$J160,I160)","v":{"$error":"#REF!"}},{"$f":"data!AV161&\",\"&COUNTIF($F$2:$J160,J160)","v":{"$error":"#REF!"}}]
[{"$f":"#REF!&\",\"&#REF!&\",\"&data!X162","v":{"$error":"#REF!"}},{"$f":"#REF!&\",\"&#REF!&\",\"&data!AD162","v":{"$error":"#REF!"}},{"$f":"#REF!&\",\"&#REF!&\",\"&data!AJ162","v":{"$error":"#REF!"}},{"$f":"#REF!&\",\"&#REF!&\",\"&data!AP162","v":{"$error":"#REF!"}},{"$f":"#REF!&\",\"&#REF!&\",\"&data!AV162","v":{"$error":"#REF!"}},{"$f":"data!X162&\",\"&#REF!","v":{"$error":"#REF!"}},{"$f":"data!AD162&\",\"&#REF!","v":{"$error":"#REF!"}},{"$f":"data!AJ162&\",\"&#REF!","v":{"$error":"#REF!"}},{"$f":"data!AP162&\",\"&#REF!","v":{"$error":"#REF!"}},{"$f":"data!AV162&\",\"&#REF!","v":{"$error":"#REF!"}},{"$f":"data!X162&\",\"&COUNTIF($F$2:$J161,F161)","v":{"$error":"#REF!"}},{"$f":"data!AD162&\",\"&COUNTIF($F$2:$J161,G161)","v":{"$error":"#REF!"}},{"$f":"data!AJ162&\",\"&COUNTIF($F$2:$J161,H161)","v":{"$error":"#REF!"}},{"$f":"data!AP162&\",\"&COUNTIF($F$2:$J161,I161)","v":{"$error":"#REF!"}},{"$f":"data!AV162&\",\"&COUNTIF($F$2:$J161,J161)","v":{"$error":"#REF!"}}]
[{"$f":"#REF!&\",\"&#REF!&\",\"&data!X163","v":{"$error":"#REF!"}},{"$f":"#REF!&\",\"&#REF!&\",\"&data!AD163","v":{"$error":"#REF!"}},{"$f":"#REF!&\",\"&#REF!&\",\"&data!AJ163","v":{"$error":"#REF!"}},{"$f":"#REF!&\",\"&#REF!&\",\"&data!AP163","v":{"$error":"#REF!"}},{"$f":"#REF!&\",\"&#REF!&\",\"&data!AV163","v":{"$error":"#REF!"}},{"$f":"data!X163&\",\"&#REF!","v":{"$error":"#REF!"}},{"$f":"data!AD163&\",\"&#REF!","v":{"$error":"#REF!"}},{"$f":"data!AJ163&\",\"&#REF!","v":{"$error":"#REF!"}},{"$f":"data!AP163&\",\"&#REF!","v":{"$error":"#REF!"}},{"$f":"data!AV163&\",\"&#REF!","v":{"$error":"#REF!"}},{"$f":"data!X163&\",\"&COUNTIF($F$2:$J162,F162)","v":{"$error":"#REF!"}},{"$f":"data!AD163&\",\"&COUNTIF($F$2:$J162,G162)","v":{"$error":"#REF!"}},{"$f":"data!AJ163&\",\"&COUNTIF($F$2:$J162,H162)","v":{"$error":"#REF!"}},{"$f":"data!AP163&\",\"&COUNTIF($F$2:$J162,I162)","v":{"$error":"#REF!"}},{"$f":"data!AV163&\",\"&COUNTIF($F$2:$J162,J162)","v":{"$error":"#REF!"}}]
[{"$f":"#REF!&\",\"&#REF!&\",\"&data!X164","v":{"$error":"#REF!"}},{"$f":"#REF!&\",\"&#REF!&\",\"&data!AD164","v":{"$error":"#REF!"}},{"$f":"#REF!&\",\"&#REF!&\",\"&data!AJ164","v":{"$error":"#REF!"}},{"$f":"#REF!&\",\"&#REF!&\",\"&data!AP164","v":{"$error":"#REF!"}},{"$f":"#REF!&\",\"&#REF!&\",\"&data!AV164","v":{"$error":"#REF!"}},{"$f":"data!X164&\",\"&#REF!","v":{"$error":"#REF!"}},{"$f":"data!AD164&\",\"&#REF!","v":{"$error":"#REF!"}},{"$f":"data!AJ164&\",\"&#REF!","v":{"$error":"#REF!"}},{"$f":"data!AP164&\",\"&#REF!","v":{"$error":"#REF!"}},{"$f":"data!AV164&\",\"&#REF!","v":{"$error":"#REF!"}},{"$f":"data!X164&\",\"&COUNTIF($F$2:$J163,F163)","v":{"$error":"#REF!"}},{"$f":"data!AD164&\",\"&COUNTIF($F$2:$J163,G163)","v":{"$error":"#REF!"}},{"$f":"data!AJ164&\",\"&COUNTIF($F$2:$J163,H163)","v":{"$error":"#REF!"}},{"$f":"data!AP164&\",\"&COUNTIF($F$2:$J163,I163)","v":{"$error":"#REF!"}},{"$f":"data!AV164&\",\"&COUNTIF($F$2:$J163,J163)","v":{"$error":"#REF!"}}]
[{"$f":"#REF!&\",\"&#REF!&\",\"&data!X165","v":{"$error":"#REF!"}},{"$f":"#REF!&\",\"&#REF!&\",\"&data!AD165","v":{"$error":"#REF!"}},{"$f":"#REF!&\",\"&#REF!&\",\"&data!AJ165","v":{"$error":"#REF!"}},{"$f":"#REF!&\",\"&#REF!&\",\"&data!AP165","v":{"$error":"#REF!"}},{"$f":"#REF!&\",\"&#REF!&\",\"&data!AV165","v":{"$error":"#REF!"}},{"$f":"data!X165&\",\"&#REF!","v":{"$error":"#REF!"}},{"$f":"data!AD165&\",\"&#REF!","v":{"$error":"#REF!"}},{"$f":"data!AJ165&\",\"&#REF!","v":{"$error":"#REF!"}},{"$f":"data!AP165&\",\"&#REF!","v":{"$error":"#REF!"}},{"$f":"data!AV165&\",\"&#REF!","v":{"$error":"#REF!"}},{"$f":"data!X165&\",\"&COUNTIF($F$2:$J164,F164)","v":{"$error":"#REF!"}},{"$f":"data!AD165&\",\"&COUNTIF($F$2:$J164,G164)","v":{"$error":"#REF!"}},{"$f":"data!AJ165&\",\"&COUNTIF($F$2:$J164,H164)","v":{"$error":"#REF!"}},{"$f":"data!AP165&\",\"&COUNTIF($F$2:$J164,I164)","v":{"$error":"#REF!"}},{"$f":"data!AV165&\",\"&COUNTIF($F$2:$J164,J164)","v":{"$error":"#REF!"}}]
[{"$f":"#REF!&\",\"&#REF!&\",\"&data!X166","v":{"$error":"#REF!"}},{"$f":"#REF!&\",\"&#REF!&\",\"&data!AD166","v":{"$error":"#REF!"}},{"$f":"#REF!&\",\"&#REF!&\",\"&data!AJ166","v":{"$error":"#REF!"}},{"$f":"#REF!&\",\"&#REF!&\",\"&data!AP166","v":{"$error":"#REF!"}},{"$f":"#REF!&\",\"&#REF!&\",\"&data!AV166","v":{"$error":"#REF!"}},{"$f":"data!X166&\",\"&#REF!","v":{"$error":"#REF!"}},{"$f":"data!AD166&\",\"&#REF!","v":{"$error":"#REF!"}},{"$f":"data!AJ166&\",\"&#REF!","v":{"$error":"#REF!"}},{"$f":"data!AP166&\",\"&#REF!","v":{"$error":"#REF!"}},{"$f":"data!AV166&\",\"&#REF!","v":{"$error":"#REF!"}},{"$f":"data!X166&\",\"&COUNTIF($F$2:$J165,F165)","v":{"$error":"#REF!"}},{"$f":"data!AD166&\",\"&COUNTIF($F$2:$J165,G165)","v":{"$error":"#REF!"}},{"$f":"data!AJ166&\",\"&COUNTIF($F$2:$J165,H165)","v":{"$error":"#REF!"}},{"$f":"data!AP166&\",\"&COUNTIF($F$2:$J165,I165)","v":{"$error":"#REF!"}},{"$f":"data!AV166&\",\"&COUNTIF($F$2:$J165,J165)","v":{"$error":"#REF!"}}]
[{"$f":"#REF!&\",\"&#REF!&\",\"&data!X167","v":{"$error":"#REF!"}},{"$f":"#REF!&\",\"&#REF!&\",\"&data!AD167","v":{"$error":"#REF!"}},{"$f":"#REF!&\",\"&#REF!&\",\"&data!AJ167","v":{"$error":"#REF!"}},{"$f":"#REF!&\",\"&#REF!&\",\"&data!AP167","v":{"$error":"#REF!"}},{"$f":"#REF!&\",\"&#REF!&\",\"&data!AV167","v":{"$error":"#REF!"}},{"$f":"data!X167&\",\"&#REF!","v":{"$error":"#REF!"}},{"$f":"data!AD167&\",\"&#REF!","v":{"$error":"#REF!"}},{"$f":"data!AJ167&\",\"&#REF!","v":{"$error":"#REF!"}},{"$f":"data!AP167&\",\"&#REF!","v":{"$error":"#REF!"}},{"$f":"data!AV167&\",\"&#REF!","v":{"$error":"#REF!"}},{"$f":"data!X167&\",\"&COUNTIF($F$2:$J166,F166)","v":{"$error":"#REF!"}},{"$f":"data!AD167&\",\"&COUNTIF($F$2:$J166,G166)","v":{"$error":"#REF!"}},{"$f":"data!AJ167&\",\"&COUNTIF($F$2:$J166,H166)","v":{"$error":"#REF!"}},{"$f":"data!AP167&\",\"&COUNTIF($F$2:$J166,I166)","v":{"$error":"#REF!"}},{"$f":"data!AV167&\",\"&COUNTIF($F$2:$J166,J166)","v":{"$error":"#REF!"}}]
[{"$f":"#REF!&\",\"&#REF!&\",\"&data!X168","v":{"$error":"#REF!"}},{"$f":"#REF!&\",\"&#REF!&\",\"&data!AD168","v":{"$error":"#REF!"}},{"$f":"#REF!&\",\"&#REF!&\",\"&data!AJ168","v":{"$error":"#REF!"}},{"$f":"#REF!&\",\"&#REF!&\",\"&data!AP168","v":{"$error":"#REF!"}},{"$f":"#REF!&\",\"&#REF!&\",\"&data!AV168","v":{"$error":"#REF!"}},{"$f":"data!X168&\",\"&#REF!","v":{"$error":"#REF!"}},{"$f":"data!AD168&\",\"&#REF!","v":{"$error":"#REF!"}},{"$f":"data!AJ168&\",\"&#REF!","v":{"$error":"#REF!"}},{"$f":"data!AP168&\",\"&#REF!","v":{"$error":"#REF!"}},{"$f":"data!AV168&\",\"&#REF!","v":{"$error":"#REF!"}},{"$f":"data!X168&\",\"&COUNTIF($F$2:$J167,F167)","v":{"$error":"#REF!"}},{"$f":"data!AD168&\",\"&COUNTIF($F$2:$J167,G167)","v":{"$error":"#REF!"}},{"$f":"data!AJ168&\",\"&COUNTIF($F$2:$J167,H167)","v":{"$error":"#REF!"}},{"$f":"data!AP168&\",\"&COUNTIF($F$2:$J167,I167)","v":{"$error":"#REF!"}},{"$f":"data!AV168&\",\"&COUNTIF($F$2:$J167,J167)","v":{"$error":"#REF!"}}]
[{"$f":"#REF!&\",\"&#REF!&\",\"&data!X169","v":{"$error":"#REF!"}},{"$f":"#REF!&\",\"&#REF!&\",\"&data!AD169","v":{"$error":"#REF!"}},{"$f":"#REF!&\",\"&#REF!&\",\"&data!AJ169","v":{"$error":"#REF!"}},{"$f":"#REF!&\",\"&#REF!&\",\"&data!AP169","v":{"$error":"#REF!"}},{"$f":"#REF!&\",\"&#REF!&\",\"&data!AV169","v":{"$error":"#REF!"}},{"$f":"data!X169&\",\"&#REF!","v":{"$error":"#REF!"}},{"$f":"data!AD169&\",\"&#REF!","v":{"$error":"#REF!"}},{"$f":"data!AJ169&\",\"&#REF!","v":{"$error":"#REF!"}},{"$f":"data!AP169&\",\"&#REF!","v":{"$error":"#REF!"}},{"$f":"data!AV169&\",\"&#REF!","v":{"$error":"#REF!"}},{"$f":"data!X169&\",\"&COUNTIF($F$2:$J168,F168)","v":{"$error":"#REF!"}},{"$f":"data!AD169&\",\"&COUNTIF($F$2:$J168,G168)","v":{"$error":"#REF!"}},{"$f":"data!AJ169&\",\"&COUNTIF($F$2:$J168,H168)","v":{"$error":"#REF!"}},{"$f":"data!AP169&\",\"&COUNTIF($F$2:$J168,I168)","v":{"$error":"#REF!"}},{"$f":"data!AV169&\",\"&COUNTIF($F$2:$J168,J168)","v":{"$error":"#REF!"}}]
[{"$f":"#REF!&\",\"&#REF!&\",\"&data!X170","v":{"$error":"#REF!"}},{"$f":"#REF!&\",\"&#REF!&\",\"&data!AD170","v":{"$error":"#REF!"}},{"$f":"#REF!&\",\"&#REF!&\",\"&data!AJ170","v":{"$error":"#REF!"}},{"$f":"#REF!&\",\"&#REF!&\",\"&data!AP170","v":{"$error":"#REF!"}},{"$f":"#REF!&\",\"&#REF!&\",\"&data!AV170","v":{"$error":"#REF!"}},{"$f":"data!X170&\",\"&#REF!","v":{"$error":"#REF!"}},{"$f":"data!AD170&\",\"&#REF!","v":{"$error":"#REF!"}},{"$f":"data!AJ170&\",\"&#REF!","v":{"$error":"#REF!"}},{"$f":"data!AP170&\",\"&#REF!","v":{"$error":"#REF!"}},{"$f":"data!AV170&\",\"&#REF!","v":{"$error":"#REF!"}},{"$f":"data!X170&\",\"&COUNTIF($F$2:$J169,F169)","v":{"$error":"#REF!"}},{"$f":"data!AD170&\",\"&COUNTIF($F$2:$J169,G169)","v":{"$error":"#REF!"}},{"$f":"data!AJ170&\",\"&COUNTIF($F$2:$J169,H169)","v":{"$error":"#REF!"}},{"$f":"data!AP170&\",\"&COUNTIF($F$2:$J169,I169)","v":{"$error":"#REF!"}},{"$f":"data!AV170&\",\"&COUNTIF($F$2:$J169,J169)","v":{"$error":"#REF!"}}]
[{"$f":"#REF!&\",\"&#REF!&\",\"&data!X171","v":{"$error":"#REF!"}},{"$f":"#REF!&\",\"&#REF!&\",\"&data!AD171","v":{"$error":"#REF!"}},{"$f":"#REF!&\",\"&#REF!&\",\"&data!AJ171","v":{"$error":"#REF!"}},{"$f":"#REF!&\",\"&#REF!&\",\"&data!AP171","v":{"$error":"#REF!"}},{"$f":"#REF!&\",\"&#REF!&\",\"&data!AV171","v":{"$error":"#REF!"}},{"$f":"data!X171&\",\"&#REF!","v":{"$error":"#REF!"}},{"$f":"data!AD171&\",\"&#REF!","v":{"$error":"#REF!"}},{"$f":"data!AJ171&\",\"&#REF!","v":{"$error":"#REF!"}},{"$f":"data!AP171&\",\"&#REF!","v":{"$error":"#REF!"}},{"$f":"data!AV171&\",\"&#REF!","v":{"$error":"#REF!"}},{"$f":"data!X171&\",\"&COUNTIF($F$2:$J170,F170)","v":{"$error":"#REF!"}},{"$f":"data!AD171&\",\"&COUNTIF($F$2:$J170,G170)","v":{"$error":"#REF!"}},{"$f":"data!AJ171&\",\"&COUNTIF($F$2:$J170,H170)","v":{"$error":"#REF!"}},{"$f":"data!AP171&\",\"&COUNTIF($F$2:$J170,I170)","v":{"$error":"#REF!"}},{"$f":"data!AV171&\",\"&COUNTIF($F$2:$J170,J170)","v":{"$error":"#REF!"}}]
[{"$f":"#REF!&\",\"&#REF!&\",\"&data!X172","v":{"$error":"#REF!"}},{"$f":"#REF!&\",\"&#REF!&\",\"&data!AD172","v":{"$error":"#REF!"}},{"$f":"#REF!&\",\"&#REF!&\",\"&data!AJ172","v":{"$error":"#REF!"}},{"$f":"#REF!&\",\"&#REF!&\",\"&data!AP172","v":{"$error":"#REF!"}},{"$f":"#REF!&\",\"&#REF!&\",\"&data!AV172","v":{"$error":"#REF!"}},{"$f":"data!X172&\",\"&#REF!","v":{"$error":"#REF!"}},{"$f":"data!AD172&\",\"&#REF!","v":{"$error":"#REF!"}},{"$f":"data!AJ172&\",\"&#REF!","v":{"$error":"#REF!"}},{"$f":"data!AP172&\",\"&#REF!","v":{"$error":"#REF!"}},{"$f":"data!AV172&\",\"&#REF!","v":{"$error":"#REF!"}},{"$f":"data!X172&\",\"&COUNTIF($F$2:$J171,F171)","v":{"$error":"#REF!"}},{"$f":"data!AD172&\",\"&COUNTIF($F$2:$J171,G171)","v":{"$error":"#REF!"}},{"$f":"data!AJ172&\",\"&COUNTIF($F$2:$J171,H171)","v":{"$error":"#REF!"}},{"$f":"data!AP172&\",\"&COUNTIF($F$2:$J171,I171)","v":{"$error":"#REF!"}},{"$f":"data!AV172&\",\"&COUNTIF($F$2:$J171,J171)","v":{"$error":"#REF!"}}]
[{"$f":"#REF!&\",\"&#REF!&\",\"&data!X173","v":{"$error":"#REF!"}},{"$f":"#REF!&\",\"&#REF!&\",\"&data!AD173","v":{"$error":"#REF!"}},{"$f":"#REF!&\",\"&#REF!&\",\"&data!AJ173","v":{"$error":"#REF!"}},{"$f":"#REF!&\",\"&#REF!&\",\"&data!AP173","v":{"$error":"#REF!"}},{"$f":"#REF!&\",\"&#REF!&\",\"&data!AV173","v":{"$error":"#REF!"}},{"$f":"data!X173&\",\"&#REF!","v":{"$error":"#REF!"}},{"$f":"data!AD173&\",\"&#REF!","v":{"$error":"#REF!"}},{"$f":"data!AJ173&\",\"&#REF!","v":{"$error":"#REF!"}},{"$f":"data!AP173&\",\"&#REF!","v":{"$error":"#REF!"}},{"$f":"data!AV173&\",\"&#REF!","v":{"$error":"#REF!"}},{"$f":"data!X173&\",\"&COUNTIF($F$2:$J172,F172)","v":{"$error":"#REF!"}},{"$f":"data!AD173&\",\"&COUNTIF($F$2:$J172,G172)","v":{"$error":"#REF!"}},{"$f":"data!AJ173&\",\"&COUNTIF($F$2:$J172,H172)","v":{"$error":"#REF!"}},{"$f":"data!AP173&\",\"&COUNTIF($F$2:$J172,I172)","v":{"$error":"#REF!"}},{"$f":"data!AV173&\",\"&COUNTIF($F$2:$J172,J172)","v":{"$error":"#REF!"}}]
[{"$f":"#REF!&\",\"&#REF!&\",\"&data!X174","v":{"$error":"#REF!"}},{"$f":"#REF!&\",\"&#REF!&\",\"&data!AD174","v":{"$error":"#REF!"}},{"$f":"#REF!&\",\"&#REF!&\",\"&data!AJ174","v":{"$error":"#REF!"}},{"$f":"#REF!&\",\"&#REF!&\",\"&data!AP174","v":{"$error":"#REF!"}},{"$f":"#REF!&\",\"&#REF!&\",\"&data!AV174","v":{"$error":"#REF!"}},{"$f":"data!X174&\",\"&#REF!","v":{"$error":"#REF!"}},{"$f":"data!AD174&\",\"&#REF!","v":{"$error":"#REF!"}},{"$f":"data!AJ174&\",\"&#REF!","v":{"$error":"#REF!"}},{"$f":"data!AP174&\",\"&#REF!","v":{"$error":"#REF!"}},{"$f":"data!AV174&\",\"&#REF!","v":{"$error":"#REF!"}},{"$f":"data!X174&\",\"&COUNTIF($F$2:$J173,F173)","v":{"$error":"#REF!"}},{"$f":"data!AD174&\",\"&COUNTIF($F$2:$J173,G173)","v":{"$error":"#REF!"}},{"$f":"data!AJ174&\",\"&COUNTIF($F$2:$J173,H173)","v":{"$error":"#REF!"}},{"$f":"data!AP174&\",\"&COUNTIF($F$2:$J173,I173)","v":{"$error":"#REF!"}},{"$f":"data!AV174&\",\"&COUNTIF($F$2:$J173,J173)","v":{"$error":"#REF!"}}]
[{"$f":"#REF!&\",\"&#REF!&\",\"&data!X175","v":{"$error":"#REF!"}},{"$f":"#REF!&\",\"&#REF!&\",\"&data!AD175","v":{"$error":"#REF!"}},{"$f":"#REF!&\",\"&#REF!&\",\"&data!AJ175","v":{"$error":"#REF!"}},{"$f":"#REF!&\",\"&#REF!&\",\"&data!AP175","v":{"$error":"#REF!"}},{"$f":"#REF!&\",\"&#REF!&\",\"&data!AV175","v":{"$error":"#REF!"}},{"$f":"data!X175&\",\"&#REF!","v":{"$error":"#REF!"}},{"$f":"data!AD175&\",\"&#REF!","v":{"$error":"#REF!"}},{"$f":"data!AJ175&\",\"&#REF!","v":{"$error":"#REF!"}},{"$f":"data!AP175&\",\"&#REF!","v":{"$error":"#REF!"}},{"$f":"data!AV175&\",\"&#REF!","v":{"$error":"#REF!"}},{"$f":"data!X175&\",\"&COUNTIF($F$2:$J174,F174)","v":{"$error":"#REF!"}},{"$f":"data!AD175&\",\"&COUNTIF($F$2:$J174,G174)","v":{"$error":"#REF!"}},{"$f":"data!AJ175&\",\"&COUNTIF($F$2:$J174,H174)","v":{"$error":"#REF!"}},{"$f":"data!AP175&\",\"&COUNTIF($F$2:$J174,I174)","v":{"$error":"#REF!"}},{"$f":"data!AV175&\",\"&COUNTIF($F$2:$J174,J174)","v":{"$error":"#REF!"}}]
[{"$f":"#REF!&\",\"&#REF!&\",\"&data!X176","v":{"$error":"#REF!"}},{"$f":"#REF!&\",\"&#REF!&\",\"&data!AD176","v":{"$error":"#REF!"}},{"$f":"#REF!&\",\"&#REF!&\",\"&data!AJ176","v":{"$error":"#REF!"}},{"$f":"#REF!&\",\"&#REF!&\",\"&data!AP176","v":{"$error":"#REF!"}},{"$f":"#REF!&\",\"&#REF!&\",\"&data!AV176","v":{"$error":"#REF!"}},{"$f":"data!X176&\",\"&#REF!","v":{"$error":"#REF!"}},{"$f":"data!AD176&\",\"&#REF!","v":{"$error":"#REF!"}},{"$f":"data!AJ176&\",\"&#REF!","v":{"$error":"#REF!"}},{"$f":"data!AP176&\",\"&#REF!","v":{"$error":"#REF!"}},{"$f":"data!AV176&\",\"&#REF!","v":{"$error":"#REF!"}},{"$f":"data!X176&\",\"&COUNTIF($F$2:$J175,F175)","v":{"$error":"#REF!"}},{"$f":"data!AD176&\",\"&COUNTIF($F$2:$J175,G175)","v":{"$error":"#REF!"}},{"$f":"data!AJ176&\",\"&COUNTIF($F$2:$J175,H175)","v":{"$error":"#REF!"}},{"$f":"data!AP176&\",\"&COUNTIF($F$2:$J175,I175)","v":{"$error":"#REF!"}},{"$f":"data!AV176&\",\"&COUNTIF($F$2:$J175,J175)","v":{"$error":"#REF!"}}]
[{"$f":"#REF!&\",\"&#REF!&\",\"&data!X177","v":{"$error":"#REF!"}},{"$f":"#REF!&\",\"&#REF!&\",\"&data!AD177","v":{"$error":"#REF!"}},{"$f":"#REF!&\",\"&#REF!&\",\"&data!AJ177","v":{"$error":"#REF!"}},{"$f":"#REF!&\",\"&#REF!&\",\"&data!AP177","v":{"$error":"#REF!"}},{"$f":"#REF!&\",\"&#REF!&\",\"&data!AV177","v":{"$error":"#REF!"}},{"$f":"data!X177&\",\"&#REF!","v":{"$error":"#REF!"}},{"$f":"data!AD177&\",\"&#REF!","v":{"$error":"#REF!"}},{"$f":"data!AJ177&\",\"&#REF!","v":{"$error":"#REF!"}},{"$f":"data!AP177&\",\"&#REF!","v":{"$error":"#REF!"}},{"$f":"data!AV177&\",\"&#REF!","v":{"$error":"#REF!"}},{"$f":"data!X177&\",\"&COUNTIF($F$2:$J176,F176)","v":{"$error":"#REF!"}},{"$f":"data!AD177&\",\"&COUNTIF($F$2:$J176,G176)","v":{"$error":"#REF!"}},{"$f":"data!AJ177&\",\"&COUNTIF($F$2:$J176,H176)","v":{"$error":"#REF!"}},{"$f":"data!AP177&\",\"&COUNTIF($F$2:$J176,I176)","v":{"$error":"#REF!"}},{"$f":"data!AV177&\",\"&COUNTIF($F$2:$J176,J176)","v":{"$error":"#REF!"}}]
[{"$f":"#REF!&\",\"&#REF!&\",\"&data!X178","v":{"$error":"#REF!"}},{"$f":"#REF!&\",\"&#REF!&\",\"&data!AD178","v":{"$error":"#REF!"}},{"$f":"#REF!&\",\"&#REF!&\",\"&data!AJ178","v":{"$error":"#REF!"}},{"$f":"#REF!&\",\"&#REF!&\",\"&data!AP178","v":{"$error":"#REF!"}},{"$f":"#REF!&\",\"&#REF!&\",\"&data!AV178","v":{"$error":"#REF!"}},{"$f":"data!X178&\",\"&#REF!","v":{"$error":"#REF!"}},{"$f":"data!AD178&\",\"&#REF!","v":{"$error":"#REF!"}},{"$f":"data!AJ178&\",\"&#REF!","v":{"$error":"#REF!"}},{"$f":"data!AP178&\",\"&#REF!","v":{"$error":"#REF!"}},{"$f":"data!AV178&\",\"&#REF!","v":{"$error":"#REF!"}},{"$f":"data!X178&\",\"&COUNTIF($F$2:$J177,F177)","v":{"$error":"#REF!"}},{"$f":"data!AD178&\",\"&COUNTIF($F$2:$J177,G177)","v":{"$error":"#REF!"}},{"$f":"data!AJ178&\",\"&COUNTIF($F$2:$J177,H177)","v":{"$error":"#REF!"}},{"$f":"data!AP178&\",\"&COUNTIF($F$2:$J177,I177)","v":{"$error":"#REF!"}},{"$f":"data!AV178&\",\"&COUNTIF($F$2:$J177,J177)","v":{"$error":"#REF!"}}]
[{"$f":"#REF!&\",\"&#REF!&\",\"&data!X179","v":{"$error":"#REF!"}},{"$f":"#REF!&\",\"&#REF!&\",\"&data!AD179","v":{"$error":"#REF!"}},{"$f":"#REF!&\",\"&#REF!&\",\"&data!AJ179","v":{"$error":"#REF!"}},{"$f":"#REF!&\",\"&#REF!&\",\"&data!AP179","v":{"$error":"#REF!"}},{"$f":"#REF!&\",\"&#REF!&\",\"&data!AV179","v":{"$error":"#REF!"}},{"$f":"data!X179&\",\"&#REF!","v":{"$error":"#REF!"}},{"$f":"data!AD179&\",\"&#REF!","v":{"$error":"#REF!"}},{"$f":"data!AJ179&\",\"&#REF!","v":{"$error":"#REF!"}},{"$f":"data!AP179&\",\"&#REF!","v":{"$error":"#REF!"}},{"$f":"data!AV179&\",\"&#REF!","v":{"$error":"#REF!"}},{"$f":"data!X179&\",\"&COUNTIF($F$2:$J178,F178)","v":{"$error":"#REF!"}},{"$f":"data!AD179&\",\"&COUNTIF($F$2:$J178,G178)","v":{"$error":"#REF!"}},{"$f":"data!AJ179&\",\"&COUNTIF($F$2:$J178,H178)","v":{"$error":"#REF!"}},{"$f":"data!AP179&\",\"&COUNTIF($F$2:$J178,I178)","v":{"$error":"#REF!"}},{"$f":"data!AV179&\",\"&COUNTIF($F$2:$J178,J178)","v":{"$error":"#REF!"}}]
[{"$f":"#REF!&\",\"&#REF!&\",\"&data!X180","v":{"$error":"#REF!"}},{"$f":"#REF!&\",\"&#REF!&\",\"&data!AD180","v":{"$error":"#REF!"}},{"$f":"#REF!&\",\"&#REF!&\",\"&data!AJ180","v":{"$error":"#REF!"}},{"$f":"#REF!&\",\"&#REF!&\",\"&data!AP180","v":{"$error":"#REF!"}},{"$f":"#REF!&\",\"&#REF!&\",\"&data!AV180","v":{"$error":"#REF!"}},{"$f":"data!X180&\",\"&#REF!","v":{"$error":"#REF!"}},{"$f":"data!AD180&\",\"&#REF!","v":{"$error":"#REF!"}},{"$f":"data!AJ180&\",\"&#REF!","v":{"$error":"#REF!"}},{"$f":"data!AP180&\",\"&#REF!","v":{"$error":"#REF!"}},{"$f":"data!AV180&\",\"&#REF!","v":{"$error":"#REF!"}},{"$f":"data!X180&\",\"&COUNTIF($F$2:$J179,F179)","v":{"$error":"#REF!"}},{"$f":"data!AD180&\",\"&COUNTIF($F$2:$J179,G179)","v":{"$error":"#REF!"}},{"$f":"data!AJ180&\",\"&COUNTIF($F$2:$J179,H179)","v":{"$error":"#REF!"}},{"$f":"data!AP180&\",\"&COUNTIF($F$2:$J179,I179)","v":{"$error":"#REF!"}},{"$f":"data!AV180&\",\"&COUNTIF($F$2:$J179,J179)","v":{"$error":"#REF!"}}]
[{"$f":"#REF!&\",\"&#REF!&\",\"&data!X181","v":{"$error":"#REF!"}},{"$f":"#REF!&\",\"&#REF!&\",\"&data!AD181","v":{"$error":"#REF!"}},{"$f":"#REF!&\",\"&#REF!&\",\"&data!AJ181","v":{"$error":"#REF!"}},{"$f":"#REF!&\",\"&#REF!&\",\"&data!AP181","v":{"$error":"#REF!"}},{"$f":"#REF!&\",\"&#REF!&\",\"&data!AV181","v":{"$error":"#REF!"}},{"$f":"data!X181&\",\"&#REF!","v":{"$error":"#REF!"}},{"$f":"data!AD181&\",\"&#REF!","v":{"$error":"#REF!"}},{"$f":"data!AJ181&\",\"&#REF!","v":{"$error":"#REF!"}},{"$f":"data!AP181&\",\"&#REF!","v":{"$error":"#REF!"}},{"$f":"data!AV181&\",\"&#REF!","v":{"$error":"#REF!"}},{"$f":"data!X181&\",\"&COUNTIF($F$2:$J180,F180)","v":{"$error":"#REF!"}},{"$f":"data!AD181&\",\"&COUNTIF($F$2:$J180,G180)","v":{"$error":"#REF!"}},{"$f":"data!AJ181&\",\"&COUNTIF($F$2:$J180,H180)","v":{"$error":"#REF!"}},{"$f":"data!AP181&\",\"&COUNTIF($F$2:$J180,I180)","v":{"$error":"#REF!"}},{"$f":"data!AV181&\",\"&COUNTIF($F$2:$J180,J180)","v":{"$error":"#REF!"}}]
[{"$f":"#REF!&\",\"&#REF!&\",\"&data!X182","v":{"$error":"#REF!"}},{"$f":"#REF!&\",\"&#REF!&\",\"&data!AD182","v":{"$error":"#REF!"}},{"$f":"#REF!&\",\"&#REF!&\",\"&data!AJ182","v":{"$error":"#REF!"}},{"$f":"#REF!&\",\"&#REF!&\",\"&data!AP182","v":{"$error":"#REF!"}},{"$f":"#REF!&\",\"&#REF!&\",\"&data!AV182","v":{"$error":"#REF!"}},{"$f":"data!X182&\",\"&#REF!","v":{"$error":"#REF!"}},{"$f":"data!AD182&\",\"&#REF!","v":{"$error":"#REF!"}},{"$f":"data!AJ182&\",\"&#REF!","v":{"$error":"#REF!"}},{"$f":"data!AP182&\",\"&#REF!","v":{"$error":"#REF!"}},{"$f":"data!AV182&\",\"&#REF!","v":{"$error":"#REF!"}},{"$f":"data!X182&\",\"&COUNTIF($F$2:$J181,F181)","v":{"$error":"#REF!"}},{"$f":"data!AD182&\",\"&COUNTIF($F$2:$J181,G181)","v":{"$error":"#REF!"}},{"$f":"data!AJ182&\",\"&COUNTIF($F$2:$J181,H181)","v":{"$error":"#REF!"}},{"$f":"data!AP182&\",\"&COUNTIF($F$2:$J181,I181)","v":{"$error":"#REF!"}},{"$f":"data!AV182&\",\"&COUNTIF($F$2:$J181,J181)","v":{"$error":"#REF!"}}]
[{"$f":"#REF!&\",\"&#REF!&\",\"&data!X183","v":{"$error":"#REF!"}},{"$f":"#REF!&\",\"&#REF!&\",\"&data!AD183","v":{"$error":"#REF!"}},{"$f":"#REF!&\",\"&#REF!&\",\"&data!AJ183","v":{"$error":"#REF!"}},{"$f":"#REF!&\",\"&#REF!&\",\"&data!AP183","v":{"$error":"#REF!"}},{"$f":"#REF!&\",\"&#REF!&\",\"&data!AV183","v":{"$error":"#REF!"}},{"$f":"data!X183&\",\"&#REF!","v":{"$error":"#REF!"}},{"$f":"data!AD183&\",\"&#REF!","v":{"$error":"#REF!"}},{"$f":"data!AJ183&\",\"&#REF!","v":{"$error":"#REF!"}},{"$f":"data!AP183&\",\"&#REF!","v":{"$error":"#REF!"}},{"$f":"data!AV183&\",\"&#REF!","v":{"$error":"#REF!"}},{"$f":"data!X183&\",\"&COUNTIF($F$2:$J182,F182)","v":{"$error":"#REF!"}},{"$f":"data!AD183&\",\"&COUNTIF($F$2:$J182,G182)","v":{"$error":"#REF!"}},{"$f":"data!AJ183&\",\"&COUNTIF($F$2:$J182,H182)","v":{"$error":"#REF!"}},{"$f":"data!AP183&\",\"&COUNTIF($F$2:$J182,I182)","v":{"$error":"#REF!"}},{"$f":"data!AV183&\",\"&COUNTIF($F$2:$J182,J182)","v":{"$error":"#REF!"}}]
[{"$f":"#REF!&\",\"&#REF!&\",\"&data!X184","v":{"$error":"#REF!"}},{"$f":"#REF!&\",\"&#REF!&\",\"&data!AD184","v":{"$error":"#REF!"}},{"$f":"#REF!&\",\"&#REF!&\",\"&data!AJ184","v":{"$error":"#REF!"}},{"$f":"#REF!&\",\"&#REF!&\",\"&data!AP184","v":{"$error":"#REF!"}},{"$f":"#REF!&\",\"&#REF!&\",\"&data!AV184","v":{"$error":"#REF!"}},{"$f":"data!X184&\",\"&#REF!","v":{"$error":"#REF!"}},{"$f":"data!AD184&\",\"&#REF!","v":{"$error":"#REF!"}},{"$f":"data!AJ184&\",\"&#REF!","v":{"$error":"#REF!"}},{"$f":"data!AP184&\",\"&#REF!","v":{"$error":"#REF!"}},{"$f":"data!AV184&\",\"&#REF!","v":{"$error":"#REF!"}},{"$f":"data!X184&\",\"&COUNTIF($F$2:$J183,F183)","v":{"$error":"#REF!"}},{"$f":"data!AD184&\",\"&COUNTIF($F$2:$J183,G183)","v":{"$error":"#REF!"}},{"$f":"data!AJ184&\",\"&COUNTIF($F$2:$J183,H183)","v":{"$error":"#REF!"}},{"$f":"data!AP184&\",\"&COUNTIF($F$2:$J183,I183)","v":{"$error":"#REF!"}},{"$f":"data!AV184&\",\"&COUNTIF($F$2:$J183,J183)","v":{"$error":"#REF!"}}]
[{"$f":"#REF!&\",\"&#REF!&\",\"&data!X185","v":{"$error":"#REF!"}},{"$f":"#REF!&\",\"&#REF!&\",\"&data!AD185","v":{"$error":"#REF!"}},{"$f":"#REF!&\",\"&#REF!&\",\"&data!AJ185","v":{"$error":"#REF!"}},{"$f":"#REF!&\",\"&#REF!&\",\"&data!AP185","v":{"$error":"#REF!"}},{"$f":"#REF!&\",\"&#REF!&\",\"&data!AV185","v":{"$error":"#REF!"}},{"$f":"data!X185&\",\"&#REF!","v":{"$error":"#REF!"}},{"$f":"data!AD185&\",\"&#REF!","v":{"$error":"#REF!"}},{"$f":"data!AJ185&\",\"&#REF!","v":{"$error":"#REF!"}},{"$f":"data!AP185&\",\"&#REF!","v":{"$error":"#REF!"}},{"$f":"data!AV185&\",\"&#REF!","v":{"$error":"#REF!"}},{"$f":"data!X185&\",\"&COUNTIF($F$2:$J184,F184)","v":{"$error":"#REF!"}},{"$f":"data!AD185&\",\"&COUNTIF($F$2:$J184,G184)","v":{"$error":"#REF!"}},{"$f":"data!AJ185&\",\"&COUNTIF($F$2:$J184,H184)","v":{"$error":"#REF!"}},{"$f":"data!AP185&\",\"&COUNTIF($F$2:$J184,I184)","v":{"$error":"#REF!"}},{"$f":"data!AV185&\",\"&COUNTIF($F$2:$J184,J184)","v":{"$error":"#REF!"}}]
[{"$f":"#REF!&\",\"&#REF!&\",\"&data!X186","v":{"$error":"#REF!"}},{"$f":"#REF!&\",\"&#REF!&\",\"&data!AD186","v":{"$error":"#REF!"}},{"$f":"#REF!&\",\"&#REF!&\",\"&data!AJ186","v":{"$error":"#REF!"}},{"$f":"#REF!&\",\"&#REF!&\",\"&data!AP186","v":{"$error":"#REF!"}},{"$f":"#REF!&\",\"&#REF!&\",\"&data!AV186","v":{"$error":"#REF!"}},{"$f":"data!X186&\",\"&#REF!","v":{"$error":"#REF!"}},{"$f":"data!AD186&\",\"&#REF!","v":{"$error":"#REF!"}},{"$f":"data!AJ186&\",\"&#REF!","v":{"$error":"#REF!"}},{"$f":"data!AP186&\",\"&#REF!","v":{"$error":"#REF!"}},{"$f":"data!AV186&\",\"&#REF!","v":{"$error":"#REF!"}},{"$f":"data!X186&\",\"&COUNTIF($F$2:$J185,F185)","v":{"$error":"#REF!"}},{"$f":"data!AD186&\",\"&COUNTIF($F$2:$J185,G185)","v":{"$error":"#REF!"}},{"$f":"data!AJ186&\",\"&COUNTIF($F$2:$J185,H185)","v":{"$error":"#REF!"}},{"$f":"data!AP186&\",\"&COUNTIF($F$2:$J185,I185)","v":{"$error":"#REF!"}},{"$f":"data!AV186&\",\"&COUNTIF($F$2:$J185,J185)","v":{"$error":"#REF!"}}]
[{"$f":"#REF!&\",\"&#REF!&\",\"&data!X187","v":{"$error":"#REF!"}},{"$f":"#REF!&\",\"&#REF!&\",\"&data!AD187","v":{"$error":"#REF!"}},{"$f":"#REF!&\",\"&#REF!&\",\"&data!AJ187","v":{"$error":"#REF!"}},{"$f":"#REF!&\",\"&#REF!&\",\"&data!AP187","v":{"$error":"#REF!"}},{"$f":"#REF!&\",\"&#REF!&\",\"&data!AV187","v":{"$error":"#REF!"}},{"$f":"data!X187&\",\"&#REF!","v":{"$error":"#REF!"}},{"$f":"data!AD187&\",\"&#REF!","v":{"$error":"#REF!"}},{"$f":"data!AJ187&\",\"&#REF!","v":{"$error":"#REF!"}},{"$f":"data!AP187&\",\"&#REF!","v":{"$error":"#REF!"}},{"$f":"data!AV187&\",\"&#REF!","v":{"$error":"#REF!"}},{"$f":"data!X187&\",\"&COUNTIF($F$2:$J186,F186)","v":{"$error":"#REF!"}},{"$f":"data!AD187&\",\"&COUNTIF($F$2:$J186,G186)","v":{"$error":"#REF!"}},{"$f":"data!AJ187&\",\"&COUNTIF($F$2:$J186,H186)","v":{"$error":"#REF!"}},{"$f":"data!AP187&\",\"&COUNTIF($F$2:$J186,I186)","v":{"$error":"#REF!"}},{"$f":"data!AV187&\",\"&COUNTIF($F$2:$J186,J186)","v":{"$error":"#REF!"}}]
[{"$f":"#REF!&\",\"&#REF!&\",\"&data!X188","v":{"$error":"#REF!"}},{"$f":"#REF!&\",\"&#REF!&\",\"&data!AD188","v":{"$error":"#REF!"}},{"$f":"#REF!&\",\"&#REF!&\",\"&data!AJ188","v":{"$error":"#REF!"}},{"$f":"#REF!&\",\"&#REF!&\",\"&data!AP188","v":{"$error":"#REF!"}},{"$f":"#REF!&\",\"&#REF!&\",\"&data!AV188","v":{"$error":"#REF!"}},{"$f":"data!X188&\",\"&#REF!","v":{"$error":"#REF!"}},{"$f":"data!AD188&\",\"&#REF!","v":{"$error":"#REF!"}},{"$f":"data!AJ188&\",\"&#REF!","v":{"$error":"#REF!"}},{"$f":"data!AP188&\",\"&#REF!","v":{"$error":"#REF!"}},{"$f":"data!AV188&\",\"&#REF!","v":{"$error":"#REF!"}},{"$f":"data!X188&\",\"&COUNTIF($F$2:$J187,F187)","v":{"$error":"#REF!"}},{"$f":"data!AD188&\",\"&COUNTIF($F$2:$J187,G187)","v":{"$error":"#REF!"}},{"$f":"data!AJ188&\",\"&COUNTIF($F$2:$J187,H187)","v":{"$error":"#REF!"}},{"$f":"data!AP188&\",\"&COUNTIF($F$2:$J187,I187)","v":{"$error":"#REF!"}},{"$f":"data!AV188&\",\"&COUNTIF($F$2:$J187,J187)","v":{"$error":"#REF!"}}]
[{"$f":"#REF!&\",\"&#REF!&\",\"&data!X189","v":{"$error":"#REF!"}},{"$f":"#REF!&\",\"&#REF!&\",\"&data!AD189","v":{"$error":"#REF!"}},{"$f":"#REF!&\",\"&#REF!&\",\"&data!AJ189","v":{"$error":"#REF!"}},{"$f":"#REF!&\",\"&#REF!&\",\"&data!AP189","v":{"$error":"#REF!"}},{"$f":"#REF!&\",\"&#REF!&\",\"&data!AV189","v":{"$error":"#REF!"}},{"$f":"data!X189&\",\"&#REF!","v":{"$error":"#REF!"}},{"$f":"data!AD189&\",\"&#REF!","v":{"$error":"#REF!"}},{"$f":"data!AJ189&\",\"&#REF!","v":{"$error":"#REF!"}},{"$f":"data!AP189&\",\"&#REF!","v":{"$error":"#REF!"}},{"$f":"data!AV189&\",\"&#REF!","v":{"$error":"#REF!"}},{"$f":"data!X189&\",\"&COUNTIF($F$2:$J188,F188)","v":{"$error":"#REF!"}},{"$f":"data!AD189&\",\"&COUNTIF($F$2:$J188,G188)","v":{"$error":"#REF!"}},{"$f":"data!AJ189&\",\"&COUNTIF($F$2:$J188,H188)","v":{"$error":"#REF!"}},{"$f":"data!AP189&\",\"&COUNTIF($F$2:$J188,I188)","v":{"$error":"#REF!"}},{"$f":"data!AV189&\",\"&COUNTIF($F$2:$J188,J188)","v":{"$error":"#REF!"}}]
[{"$f":"#REF!&\",\"&#REF!&\",\"&data!X190","v":{"$error":"#REF!"}},{"$f":"#REF!&\",\"&#REF!&\",\"&data!AD190","v":{"$error":"#REF!"}},{"$f":"#REF!&\",\"&#REF!&\",\"&data!AJ190","v":{"$error":"#REF!"}},{"$f":"#REF!&\",\"&#REF!&\",\"&data!AP190","v":{"$error":"#REF!"}},{"$f":"#REF!&\",\"&#REF!&\",\"&data!AV190","v":{"$error":"#REF!"}},{"$f":"data!X190&\",\"&#REF!","v":{"$error":"#REF!"}},{"$f":"data!AD190&\",\"&#REF!","v":{"$error":"#REF!"}},{"$f":"data!AJ190&\",\"&#REF!","v":{"$error":"#REF!"}},{"$f":"data!AP190&\",\"&#REF!","v":{"$error":"#REF!"}},{"$f":"data!AV190&\",\"&#REF!","v":{"$error":"#REF!"}},{"$f":"data!X190&\",\"&COUNTIF($F$2:$J189,F189)","v":{"$error":"#REF!"}},{"$f":"data!AD190&\",\"&COUNTIF($F$2:$J189,G189)","v":{"$error":"#REF!"}},{"$f":"data!AJ190&\",\"&COUNTIF($F$2:$J189,H189)","v":{"$error":"#REF!"}},{"$f":"data!AP190&\",\"&COUNTIF($F$2:$J189,I189)","v":{"$error":"#REF!"}},{"$f":"data!AV190&\",\"&COUNTIF($F$2:$J189,J189)","v":{"$error":"#REF!"}}]
[{"$f":"#REF!&\",\"&#REF!&\",\"&data!X191","v":{"$error":"#REF!"}},{"$f":"#REF!&\",\"&#REF!&\",\"&data!AD191","v":{"$error":"#REF!"}},{"$f":"#REF!&\",\"&#REF!&\",\"&data!AJ191","v":{"$error":"#REF!"}},{"$f":"#REF!&\",\"&#REF!&\",\"&data!AP191","v":{"$error":"#REF!"}},{"$f":"#REF!&\",\"&#REF!&\",\"&data!AV191","v":{"$error":"#REF!"}},{"$f":"data!X191&\",\"&#REF!","v":{"$error":"#REF!"}},{"$f":"data!AD191&\",\"&#REF!","v":{"$error":"#REF!"}},{"$f":"data!AJ191&\",\"&#REF!","v":{"$error":"#REF!"}},{"$f":"data!AP191&\",\"&#REF!","v":{"$error":"#REF!"}},{"$f":"data!AV191&\",\"&#REF!","v":{"$error":"#REF!"}},{"$f":"data!X191&\",\"&COUNTIF($F$2:$J190,F190)","v":{"$error":"#REF!"}},{"$f":"data!AD191&\",\"&COUNTIF($F$2:$J190,G190)","v":{"$error":"#REF!"}},{"$f":"data!AJ191&\",\"&COUNTIF($F$2:$J190,H190)","v":{"$error":"#REF!"}},{"$f":"data!AP191&\",\"&COUNTIF($F$2:$J190,I190)","v":{"$error":"#REF!"}},{"$f":"data!AV191&\",\"&COUNTIF($F$2:$J190,J190)","v":{"$error":"#REF!"}}]
[{"$f":"#REF!&\",\"&#REF!&\",\"&data!X192","v":{"$error":"#REF!"}},{"$f":"#REF!&\",\"&#REF!&\",\"&data!AD192","v":{"$error":"#REF!"}},{"$f":"#REF!&\",\"&#REF!&\",\"&data!AJ192","v":{"$error":"#REF!"}},{"$f":"#REF!&\",\"&#REF!&\",\"&data!AP192","v":{"$error":"#REF!"}},{"$f":"#REF!&\",\"&#REF!&\",\"&data!AV192","v":{"$error":"#REF!"}},{"$f":"data!X192&\",\"&#REF!","v":{"$error":"#REF!"}},{"$f":"data!AD192&\",\"&#REF!","v":{"$error":"#REF!"}},{"$f":"data!AJ192&\",\"&#REF!","v":{"$error":"#REF!"}},{"$f":"data!AP192&\",\"&#REF!","v":{"$error":"#REF!"}},{"$f":"data!AV192&\",\"&#REF!","v":{"$error":"#REF!"}},{"$f":"data!X192&\",\"&COUNTIF($F$2:$J191,F191)","v":{"$error":"#REF!"}},{"$f":"data!AD192&\",\"&COUNTIF($F$2:$J191,G191)","v":{"$error":"#REF!"}},{"$f":"data!AJ192&\",\"&COUNTIF($F$2:$J191,H191)","v":{"$error":"#REF!"}},{"$f":"data!AP192&\",\"&COUNTIF($F$2:$J191,I191)","v":{"$error":"#REF!"}},{"$f":"data!AV192&\",\"&COUNTIF($F$2:$J191,J191)","v":{"$error":"#REF!"}}]
[{"$f":"#REF!&\",\"&#REF!&\",\"&data!X193","v":{"$error":"#REF!"}},{"$f":"#REF!&\",\"&#REF!&\",\"&data!AD193","v":{"$error":"#REF!"}},{"$f":"#REF!&\",\"&#REF!&\",\"&data!AJ193","v":{"$error":"#REF!"}},{"$f":"#REF!&\",\"&#REF!&\",\"&data!AP193","v":{"$error":"#REF!"}},{"$f":"#REF!&\",\"&#REF!&\",\"&data!AV193","v":{"$error":"#REF!"}},{"$f":"data!X193&\",\"&#REF!","v":{"$error":"#REF!"}},{"$f":"data!AD193&\",\"&#REF!","v":{"$error":"#REF!"}},{"$f":"data!AJ193&\",\"&#REF!","v":{"$error":"#REF!"}},{"$f":"data!AP193&\",\"&#REF!","v":{"$error":"#REF!"}},{"$f":"data!AV193&\",\"&#REF!","v":{"$error":"#REF!"}},{"$f":"data!X193&\",\"&COUNTIF($F$2:$J192,F192)","v":{"$error":"#REF!"}},{"$f":"data!AD193&\",\"&COUNTIF($F$2:$J192,G192)","v":{"$error":"#REF!"}},{"$f":"data!AJ193&\",\"&COUNTIF($F$2:$J192,H192)","v":{"$error":"#REF!"}},{"$f":"data!AP193&\",\"&COUNTIF($F$2:$J192,I192)","v":{"$error":"#REF!"}},{"$f":"data!AV193&\",\"&COUNTIF($F$2:$J192,J192)","v":{"$error":"#REF!"}}]
[{"$f":"#REF!&\",\"&#REF!&\",\"&data!X194","v":{"$error":"#REF!"}},{"$f":"#REF!&\",\"&#REF!&\",\"&data!AD194","v":{"$error":"#REF!"}},{"$f":"#REF!&\",\"&#REF!&\",\"&data!AJ194","v":{"$error":"#REF!"}},{"$f":"#REF!&\",\"&#REF!&\",\"&data!AP194","v":{"$error":"#REF!"}},{"$f":"#REF!&\",\"&#REF!&\",\"&data!AV194","v":{"$error":"#REF!"}},{"$f":"data!X194&\",\"&#REF!","v":{"$error":"#REF!"}},{"$f":"data!AD194&\",\"&#REF!","v":{"$error":"#REF!"}},{"$f":"data!AJ194&\",\"&#REF!","v":{"$error":"#REF!"}},{"$f":"data!AP194&\",\"&#REF!","v":{"$error":"#REF!"}},{"$f":"data!AV194&\",\"&#REF!","v":{"$error":"#REF!"}},{"$f":"data!X194&\",\"&COUNTIF($F$2:$J193,F193)","v":{"$error":"#REF!"}},{"$f":"data!AD194&\",\"&COUNTIF($F$2:$J193,G193)","v":{"$error":"#REF!"}},{"$f":"data!AJ194&\",\"&COUNTIF($F$2:$J193,H193)","v":{"$error":"#REF!"}},{"$f":"data!AP194&\",\"&COUNTIF($F$2:$J193,I193)","v":{"$error":"#REF!"}},{"$f":"data!AV194&\",\"&COUNTIF($F$2:$J193,J193)","v":{"$error":"#REF!"}}]
[{"$f":"#REF!&\",\"&#REF!&\",\"&data!X195","v":{"$error":"#REF!"}},{"$f":"#REF!&\",\"&#REF!&\",\"&data!AD195","v":{"$error":"#REF!"}},{"$f":"#REF!&\",\"&#REF!&\",\"&data!AJ195","v":{"$error":"#REF!"}},{"$f":"#REF!&\",\"&#REF!&\",\"&data!AP195","v":{"$error":"#REF!"}},{"$f":"#REF!&\",\"&#REF!&\",\"&data!AV195","v":{"$error":"#REF!"}},{"$f":"data!X195&\",\"&#REF!","v":{"$error":"#REF!"}},{"$f":"data!AD195&\",\"&#REF!","v":{"$error":"#REF!"}},{"$f":"data!AJ195&\",\"&#REF!","v":{"$error":"#REF!"}},{"$f":"data!AP195&\",\"&#REF!","v":{"$error":"#REF!"}},{"$f":"data!AV195&\",\"&#REF!","v":{"$error":"#REF!"}},{"$f":"data!X195&\",\"&COUNTIF($F$2:$J194,F194)","v":{"$error":"#REF!"}},{"$f":"data!AD195&\",\"&COUNTIF($F$2:$J194,G194)","v":{"$error":"#REF!"}},{"$f":"data!AJ195&\",\"&COUNTIF($F$2:$J194,H194)","v":{"$error":"#REF!"}},{"$f":"data!AP195&\",\"&COUNTIF($F$2:$J194,I194)","v":{"$error":"#REF!"}},{"$f":"data!AV195&\",\"&COUNTIF($F$2:$J194,J194)","v":{"$error":"#REF!"}}]
[{"$f":"#REF!&\",\"&#REF!&\",\"&data!X196","v":{"$error":"#REF!"}},{"$f":"#REF!&\",\"&#REF!&\",\"&data!AD196","v":{"$error":"#REF!"}},{"$f":"#REF!&\",\"&#REF!&\",\"&data!AJ196","v":{"$error":"#REF!"}},{"$f":"#REF!&\",\"&#REF!&\",\"&data!AP196","v":{"$error":"#REF!"}},{"$f":"#REF!&\",\"&#REF!&\",\"&data!AV196","v":{"$error":"#REF!"}},{"$f":"data!X196&\",\"&#REF!","v":{"$error":"#REF!"}},{"$f":"data!AD196&\",\"&#REF!","v":{"$error":"#REF!"}},{"$f":"data!AJ196&\",\"&#REF!","v":{"$error":"#REF!"}},{"$f":"data!AP196&\",\"&#REF!","v":{"$error":"#REF!"}},{"$f":"data!AV196&\",\"&#REF!","v":{"$error":"#REF!"}},{"$f":"data!X196&\",\"&COUNTIF($F$2:$J195,F195)","v":{"$error":"#REF!"}},{"$f":"data!AD196&\",\"&COUNTIF($F$2:$J195,G195)","v":{"$error":"#REF!"}},{"$f":"data!AJ196&\",\"&COUNTIF($F$2:$J195,H195)","v":{"$error":"#REF!"}},{"$f":"data!AP196&\",\"&COUNTIF($F$2:$J195,I195)","v":{"$error":"#REF!"}},{"$f":"data!AV196&\",\"&COUNTIF($F$2:$J195,J195)","v":{"$error":"#REF!"}}]
[{"$f":"#REF!&\",\"&#REF!&\",\"&data!X197","v":{"$error":"#REF!"}},{"$f":"#REF!&\",\"&#REF!&\",\"&data!AD197","v":{"$error":"#REF!"}},{"$f":"#REF!&\",\"&#REF!&\",\"&data!AJ197","v":{"$error":"#REF!"}},{"$f":"#REF!&\",\"&#REF!&\",\"&data!AP197","v":{"$error":"#REF!"}},{"$f":"#REF!&\",\"&#REF!&\",\"&data!AV197","v":{"$error":"#REF!"}},{"$f":"data!X197&\",\"&#REF!","v":{"$error":"#REF!"}},{"$f":"data!AD197&\",\"&#REF!","v":{"$error":"#REF!"}},{"$f":"data!AJ197&\",\"&#REF!","v":{"$error":"#REF!"}},{"$f":"data!AP197&\",\"&#REF!","v":{"$error":"#REF!"}},{"$f":"data!AV197&\",\"&#REF!","v":{"$error":"#REF!"}},{"$f":"data!X197&\",\"&COUNTIF($F$2:$J196,F196)","v":{"$error":"#REF!"}},{"$f":"data!AD197&\",\"&COUNTIF($F$2:$J196,G196)","v":{"$error":"#REF!"}},{"$f":"data!AJ197&\",\"&COUNTIF($F$2:$J196,H196)","v":{"$error":"#REF!"}},{"$f":"data!AP197&\",\"&COUNTIF($F$2:$J196,I196)","v":{"$error":"#REF!"}},{"$f":"data!AV197&\",\"&COUNTIF($F$2:$J196,J196)","v":{"$error":"#REF!"}}]
[{"$f":"#REF!&\",\"&#REF!&\",\"&data!X198","v":{"$error":"#REF!"}},{"$f":"#REF!&\",\"&#REF!&\",\"&data!AD198","v":{"$error":"#REF!"}},{"$f":"#REF!&\",\"&#REF!&\",\"&data!AJ198","v":{"$error":"#REF!"}},{"$f":"#REF!&\",\"&#REF!&\",\"&data!AP198","v":{"$error":"#REF!"}},{"$f":"#REF!&\",\"&#REF!&\",\"&data!AV198","v":{"$error":"#REF!"}},{"$f":"data!X198&\",\"&#REF!","v":{"$error":"#REF!"}},{"$f":"data!AD198&\",\"&#REF!","v":{"$error":"#REF!"}},{"$f":"data!AJ198&\",\"&#REF!","v":{"$error":"#REF!"}},{"$f":"data!AP198&\",\"&#REF!","v":{"$error":"#REF!"}},{"$f":"data!AV198&\",\"&#REF!","v":{"$error":"#REF!"}},{"$f":"data!X198&\",\"&COUNTIF($F$2:$J197,F197)","v":{"$error":"#REF!"}},{"$f":"data!AD198&\",\"&COUNTIF($F$2:$J197,G197)","v":{"$error":"#REF!"}},{"$f":"data!AJ198&\",\"&COUNTIF($F$2:$J197,H197)","v":{"$error":"#REF!"}},{"$f":"data!AP198&\",\"&COUNTIF($F$2:$J197,I197)","v":{"$error":"#REF!"}},{"$f":"data!AV198&\",\"&COUNTIF($F$2:$J197,J197)","v":{"$error":"#REF!"}}]
[{"$f":"#REF!&\",\"&#REF!&\",\"&data!X199","v":{"$error":"#REF!"}},{"$f":"#REF!&\",\"&#REF!&\",\"&data!AD199","v":{"$error":"#REF!"}},{"$f":"#REF!&\",\"&#REF!&\",\"&data!AJ199","v":{"$error":"#REF!"}},{"$f":"#REF!&\",\"&#REF!&\",\"&data!AP199","v":{"$error":"#REF!"}},{"$f":"#REF!&\",\"&#REF!&\",\"&data!AV199","v":{"$error":"#REF!"}},{"$f":"data!X199&\",\"&#REF!","v":{"$error":"#REF!"}},{"$f":"data!AD199&\",\"&#REF!","v":{"$error":"#REF!"}},{"$f":"data!AJ199&\",\"&#REF!","v":{"$error":"#REF!"}},{"$f":"data!AP199&\",\"&#REF!","v":{"$error":"#REF!"}},{"$f":"data!AV199&\",\"&#REF!","v":{"$error":"#REF!"}},{"$f":"data!X199&\",\"&COUNTIF($F$2:$J198,F198)","v":{"$error":"#REF!"}},{"$f":"data!AD199&\",\"&COUNTIF($F$2:$J198,G198)","v":{"$error":"#REF!"}},{"$f":"data!AJ199&\",\"&COUNTIF($F$2:$J198,H198)","v":{"$error":"#REF!"}},{"$f":"data!AP199&\",\"&COUNTIF($F$2:$J198,I198)","v":{"$error":"#REF!"}},{"$f":"data!AV199&\",\"&COUNTIF($F$2:$J198,J198)","v":{"$error":"#REF!"}}]
[{"$f":"#REF!&\",\"&#REF!&\",\"&data!X200","v":{"$error":"#REF!"}},{"$f":"#REF!&\",\"&#REF!&\",\"&data!AD200","v":{"$error":"#REF!"}},{"$f":"#REF!&\",\"&#REF!&\",\"&data!AJ200","v":{"$error":"#REF!"}},{"$f":"#REF!&\",\"&#REF!&\",\"&data!AP200","v":{"$error":"#REF!"}},{"$f":"#REF!&\",\"&#REF!&\",\"&data!AV200","v":{"$error":"#REF!"}},{"$f":"data!X200&\",\"&#REF!","v":{"$error":"#REF!"}},{"$f":"data!AD200&\",\"&#REF!","v":{"$error":"#REF!"}},{"$f":"data!AJ200&\",\"&#REF!","v":{"$error":"#REF!"}},{"$f":"data!AP200&\",\"&#REF!","v":{"$error":"#REF!"}},{"$f":"data!AV200&\",\"&#REF!","v":{"$error":"#REF!"}},{"$f":"data!X200&\",\"&COUNTIF($F$2:$J199,F199)","v":{"$error":"#REF!"}},{"$f":"data!AD200&\",\"&COUNTIF($F$2:$J199,G199)","v":{"$error":"#REF!"}},{"$f":"data!AJ200&\",\"&COUNTIF($F$2:$J199,H199)","v":{"$error":"#REF!"}},{"$f":"data!AP200&\",\"&COUNTIF($F$2:$J199,I199)","v":{"$error":"#REF!"}},{"$f":"data!AV200&\",\"&COUNTIF($F$2:$J199,J199)","v":{"$error":"#REF!"}}]
[{"$f":"#REF!&\",\"&#REF!&\",\"&data!X201","v":{"$error":"#REF!"}},{"$f":"#REF!&\",\"&#REF!&\",\"&data!AD201","v":{"$error":"#REF!"}},{"$f":"#REF!&\",\"&#REF!&\",\"&data!AJ201","v":{"$error":"#REF!"}},{"$f":"#REF!&\",\"&#REF!&\",\"&data!AP201","v":{"$error":"#REF!"}},{"$f":"#REF!&\",\"&#REF!&\",\"&data!AV201","v":{"$error":"#REF!"}},{"$f":"data!X201&\",\"&#REF!","v":{"$error":"#REF!"}},{"$f":"data!AD201&\",\"&#REF!","v":{"$error":"#REF!"}},{"$f":"data!AJ201&\",\"&#REF!","v":{"$error":"#REF!"}},{"$f":"data!AP201&\",\"&#REF!","v":{"$error":"#REF!"}},{"$f":"data!AV201&\",\"&#REF!","v":{"$error":"#REF!"}},{"$f":"data!X201&\",\"&COUNTIF($F$2:$J200,F200)","v":{"$error":"#REF!"}},{"$f":"data!AD201&\",\"&COUNTIF($F$2:$J200,G200)","v":{"$error":"#REF!"}},{"$f":"data!AJ201&\",\"&COUNTIF($F$2:$J200,H200)","v":{"$error":"#REF!"}},{"$f":"data!AP201&\",\"&COUNTIF($F$2:$J200,I200)","v":{"$error":"#REF!"}},{"$f":"data!AV201&\",\"&COUNTIF($F$2:$J200,J200)","v":{"$error":"#REF!"}}]
[{"$f":"#REF!&\",\"&#REF!&\",\"&data!X202","v":{"$error":"#REF!"}},{"$f":"#REF!&\",\"&#REF!&\",\"&data!AD202","v":{"$error":"#REF!"}},{"$f":"#REF!&\",\"&#REF!&\",\"&data!AJ202","v":{"$error":"#REF!"}},{"$f":"#REF!&\",\"&#REF!&\",\"&data!AP202","v":{"$error":"#REF!"}},{"$f":"#REF!&\",\"&#REF!&\",\"&data!AV202","v":{"$error":"#REF!"}},{"$f":"data!X202&\",\"&#REF!","v":{"$error":"#REF!"}},{"$f":"data!AD202&\",\"&#REF!","v":{"$error":"#REF!"}},{"$f":"data!AJ202&\",\"&#REF!","v":{"$error":"#REF!"}},{"$f":"data!AP202&\",\"&#REF!","v":{"$error":"#REF!"}},{"$f":"data!AV202&\",\"&#REF!","v":{"$error":"#REF!"}},{"$f":"data!X202&\",\"&COUNTIF($F$2:$J201,F201)","v":{"$error":"#REF!"}},{"$f":"data!AD202&\",\"&COUNTIF($F$2:$J201,G201)","v":{"$error":"#REF!"}},{"$f":"data!AJ202&\",\"&COUNTIF($F$2:$J201,H201)","v":{"$error":"#REF!"}},{"$f":"data!AP202&\",\"&COUNTIF($F$2:$J201,I201)","v":{"$error":"#REF!"}},{"$f":"data!AV202&\",\"&COUNTIF($F$2:$J201,J201)","v":{"$error":"#REF!"}}]
[{"$f":"#REF!&\",\"&#REF!&\",\"&data!X203","v":{"$error":"#REF!"}},{"$f":"#REF!&\",\"&#REF!&\",\"&data!AD203","v":{"$error":"#REF!"}},{"$f":"#REF!&\",\"&#REF!&\",\"&data!AJ203","v":{"$error":"#REF!"}},{"$f":"#REF!&\",\"&#REF!&\",\"&data!AP203","v":{"$error":"#REF!"}},{"$f":"#REF!&\",\"&#REF!&\",\"&data!AV203","v":{"$error":"#REF!"}},{"$f":"#REF!&\",\"&#REF!&\",\"&data!X203&#REF!","v":{"$error":"#REF!"}},null,null,{"$f":"#REF!&\",\"&#REF!&\",\"&data!AP203&#REF!","v":{"$error":"#REF!"}},{"$f":"#REF!&\",\"&#REF!&\",\"&data!AQ203","v":{"$error":"#REF!"}},{"$f":"data!X203&\",\"&COUNTIF($F$2:$J202,F202)","v":",1003"},{"$f":"data!AD203&\",\"&COUNTIF($F$2:$J202,G202)","v":",0"},{"$f":"data!AJ203&\",\"&COUNTIF($F$2:$J202,H202)","v":",0"},{"$f":"data!AP203&\",\"&COUNTIF($F$2:$J202,I202)","v":",1003"},{"$f":"data!AV203&\",\"&COUNTIF($F$2:$J202,J202)","v":",1003"}]